{"text_format":"3","workbook":"xlsx","n_sheets":5,"sheets":["Instellingen","Handleiding","Vrijwilligersregister","Nominatieve lijst","Vrijwilligerstotalen"],"not_rendered":{"images":16,"macros":1,"defined_names":17},"read":"whole","date_system":"1900"}

{"sheet":"Instellingen","index":0,"n_rows":71,"n_cols":23,"rows_kept":71}
[null,"Instellen van Excel met macro's"]
[]
[]
[null,"Schakel altijd macro's in wanneer je dit bestand opent!"]
[null,"Voor Excel 2010, 2013 en 2016: Klik bovenaan op de melding \"Bewerken inschakelen\"."]
[]
[]
[]
[]
[null,"Je krijgt nu deze melding te zien:"]
[]
[]
[]
[null,"Ga in uw verkenner op zoek naar de locatie waar het bestand opgeslagen is en rechterklik op het bestand. Selecteer onderaan 'Eigenschappen''."]
{"$rows_empty":10}
[null,"Klik het vakje naast 'blokkering opheffen' aan en klik op 'OK'."]
{"$rows_empty":22}
[{"$nulls":22},"Vereniging zonder winstoogmerk"]
[]
[]
[null,"Voor Excel 2007: Klik bij de melding \"Beveiligingswaarschuwing. Maco's zijn uitgeschakeld.\" op \"Opties...\" en vervolgens op \"deze inhoud inschakelen\"."]
{"$rows_empty":17}
[null,"Voor Excel 2003: Klik op \"Extra\", \"Macro\", \"Beveiliging\" en vervolgens kies vervolgens het niveau \"Laag\". "]
[]
[null,"Versie 2024_v7"]

{"sheet":"Handleiding","index":1,"n_rows":101,"n_cols":20,"rows_kept":101,"merged":[[6,5,6,12],[8,5,8,12],[10,5,10,12],[11,5,11,12],[15,5,15,12],[18,5,18,12],[21,5,21,12],[24,5,24,12],[28,5,28,12],[40,1,40,16]]}
[null,"Handleiding bij het vrijwilligersregister en de nominatieve lijst"]
[]
[]
[]
[null,"Vul de gegevens van je club hier in:"]
[{"$nulls":19},"VZW"]
[null,null,"Naam van de sportclub:",{"$nulls":16},"Feitelijke vereniging"]
[]
[null,null,"Rechtsvorm:"]
[]
[null,null,"Adres:"]
[]
[]
[null,"Vul volgende gegevens in (let op, deze gegevens veranderen jaarlijks):"]
[]
[null,null,"Periode vrijwilligersregister:",null,null,2024]
[]
[]
[null,null,"Dagmax forfaitair:",null,null,{"v":41.48,"d":"€ 41.48"}]
[null,null,"jaarlijkse indexering op 1 januari, je vindt het exacte bedrag op www.vlaamsesportfederatie.be"]
[]
[null,null,"Jaarmax forfaitair:",null,null,{"v":1659.29,"d":"€ 1,659.29"}]
[null,null,"jaarlijkse indexering op 1 januari, je vindt het exacte bedrag op www.vlaamsesportfederatie.be"]
[]
[null,null,"Verhoogd jaarmax forfaitair:",null,null,{"v":3047.43,"d":"€ 3,047.43"}]
[null,null,"in bepaalde gevallen wordt het jaarlijks plafond verhoogd, je vindt de voorwaarden hiervoor op www.vlaamsesportfederatie.be"]
[null,null,"jaarlijkse indexering op 1 januari, je vindt het exacte bedrag op www.vlaamsesportfederatie.be"]
[]
[null,null,"Max bedrag/km:",null,null,{"v":0.4269,"d":"€ 0.4269"}]
[null,null,"Sinds 1 oktober 2022 wordt de kilometervergoeding geïndexeerd per kwartaal om sterke schommelingen in de brandstofprijzen sneller te compenseren. "]
[null,null,"Je vindt het exacte bedrag op vlaamsesportfederatie.be/kennisbank/vergoedingen-voor-vrijwilligers"]
[null,"Tabblad \"Vrijwilligersregister\""]
[null,"Alle sportclubs die met vrijwilligers werken, moeten een vrijwilligersregister bijhouden met daar een aantal identificatiegegevens van de vrijwilligers."]
[null,"Alle vrijwilligers moeten daarin opgenomen worden, ongeacht de soort vergoeding die de vrijwilliger al dan niet ontvangt."]
[]
[null,"Wat doe je met dit tabblad?"]
[null,"Vul de gegevens van elke vrijwilliger in, ongeacht het soort vergoeding dat de vrijwilliger krijgt (reële onkostenvergoeding, forfaitaire onkostenvergoeding "]
[null,"of geen onkostenvergoeding)."]
[]
[null,"Tabblad \"Nominatieve lijst\""]
[null,"Enkel sportclubs die hun vrijwilligers een forfaitaire onkostenvergoeding geven, moeten op aanvraag van de Administratie een nominatieve lijst per vrijwilliger kunnen voorleggen."]
[null,"De nominatieve lijst bewijst dat de sportclub de opgelegde maxima voor de forfaitaire onkostenvergoeding per vrijwilliger respecteert. De maxima voor de"]
[null,"forfaitaire onkostenvergoeding worden jaarlijks aangepast en zijn geldig voor een periode van 1 januari tot en met 31 december. Raadpleeg "]
[null,"www.vlaamsesportfederatie.be voor de laatste updates."]
[null,"Van vrijwilligers die niet vergoed worden of die enkel een reële onkostenvergoeding ontvangen, moet geen nominatieve lijst opgemaakt worden."]
[null,"Vrijwilligers die een reële onkostenvergoeding krijgen,  kunnen die reële onkostenvergoeding pas ontvangen wanneer zij de gemaakte onkosten kunnen "]
[null,"aantonen (kilometerstaat, kasticket, …)."]
[null,"Van elke reële onkostenvergoeding hou je een bewijsstuk bij. De kilometervergoeding wordt jaarlijks aangepast en is geldig voor een periode van 1 juli tot "]
[null,"en met 30 juni. Raadpleeg www.vlaamsesportfederatie.be voor de laatste updates."]
[]
[null,"Wat doe je met  dit tabblad?"]
[null,"Vul per dag dat een vrijwilliger een forfaitaire onkostenvergoeding ontvangt, een rij in het tabblad in."]
[null,"Bij een eventuele controle kan je met de filter \"naam en voornaam\" in dit tabblad de nominatieve lijst per vrijwilliger opvragen"]
[null,"Dit doe je door op het drop down menu in de cel 'Naam en voornaam' te klikken en enkel de persoon aan te vinken van wie je het totaal wil bekijken. "]
[null,"Het totaal van deze persoon verschijnt dan samen met de details."]
{"$rows_empty":13}
[null,"Tabblad \"Vrijwilligerstotalen\""]
[null,"In dit extra tabblad wordt een overzicht gegeven van de ontvangen forfaitaire onkostenvergoedingen per vrijwilliger. Eventueel gecombineerd met een reële "]
[null,"onkostenvergoeding in de vorm van een kilometervergoeding."]
[null,"Op deze manier kan je als sportclub eenvoudig opvolgen of een vrijwilliger de jaarmaxima overschrijdt."]
[null,"Wanneer de vrijwilliger voldoet aan de voorwaarden voor het verhoogd maximum kan je dit aangeven in de bijhorende kolom."]
[]
[null,"Wat doe je met  dit tabblad?"]
[null,"In dit tabblad kan je geen wijzigingen aanbrengen. Je kan het overzicht enkel bekijken en/of afdrukken. Daarvoor gebruik je de filter knoppen bovenaan in "]
[null,"de kolomtitels. Als je het volledige overzicht wil afdrukken, vink je best de lege cellen uit:"]
{"$rows_empty":19}
[null,"Bedragen die de maxima overschrijden, worden in het rood getoond."]
[]
[null,"Meer informatie over de vrijwilligerswetgeving vind je in de brochure \"De sportclub en de vrijwilligerswet\" of op www.vlaamsesportfederatie.be."]
[]
[null,"Versie 2023_v4"]

{"sheet":"Vrijwilligersregister","index":2,"n_rows":1006,"n_cols":15,"rows_kept":1006}
[null,{"$f":"\"Vrijwilligersregister\"&\" \"&Handleiding!F16","v":"Vrijwilligersregister 2024"}]
[null,{"$f":"IF(ISBLANK(Handleiding!F7)=TRUE,\"Naam sportclub\",Handleiding!F7)","v":"Naam sportclub"}]
[null,{"$f":"IF(ISBLANK(Handleiding!F9)=TRUE,\"Rechtsvorm\",Handleiding!F9)","v":"Rechtsvorm"}]
[null,{"$f":"IF(ISBLANK(Handleiding!F11)=TRUE,\"Straat & nr\",Handleiding!F11)&\", \"&IF(ISBLANK(Handleiding!F12)=TRUE,\"Postcode & gemeente\",Handleiding!F12)","v":"Straat & nr, Postcode & gemeente"}]
[]
[null,"Nr","Naam en Voornaam","Adres","Postcode","Gemeente","Geboorteplaats","Geboortedatum","Geslacht","Start\nvrijwilligerswerk","Einde\nvrijwilligerswerk","Voldoet deze vrijwilliger aan de voorwaarden voor het verhoogd jaarmaximum?","Valt deze vijwilliger onder de regel om het Uittreksel Strafregister te controleren?","Verduidelijking, waarom niet","Datum controle Uittreksel Strafregister"]
[null,1]
[null,2]
[null,3]
[null,4]
[null,5]
[null,6]
[null,7]
[null,8]
[null,9]
[null,10]
[null,11]
[null,12]
[null,13]
[null,14]
[null,15]
[null,16]
[null,17]
[null,18]
[null,19]
[null,20]
[null,21]
[null,22]
[null,23]
[null,24]
[null,25]
[null,26]
[null,27]
[null,28]
[null,29]
[null,30]
[null,31]
[null,32]
[null,33]
[null,34]
[null,35]
[null,36]
[null,37]
[null,38]
[null,39]
[null,40]
[null,41]
[null,42]
[null,43]
[null,44]
[null,45]
[null,46]
[null,47]
[null,48]
[null,49]
[null,50]
[null,51]
[null,52]
[null,53]
[null,54]
[null,55]
[null,56]
[null,57]
[null,58]
[null,59]
[null,60]
[null,61]
[null,62]
[null,63]
[null,64]
[null,65]
[null,66]
[null,67]
[null,68]
[null,69]
[null,70]
[null,71]
[null,72]
[null,73]
[null,74]
[null,75]
[null,76]
[null,77]
[null,78]
[null,79]
[null,80]
[null,81]
[null,82]
[null,83]
[null,84]
[null,85]
[null,86]
[null,87]
[null,88]
[null,89]
[null,90]
[null,91]
[null,92]
[null,93]
[null,94]
[null,95]
[null,96]
[null,97]
[null,98]
[null,99]
[null,100]
[null,101]
[null,102]
[null,103]
[null,104]
[null,105]
[null,106]
[null,107]
[null,108]
[null,109]
[null,110]
[null,111]
[null,112]
[null,113]
[null,114]
[null,115]
[null,116]
[null,117]
[null,118]
[null,119]
[null,120]
[null,121]
[null,122]
[null,123]
[null,124]
[null,125]
[null,126]
[null,127]
[null,128]
[null,129]
[null,130]
[null,131]
[null,132]
[null,133]
[null,134]
[null,135]
[null,136]
[null,137]
[null,138]
[null,139]
[null,140]
[null,141]
[null,142]
[null,143]
[null,144]
[null,145]
[null,146]
[null,147]
[null,148]
[null,149]
[null,150]
[null,151]
[null,152]
[null,153]
[null,154]
[null,155]
[null,156]
[null,157]
[null,158]
[null,159]
[null,160]
[null,161]
[null,162]
[null,163]
[null,164]
[null,165]
[null,166]
[null,167]
[null,168]
[null,169]
[null,170]
[null,171]
[null,172]
[null,173]
[null,174]
[null,175]
[null,176]
[null,177]
[null,178]
[null,179]
[null,180]
[null,181]
[null,182]
[null,183]
[null,184]
[null,185]
[null,186]
[null,187]
[null,188]
[null,189]
[null,190]
[null,191]
[null,192]
[null,193]
[null,194]
[null,195]
[null,196]
[null,197]
[null,198]
[null,199]
[null,200]
[null,201]
[null,202]
[null,203]
[null,204]
[null,205]
[null,206]
[null,207]
[null,208]
[null,209]
[null,210]
[null,211]
[null,212]
[null,213]
[null,214]
[null,215]
[null,216]
[null,217]
[null,218]
[null,219]
[null,220]
[null,221]
[null,222]
[null,223]
[null,224]
[null,225]
[null,226]
[null,227]
[null,228]
[null,229]
[null,230]
[null,231]
[null,232]
[null,233]
[null,234]
[null,235]
[null,236]
[null,237]
[null,238]
[null,239]
[null,240]
[null,241]
[null,242]
[null,243]
[null,244]
[null,245]
[null,246]
[null,247]
[null,248]
[null,249]
[null,250]
[null,251]
[null,252]
[null,253]
[null,254]
[null,255]
[null,256]
[null,257]
[null,258]
[null,259]
[null,260]
[null,261]
[null,262]
[null,263]
[null,264]
[null,265]
[null,266]
[null,267]
[null,268]
[null,269]
[null,270]
[null,271]
[null,272]
[null,273]
[null,274]
[null,275]
[null,276]
[null,277]
[null,278]
[null,279]
[null,280]
[null,281]
[null,282]
[null,283]
[null,284]
[null,285]
[null,286]
[null,287]
[null,288]
[null,289]
[null,290]
[null,291]
[null,292]
[null,293]
[null,294]
[null,295]
[null,296]
[null,297]
[null,298]
[null,299]
[null,300]
[null,301]
[null,302]
[null,303]
[null,304]
[null,305]
[null,306]
[null,307]
[null,308]
[null,309]
[null,310]
[null,311]
[null,312]
[null,313]
[null,314]
[null,315]
[null,316]
[null,317]
[null,318]
[null,319]
[null,320]
[null,321]
[null,322]
[null,323]
[null,324]
[null,325]
[null,326]
[null,327]
[null,328]
[null,329]
[null,330]
[null,331]
[null,332]
[null,333]
[null,334]
[null,335]
[null,336]
[null,337]
[null,338]
[null,339]
[null,340]
[null,341]
[null,342]
[null,343]
[null,344]
[null,345]
[null,346]
[null,347]
[null,348]
[null,349]
[null,350]
[null,351]
[null,352]
[null,353]
[null,354]
[null,355]
[null,356]
[null,357]
[null,358]
[null,359]
[null,360]
[null,361]
[null,362]
[null,363]
[null,364]
[null,365]
[null,366]
[null,367]
[null,368]
[null,369]
[null,370]
[null,371]
[null,372]
[null,373]
[null,374]
[null,375]
[null,376]
[null,377]
[null,378]
[null,379]
[null,380]
[null,381]
[null,382]
[null,383]
[null,384]
[null,385]
[null,386]
[null,387]
[null,388]
[null,389]
[null,390]
[null,391]
[null,392]
[null,393]
[null,394]
[null,395]
[null,396]
[null,397]
[null,398]
[null,399]
[null,400]
[null,401]
[null,402]
[null,403]
[null,404]
[null,405]
[null,406]
[null,407]
[null,408]
[null,409]
[null,410]
[null,411]
[null,412]
[null,413]
[null,414]
[null,415]
[null,416]
[null,417]
[null,418]
[null,419]
[null,420]
[null,421]
[null,422]
[null,423]
[null,424]
[null,425]
[null,426]
[null,427]
[null,428]
[null,429]
[null,430]
[null,431]
[null,432]
[null,433]
[null,434]
[null,435]
[null,436]
[null,437]
[null,438]
[null,439]
[null,440]
[null,441]
[null,442]
[null,443]
[null,444]
[null,445]
[null,446]
[null,447]
[null,448]
[null,449]
[null,450]
[null,451]
[null,452]
[null,453]
[null,454]
[null,455]
[null,456]
[null,457]
[null,458]
[null,459]
[null,460]
[null,461]
[null,462]
[null,463]
[null,464]
[null,465]
[null,466]
[null,467]
[null,468]
[null,469]
[null,470]
[null,471]
[null,472]
[null,473]
[null,474]
[null,475]
[null,476]
[null,477]
[null,478]
[null,479]
[null,480]
[null,481]
[null,482]
[null,483]
[null,484]
[null,485]
[null,486]
[null,487]
[null,488]
[null,489]
[null,490]
[null,491]
[null,492]
[null,493]
[null,494]
[null,495]
[null,496]
[null,497]
[null,498]
[null,499]
[null,500]
[null,501]
[null,502]
[null,503]
[null,504]
[null,505]
[null,506]
[null,507]
[null,508]
[null,509]
[null,510]
[null,511]
[null,512]
[null,513]
[null,514]
[null,515]
[null,516]
[null,517]
[null,518]
[null,519]
[null,520]
[null,521]
[null,522]
[null,523]
[null,524]
[null,525]
[null,526]
[null,527]
[null,528]
[null,529]
[null,530]
[null,531]
[null,532]
[null,533]
[null,534]
[null,535]
[null,536]
[null,537]
[null,538]
[null,539]
[null,540]
[null,541]
[null,542]
[null,543]
[null,544]
[null,545]
[null,546]
[null,547]
[null,548]
[null,549]
[null,550]
[null,551]
[null,552]
[null,553]
[null,554]
[null,555]
[null,556]
[null,557]
[null,558]
[null,559]
[null,560]
[null,561]
[null,562]
[null,563]
[null,564]
[null,565]
[null,566]
[null,567]
[null,568]
[null,569]
[null,570]
[null,571]
[null,572]
[null,573]
[null,574]
[null,575]
[null,576]
[null,577]
[null,578]
[null,579]
[null,580]
[null,581]
[null,582]
[null,583]
[null,584]
[null,585]
[null,586]
[null,587]
[null,588]
[null,589]
[null,590]
[null,591]
[null,592]
[null,593]
[null,594]
[null,595]
[null,596]
[null,597]
[null,598]
[null,599]
[null,600]
[null,601]
[null,602]
[null,603]
[null,604]
[null,605]
[null,606]
[null,607]
[null,608]
[null,609]
[null,610]
[null,611]
[null,612]
[null,613]
[null,614]
[null,615]
[null,616]
[null,617]
[null,618]
[null,619]
[null,620]
[null,621]
[null,622]
[null,623]
[null,624]
[null,625]
[null,626]
[null,627]
[null,628]
[null,629]
[null,630]
[null,631]
[null,632]
[null,633]
[null,634]
[null,635]
[null,636]
[null,637]
[null,638]
[null,639]
[null,640]
[null,641]
[null,642]
[null,643]
[null,644]
[null,645]
[null,646]
[null,647]
[null,648]
[null,649]
[null,650]
[null,651]
[null,652]
[null,653]
[null,654]
[null,655]
[null,656]
[null,657]
[null,658]
[null,659]
[null,660]
[null,661]
[null,662]
[null,663]
[null,664]
[null,665]
[null,666]
[null,667]
[null,668]
[null,669]
[null,670]
[null,671]
[null,672]
[null,673]
[null,674]
[null,675]
[null,676]
[null,677]
[null,678]
[null,679]
[null,680]
[null,681]
[null,682]
[null,683]
[null,684]
[null,685]
[null,686]
[null,687]
[null,688]
[null,689]
[null,690]
[null,691]
[null,692]
[null,693]
[null,694]
[null,695]
[null,696]
[null,697]
[null,698]
[null,699]
[null,700]
[null,701]
[null,702]
[null,703]
[null,704]
[null,705]
[null,706]
[null,707]
[null,708]
[null,709]
[null,710]
[null,711]
[null,712]
[null,713]
[null,714]
[null,715]
[null,716]
[null,717]
[null,718]
[null,719]
[null,720]
[null,721]
[null,722]
[null,723]
[null,724]
[null,725]
[null,726]
[null,727]
[null,728]
[null,729]
[null,730]
[null,731]
[null,732]
[null,733]
[null,734]
[null,735]
[null,736]
[null,737]
[null,738]
[null,739]
[null,740]
[null,741]
[null,742]
[null,743]
[null,744]
[null,745]
[null,746]
[null,747]
[null,748]
[null,749]
[null,750]
[null,751]
[null,752]
[null,753]
[null,754]
[null,755]
[null,756]
[null,757]
[null,758]
[null,759]
[null,760]
[null,761]
[null,762]
[null,763]
[null,764]
[null,765]
[null,766]
[null,767]
[null,768]
[null,769]
[null,770]
[null,771]
[null,772]
[null,773]
[null,774]
[null,775]
[null,776]
[null,777]
[null,778]
[null,779]
[null,780]
[null,781]
[null,782]
[null,783]
[null,784]
[null,785]
[null,786]
[null,787]
[null,788]
[null,789]
[null,790]
[null,791]
[null,792]
[null,793]
[null,794]
[null,795]
[null,796]
[null,797]
[null,798]
[null,799]
[null,800]
[null,801]
[null,802]
[null,803]
[null,804]
[null,805]
[null,806]
[null,807]
[null,808]
[null,809]
[null,810]
[null,811]
[null,812]
[null,813]
[null,814]
[null,815]
[null,816]
[null,817]
[null,818]
[null,819]
[null,820]
[null,821]
[null,822]
[null,823]
[null,824]
[null,825]
[null,826]
[null,827]
[null,828]
[null,829]
[null,830]
[null,831]
[null,832]
[null,833]
[null,834]
[null,835]
[null,836]
[null,837]
[null,838]
[null,839]
[null,840]
[null,841]
[null,842]
[null,843]
[null,844]
[null,845]
[null,846]
[null,847]
[null,848]
[null,849]
[null,850]
[null,851]
[null,852]
[null,853]
[null,854]
[null,855]
[null,856]
[null,857]
[null,858]
[null,859]
[null,860]
[null,861]
[null,862]
[null,863]
[null,864]
[null,865]
[null,866]
[null,867]
[null,868]
[null,869]
[null,870]
[null,871]
[null,872]
[null,873]
[null,874]
[null,875]
[null,876]
[null,877]
[null,878]
[null,879]
[null,880]
[null,881]
[null,882]
[null,883]
[null,884]
[null,885]
[null,886]
[null,887]
[null,888]
[null,889]
[null,890]
[null,891]
[null,892]
[null,893]
[null,894]
[null,895]
[null,896]
[null,897]
[null,898]
[null,899]
[null,900]
[null,901]
[null,902]
[null,903]
[null,904]
[null,905]
[null,906]
[null,907]
[null,908]
[null,909]
[null,910]
[null,911]
[null,912]
[null,913]
[null,914]
[null,915]
[null,916]
[null,917]
[null,918]
[null,919]
[null,920]
[null,921]
[null,922]
[null,923]
[null,924]
[null,925]
[null,926]
[null,927]
[null,928]
[null,929]
[null,930]
[null,931]
[null,932]
[null,933]
[null,934]
[null,935]
[null,936]
[null,937]
[null,938]
[null,939]
[null,940]
[null,941]
[null,942]
[null,943]
[null,944]
[null,945]
[null,946]
[null,947]
[null,948]
[null,949]
[null,950]
[null,951]
[null,952]
[null,953]
[null,954]
[null,955]
[null,956]
[null,957]
[null,958]
[null,959]
[null,960]
[null,961]
[null,962]
[null,963]
[null,964]
[null,965]
[null,966]
[null,967]
[null,968]
[null,969]
[null,970]
[null,971]
[null,972]
[null,973]
[null,974]
[null,975]
[null,976]
[null,977]
[null,978]
[null,979]
[null,980]
[null,981]
[null,982]
[null,983]
[null,984]
[null,985]
[null,986]
[null,987]
[null,988]
[null,989]
[null,990]
[null,991]
[null,992]
[null,993]
[null,994]
[null,995]
[null,996]
[null,997]
[null,998]
[null,999]
[null,1000]

{"sheet":"Nominatieve lijst","index":3,"n_rows":10007,"n_cols":11,"rows_kept":10007,"merged":[[1,4,1,8],[2,4,2,8],[3,4,3,8],[4,1,4,10],[5,1,6,1],[5,2,6,2],[5,3,6,3],[5,4,6,4],[5,5,6,5],[5,6,5,9],[5,10,6,10]]}
[null,{"$f":"\"Nominatieve lijst\"&\" \"&Handleiding!F16","v":"Nominatieve lijst 2024"}]
[null,{"$f":"IF(ISBLANK(Handleiding!F7)=TRUE,\"Naam sportclub\",Handleiding!F7)","v":"Naam sportclub"},null,null," "]
[null,{"$f":"IF(ISBLANK(Handleiding!F9)=TRUE,\"Rechtsvorm\",Handleiding!F9)","v":"Rechtsvorm"}]
[null,{"$f":"IF(ISBLANK(Handleiding!F11)=TRUE,\"Straat & nr\",Handleiding!F11)&\", \"&IF(ISBLANK(Handleiding!F12)=TRUE,\"Postcode & gemeente\",Handleiding!F12)","v":"Straat & nr, Postcode & gemeente"},null,null," "]
[null,"* zie handleiding"]
[null,"Nr","Datum\nactiviteit","Naam en voornaam","Omschrijving","Datum\nbetaling","FORFAITAIR MET EVENTUELE COMBINATIE REËLE ONKOSTENVERGOEDING",{"$nulls":3},{"$f":"\"Totale vergoeding\"&CHAR(10)&CHAR(10)&CHAR(10)&CHAR(10)&\"Totaal: \"&TEXT(SUBTOTAL(9,$K$8:$K$10008),\"€ #.##0,00\")","v":"Totale vergoeding\n\n\n\nTotaal: € 0,00"}]
[{"$nulls":6},{"$f":"\"Forfaitair gedeelte*\n(Dagmax = \"&TEXT(Handleiding!F19,\"€ #.##0,00\")\n&CHAR(10)&\"Jaarmax = \"&TEXT(Handleiding!F22,\"€ #.##0,00\")&\")\"&CHAR(10)&\"Totaal: \"&TEXT(SUBTOTAL(9,$G$8:$G$10008),\"€ #.##0,00\")","v":"Forfaitair gedeelte*\n(Dagmax = € 41,48\nJaarmax = € 1.659,29)\nTotaal: € 0,00"},{"$f":"\"Aantal km\"&CHAR(10)&\"(max 2.000km/jaar)\"&CHAR(10)&CHAR(10)&\"Totaal: \"&TEXT(SUBTOTAL(9,$H$8:$H$10008),\"#.##0,00\")&\" km\"","v":"Aantal km\n(max 2.000km/jaar)\n\nTotaal: 0,00 km"},{"$f":"\"Bedrag/km*\n(max \"&Handleiding!F29&\" euro/km)\"&CHAR(10)&CHAR(10)","v":"Bedrag/km*\n(max 0,4269 euro/km)\n\n"},{"$f":"\"Reële \nonkostenvergoeding\"&CHAR(10)&CHAR(10)&\"Totaal: \"&TEXT(SUBTOTAL(9,$J$8:$J$10008),\"€ #.##0,00\")","v":"Reële \nonkostenvergoeding\n\nTotaal: € 0,00"}]
[null,1,{"$nulls":7},{"$f":"IF(OR(ISBLANK(H8)=TRUE,ISBLANK(I8)=TRUE),,ROUND(H8*I8,2))","v":{"v":0,"d":"€ 0.00"}},{"$f":"G8+J8","v":{"v":0,"d":"€ 0.00"}}]
[null,2,{"$nulls":7},{"v":0,"d":"€ 0.00"},{"$f":"G9+J9","v":{"v":0,"d":"€ 0.00"}}]
[null,3,{"$nulls":7},{"v":0,"d":"€ 0.00"},{"v":0,"d":"€ 0.00"}]
[null,4,{"$nulls":7},{"v":0,"d":"€ 0.00"},{"v":0,"d":"€ 0.00"}]
[null,5,{"$nulls":7},{"v":0,"d":"€ 0.00"},{"v":0,"d":"€ 0.00"}]
[null,6,{"$nulls":7},{"v":0,"d":"€ 0.00"},{"v":0,"d":"€ 0.00"}]
[null,7,{"$nulls":7},{"v":0,"d":"€ 0.00"},{"v":0,"d":"€ 0.00"}]
[null,8,{"$nulls":7},{"v":0,"d":"€ 0.00"},{"v":0,"d":"€ 0.00"}]
[null,9,{"$nulls":7},{"v":0,"d":"€ 0.00"},{"v":0,"d":"€ 0.00"}]
[null,10,{"$nulls":7},{"v":0,"d":"€ 0.00"},{"v":0,"d":"€ 0.00"}]
[null,11,{"$nulls":7},{"v":0,"d":"€ 0.00"},{"v":0,"d":"€ 0.00"}]
[null,12,{"$nulls":7},{"v":0,"d":"€ 0.00"},{"v":0,"d":"€ 0.00"}]
[null,13,{"$nulls":7},{"v":0,"d":"€ 0.00"},{"v":0,"d":"€ 0.00"}]
[null,14,{"$nulls":7},{"v":0,"d":"€ 0.00"},{"v":0,"d":"€ 0.00"}]
[null,15,{"$nulls":7},{"v":0,"d":"€ 0.00"},{"v":0,"d":"€ 0.00"}]
[null,16,{"$nulls":7},{"v":0,"d":"€ 0.00"},{"v":0,"d":"€ 0.00"}]
[null,17,{"$nulls":7},{"v":0,"d":"€ 0.00"},{"v":0,"d":"€ 0.00"}]
[null,18,{"$nulls":7},{"v":0,"d":"€ 0.00"},{"v":0,"d":"€ 0.00"}]
[null,19,{"$nulls":7},{"v":0,"d":"€ 0.00"},{"v":0,"d":"€ 0.00"}]
[null,20,{"$nulls":7},{"v":0,"d":"€ 0.00"},{"v":0,"d":"€ 0.00"}]
[null,21,{"$nulls":7},{"v":0,"d":"€ 0.00"},{"v":0,"d":"€ 0.00"}]
[null,22,{"$nulls":7},{"v":0,"d":"€ 0.00"},{"v":0,"d":"€ 0.00"}]
[null,23,{"$nulls":7},{"v":0,"d":"€ 0.00"},{"v":0,"d":"€ 0.00"}]
[null,24,{"$nulls":7},{"v":0,"d":"€ 0.00"},{"v":0,"d":"€ 0.00"}]
[null,25,{"$nulls":7},{"v":0,"d":"€ 0.00"},{"v":0,"d":"€ 0.00"}]
[null,26,{"$nulls":7},{"v":0,"d":"€ 0.00"},{"v":0,"d":"€ 0.00"}]
[null,27,{"$nulls":7},{"v":0,"d":"€ 0.00"},{"v":0,"d":"€ 0.00"}]
[null,28,{"$nulls":7},{"v":0,"d":"€ 0.00"},{"v":0,"d":"€ 0.00"}]
[null,29,{"$nulls":7},{"v":0,"d":"€ 0.00"},{"v":0,"d":"€ 0.00"}]
[null,30,{"$nulls":7},{"v":0,"d":"€ 0.00"},{"v":0,"d":"€ 0.00"}]
[null,31,{"$nulls":7},{"v":0,"d":"€ 0.00"},{"v":0,"d":"€ 0.00"}]
[null,32,{"$nulls":7},{"v":0,"d":"€ 0.00"},{"v":0,"d":"€ 0.00"}]
[null,33,{"$nulls":7},{"v":0,"d":"€ 0.00"},{"v":0,"d":"€ 0.00"}]
[null,34,{"$nulls":7},{"v":0,"d":"€ 0.00"},{"v":0,"d":"€ 0.00"}]
[null,35,{"$nulls":7},{"v":0,"d":"€ 0.00"},{"v":0,"d":"€ 0.00"}]
[null,36,{"$nulls":7},{"v":0,"d":"€ 0.00"},{"v":0,"d":"€ 0.00"}]
[null,37,{"$nulls":7},{"v":0,"d":"€ 0.00"},{"v":0,"d":"€ 0.00"}]
[null,38,{"$nulls":7},{"v":0,"d":"€ 0.00"},{"v":0,"d":"€ 0.00"}]
[null,39,{"$nulls":7},{"v":0,"d":"€ 0.00"},{"v":0,"d":"€ 0.00"}]
[null,40,{"$nulls":7},{"v":0,"d":"€ 0.00"},{"v":0,"d":"€ 0.00"}]
[null,41,{"$nulls":7},{"v":0,"d":"€ 0.00"},{"v":0,"d":"€ 0.00"}]
[null,42,{"$nulls":7},{"v":0,"d":"€ 0.00"},{"v":0,"d":"€ 0.00"}]
[null,43,{"$nulls":7},{"v":0,"d":"€ 0.00"},{"v":0,"d":"€ 0.00"}]
[null,44,{"$nulls":7},{"v":0,"d":"€ 0.00"},{"v":0,"d":"€ 0.00"}]
[null,45,{"$nulls":7},{"v":0,"d":"€ 0.00"},{"v":0,"d":"€ 0.00"}]
[null,46,{"$nulls":7},{"v":0,"d":"€ 0.00"},{"v":0,"d":"€ 0.00"}]
[null,47,{"$nulls":7},{"v":0,"d":"€ 0.00"},{"v":0,"d":"€ 0.00"}]
[null,48,{"$nulls":7},{"v":0,"d":"€ 0.00"},{"v":0,"d":"€ 0.00"}]
[null,49,{"$nulls":7},{"v":0,"d":"€ 0.00"},{"v":0,"d":"€ 0.00"}]
[null,50,{"$nulls":7},{"v":0,"d":"€ 0.00"},{"v":0,"d":"€ 0.00"}]
[null,51,{"$nulls":7},{"v":0,"d":"€ 0.00"},{"v":0,"d":"€ 0.00"}]
[null,52,{"$nulls":7},{"v":0,"d":"€ 0.00"},{"v":0,"d":"€ 0.00"}]
[null,53,{"$nulls":7},{"v":0,"d":"€ 0.00"},{"v":0,"d":"€ 0.00"}]
[null,54,{"$nulls":7},{"v":0,"d":"€ 0.00"},{"v":0,"d":"€ 0.00"}]
[null,55,{"$nulls":7},{"v":0,"d":"€ 0.00"},{"v":0,"d":"€ 0.00"}]
[null,56,{"$nulls":7},{"v":0,"d":"€ 0.00"},{"v":0,"d":"€ 0.00"}]
[null,57,{"$nulls":7},{"v":0,"d":"€ 0.00"},{"v":0,"d":"€ 0.00"}]
[null,58,{"$nulls":7},{"v":0,"d":"€ 0.00"},{"v":0,"d":"€ 0.00"}]
[null,59,{"$nulls":7},{"v":0,"d":"€ 0.00"},{"v":0,"d":"€ 0.00"}]
[null,60,{"$nulls":7},{"v":0,"d":"€ 0.00"},{"v":0,"d":"€ 0.00"}]
[null,61,{"$nulls":7},{"v":0,"d":"€ 0.00"},{"v":0,"d":"€ 0.00"}]
[null,62,{"$nulls":7},{"v":0,"d":"€ 0.00"},{"v":0,"d":"€ 0.00"}]
[null,63,{"$nulls":7},{"v":0,"d":"€ 0.00"},{"v":0,"d":"€ 0.00"}]
[null,64,{"$nulls":7},{"v":0,"d":"€ 0.00"},{"v":0,"d":"€ 0.00"}]
[null,65,{"$nulls":7},{"$f":"IF(OR(ISBLANK(H72)=TRUE,ISBLANK(I72)=TRUE),,ROUND(H72*I72,2))","v":{"v":0,"d":"€ 0.00"}},{"v":0,"d":"€ 0.00"}]
[null,66,{"$nulls":7},{"v":0,"d":"€ 0.00"},{"$f":"G73+J73","v":{"v":0,"d":"€ 0.00"}}]
[null,67,{"$nulls":7},{"v":0,"d":"€ 0.00"},{"v":0,"d":"€ 0.00"}]
[null,68,{"$nulls":7},{"v":0,"d":"€ 0.00"},{"v":0,"d":"€ 0.00"}]
[null,69,{"$nulls":7},{"v":0,"d":"€ 0.00"},{"v":0,"d":"€ 0.00"}]
[null,70,{"$nulls":7},{"v":0,"d":"€ 0.00"},{"v":0,"d":"€ 0.00"}]
[null,71,{"$nulls":7},{"v":0,"d":"€ 0.00"},{"v":0,"d":"€ 0.00"}]
[null,72,{"$nulls":7},{"v":0,"d":"€ 0.00"},{"v":0,"d":"€ 0.00"}]
[null,73,{"$nulls":7},{"v":0,"d":"€ 0.00"},{"v":0,"d":"€ 0.00"}]
[null,74,{"$nulls":7},{"v":0,"d":"€ 0.00"},{"v":0,"d":"€ 0.00"}]
[null,75,{"$nulls":7},{"v":0,"d":"€ 0.00"},{"v":0,"d":"€ 0.00"}]
[null,76,{"$nulls":7},{"v":0,"d":"€ 0.00"},{"v":0,"d":"€ 0.00"}]
[null,77,{"$nulls":7},{"v":0,"d":"€ 0.00"},{"v":0,"d":"€ 0.00"}]
[null,78,{"$nulls":7},{"v":0,"d":"€ 0.00"},{"v":0,"d":"€ 0.00"}]
[null,79,{"$nulls":7},{"v":0,"d":"€ 0.00"},{"v":0,"d":"€ 0.00"}]
[null,80,{"$nulls":7},{"v":0,"d":"€ 0.00"},{"v":0,"d":"€ 0.00"}]
[null,81,{"$nulls":7},{"v":0,"d":"€ 0.00"},{"v":0,"d":"€ 0.00"}]
[null,82,{"$nulls":7},{"v":0,"d":"€ 0.00"},{"v":0,"d":"€ 0.00"}]
[null,83,{"$nulls":7},{"v":0,"d":"€ 0.00"},{"v":0,"d":"€ 0.00"}]
[null,84,{"$nulls":7},{"v":0,"d":"€ 0.00"},{"v":0,"d":"€ 0.00"}]
[null,85,{"$nulls":7},{"v":0,"d":"€ 0.00"},{"v":0,"d":"€ 0.00"}]
[null,86,{"$nulls":7},{"v":0,"d":"€ 0.00"},{"v":0,"d":"€ 0.00"}]
[null,87,{"$nulls":7},{"v":0,"d":"€ 0.00"},{"v":0,"d":"€ 0.00"}]
[null,88,{"$nulls":7},{"v":0,"d":"€ 0.00"},{"v":0,"d":"€ 0.00"}]
[null,89,{"$nulls":7},{"v":0,"d":"€ 0.00"},{"v":0,"d":"€ 0.00"}]
[null,90,{"$nulls":7},{"v":0,"d":"€ 0.00"},{"v":0,"d":"€ 0.00"}]
[null,91,{"$nulls":7},{"v":0,"d":"€ 0.00"},{"v":0,"d":"€ 0.00"}]
[null,92,{"$nulls":7},{"v":0,"d":"€ 0.00"},{"v":0,"d":"€ 0.00"}]
[null,93,{"$nulls":7},{"v":0,"d":"€ 0.00"},{"v":0,"d":"€ 0.00"}]
[null,94,{"$nulls":7},{"v":0,"d":"€ 0.00"},{"v":0,"d":"€ 0.00"}]
[null,95,{"$nulls":7},{"v":0,"d":"€ 0.00"},{"v":0,"d":"€ 0.00"}]
[null,96,{"$nulls":7},{"v":0,"d":"€ 0.00"},{"v":0,"d":"€ 0.00"}]
[null,97,{"$nulls":7},{"v":0,"d":"€ 0.00"},{"v":0,"d":"€ 0.00"}]
[null,98,{"$nulls":7},{"v":0,"d":"€ 0.00"},{"v":0,"d":"€ 0.00"}]
[null,99,{"$nulls":7},{"v":0,"d":"€ 0.00"},{"v":0,"d":"€ 0.00"}]
[null,100,{"$nulls":7},{"v":0,"d":"€ 0.00"},{"v":0,"d":"€ 0.00"}]
[null,101,{"$nulls":7},{"v":0,"d":"€ 0.00"},{"v":0,"d":"€ 0.00"}]
[null,102,{"$nulls":7},{"v":0,"d":"€ 0.00"},{"v":0,"d":"€ 0.00"}]
[null,103,{"$nulls":7},{"v":0,"d":"€ 0.00"},{"v":0,"d":"€ 0.00"}]
[null,104,{"$nulls":7},{"v":0,"d":"€ 0.00"},{"v":0,"d":"€ 0.00"}]
[null,105,{"$nulls":7},{"v":0,"d":"€ 0.00"},{"v":0,"d":"€ 0.00"}]
[null,106,{"$nulls":7},{"v":0,"d":"€ 0.00"},{"v":0,"d":"€ 0.00"}]
[null,107,{"$nulls":7},{"v":0,"d":"€ 0.00"},{"v":0,"d":"€ 0.00"}]
[null,108,{"$nulls":7},{"v":0,"d":"€ 0.00"},{"v":0,"d":"€ 0.00"}]
[null,109,{"$nulls":7},{"v":0,"d":"€ 0.00"},{"v":0,"d":"€ 0.00"}]
[null,110,{"$nulls":7},{"v":0,"d":"€ 0.00"},{"v":0,"d":"€ 0.00"}]
[null,111,{"$nulls":7},{"v":0,"d":"€ 0.00"},{"v":0,"d":"€ 0.00"}]
[null,112,{"$nulls":7},{"v":0,"d":"€ 0.00"},{"v":0,"d":"€ 0.00"}]
[null,113,{"$nulls":7},{"v":0,"d":"€ 0.00"},{"v":0,"d":"€ 0.00"}]
[null,114,{"$nulls":7},{"v":0,"d":"€ 0.00"},{"v":0,"d":"€ 0.00"}]
[null,115,{"$nulls":7},{"v":0,"d":"€ 0.00"},{"v":0,"d":"€ 0.00"}]
[null,116,{"$nulls":7},{"v":0,"d":"€ 0.00"},{"v":0,"d":"€ 0.00"}]
[null,117,{"$nulls":7},{"v":0,"d":"€ 0.00"},{"v":0,"d":"€ 0.00"}]
[null,118,{"$nulls":7},{"v":0,"d":"€ 0.00"},{"v":0,"d":"€ 0.00"}]
[null,119,{"$nulls":7},{"v":0,"d":"€ 0.00"},{"v":0,"d":"€ 0.00"}]
[null,120,{"$nulls":7},{"v":0,"d":"€ 0.00"},{"v":0,"d":"€ 0.00"}]
[null,121,{"$nulls":7},{"v":0,"d":"€ 0.00"},{"v":0,"d":"€ 0.00"}]
[null,122,{"$nulls":7},{"v":0,"d":"€ 0.00"},{"v":0,"d":"€ 0.00"}]
[null,123,{"$nulls":7},{"v":0,"d":"€ 0.00"},{"v":0,"d":"€ 0.00"}]
[null,124,{"$nulls":7},{"v":0,"d":"€ 0.00"},{"v":0,"d":"€ 0.00"}]
[null,125,{"$nulls":7},{"v":0,"d":"€ 0.00"},{"v":0,"d":"€ 0.00"}]
[null,126,{"$nulls":7},{"v":0,"d":"€ 0.00"},{"v":0,"d":"€ 0.00"}]
[null,127,{"$nulls":7},{"v":0,"d":"€ 0.00"},{"v":0,"d":"€ 0.00"}]
[null,128,{"$nulls":7},{"v":0,"d":"€ 0.00"},{"v":0,"d":"€ 0.00"}]
[null,129,{"$nulls":7},{"$f":"IF(OR(ISBLANK(H136)=TRUE,ISBLANK(I136)=TRUE),,ROUND(H136*I136,2))","v":{"v":0,"d":"€ 0.00"}},{"v":0,"d":"€ 0.00"}]
[null,130,{"$nulls":7},{"v":0,"d":"€ 0.00"},{"$f":"G137+J137","v":{"v":0,"d":"€ 0.00"}}]
[null,131,{"$nulls":7},{"v":0,"d":"€ 0.00"},{"v":0,"d":"€ 0.00"}]
[null,132,{"$nulls":7},{"v":0,"d":"€ 0.00"},{"v":0,"d":"€ 0.00"}]
[null,133,{"$nulls":7},{"v":0,"d":"€ 0.00"},{"v":0,"d":"€ 0.00"}]
[null,134,{"$nulls":7},{"v":0,"d":"€ 0.00"},{"v":0,"d":"€ 0.00"}]
[null,135,{"$nulls":7},{"v":0,"d":"€ 0.00"},{"v":0,"d":"€ 0.00"}]
[null,136,{"$nulls":7},{"v":0,"d":"€ 0.00"},{"v":0,"d":"€ 0.00"}]
[null,137,{"$nulls":7},{"v":0,"d":"€ 0.00"},{"v":0,"d":"€ 0.00"}]
[null,138,{"$nulls":7},{"v":0,"d":"€ 0.00"},{"v":0,"d":"€ 0.00"}]
[null,139,{"$nulls":7},{"v":0,"d":"€ 0.00"},{"v":0,"d":"€ 0.00"}]
[null,140,{"$nulls":7},{"v":0,"d":"€ 0.00"},{"v":0,"d":"€ 0.00"}]
[null,141,{"$nulls":7},{"v":0,"d":"€ 0.00"},{"v":0,"d":"€ 0.00"}]
[null,142,{"$nulls":7},{"v":0,"d":"€ 0.00"},{"v":0,"d":"€ 0.00"}]
[null,143,{"$nulls":7},{"v":0,"d":"€ 0.00"},{"v":0,"d":"€ 0.00"}]
[null,144,{"$nulls":7},{"v":0,"d":"€ 0.00"},{"v":0,"d":"€ 0.00"}]
[null,145,{"$nulls":7},{"v":0,"d":"€ 0.00"},{"v":0,"d":"€ 0.00"}]
[null,146,{"$nulls":7},{"v":0,"d":"€ 0.00"},{"v":0,"d":"€ 0.00"}]
[null,147,{"$nulls":7},{"v":0,"d":"€ 0.00"},{"v":0,"d":"€ 0.00"}]
[null,148,{"$nulls":7},{"v":0,"d":"€ 0.00"},{"v":0,"d":"€ 0.00"}]
[null,149,{"$nulls":7},{"v":0,"d":"€ 0.00"},{"v":0,"d":"€ 0.00"}]
[null,150,{"$nulls":7},{"v":0,"d":"€ 0.00"},{"v":0,"d":"€ 0.00"}]
[null,151,{"$nulls":7},{"v":0,"d":"€ 0.00"},{"v":0,"d":"€ 0.00"}]
[null,152,{"$nulls":7},{"v":0,"d":"€ 0.00"},{"v":0,"d":"€ 0.00"}]
[null,153,{"$nulls":7},{"v":0,"d":"€ 0.00"},{"v":0,"d":"€ 0.00"}]
[null,154,{"$nulls":7},{"v":0,"d":"€ 0.00"},{"v":0,"d":"€ 0.00"}]
[null,155,{"$nulls":7},{"v":0,"d":"€ 0.00"},{"v":0,"d":"€ 0.00"}]
[null,156,{"$nulls":7},{"v":0,"d":"€ 0.00"},{"v":0,"d":"€ 0.00"}]
[null,157,{"$nulls":7},{"v":0,"d":"€ 0.00"},{"v":0,"d":"€ 0.00"}]
[null,158,{"$nulls":7},{"v":0,"d":"€ 0.00"},{"v":0,"d":"€ 0.00"}]
[null,159,{"$nulls":7},{"v":0,"d":"€ 0.00"},{"v":0,"d":"€ 0.00"}]
[null,160,{"$nulls":7},{"v":0,"d":"€ 0.00"},{"v":0,"d":"€ 0.00"}]
[null,161,{"$nulls":7},{"v":0,"d":"€ 0.00"},{"v":0,"d":"€ 0.00"}]
[null,162,{"$nulls":7},{"v":0,"d":"€ 0.00"},{"v":0,"d":"€ 0.00"}]
[null,163,{"$nulls":7},{"v":0,"d":"€ 0.00"},{"v":0,"d":"€ 0.00"}]
[null,164,{"$nulls":7},{"v":0,"d":"€ 0.00"},{"v":0,"d":"€ 0.00"}]
[null,165,{"$nulls":7},{"v":0,"d":"€ 0.00"},{"v":0,"d":"€ 0.00"}]
[null,166,{"$nulls":7},{"v":0,"d":"€ 0.00"},{"v":0,"d":"€ 0.00"}]
[null,167,{"$nulls":7},{"v":0,"d":"€ 0.00"},{"v":0,"d":"€ 0.00"}]
[null,168,{"$nulls":7},{"v":0,"d":"€ 0.00"},{"v":0,"d":"€ 0.00"}]
[null,169,{"$nulls":7},{"v":0,"d":"€ 0.00"},{"v":0,"d":"€ 0.00"}]
[null,170,{"$nulls":7},{"v":0,"d":"€ 0.00"},{"v":0,"d":"€ 0.00"}]
[null,171,{"$nulls":7},{"v":0,"d":"€ 0.00"},{"v":0,"d":"€ 0.00"}]
[null,172,{"$nulls":7},{"v":0,"d":"€ 0.00"},{"v":0,"d":"€ 0.00"}]
[null,173,{"$nulls":7},{"v":0,"d":"€ 0.00"},{"v":0,"d":"€ 0.00"}]
[null,174,{"$nulls":7},{"v":0,"d":"€ 0.00"},{"v":0,"d":"€ 0.00"}]
[null,175,{"$nulls":7},{"v":0,"d":"€ 0.00"},{"v":0,"d":"€ 0.00"}]
[null,176,{"$nulls":7},{"v":0,"d":"€ 0.00"},{"v":0,"d":"€ 0.00"}]
[null,177,{"$nulls":7},{"v":0,"d":"€ 0.00"},{"v":0,"d":"€ 0.00"}]
[null,178,{"$nulls":7},{"v":0,"d":"€ 0.00"},{"v":0,"d":"€ 0.00"}]
[null,179,{"$nulls":7},{"v":0,"d":"€ 0.00"},{"v":0,"d":"€ 0.00"}]
[null,180,{"$nulls":7},{"v":0,"d":"€ 0.00"},{"v":0,"d":"€ 0.00"}]
[null,181,{"$nulls":7},{"v":0,"d":"€ 0.00"},{"v":0,"d":"€ 0.00"}]
[null,182,{"$nulls":7},{"v":0,"d":"€ 0.00"},{"v":0,"d":"€ 0.00"}]
[null,183,{"$nulls":7},{"v":0,"d":"€ 0.00"},{"v":0,"d":"€ 0.00"}]
[null,184,{"$nulls":7},{"v":0,"d":"€ 0.00"},{"v":0,"d":"€ 0.00"}]
[null,185,{"$nulls":7},{"v":0,"d":"€ 0.00"},{"v":0,"d":"€ 0.00"}]
[null,186,{"$nulls":7},{"v":0,"d":"€ 0.00"},{"v":0,"d":"€ 0.00"}]
[null,187,{"$nulls":7},{"v":0,"d":"€ 0.00"},{"v":0,"d":"€ 0.00"}]
[null,188,{"$nulls":7},{"v":0,"d":"€ 0.00"},{"v":0,"d":"€ 0.00"}]
[null,189,{"$nulls":7},{"v":0,"d":"€ 0.00"},{"v":0,"d":"€ 0.00"}]
[null,190,{"$nulls":7},{"v":0,"d":"€ 0.00"},{"v":0,"d":"€ 0.00"}]
[null,191,{"$nulls":7},{"v":0,"d":"€ 0.00"},{"v":0,"d":"€ 0.00"}]
[null,192,{"$nulls":7},{"v":0,"d":"€ 0.00"},{"v":0,"d":"€ 0.00"}]
[null,193,{"$nulls":7},{"$f":"IF(OR(ISBLANK(H200)=TRUE,ISBLANK(I200)=TRUE),,ROUND(H200*I200,2))","v":{"v":0,"d":"€ 0.00"}},{"v":0,"d":"€ 0.00"}]
[null,194,{"$nulls":7},{"v":0,"d":"€ 0.00"},{"$f":"G201+J201","v":{"v":0,"d":"€ 0.00"}}]
[null,195,{"$nulls":7},{"v":0,"d":"€ 0.00"},{"v":0,"d":"€ 0.00"}]
[null,196,{"$nulls":7},{"v":0,"d":"€ 0.00"},{"v":0,"d":"€ 0.00"}]
[null,197,{"$nulls":7},{"v":0,"d":"€ 0.00"},{"v":0,"d":"€ 0.00"}]
[null,198,{"$nulls":7},{"v":0,"d":"€ 0.00"},{"v":0,"d":"€ 0.00"}]
[null,199,{"$nulls":7},{"v":0,"d":"€ 0.00"},{"v":0,"d":"€ 0.00"}]
[null,200,{"$nulls":7},{"v":0,"d":"€ 0.00"},{"v":0,"d":"€ 0.00"}]
[null,201,{"$nulls":7},{"v":0,"d":"€ 0.00"},{"v":0,"d":"€ 0.00"}]
[null,202,{"$nulls":7},{"v":0,"d":"€ 0.00"},{"v":0,"d":"€ 0.00"}]
[null,203,{"$nulls":7},{"v":0,"d":"€ 0.00"},{"v":0,"d":"€ 0.00"}]
[null,204,{"$nulls":7},{"v":0,"d":"€ 0.00"},{"v":0,"d":"€ 0.00"}]
[null,205,{"$nulls":7},{"v":0,"d":"€ 0.00"},{"v":0,"d":"€ 0.00"}]
[null,206,{"$nulls":7},{"v":0,"d":"€ 0.00"},{"v":0,"d":"€ 0.00"}]
[null,207,{"$nulls":7},{"v":0,"d":"€ 0.00"},{"v":0,"d":"€ 0.00"}]
[null,208,{"$nulls":7},{"v":0,"d":"€ 0.00"},{"v":0,"d":"€ 0.00"}]
[null,209,{"$nulls":7},{"v":0,"d":"€ 0.00"},{"v":0,"d":"€ 0.00"}]
[null,210,{"$nulls":7},{"v":0,"d":"€ 0.00"},{"v":0,"d":"€ 0.00"}]
[null,211,{"$nulls":7},{"v":0,"d":"€ 0.00"},{"v":0,"d":"€ 0.00"}]
[null,212,{"$nulls":7},{"v":0,"d":"€ 0.00"},{"v":0,"d":"€ 0.00"}]
[null,213,{"$nulls":7},{"v":0,"d":"€ 0.00"},{"v":0,"d":"€ 0.00"}]
[null,214,{"$nulls":7},{"v":0,"d":"€ 0.00"},{"v":0,"d":"€ 0.00"}]
[null,215,{"$nulls":7},{"v":0,"d":"€ 0.00"},{"v":0,"d":"€ 0.00"}]
[null,216,{"$nulls":7},{"v":0,"d":"€ 0.00"},{"v":0,"d":"€ 0.00"}]
[null,217,{"$nulls":7},{"v":0,"d":"€ 0.00"},{"v":0,"d":"€ 0.00"}]
[null,218,{"$nulls":7},{"v":0,"d":"€ 0.00"},{"v":0,"d":"€ 0.00"}]
[null,219,{"$nulls":7},{"v":0,"d":"€ 0.00"},{"v":0,"d":"€ 0.00"}]
[null,220,{"$nulls":7},{"v":0,"d":"€ 0.00"},{"v":0,"d":"€ 0.00"}]
[null,221,{"$nulls":7},{"v":0,"d":"€ 0.00"},{"v":0,"d":"€ 0.00"}]
[null,222,{"$nulls":7},{"v":0,"d":"€ 0.00"},{"v":0,"d":"€ 0.00"}]
[null,223,{"$nulls":7},{"v":0,"d":"€ 0.00"},{"v":0,"d":"€ 0.00"}]
[null,224,{"$nulls":7},{"v":0,"d":"€ 0.00"},{"v":0,"d":"€ 0.00"}]
[null,225,{"$nulls":7},{"v":0,"d":"€ 0.00"},{"v":0,"d":"€ 0.00"}]
[null,226,{"$nulls":7},{"v":0,"d":"€ 0.00"},{"v":0,"d":"€ 0.00"}]
[null,227,{"$nulls":7},{"v":0,"d":"€ 0.00"},{"v":0,"d":"€ 0.00"}]
[null,228,{"$nulls":7},{"v":0,"d":"€ 0.00"},{"v":0,"d":"€ 0.00"}]
[null,229,{"$nulls":7},{"v":0,"d":"€ 0.00"},{"v":0,"d":"€ 0.00"}]
[null,230,{"$nulls":7},{"v":0,"d":"€ 0.00"},{"v":0,"d":"€ 0.00"}]
[null,231,{"$nulls":7},{"v":0,"d":"€ 0.00"},{"v":0,"d":"€ 0.00"}]
[null,232,{"$nulls":7},{"v":0,"d":"€ 0.00"},{"v":0,"d":"€ 0.00"}]
[null,233,{"$nulls":7},{"v":0,"d":"€ 0.00"},{"v":0,"d":"€ 0.00"}]
[null,234,{"$nulls":7},{"v":0,"d":"€ 0.00"},{"v":0,"d":"€ 0.00"}]
[null,235,{"$nulls":7},{"v":0,"d":"€ 0.00"},{"v":0,"d":"€ 0.00"}]
[null,236,{"$nulls":7},{"v":0,"d":"€ 0.00"},{"v":0,"d":"€ 0.00"}]
[null,237,{"$nulls":7},{"v":0,"d":"€ 0.00"},{"v":0,"d":"€ 0.00"}]
[null,238,{"$nulls":7},{"v":0,"d":"€ 0.00"},{"v":0,"d":"€ 0.00"}]
[null,239,{"$nulls":7},{"v":0,"d":"€ 0.00"},{"v":0,"d":"€ 0.00"}]
[null,240,{"$nulls":7},{"v":0,"d":"€ 0.00"},{"v":0,"d":"€ 0.00"}]
[null,241,{"$nulls":7},{"v":0,"d":"€ 0.00"},{"v":0,"d":"€ 0.00"}]
[null,242,{"$nulls":7},{"v":0,"d":"€ 0.00"},{"v":0,"d":"€ 0.00"}]
[null,243,{"$nulls":7},{"v":0,"d":"€ 0.00"},{"v":0,"d":"€ 0.00"}]
[null,244,{"$nulls":7},{"v":0,"d":"€ 0.00"},{"v":0,"d":"€ 0.00"}]
[null,245,{"$nulls":7},{"v":0,"d":"€ 0.00"},{"v":0,"d":"€ 0.00"}]
[null,246,{"$nulls":7},{"v":0,"d":"€ 0.00"},{"v":0,"d":"€ 0.00"}]
[null,247,{"$nulls":7},{"v":0,"d":"€ 0.00"},{"v":0,"d":"€ 0.00"}]
[null,248,{"$nulls":7},{"v":0,"d":"€ 0.00"},{"v":0,"d":"€ 0.00"}]
[null,249,{"$nulls":7},{"v":0,"d":"€ 0.00"},{"v":0,"d":"€ 0.00"}]
[null,250,{"$nulls":7},{"v":0,"d":"€ 0.00"},{"v":0,"d":"€ 0.00"}]
[null,251,{"$nulls":7},{"v":0,"d":"€ 0.00"},{"v":0,"d":"€ 0.00"}]
[null,252,{"$nulls":7},{"v":0,"d":"€ 0.00"},{"v":0,"d":"€ 0.00"}]
[null,253,{"$nulls":7},{"v":0,"d":"€ 0.00"},{"v":0,"d":"€ 0.00"}]
[null,254,{"$nulls":7},{"v":0,"d":"€ 0.00"},{"v":0,"d":"€ 0.00"}]
[null,255,{"$nulls":7},{"v":0,"d":"€ 0.00"},{"v":0,"d":"€ 0.00"}]
[null,256,{"$nulls":7},{"v":0,"d":"€ 0.00"},{"v":0,"d":"€ 0.00"}]
[null,257,{"$nulls":7},{"$f":"IF(OR(ISBLANK(H264)=TRUE,ISBLANK(I264)=TRUE),,ROUND(H264*I264,2))","v":{"v":0,"d":"€ 0.00"}},{"v":0,"d":"€ 0.00"}]
[null,258,{"$nulls":7},{"v":0,"d":"€ 0.00"},{"$f":"G265+J265","v":{"v":0,"d":"€ 0.00"}}]
[null,259,{"$nulls":7},{"v":0,"d":"€ 0.00"},{"v":0,"d":"€ 0.00"}]
[null,260,{"$nulls":7},{"v":0,"d":"€ 0.00"},{"v":0,"d":"€ 0.00"}]
[null,261,{"$nulls":7},{"v":0,"d":"€ 0.00"},{"v":0,"d":"€ 0.00"}]
[null,262,{"$nulls":7},{"v":0,"d":"€ 0.00"},{"v":0,"d":"€ 0.00"}]
[null,263,{"$nulls":7},{"v":0,"d":"€ 0.00"},{"v":0,"d":"€ 0.00"}]
[null,264,{"$nulls":7},{"v":0,"d":"€ 0.00"},{"v":0,"d":"€ 0.00"}]
[null,265,{"$nulls":7},{"v":0,"d":"€ 0.00"},{"v":0,"d":"€ 0.00"}]
[null,266,{"$nulls":7},{"v":0,"d":"€ 0.00"},{"v":0,"d":"€ 0.00"}]
[null,267,{"$nulls":7},{"v":0,"d":"€ 0.00"},{"v":0,"d":"€ 0.00"}]
[null,268,{"$nulls":7},{"v":0,"d":"€ 0.00"},{"v":0,"d":"€ 0.00"}]
[null,269,{"$nulls":7},{"v":0,"d":"€ 0.00"},{"v":0,"d":"€ 0.00"}]
[null,270,{"$nulls":7},{"v":0,"d":"€ 0.00"},{"v":0,"d":"€ 0.00"}]
[null,271,{"$nulls":7},{"v":0,"d":"€ 0.00"},{"v":0,"d":"€ 0.00"}]
[null,272,{"$nulls":7},{"v":0,"d":"€ 0.00"},{"v":0,"d":"€ 0.00"}]
[null,273,{"$nulls":7},{"v":0,"d":"€ 0.00"},{"v":0,"d":"€ 0.00"}]
[null,274,{"$nulls":7},{"v":0,"d":"€ 0.00"},{"v":0,"d":"€ 0.00"}]
[null,275,{"$nulls":7},{"v":0,"d":"€ 0.00"},{"v":0,"d":"€ 0.00"}]
[null,276,{"$nulls":7},{"v":0,"d":"€ 0.00"},{"v":0,"d":"€ 0.00"}]
[null,277,{"$nulls":7},{"v":0,"d":"€ 0.00"},{"v":0,"d":"€ 0.00"}]
[null,278,{"$nulls":7},{"v":0,"d":"€ 0.00"},{"v":0,"d":"€ 0.00"}]
[null,279,{"$nulls":7},{"v":0,"d":"€ 0.00"},{"v":0,"d":"€ 0.00"}]
[null,280,{"$nulls":7},{"v":0,"d":"€ 0.00"},{"v":0,"d":"€ 0.00"}]
[null,281,{"$nulls":7},{"v":0,"d":"€ 0.00"},{"v":0,"d":"€ 0.00"}]
[null,282,{"$nulls":7},{"v":0,"d":"€ 0.00"},{"v":0,"d":"€ 0.00"}]
[null,283,{"$nulls":7},{"v":0,"d":"€ 0.00"},{"v":0,"d":"€ 0.00"}]
[null,284,{"$nulls":7},{"v":0,"d":"€ 0.00"},{"v":0,"d":"€ 0.00"}]
[null,285,{"$nulls":7},{"v":0,"d":"€ 0.00"},{"v":0,"d":"€ 0.00"}]
[null,286,{"$nulls":7},{"v":0,"d":"€ 0.00"},{"v":0,"d":"€ 0.00"}]
[null,287,{"$nulls":7},{"v":0,"d":"€ 0.00"},{"v":0,"d":"€ 0.00"}]
[null,288,{"$nulls":7},{"v":0,"d":"€ 0.00"},{"v":0,"d":"€ 0.00"}]
[null,289,{"$nulls":7},{"v":0,"d":"€ 0.00"},{"v":0,"d":"€ 0.00"}]
[null,290,{"$nulls":7},{"v":0,"d":"€ 0.00"},{"v":0,"d":"€ 0.00"}]
[null,291,{"$nulls":7},{"v":0,"d":"€ 0.00"},{"v":0,"d":"€ 0.00"}]
[null,292,{"$nulls":7},{"v":0,"d":"€ 0.00"},{"v":0,"d":"€ 0.00"}]
[null,293,{"$nulls":7},{"v":0,"d":"€ 0.00"},{"v":0,"d":"€ 0.00"}]
[null,294,{"$nulls":7},{"v":0,"d":"€ 0.00"},{"v":0,"d":"€ 0.00"}]
[null,295,{"$nulls":7},{"v":0,"d":"€ 0.00"},{"v":0,"d":"€ 0.00"}]
[null,296,{"$nulls":7},{"v":0,"d":"€ 0.00"},{"v":0,"d":"€ 0.00"}]
[null,297,{"$nulls":7},{"v":0,"d":"€ 0.00"},{"v":0,"d":"€ 0.00"}]
[null,298,{"$nulls":7},{"v":0,"d":"€ 0.00"},{"v":0,"d":"€ 0.00"}]
[null,299,{"$nulls":7},{"v":0,"d":"€ 0.00"},{"v":0,"d":"€ 0.00"}]
[null,300,{"$nulls":7},{"v":0,"d":"€ 0.00"},{"v":0,"d":"€ 0.00"}]
[null,301,{"$nulls":7},{"v":0,"d":"€ 0.00"},{"v":0,"d":"€ 0.00"}]
[null,302,{"$nulls":7},{"v":0,"d":"€ 0.00"},{"v":0,"d":"€ 0.00"}]
[null,303,{"$nulls":7},{"v":0,"d":"€ 0.00"},{"v":0,"d":"€ 0.00"}]
[null,304,{"$nulls":7},{"v":0,"d":"€ 0.00"},{"v":0,"d":"€ 0.00"}]
[null,305,{"$nulls":7},{"v":0,"d":"€ 0.00"},{"v":0,"d":"€ 0.00"}]
[null,306,{"$nulls":7},{"v":0,"d":"€ 0.00"},{"v":0,"d":"€ 0.00"}]
[null,307,{"$nulls":7},{"v":0,"d":"€ 0.00"},{"v":0,"d":"€ 0.00"}]
[null,308,{"$nulls":7},{"v":0,"d":"€ 0.00"},{"v":0,"d":"€ 0.00"}]
[null,309,{"$nulls":7},{"v":0,"d":"€ 0.00"},{"v":0,"d":"€ 0.00"}]
[null,310,{"$nulls":7},{"v":0,"d":"€ 0.00"},{"v":0,"d":"€ 0.00"}]
[null,311,{"$nulls":7},{"v":0,"d":"€ 0.00"},{"v":0,"d":"€ 0.00"}]
[null,312,{"$nulls":7},{"v":0,"d":"€ 0.00"},{"v":0,"d":"€ 0.00"}]
[null,313,{"$nulls":7},{"v":0,"d":"€ 0.00"},{"v":0,"d":"€ 0.00"}]
[null,314,{"$nulls":7},{"v":0,"d":"€ 0.00"},{"v":0,"d":"€ 0.00"}]
[null,315,{"$nulls":7},{"v":0,"d":"€ 0.00"},{"v":0,"d":"€ 0.00"}]
[null,316,{"$nulls":7},{"v":0,"d":"€ 0.00"},{"v":0,"d":"€ 0.00"}]
[null,317,{"$nulls":7},{"v":0,"d":"€ 0.00"},{"v":0,"d":"€ 0.00"}]
[null,318,{"$nulls":7},{"v":0,"d":"€ 0.00"},{"v":0,"d":"€ 0.00"}]
[null,319,{"$nulls":7},{"v":0,"d":"€ 0.00"},{"v":0,"d":"€ 0.00"}]
[null,320,{"$nulls":7},{"v":0,"d":"€ 0.00"},{"v":0,"d":"€ 0.00"}]
[null,321,{"$nulls":7},{"$f":"IF(OR(ISBLANK(H328)=TRUE,ISBLANK(I328)=TRUE),,ROUND(H328*I328,2))","v":{"v":0,"d":"€ 0.00"}},{"v":0,"d":"€ 0.00"}]
[null,322,{"$nulls":7},{"v":0,"d":"€ 0.00"},{"$f":"G329+J329","v":{"v":0,"d":"€ 0.00"}}]
[null,323,{"$nulls":7},{"v":0,"d":"€ 0.00"},{"v":0,"d":"€ 0.00"}]
[null,324,{"$nulls":7},{"v":0,"d":"€ 0.00"},{"v":0,"d":"€ 0.00"}]
[null,325,{"$nulls":7},{"v":0,"d":"€ 0.00"},{"v":0,"d":"€ 0.00"}]
[null,326,{"$nulls":7},{"v":0,"d":"€ 0.00"},{"v":0,"d":"€ 0.00"}]
[null,327,{"$nulls":7},{"v":0,"d":"€ 0.00"},{"v":0,"d":"€ 0.00"}]
[null,328,{"$nulls":7},{"v":0,"d":"€ 0.00"},{"v":0,"d":"€ 0.00"}]
[null,329,{"$nulls":7},{"v":0,"d":"€ 0.00"},{"v":0,"d":"€ 0.00"}]
[null,330,{"$nulls":7},{"v":0,"d":"€ 0.00"},{"v":0,"d":"€ 0.00"}]
[null,331,{"$nulls":7},{"v":0,"d":"€ 0.00"},{"v":0,"d":"€ 0.00"}]
[null,332,{"$nulls":7},{"v":0,"d":"€ 0.00"},{"v":0,"d":"€ 0.00"}]
[null,333,{"$nulls":7},{"v":0,"d":"€ 0.00"},{"v":0,"d":"€ 0.00"}]
[null,334,{"$nulls":7},{"v":0,"d":"€ 0.00"},{"v":0,"d":"€ 0.00"}]
[null,335,{"$nulls":7},{"v":0,"d":"€ 0.00"},{"v":0,"d":"€ 0.00"}]
[null,336,{"$nulls":7},{"v":0,"d":"€ 0.00"},{"v":0,"d":"€ 0.00"}]
[null,337,{"$nulls":7},{"v":0,"d":"€ 0.00"},{"v":0,"d":"€ 0.00"}]
[null,338,{"$nulls":7},{"v":0,"d":"€ 0.00"},{"v":0,"d":"€ 0.00"}]
[null,339,{"$nulls":7},{"v":0,"d":"€ 0.00"},{"v":0,"d":"€ 0.00"}]
[null,340,{"$nulls":7},{"v":0,"d":"€ 0.00"},{"v":0,"d":"€ 0.00"}]
[null,341,{"$nulls":7},{"v":0,"d":"€ 0.00"},{"v":0,"d":"€ 0.00"}]
[null,342,{"$nulls":7},{"v":0,"d":"€ 0.00"},{"v":0,"d":"€ 0.00"}]
[null,343,{"$nulls":7},{"v":0,"d":"€ 0.00"},{"v":0,"d":"€ 0.00"}]
[null,344,{"$nulls":7},{"v":0,"d":"€ 0.00"},{"v":0,"d":"€ 0.00"}]
[null,345,{"$nulls":7},{"v":0,"d":"€ 0.00"},{"v":0,"d":"€ 0.00"}]
[null,346,{"$nulls":7},{"v":0,"d":"€ 0.00"},{"v":0,"d":"€ 0.00"}]
[null,347,{"$nulls":7},{"v":0,"d":"€ 0.00"},{"v":0,"d":"€ 0.00"}]
[null,348,{"$nulls":7},{"v":0,"d":"€ 0.00"},{"v":0,"d":"€ 0.00"}]
[null,349,{"$nulls":7},{"v":0,"d":"€ 0.00"},{"v":0,"d":"€ 0.00"}]
[null,350,{"$nulls":7},{"v":0,"d":"€ 0.00"},{"v":0,"d":"€ 0.00"}]
[null,351,{"$nulls":7},{"v":0,"d":"€ 0.00"},{"v":0,"d":"€ 0.00"}]
[null,352,{"$nulls":7},{"v":0,"d":"€ 0.00"},{"v":0,"d":"€ 0.00"}]
[null,353,{"$nulls":7},{"v":0,"d":"€ 0.00"},{"v":0,"d":"€ 0.00"}]
[null,354,{"$nulls":7},{"v":0,"d":"€ 0.00"},{"v":0,"d":"€ 0.00"}]
[null,355,{"$nulls":7},{"v":0,"d":"€ 0.00"},{"v":0,"d":"€ 0.00"}]
[null,356,{"$nulls":7},{"v":0,"d":"€ 0.00"},{"v":0,"d":"€ 0.00"}]
[null,357,{"$nulls":7},{"v":0,"d":"€ 0.00"},{"v":0,"d":"€ 0.00"}]
[null,358,{"$nulls":7},{"v":0,"d":"€ 0.00"},{"v":0,"d":"€ 0.00"}]
[null,359,{"$nulls":7},{"v":0,"d":"€ 0.00"},{"v":0,"d":"€ 0.00"}]
[null,360,{"$nulls":7},{"v":0,"d":"€ 0.00"},{"v":0,"d":"€ 0.00"}]
[null,361,{"$nulls":7},{"v":0,"d":"€ 0.00"},{"v":0,"d":"€ 0.00"}]
[null,362,{"$nulls":7},{"v":0,"d":"€ 0.00"},{"v":0,"d":"€ 0.00"}]
[null,363,{"$nulls":7},{"v":0,"d":"€ 0.00"},{"v":0,"d":"€ 0.00"}]
[null,364,{"$nulls":7},{"v":0,"d":"€ 0.00"},{"v":0,"d":"€ 0.00"}]
[null,365,{"$nulls":7},{"v":0,"d":"€ 0.00"},{"v":0,"d":"€ 0.00"}]
[null,366,{"$nulls":7},{"v":0,"d":"€ 0.00"},{"v":0,"d":"€ 0.00"}]
[null,367,{"$nulls":7},{"v":0,"d":"€ 0.00"},{"v":0,"d":"€ 0.00"}]
[null,368,{"$nulls":7},{"v":0,"d":"€ 0.00"},{"v":0,"d":"€ 0.00"}]
[null,369,{"$nulls":7},{"v":0,"d":"€ 0.00"},{"v":0,"d":"€ 0.00"}]
[null,370,{"$nulls":7},{"v":0,"d":"€ 0.00"},{"v":0,"d":"€ 0.00"}]
[null,371,{"$nulls":7},{"v":0,"d":"€ 0.00"},{"v":0,"d":"€ 0.00"}]
[null,372,{"$nulls":7},{"v":0,"d":"€ 0.00"},{"v":0,"d":"€ 0.00"}]
[null,373,{"$nulls":7},{"v":0,"d":"€ 0.00"},{"v":0,"d":"€ 0.00"}]
[null,374,{"$nulls":7},{"v":0,"d":"€ 0.00"},{"v":0,"d":"€ 0.00"}]
[null,375,{"$nulls":7},{"v":0,"d":"€ 0.00"},{"v":0,"d":"€ 0.00"}]
[null,376,{"$nulls":7},{"v":0,"d":"€ 0.00"},{"v":0,"d":"€ 0.00"}]
[null,377,{"$nulls":7},{"v":0,"d":"€ 0.00"},{"v":0,"d":"€ 0.00"}]
[null,378,{"$nulls":7},{"v":0,"d":"€ 0.00"},{"v":0,"d":"€ 0.00"}]
[null,379,{"$nulls":7},{"v":0,"d":"€ 0.00"},{"v":0,"d":"€ 0.00"}]
[null,380,{"$nulls":7},{"v":0,"d":"€ 0.00"},{"v":0,"d":"€ 0.00"}]
[null,381,{"$nulls":7},{"v":0,"d":"€ 0.00"},{"v":0,"d":"€ 0.00"}]
[null,382,{"$nulls":7},{"v":0,"d":"€ 0.00"},{"v":0,"d":"€ 0.00"}]
[null,383,{"$nulls":7},{"v":0,"d":"€ 0.00"},{"v":0,"d":"€ 0.00"}]
[null,384,{"$nulls":7},{"v":0,"d":"€ 0.00"},{"v":0,"d":"€ 0.00"}]
[null,385,{"$nulls":7},{"$f":"IF(OR(ISBLANK(H392)=TRUE,ISBLANK(I392)=TRUE),,ROUND(H392*I392,2))","v":{"v":0,"d":"€ 0.00"}},{"v":0,"d":"€ 0.00"}]
[null,386,{"$nulls":7},{"v":0,"d":"€ 0.00"},{"$f":"G393+J393","v":{"v":0,"d":"€ 0.00"}}]
[null,387,{"$nulls":7},{"v":0,"d":"€ 0.00"},{"v":0,"d":"€ 0.00"}]
[null,388,{"$nulls":7},{"v":0,"d":"€ 0.00"},{"v":0,"d":"€ 0.00"}]
[null,389,{"$nulls":7},{"v":0,"d":"€ 0.00"},{"v":0,"d":"€ 0.00"}]
[null,390,{"$nulls":7},{"v":0,"d":"€ 0.00"},{"v":0,"d":"€ 0.00"}]
[null,391,{"$nulls":7},{"v":0,"d":"€ 0.00"},{"v":0,"d":"€ 0.00"}]
[null,392,{"$nulls":7},{"v":0,"d":"€ 0.00"},{"v":0,"d":"€ 0.00"}]
[null,393,{"$nulls":7},{"v":0,"d":"€ 0.00"},{"v":0,"d":"€ 0.00"}]
[null,394,{"$nulls":7},{"v":0,"d":"€ 0.00"},{"v":0,"d":"€ 0.00"}]
[null,395,{"$nulls":7},{"v":0,"d":"€ 0.00"},{"v":0,"d":"€ 0.00"}]
[null,396,{"$nulls":7},{"v":0,"d":"€ 0.00"},{"v":0,"d":"€ 0.00"}]
[null,397,{"$nulls":7},{"v":0,"d":"€ 0.00"},{"v":0,"d":"€ 0.00"}]
[null,398,{"$nulls":7},{"v":0,"d":"€ 0.00"},{"v":0,"d":"€ 0.00"}]
[null,399,{"$nulls":7},{"v":0,"d":"€ 0.00"},{"v":0,"d":"€ 0.00"}]
[null,400,{"$nulls":7},{"v":0,"d":"€ 0.00"},{"v":0,"d":"€ 0.00"}]
[null,401,{"$nulls":7},{"v":0,"d":"€ 0.00"},{"v":0,"d":"€ 0.00"}]
[null,402,{"$nulls":7},{"v":0,"d":"€ 0.00"},{"v":0,"d":"€ 0.00"}]
[null,403,{"$nulls":7},{"v":0,"d":"€ 0.00"},{"v":0,"d":"€ 0.00"}]
[null,404,{"$nulls":7},{"v":0,"d":"€ 0.00"},{"v":0,"d":"€ 0.00"}]
[null,405,{"$nulls":7},{"v":0,"d":"€ 0.00"},{"v":0,"d":"€ 0.00"}]
[null,406,{"$nulls":7},{"v":0,"d":"€ 0.00"},{"v":0,"d":"€ 0.00"}]
[null,407,{"$nulls":7},{"v":0,"d":"€ 0.00"},{"v":0,"d":"€ 0.00"}]
[null,408,{"$nulls":7},{"v":0,"d":"€ 0.00"},{"v":0,"d":"€ 0.00"}]
[null,409,{"$nulls":7},{"v":0,"d":"€ 0.00"},{"v":0,"d":"€ 0.00"}]
[null,410,{"$nulls":7},{"v":0,"d":"€ 0.00"},{"v":0,"d":"€ 0.00"}]
[null,411,{"$nulls":7},{"v":0,"d":"€ 0.00"},{"v":0,"d":"€ 0.00"}]
[null,412,{"$nulls":7},{"v":0,"d":"€ 0.00"},{"v":0,"d":"€ 0.00"}]
[null,413,{"$nulls":7},{"v":0,"d":"€ 0.00"},{"v":0,"d":"€ 0.00"}]
[null,414,{"$nulls":7},{"v":0,"d":"€ 0.00"},{"v":0,"d":"€ 0.00"}]
[null,415,{"$nulls":7},{"v":0,"d":"€ 0.00"},{"v":0,"d":"€ 0.00"}]
[null,416,{"$nulls":7},{"v":0,"d":"€ 0.00"},{"v":0,"d":"€ 0.00"}]
[null,417,{"$nulls":7},{"v":0,"d":"€ 0.00"},{"v":0,"d":"€ 0.00"}]
[null,418,{"$nulls":7},{"v":0,"d":"€ 0.00"},{"v":0,"d":"€ 0.00"}]
[null,419,{"$nulls":7},{"v":0,"d":"€ 0.00"},{"v":0,"d":"€ 0.00"}]
[null,420,{"$nulls":7},{"v":0,"d":"€ 0.00"},{"v":0,"d":"€ 0.00"}]
[null,421,{"$nulls":7},{"v":0,"d":"€ 0.00"},{"v":0,"d":"€ 0.00"}]
[null,422,{"$nulls":7},{"v":0,"d":"€ 0.00"},{"v":0,"d":"€ 0.00"}]
[null,423,{"$nulls":7},{"v":0,"d":"€ 0.00"},{"v":0,"d":"€ 0.00"}]
[null,424,{"$nulls":7},{"v":0,"d":"€ 0.00"},{"v":0,"d":"€ 0.00"}]
[null,425,{"$nulls":7},{"v":0,"d":"€ 0.00"},{"v":0,"d":"€ 0.00"}]
[null,426,{"$nulls":7},{"v":0,"d":"€ 0.00"},{"v":0,"d":"€ 0.00"}]
[null,427,{"$nulls":7},{"v":0,"d":"€ 0.00"},{"v":0,"d":"€ 0.00"}]
[null,428,{"$nulls":7},{"v":0,"d":"€ 0.00"},{"v":0,"d":"€ 0.00"}]
[null,429,{"$nulls":7},{"v":0,"d":"€ 0.00"},{"v":0,"d":"€ 0.00"}]
[null,430,{"$nulls":7},{"v":0,"d":"€ 0.00"},{"v":0,"d":"€ 0.00"}]
[null,431,{"$nulls":7},{"v":0,"d":"€ 0.00"},{"v":0,"d":"€ 0.00"}]
[null,432,{"$nulls":7},{"v":0,"d":"€ 0.00"},{"v":0,"d":"€ 0.00"}]
[null,433,{"$nulls":7},{"v":0,"d":"€ 0.00"},{"v":0,"d":"€ 0.00"}]
[null,434,{"$nulls":7},{"v":0,"d":"€ 0.00"},{"v":0,"d":"€ 0.00"}]
[null,435,{"$nulls":7},{"v":0,"d":"€ 0.00"},{"v":0,"d":"€ 0.00"}]
[null,436,{"$nulls":7},{"v":0,"d":"€ 0.00"},{"v":0,"d":"€ 0.00"}]
[null,437,{"$nulls":7},{"v":0,"d":"€ 0.00"},{"v":0,"d":"€ 0.00"}]
[null,438,{"$nulls":7},{"v":0,"d":"€ 0.00"},{"v":0,"d":"€ 0.00"}]
[null,439,{"$nulls":7},{"v":0,"d":"€ 0.00"},{"v":0,"d":"€ 0.00"}]
[null,440,{"$nulls":7},{"v":0,"d":"€ 0.00"},{"v":0,"d":"€ 0.00"}]
[null,441,{"$nulls":7},{"v":0,"d":"€ 0.00"},{"v":0,"d":"€ 0.00"}]
[null,442,{"$nulls":7},{"v":0,"d":"€ 0.00"},{"v":0,"d":"€ 0.00"}]
[null,443,{"$nulls":7},{"v":0,"d":"€ 0.00"},{"v":0,"d":"€ 0.00"}]
[null,444,{"$nulls":7},{"v":0,"d":"€ 0.00"},{"v":0,"d":"€ 0.00"}]
[null,445,{"$nulls":7},{"v":0,"d":"€ 0.00"},{"v":0,"d":"€ 0.00"}]
[null,446,{"$nulls":7},{"v":0,"d":"€ 0.00"},{"v":0,"d":"€ 0.00"}]
[null,447,{"$nulls":7},{"v":0,"d":"€ 0.00"},{"v":0,"d":"€ 0.00"}]
[null,448,{"$nulls":7},{"v":0,"d":"€ 0.00"},{"v":0,"d":"€ 0.00"}]
[null,449,{"$nulls":7},{"$f":"IF(OR(ISBLANK(H456)=TRUE,ISBLANK(I456)=TRUE),,ROUND(H456*I456,2))","v":{"v":0,"d":"€ 0.00"}},{"v":0,"d":"€ 0.00"}]
[null,450,{"$nulls":7},{"v":0,"d":"€ 0.00"},{"$f":"G457+J457","v":{"v":0,"d":"€ 0.00"}}]
[null,451,{"$nulls":7},{"v":0,"d":"€ 0.00"},{"v":0,"d":"€ 0.00"}]
[null,452,{"$nulls":7},{"v":0,"d":"€ 0.00"},{"v":0,"d":"€ 0.00"}]
[null,453,{"$nulls":7},{"v":0,"d":"€ 0.00"},{"v":0,"d":"€ 0.00"}]
[null,454,{"$nulls":7},{"v":0,"d":"€ 0.00"},{"v":0,"d":"€ 0.00"}]
[null,455,{"$nulls":7},{"v":0,"d":"€ 0.00"},{"v":0,"d":"€ 0.00"}]
[null,456,{"$nulls":7},{"v":0,"d":"€ 0.00"},{"v":0,"d":"€ 0.00"}]
[null,457,{"$nulls":7},{"v":0,"d":"€ 0.00"},{"v":0,"d":"€ 0.00"}]
[null,458,{"$nulls":7},{"v":0,"d":"€ 0.00"},{"v":0,"d":"€ 0.00"}]
[null,459,{"$nulls":7},{"v":0,"d":"€ 0.00"},{"v":0,"d":"€ 0.00"}]
[null,460,{"$nulls":7},{"v":0,"d":"€ 0.00"},{"v":0,"d":"€ 0.00"}]
[null,461,{"$nulls":7},{"v":0,"d":"€ 0.00"},{"v":0,"d":"€ 0.00"}]
[null,462,{"$nulls":7},{"v":0,"d":"€ 0.00"},{"v":0,"d":"€ 0.00"}]
[null,463,{"$nulls":7},{"v":0,"d":"€ 0.00"},{"v":0,"d":"€ 0.00"}]
[null,464,{"$nulls":7},{"v":0,"d":"€ 0.00"},{"v":0,"d":"€ 0.00"}]
[null,465,{"$nulls":7},{"v":0,"d":"€ 0.00"},{"v":0,"d":"€ 0.00"}]
[null,466,{"$nulls":7},{"v":0,"d":"€ 0.00"},{"v":0,"d":"€ 0.00"}]
[null,467,{"$nulls":7},{"v":0,"d":"€ 0.00"},{"v":0,"d":"€ 0.00"}]
[null,468,{"$nulls":7},{"v":0,"d":"€ 0.00"},{"v":0,"d":"€ 0.00"}]
[null,469,{"$nulls":7},{"v":0,"d":"€ 0.00"},{"v":0,"d":"€ 0.00"}]
[null,470,{"$nulls":7},{"v":0,"d":"€ 0.00"},{"v":0,"d":"€ 0.00"}]
[null,471,{"$nulls":7},{"v":0,"d":"€ 0.00"},{"v":0,"d":"€ 0.00"}]
[null,472,{"$nulls":7},{"v":0,"d":"€ 0.00"},{"v":0,"d":"€ 0.00"}]
[null,473,{"$nulls":7},{"v":0,"d":"€ 0.00"},{"v":0,"d":"€ 0.00"}]
[null,474,{"$nulls":7},{"v":0,"d":"€ 0.00"},{"v":0,"d":"€ 0.00"}]
[null,475,{"$nulls":7},{"v":0,"d":"€ 0.00"},{"v":0,"d":"€ 0.00"}]
[null,476,{"$nulls":7},{"v":0,"d":"€ 0.00"},{"v":0,"d":"€ 0.00"}]
[null,477,{"$nulls":7},{"v":0,"d":"€ 0.00"},{"v":0,"d":"€ 0.00"}]
[null,478,{"$nulls":7},{"v":0,"d":"€ 0.00"},{"v":0,"d":"€ 0.00"}]
[null,479,{"$nulls":7},{"v":0,"d":"€ 0.00"},{"v":0,"d":"€ 0.00"}]
[null,480,{"$nulls":7},{"v":0,"d":"€ 0.00"},{"v":0,"d":"€ 0.00"}]
[null,481,{"$nulls":7},{"v":0,"d":"€ 0.00"},{"v":0,"d":"€ 0.00"}]
[null,482,{"$nulls":7},{"v":0,"d":"€ 0.00"},{"v":0,"d":"€ 0.00"}]
[null,483,{"$nulls":7},{"v":0,"d":"€ 0.00"},{"v":0,"d":"€ 0.00"}]
[null,484,{"$nulls":7},{"v":0,"d":"€ 0.00"},{"v":0,"d":"€ 0.00"}]
[null,485,{"$nulls":7},{"v":0,"d":"€ 0.00"},{"v":0,"d":"€ 0.00"}]
[null,486,{"$nulls":7},{"v":0,"d":"€ 0.00"},{"v":0,"d":"€ 0.00"}]
[null,487,{"$nulls":7},{"v":0,"d":"€ 0.00"},{"v":0,"d":"€ 0.00"}]
[null,488,{"$nulls":7},{"v":0,"d":"€ 0.00"},{"v":0,"d":"€ 0.00"}]
[null,489,{"$nulls":7},{"v":0,"d":"€ 0.00"},{"v":0,"d":"€ 0.00"}]
[null,490,{"$nulls":7},{"v":0,"d":"€ 0.00"},{"v":0,"d":"€ 0.00"}]
[null,491,{"$nulls":7},{"v":0,"d":"€ 0.00"},{"v":0,"d":"€ 0.00"}]
[null,492,{"$nulls":7},{"v":0,"d":"€ 0.00"},{"v":0,"d":"€ 0.00"}]
[null,493,{"$nulls":7},{"v":0,"d":"€ 0.00"},{"v":0,"d":"€ 0.00"}]
[null,494,{"$nulls":7},{"v":0,"d":"€ 0.00"},{"v":0,"d":"€ 0.00"}]
[null,495,{"$nulls":7},{"v":0,"d":"€ 0.00"},{"v":0,"d":"€ 0.00"}]
[null,496,{"$nulls":7},{"v":0,"d":"€ 0.00"},{"v":0,"d":"€ 0.00"}]
[null,497,{"$nulls":7},{"v":0,"d":"€ 0.00"},{"v":0,"d":"€ 0.00"}]
[null,498,{"$nulls":7},{"v":0,"d":"€ 0.00"},{"v":0,"d":"€ 0.00"}]
[null,499,{"$nulls":7},{"v":0,"d":"€ 0.00"},{"v":0,"d":"€ 0.00"}]
[null,500,{"$nulls":7},{"v":0,"d":"€ 0.00"},{"v":0,"d":"€ 0.00"}]
[null,501,{"$nulls":7},{"v":0,"d":"€ 0.00"},{"v":0,"d":"€ 0.00"}]
[null,502,{"$nulls":7},{"v":0,"d":"€ 0.00"},{"v":0,"d":"€ 0.00"}]
[null,503,{"$nulls":7},{"v":0,"d":"€ 0.00"},{"v":0,"d":"€ 0.00"}]
[null,504,{"$nulls":7},{"v":0,"d":"€ 0.00"},{"v":0,"d":"€ 0.00"}]
[null,505,{"$nulls":7},{"v":0,"d":"€ 0.00"},{"v":0,"d":"€ 0.00"}]
[null,506,{"$nulls":7},{"v":0,"d":"€ 0.00"},{"v":0,"d":"€ 0.00"}]
[null,507,{"$nulls":7},{"v":0,"d":"€ 0.00"},{"v":0,"d":"€ 0.00"}]
[null,508,{"$nulls":7},{"v":0,"d":"€ 0.00"},{"v":0,"d":"€ 0.00"}]
[null,509,{"$nulls":7},{"v":0,"d":"€ 0.00"},{"v":0,"d":"€ 0.00"}]
[null,510,{"$nulls":7},{"v":0,"d":"€ 0.00"},{"v":0,"d":"€ 0.00"}]
[null,511,{"$nulls":7},{"v":0,"d":"€ 0.00"},{"v":0,"d":"€ 0.00"}]
[null,512,{"$nulls":7},{"v":0,"d":"€ 0.00"},{"v":0,"d":"€ 0.00"}]
[null,513,{"$nulls":7},{"$f":"IF(OR(ISBLANK(H520)=TRUE,ISBLANK(I520)=TRUE),,ROUND(H520*I520,2))","v":{"v":0,"d":"€ 0.00"}},{"v":0,"d":"€ 0.00"}]
[null,514,{"$nulls":7},{"v":0,"d":"€ 0.00"},{"$f":"G521+J521","v":{"v":0,"d":"€ 0.00"}}]
[null,515,{"$nulls":7},{"v":0,"d":"€ 0.00"},{"v":0,"d":"€ 0.00"}]
[null,516,{"$nulls":7},{"v":0,"d":"€ 0.00"},{"v":0,"d":"€ 0.00"}]
[null,517,{"$nulls":7},{"v":0,"d":"€ 0.00"},{"v":0,"d":"€ 0.00"}]
[null,518,{"$nulls":7},{"v":0,"d":"€ 0.00"},{"v":0,"d":"€ 0.00"}]
[null,519,{"$nulls":7},{"v":0,"d":"€ 0.00"},{"v":0,"d":"€ 0.00"}]
[null,520,{"$nulls":7},{"v":0,"d":"€ 0.00"},{"v":0,"d":"€ 0.00"}]
[null,521,{"$nulls":7},{"v":0,"d":"€ 0.00"},{"v":0,"d":"€ 0.00"}]
[null,522,{"$nulls":7},{"v":0,"d":"€ 0.00"},{"v":0,"d":"€ 0.00"}]
[null,523,{"$nulls":7},{"v":0,"d":"€ 0.00"},{"v":0,"d":"€ 0.00"}]
[null,524,{"$nulls":7},{"v":0,"d":"€ 0.00"},{"v":0,"d":"€ 0.00"}]
[null,525,{"$nulls":7},{"v":0,"d":"€ 0.00"},{"v":0,"d":"€ 0.00"}]
[null,526,{"$nulls":7},{"v":0,"d":"€ 0.00"},{"v":0,"d":"€ 0.00"}]
[null,527,{"$nulls":7},{"v":0,"d":"€ 0.00"},{"v":0,"d":"€ 0.00"}]
[null,528,{"$nulls":7},{"v":0,"d":"€ 0.00"},{"v":0,"d":"€ 0.00"}]
[null,529,{"$nulls":7},{"v":0,"d":"€ 0.00"},{"v":0,"d":"€ 0.00"}]
[null,530,{"$nulls":7},{"v":0,"d":"€ 0.00"},{"v":0,"d":"€ 0.00"}]
[null,531,{"$nulls":7},{"v":0,"d":"€ 0.00"},{"v":0,"d":"€ 0.00"}]
[null,532,{"$nulls":7},{"v":0,"d":"€ 0.00"},{"v":0,"d":"€ 0.00"}]
[null,533,{"$nulls":7},{"v":0,"d":"€ 0.00"},{"v":0,"d":"€ 0.00"}]
[null,534,{"$nulls":7},{"v":0,"d":"€ 0.00"},{"v":0,"d":"€ 0.00"}]
[null,535,{"$nulls":7},{"v":0,"d":"€ 0.00"},{"v":0,"d":"€ 0.00"}]
[null,536,{"$nulls":7},{"v":0,"d":"€ 0.00"},{"v":0,"d":"€ 0.00"}]
[null,537,{"$nulls":7},{"v":0,"d":"€ 0.00"},{"v":0,"d":"€ 0.00"}]
[null,538,{"$nulls":7},{"v":0,"d":"€ 0.00"},{"v":0,"d":"€ 0.00"}]
[null,539,{"$nulls":7},{"v":0,"d":"€ 0.00"},{"v":0,"d":"€ 0.00"}]
[null,540,{"$nulls":7},{"v":0,"d":"€ 0.00"},{"v":0,"d":"€ 0.00"}]
[null,541,{"$nulls":7},{"v":0,"d":"€ 0.00"},{"v":0,"d":"€ 0.00"}]
[null,542,{"$nulls":7},{"v":0,"d":"€ 0.00"},{"v":0,"d":"€ 0.00"}]
[null,543,{"$nulls":7},{"v":0,"d":"€ 0.00"},{"v":0,"d":"€ 0.00"}]
[null,544,{"$nulls":7},{"v":0,"d":"€ 0.00"},{"v":0,"d":"€ 0.00"}]
[null,545,{"$nulls":7},{"v":0,"d":"€ 0.00"},{"v":0,"d":"€ 0.00"}]
[null,546,{"$nulls":7},{"v":0,"d":"€ 0.00"},{"v":0,"d":"€ 0.00"}]
[null,547,{"$nulls":7},{"v":0,"d":"€ 0.00"},{"v":0,"d":"€ 0.00"}]
[null,548,{"$nulls":7},{"v":0,"d":"€ 0.00"},{"v":0,"d":"€ 0.00"}]
[null,549,{"$nulls":7},{"v":0,"d":"€ 0.00"},{"v":0,"d":"€ 0.00"}]
[null,550,{"$nulls":7},{"v":0,"d":"€ 0.00"},{"v":0,"d":"€ 0.00"}]
[null,551,{"$nulls":7},{"v":0,"d":"€ 0.00"},{"v":0,"d":"€ 0.00"}]
[null,552,{"$nulls":7},{"v":0,"d":"€ 0.00"},{"v":0,"d":"€ 0.00"}]
[null,553,{"$nulls":7},{"v":0,"d":"€ 0.00"},{"v":0,"d":"€ 0.00"}]
[null,554,{"$nulls":7},{"v":0,"d":"€ 0.00"},{"v":0,"d":"€ 0.00"}]
[null,555,{"$nulls":7},{"v":0,"d":"€ 0.00"},{"v":0,"d":"€ 0.00"}]
[null,556,{"$nulls":7},{"v":0,"d":"€ 0.00"},{"v":0,"d":"€ 0.00"}]
[null,557,{"$nulls":7},{"v":0,"d":"€ 0.00"},{"v":0,"d":"€ 0.00"}]
[null,558,{"$nulls":7},{"v":0,"d":"€ 0.00"},{"v":0,"d":"€ 0.00"}]
[null,559,{"$nulls":7},{"v":0,"d":"€ 0.00"},{"v":0,"d":"€ 0.00"}]
[null,560,{"$nulls":7},{"v":0,"d":"€ 0.00"},{"v":0,"d":"€ 0.00"}]
[null,561,{"$nulls":7},{"v":0,"d":"€ 0.00"},{"v":0,"d":"€ 0.00"}]
[null,562,{"$nulls":7},{"v":0,"d":"€ 0.00"},{"v":0,"d":"€ 0.00"}]
[null,563,{"$nulls":7},{"v":0,"d":"€ 0.00"},{"v":0,"d":"€ 0.00"}]
[null,564,{"$nulls":7},{"v":0,"d":"€ 0.00"},{"v":0,"d":"€ 0.00"}]
[null,565,{"$nulls":7},{"v":0,"d":"€ 0.00"},{"v":0,"d":"€ 0.00"}]
[null,566,{"$nulls":7},{"v":0,"d":"€ 0.00"},{"v":0,"d":"€ 0.00"}]
[null,567,{"$nulls":7},{"v":0,"d":"€ 0.00"},{"v":0,"d":"€ 0.00"}]
[null,568,{"$nulls":7},{"v":0,"d":"€ 0.00"},{"v":0,"d":"€ 0.00"}]
[null,569,{"$nulls":7},{"v":0,"d":"€ 0.00"},{"v":0,"d":"€ 0.00"}]
[null,570,{"$nulls":7},{"v":0,"d":"€ 0.00"},{"v":0,"d":"€ 0.00"}]
[null,571,{"$nulls":7},{"v":0,"d":"€ 0.00"},{"v":0,"d":"€ 0.00"}]
[null,572,{"$nulls":7},{"v":0,"d":"€ 0.00"},{"v":0,"d":"€ 0.00"}]
[null,573,{"$nulls":7},{"v":0,"d":"€ 0.00"},{"v":0,"d":"€ 0.00"}]
[null,574,{"$nulls":7},{"v":0,"d":"€ 0.00"},{"v":0,"d":"€ 0.00"}]
[null,575,{"$nulls":7},{"v":0,"d":"€ 0.00"},{"v":0,"d":"€ 0.00"}]
[null,576,{"$nulls":7},{"v":0,"d":"€ 0.00"},{"v":0,"d":"€ 0.00"}]
[null,577,{"$nulls":7},{"$f":"IF(OR(ISBLANK(H584)=TRUE,ISBLANK(I584)=TRUE),,ROUND(H584*I584,2))","v":{"v":0,"d":"€ 0.00"}},{"v":0,"d":"€ 0.00"}]
[null,578,{"$nulls":7},{"v":0,"d":"€ 0.00"},{"$f":"G585+J585","v":{"v":0,"d":"€ 0.00"}}]
[null,579,{"$nulls":7},{"v":0,"d":"€ 0.00"},{"v":0,"d":"€ 0.00"}]
[null,580,{"$nulls":7},{"v":0,"d":"€ 0.00"},{"v":0,"d":"€ 0.00"}]
[null,581,{"$nulls":7},{"v":0,"d":"€ 0.00"},{"v":0,"d":"€ 0.00"}]
[null,582,{"$nulls":7},{"v":0,"d":"€ 0.00"},{"v":0,"d":"€ 0.00"}]
[null,583,{"$nulls":7},{"v":0,"d":"€ 0.00"},{"v":0,"d":"€ 0.00"}]
[null,584,{"$nulls":7},{"v":0,"d":"€ 0.00"},{"v":0,"d":"€ 0.00"}]
[null,585,{"$nulls":7},{"v":0,"d":"€ 0.00"},{"v":0,"d":"€ 0.00"}]
[null,586,{"$nulls":7},{"v":0,"d":"€ 0.00"},{"v":0,"d":"€ 0.00"}]
[null,587,{"$nulls":7},{"v":0,"d":"€ 0.00"},{"v":0,"d":"€ 0.00"}]
[null,588,{"$nulls":7},{"v":0,"d":"€ 0.00"},{"v":0,"d":"€ 0.00"}]
[null,589,{"$nulls":7},{"v":0,"d":"€ 0.00"},{"v":0,"d":"€ 0.00"}]
[null,590,{"$nulls":7},{"v":0,"d":"€ 0.00"},{"v":0,"d":"€ 0.00"}]
[null,591,{"$nulls":7},{"v":0,"d":"€ 0.00"},{"v":0,"d":"€ 0.00"}]
[null,592,{"$nulls":7},{"v":0,"d":"€ 0.00"},{"v":0,"d":"€ 0.00"}]
[null,593,{"$nulls":7},{"v":0,"d":"€ 0.00"},{"v":0,"d":"€ 0.00"}]
[null,594,{"$nulls":7},{"v":0,"d":"€ 0.00"},{"v":0,"d":"€ 0.00"}]
[null,595,{"$nulls":7},{"v":0,"d":"€ 0.00"},{"v":0,"d":"€ 0.00"}]
[null,596,{"$nulls":7},{"v":0,"d":"€ 0.00"},{"v":0,"d":"€ 0.00"}]
[null,597,{"$nulls":7},{"v":0,"d":"€ 0.00"},{"v":0,"d":"€ 0.00"}]
[null,598,{"$nulls":7},{"v":0,"d":"€ 0.00"},{"v":0,"d":"€ 0.00"}]
[null,599,{"$nulls":7},{"v":0,"d":"€ 0.00"},{"v":0,"d":"€ 0.00"}]
[null,600,{"$nulls":7},{"v":0,"d":"€ 0.00"},{"v":0,"d":"€ 0.00"}]
[null,601,{"$nulls":7},{"v":0,"d":"€ 0.00"},{"v":0,"d":"€ 0.00"}]
[null,602,{"$nulls":7},{"v":0,"d":"€ 0.00"},{"v":0,"d":"€ 0.00"}]
[null,603,{"$nulls":7},{"v":0,"d":"€ 0.00"},{"v":0,"d":"€ 0.00"}]
[null,604,{"$nulls":7},{"v":0,"d":"€ 0.00"},{"v":0,"d":"€ 0.00"}]
[null,605,{"$nulls":7},{"v":0,"d":"€ 0.00"},{"v":0,"d":"€ 0.00"}]
[null,606,{"$nulls":7},{"v":0,"d":"€ 0.00"},{"v":0,"d":"€ 0.00"}]
[null,607,{"$nulls":7},{"v":0,"d":"€ 0.00"},{"v":0,"d":"€ 0.00"}]
[null,608,{"$nulls":7},{"v":0,"d":"€ 0.00"},{"v":0,"d":"€ 0.00"}]
[null,609,{"$nulls":7},{"v":0,"d":"€ 0.00"},{"v":0,"d":"€ 0.00"}]
[null,610,{"$nulls":7},{"v":0,"d":"€ 0.00"},{"v":0,"d":"€ 0.00"}]
[null,611,{"$nulls":7},{"v":0,"d":"€ 0.00"},{"v":0,"d":"€ 0.00"}]
[null,612,{"$nulls":7},{"v":0,"d":"€ 0.00"},{"v":0,"d":"€ 0.00"}]
[null,613,{"$nulls":7},{"v":0,"d":"€ 0.00"},{"v":0,"d":"€ 0.00"}]
[null,614,{"$nulls":7},{"v":0,"d":"€ 0.00"},{"v":0,"d":"€ 0.00"}]
[null,615,{"$nulls":7},{"v":0,"d":"€ 0.00"},{"v":0,"d":"€ 0.00"}]
[null,616,{"$nulls":7},{"v":0,"d":"€ 0.00"},{"v":0,"d":"€ 0.00"}]
[null,617,{"$nulls":7},{"v":0,"d":"€ 0.00"},{"v":0,"d":"€ 0.00"}]
[null,618,{"$nulls":7},{"v":0,"d":"€ 0.00"},{"v":0,"d":"€ 0.00"}]
[null,619,{"$nulls":7},{"v":0,"d":"€ 0.00"},{"v":0,"d":"€ 0.00"}]
[null,620,{"$nulls":7},{"v":0,"d":"€ 0.00"},{"v":0,"d":"€ 0.00"}]
[null,621,{"$nulls":7},{"v":0,"d":"€ 0.00"},{"v":0,"d":"€ 0.00"}]
[null,622,{"$nulls":7},{"v":0,"d":"€ 0.00"},{"v":0,"d":"€ 0.00"}]
[null,623,{"$nulls":7},{"v":0,"d":"€ 0.00"},{"v":0,"d":"€ 0.00"}]
[null,624,{"$nulls":7},{"v":0,"d":"€ 0.00"},{"v":0,"d":"€ 0.00"}]
[null,625,{"$nulls":7},{"v":0,"d":"€ 0.00"},{"v":0,"d":"€ 0.00"}]
[null,626,{"$nulls":7},{"v":0,"d":"€ 0.00"},{"v":0,"d":"€ 0.00"}]
[null,627,{"$nulls":7},{"v":0,"d":"€ 0.00"},{"v":0,"d":"€ 0.00"}]
[null,628,{"$nulls":7},{"v":0,"d":"€ 0.00"},{"v":0,"d":"€ 0.00"}]
[null,629,{"$nulls":7},{"v":0,"d":"€ 0.00"},{"v":0,"d":"€ 0.00"}]
[null,630,{"$nulls":7},{"v":0,"d":"€ 0.00"},{"v":0,"d":"€ 0.00"}]
[null,631,{"$nulls":7},{"v":0,"d":"€ 0.00"},{"v":0,"d":"€ 0.00"}]
[null,632,{"$nulls":7},{"v":0,"d":"€ 0.00"},{"v":0,"d":"€ 0.00"}]
[null,633,{"$nulls":7},{"v":0,"d":"€ 0.00"},{"v":0,"d":"€ 0.00"}]
[null,634,{"$nulls":7},{"v":0,"d":"€ 0.00"},{"v":0,"d":"€ 0.00"}]
[null,635,{"$nulls":7},{"v":0,"d":"€ 0.00"},{"v":0,"d":"€ 0.00"}]
[null,636,{"$nulls":7},{"v":0,"d":"€ 0.00"},{"v":0,"d":"€ 0.00"}]
[null,637,{"$nulls":7},{"v":0,"d":"€ 0.00"},{"v":0,"d":"€ 0.00"}]
[null,638,{"$nulls":7},{"v":0,"d":"€ 0.00"},{"v":0,"d":"€ 0.00"}]
[null,639,{"$nulls":7},{"v":0,"d":"€ 0.00"},{"v":0,"d":"€ 0.00"}]
[null,640,{"$nulls":7},{"v":0,"d":"€ 0.00"},{"v":0,"d":"€ 0.00"}]
[null,641,{"$nulls":7},{"$f":"IF(OR(ISBLANK(H648)=TRUE,ISBLANK(I648)=TRUE),,ROUND(H648*I648,2))","v":{"v":0,"d":"€ 0.00"}},{"v":0,"d":"€ 0.00"}]
[null,642,{"$nulls":7},{"v":0,"d":"€ 0.00"},{"$f":"G649+J649","v":{"v":0,"d":"€ 0.00"}}]
[null,643,{"$nulls":7},{"v":0,"d":"€ 0.00"},{"v":0,"d":"€ 0.00"}]
[null,644,{"$nulls":7},{"v":0,"d":"€ 0.00"},{"v":0,"d":"€ 0.00"}]
[null,645,{"$nulls":7},{"v":0,"d":"€ 0.00"},{"v":0,"d":"€ 0.00"}]
[null,646,{"$nulls":7},{"v":0,"d":"€ 0.00"},{"v":0,"d":"€ 0.00"}]
[null,647,{"$nulls":7},{"v":0,"d":"€ 0.00"},{"v":0,"d":"€ 0.00"}]
[null,648,{"$nulls":7},{"v":0,"d":"€ 0.00"},{"v":0,"d":"€ 0.00"}]
[null,649,{"$nulls":7},{"v":0,"d":"€ 0.00"},{"v":0,"d":"€ 0.00"}]
[null,650,{"$nulls":7},{"v":0,"d":"€ 0.00"},{"v":0,"d":"€ 0.00"}]
[null,651,{"$nulls":7},{"v":0,"d":"€ 0.00"},{"v":0,"d":"€ 0.00"}]
[null,652,{"$nulls":7},{"v":0,"d":"€ 0.00"},{"v":0,"d":"€ 0.00"}]
[null,653,{"$nulls":7},{"v":0,"d":"€ 0.00"},{"v":0,"d":"€ 0.00"}]
[null,654,{"$nulls":7},{"v":0,"d":"€ 0.00"},{"v":0,"d":"€ 0.00"}]
[null,655,{"$nulls":7},{"v":0,"d":"€ 0.00"},{"v":0,"d":"€ 0.00"}]
[null,656,{"$nulls":7},{"v":0,"d":"€ 0.00"},{"v":0,"d":"€ 0.00"}]
[null,657,{"$nulls":7},{"v":0,"d":"€ 0.00"},{"v":0,"d":"€ 0.00"}]
[null,658,{"$nulls":7},{"v":0,"d":"€ 0.00"},{"v":0,"d":"€ 0.00"}]
[null,659,{"$nulls":7},{"v":0,"d":"€ 0.00"},{"v":0,"d":"€ 0.00"}]
[null,660,{"$nulls":7},{"v":0,"d":"€ 0.00"},{"v":0,"d":"€ 0.00"}]
[null,661,{"$nulls":7},{"v":0,"d":"€ 0.00"},{"v":0,"d":"€ 0.00"}]
[null,662,{"$nulls":7},{"v":0,"d":"€ 0.00"},{"v":0,"d":"€ 0.00"}]
[null,663,{"$nulls":7},{"v":0,"d":"€ 0.00"},{"v":0,"d":"€ 0.00"}]
[null,664,{"$nulls":7},{"v":0,"d":"€ 0.00"},{"v":0,"d":"€ 0.00"}]
[null,665,{"$nulls":7},{"v":0,"d":"€ 0.00"},{"v":0,"d":"€ 0.00"}]
[null,666,{"$nulls":7},{"v":0,"d":"€ 0.00"},{"v":0,"d":"€ 0.00"}]
[null,667,{"$nulls":7},{"v":0,"d":"€ 0.00"},{"v":0,"d":"€ 0.00"}]
[null,668,{"$nulls":7},{"v":0,"d":"€ 0.00"},{"v":0,"d":"€ 0.00"}]
[null,669,{"$nulls":7},{"v":0,"d":"€ 0.00"},{"v":0,"d":"€ 0.00"}]
[null,670,{"$nulls":7},{"v":0,"d":"€ 0.00"},{"v":0,"d":"€ 0.00"}]
[null,671,{"$nulls":7},{"v":0,"d":"€ 0.00"},{"v":0,"d":"€ 0.00"}]
[null,672,{"$nulls":7},{"v":0,"d":"€ 0.00"},{"v":0,"d":"€ 0.00"}]
[null,673,{"$nulls":7},{"v":0,"d":"€ 0.00"},{"v":0,"d":"€ 0.00"}]
[null,674,{"$nulls":7},{"v":0,"d":"€ 0.00"},{"v":0,"d":"€ 0.00"}]
[null,675,{"$nulls":7},{"v":0,"d":"€ 0.00"},{"v":0,"d":"€ 0.00"}]
[null,676,{"$nulls":7},{"v":0,"d":"€ 0.00"},{"v":0,"d":"€ 0.00"}]
[null,677,{"$nulls":7},{"v":0,"d":"€ 0.00"},{"v":0,"d":"€ 0.00"}]
[null,678,{"$nulls":7},{"v":0,"d":"€ 0.00"},{"v":0,"d":"€ 0.00"}]
[null,679,{"$nulls":7},{"v":0,"d":"€ 0.00"},{"v":0,"d":"€ 0.00"}]
[null,680,{"$nulls":7},{"v":0,"d":"€ 0.00"},{"v":0,"d":"€ 0.00"}]
[null,681,{"$nulls":7},{"v":0,"d":"€ 0.00"},{"v":0,"d":"€ 0.00"}]
[null,682,{"$nulls":7},{"v":0,"d":"€ 0.00"},{"v":0,"d":"€ 0.00"}]
[null,683,{"$nulls":7},{"v":0,"d":"€ 0.00"},{"v":0,"d":"€ 0.00"}]
[null,684,{"$nulls":7},{"v":0,"d":"€ 0.00"},{"v":0,"d":"€ 0.00"}]
[null,685,{"$nulls":7},{"v":0,"d":"€ 0.00"},{"v":0,"d":"€ 0.00"}]
[null,686,{"$nulls":7},{"v":0,"d":"€ 0.00"},{"v":0,"d":"€ 0.00"}]
[null,687,{"$nulls":7},{"v":0,"d":"€ 0.00"},{"v":0,"d":"€ 0.00"}]
[null,688,{"$nulls":7},{"v":0,"d":"€ 0.00"},{"v":0,"d":"€ 0.00"}]
[null,689,{"$nulls":7},{"v":0,"d":"€ 0.00"},{"v":0,"d":"€ 0.00"}]
[null,690,{"$nulls":7},{"v":0,"d":"€ 0.00"},{"v":0,"d":"€ 0.00"}]
[null,691,{"$nulls":7},{"v":0,"d":"€ 0.00"},{"v":0,"d":"€ 0.00"}]
[null,692,{"$nulls":7},{"v":0,"d":"€ 0.00"},{"v":0,"d":"€ 0.00"}]
[null,693,{"$nulls":7},{"v":0,"d":"€ 0.00"},{"v":0,"d":"€ 0.00"}]
[null,694,{"$nulls":7},{"v":0,"d":"€ 0.00"},{"v":0,"d":"€ 0.00"}]
[null,695,{"$nulls":7},{"v":0,"d":"€ 0.00"},{"v":0,"d":"€ 0.00"}]
[null,696,{"$nulls":7},{"v":0,"d":"€ 0.00"},{"v":0,"d":"€ 0.00"}]
[null,697,{"$nulls":7},{"v":0,"d":"€ 0.00"},{"v":0,"d":"€ 0.00"}]
[null,698,{"$nulls":7},{"v":0,"d":"€ 0.00"},{"v":0,"d":"€ 0.00"}]
[null,699,{"$nulls":7},{"v":0,"d":"€ 0.00"},{"v":0,"d":"€ 0.00"}]
[null,700,{"$nulls":7},{"v":0,"d":"€ 0.00"},{"v":0,"d":"€ 0.00"}]
[null,701,{"$nulls":7},{"v":0,"d":"€ 0.00"},{"v":0,"d":"€ 0.00"}]
[null,702,{"$nulls":7},{"v":0,"d":"€ 0.00"},{"v":0,"d":"€ 0.00"}]
[null,703,{"$nulls":7},{"v":0,"d":"€ 0.00"},{"v":0,"d":"€ 0.00"}]
[null,704,{"$nulls":7},{"v":0,"d":"€ 0.00"},{"v":0,"d":"€ 0.00"}]
[null,705,{"$nulls":7},{"$f":"IF(OR(ISBLANK(H712)=TRUE,ISBLANK(I712)=TRUE),,ROUND(H712*I712,2))","v":{"v":0,"d":"€ 0.00"}},{"v":0,"d":"€ 0.00"}]
[null,706,{"$nulls":7},{"v":0,"d":"€ 0.00"},{"$f":"G713+J713","v":{"v":0,"d":"€ 0.00"}}]
[null,707,{"$nulls":7},{"v":0,"d":"€ 0.00"},{"v":0,"d":"€ 0.00"}]
[null,708,{"$nulls":7},{"v":0,"d":"€ 0.00"},{"v":0,"d":"€ 0.00"}]
[null,709,{"$nulls":7},{"v":0,"d":"€ 0.00"},{"v":0,"d":"€ 0.00"}]
[null,710,{"$nulls":7},{"v":0,"d":"€ 0.00"},{"v":0,"d":"€ 0.00"}]
[null,711,{"$nulls":7},{"v":0,"d":"€ 0.00"},{"v":0,"d":"€ 0.00"}]
[null,712,{"$nulls":7},{"v":0,"d":"€ 0.00"},{"v":0,"d":"€ 0.00"}]
[null,713,{"$nulls":7},{"v":0,"d":"€ 0.00"},{"v":0,"d":"€ 0.00"}]
[null,714,{"$nulls":7},{"v":0,"d":"€ 0.00"},{"v":0,"d":"€ 0.00"}]
[null,715,{"$nulls":7},{"v":0,"d":"€ 0.00"},{"v":0,"d":"€ 0.00"}]
[null,716,{"$nulls":7},{"v":0,"d":"€ 0.00"},{"v":0,"d":"€ 0.00"}]
[null,717,{"$nulls":7},{"v":0,"d":"€ 0.00"},{"v":0,"d":"€ 0.00"}]
[null,718,{"$nulls":7},{"v":0,"d":"€ 0.00"},{"v":0,"d":"€ 0.00"}]
[null,719,{"$nulls":7},{"v":0,"d":"€ 0.00"},{"v":0,"d":"€ 0.00"}]
[null,720,{"$nulls":7},{"v":0,"d":"€ 0.00"},{"v":0,"d":"€ 0.00"}]
[null,721,{"$nulls":7},{"v":0,"d":"€ 0.00"},{"v":0,"d":"€ 0.00"}]
[null,722,{"$nulls":7},{"v":0,"d":"€ 0.00"},{"v":0,"d":"€ 0.00"}]
[null,723,{"$nulls":7},{"v":0,"d":"€ 0.00"},{"v":0,"d":"€ 0.00"}]
[null,724,{"$nulls":7},{"v":0,"d":"€ 0.00"},{"v":0,"d":"€ 0.00"}]
[null,725,{"$nulls":7},{"v":0,"d":"€ 0.00"},{"v":0,"d":"€ 0.00"}]
[null,726,{"$nulls":7},{"v":0,"d":"€ 0.00"},{"v":0,"d":"€ 0.00"}]
[null,727,{"$nulls":7},{"v":0,"d":"€ 0.00"},{"v":0,"d":"€ 0.00"}]
[null,728,{"$nulls":7},{"v":0,"d":"€ 0.00"},{"v":0,"d":"€ 0.00"}]
[null,729,{"$nulls":7},{"v":0,"d":"€ 0.00"},{"v":0,"d":"€ 0.00"}]
[null,730,{"$nulls":7},{"v":0,"d":"€ 0.00"},{"v":0,"d":"€ 0.00"}]
[null,731,{"$nulls":7},{"v":0,"d":"€ 0.00"},{"v":0,"d":"€ 0.00"}]
[null,732,{"$nulls":7},{"v":0,"d":"€ 0.00"},{"v":0,"d":"€ 0.00"}]
[null,733,{"$nulls":7},{"v":0,"d":"€ 0.00"},{"v":0,"d":"€ 0.00"}]
[null,734,{"$nulls":7},{"v":0,"d":"€ 0.00"},{"v":0,"d":"€ 0.00"}]
[null,735,{"$nulls":7},{"v":0,"d":"€ 0.00"},{"v":0,"d":"€ 0.00"}]
[null,736,{"$nulls":7},{"v":0,"d":"€ 0.00"},{"v":0,"d":"€ 0.00"}]
[null,737,{"$nulls":7},{"v":0,"d":"€ 0.00"},{"v":0,"d":"€ 0.00"}]
[null,738,{"$nulls":7},{"v":0,"d":"€ 0.00"},{"v":0,"d":"€ 0.00"}]
[null,739,{"$nulls":7},{"v":0,"d":"€ 0.00"},{"v":0,"d":"€ 0.00"}]
[null,740,{"$nulls":7},{"v":0,"d":"€ 0.00"},{"v":0,"d":"€ 0.00"}]
[null,741,{"$nulls":7},{"v":0,"d":"€ 0.00"},{"v":0,"d":"€ 0.00"}]
[null,742,{"$nulls":7},{"v":0,"d":"€ 0.00"},{"v":0,"d":"€ 0.00"}]
[null,743,{"$nulls":7},{"v":0,"d":"€ 0.00"},{"v":0,"d":"€ 0.00"}]
[null,744,{"$nulls":7},{"v":0,"d":"€ 0.00"},{"v":0,"d":"€ 0.00"}]
[null,745,{"$nulls":7},{"v":0,"d":"€ 0.00"},{"v":0,"d":"€ 0.00"}]
[null,746,{"$nulls":7},{"v":0,"d":"€ 0.00"},{"v":0,"d":"€ 0.00"}]
[null,747,{"$nulls":7},{"v":0,"d":"€ 0.00"},{"v":0,"d":"€ 0.00"}]
[null,748,{"$nulls":7},{"v":0,"d":"€ 0.00"},{"v":0,"d":"€ 0.00"}]
[null,749,{"$nulls":7},{"v":0,"d":"€ 0.00"},{"v":0,"d":"€ 0.00"}]
[null,750,{"$nulls":7},{"v":0,"d":"€ 0.00"},{"v":0,"d":"€ 0.00"}]
[null,751,{"$nulls":7},{"v":0,"d":"€ 0.00"},{"v":0,"d":"€ 0.00"}]
[null,752,{"$nulls":7},{"v":0,"d":"€ 0.00"},{"v":0,"d":"€ 0.00"}]
[null,753,{"$nulls":7},{"v":0,"d":"€ 0.00"},{"v":0,"d":"€ 0.00"}]
[null,754,{"$nulls":7},{"v":0,"d":"€ 0.00"},{"v":0,"d":"€ 0.00"}]
[null,755,{"$nulls":7},{"v":0,"d":"€ 0.00"},{"v":0,"d":"€ 0.00"}]
[null,756,{"$nulls":7},{"v":0,"d":"€ 0.00"},{"v":0,"d":"€ 0.00"}]
[null,757,{"$nulls":7},{"v":0,"d":"€ 0.00"},{"v":0,"d":"€ 0.00"}]
[null,758,{"$nulls":7},{"v":0,"d":"€ 0.00"},{"v":0,"d":"€ 0.00"}]
[null,759,{"$nulls":7},{"v":0,"d":"€ 0.00"},{"v":0,"d":"€ 0.00"}]
[null,760,{"$nulls":7},{"v":0,"d":"€ 0.00"},{"v":0,"d":"€ 0.00"}]
[null,761,{"$nulls":7},{"v":0,"d":"€ 0.00"},{"v":0,"d":"€ 0.00"}]
[null,762,{"$nulls":7},{"v":0,"d":"€ 0.00"},{"v":0,"d":"€ 0.00"}]
[null,763,{"$nulls":7},{"v":0,"d":"€ 0.00"},{"v":0,"d":"€ 0.00"}]
[null,764,{"$nulls":7},{"v":0,"d":"€ 0.00"},{"v":0,"d":"€ 0.00"}]
[null,765,{"$nulls":7},{"v":0,"d":"€ 0.00"},{"v":0,"d":"€ 0.00"}]
[null,766,{"$nulls":7},{"v":0,"d":"€ 0.00"},{"v":0,"d":"€ 0.00"}]
[null,767,{"$nulls":7},{"v":0,"d":"€ 0.00"},{"v":0,"d":"€ 0.00"}]
[null,768,{"$nulls":7},{"v":0,"d":"€ 0.00"},{"v":0,"d":"€ 0.00"}]
[null,769,{"$nulls":7},{"$f":"IF(OR(ISBLANK(H776)=TRUE,ISBLANK(I776)=TRUE),,ROUND(H776*I776,2))","v":{"v":0,"d":"€ 0.00"}},{"v":0,"d":"€ 0.00"}]
[null,770,{"$nulls":7},{"v":0,"d":"€ 0.00"},{"$f":"G777+J777","v":{"v":0,"d":"€ 0.00"}}]
[null,771,{"$nulls":7},{"v":0,"d":"€ 0.00"},{"v":0,"d":"€ 0.00"}]
[null,772,{"$nulls":7},{"v":0,"d":"€ 0.00"},{"v":0,"d":"€ 0.00"}]
[null,773,{"$nulls":7},{"v":0,"d":"€ 0.00"},{"v":0,"d":"€ 0.00"}]
[null,774,{"$nulls":7},{"v":0,"d":"€ 0.00"},{"v":0,"d":"€ 0.00"}]
[null,775,{"$nulls":7},{"v":0,"d":"€ 0.00"},{"v":0,"d":"€ 0.00"}]
[null,776,{"$nulls":7},{"v":0,"d":"€ 0.00"},{"v":0,"d":"€ 0.00"}]
[null,777,{"$nulls":7},{"v":0,"d":"€ 0.00"},{"v":0,"d":"€ 0.00"}]
[null,778,{"$nulls":7},{"v":0,"d":"€ 0.00"},{"v":0,"d":"€ 0.00"}]
[null,779,{"$nulls":7},{"v":0,"d":"€ 0.00"},{"v":0,"d":"€ 0.00"}]
[null,780,{"$nulls":7},{"v":0,"d":"€ 0.00"},{"v":0,"d":"€ 0.00"}]
[null,781,{"$nulls":7},{"v":0,"d":"€ 0.00"},{"v":0,"d":"€ 0.00"}]
[null,782,{"$nulls":7},{"v":0,"d":"€ 0.00"},{"v":0,"d":"€ 0.00"}]
[null,783,{"$nulls":7},{"v":0,"d":"€ 0.00"},{"v":0,"d":"€ 0.00"}]
[null,784,{"$nulls":7},{"v":0,"d":"€ 0.00"},{"v":0,"d":"€ 0.00"}]
[null,785,{"$nulls":7},{"v":0,"d":"€ 0.00"},{"v":0,"d":"€ 0.00"}]
[null,786,{"$nulls":7},{"v":0,"d":"€ 0.00"},{"v":0,"d":"€ 0.00"}]
[null,787,{"$nulls":7},{"v":0,"d":"€ 0.00"},{"v":0,"d":"€ 0.00"}]
[null,788,{"$nulls":7},{"v":0,"d":"€ 0.00"},{"v":0,"d":"€ 0.00"}]
[null,789,{"$nulls":7},{"v":0,"d":"€ 0.00"},{"v":0,"d":"€ 0.00"}]
[null,790,{"$nulls":7},{"v":0,"d":"€ 0.00"},{"v":0,"d":"€ 0.00"}]
[null,791,{"$nulls":7},{"v":0,"d":"€ 0.00"},{"v":0,"d":"€ 0.00"}]
[null,792,{"$nulls":7},{"v":0,"d":"€ 0.00"},{"v":0,"d":"€ 0.00"}]
[null,793,{"$nulls":7},{"v":0,"d":"€ 0.00"},{"v":0,"d":"€ 0.00"}]
[null,794,{"$nulls":7},{"v":0,"d":"€ 0.00"},{"v":0,"d":"€ 0.00"}]
[null,795,{"$nulls":7},{"v":0,"d":"€ 0.00"},{"v":0,"d":"€ 0.00"}]
[null,796,{"$nulls":7},{"v":0,"d":"€ 0.00"},{"v":0,"d":"€ 0.00"}]
[null,797,{"$nulls":7},{"v":0,"d":"€ 0.00"},{"v":0,"d":"€ 0.00"}]
[null,798,{"$nulls":7},{"v":0,"d":"€ 0.00"},{"v":0,"d":"€ 0.00"}]
[null,799,{"$nulls":7},{"v":0,"d":"€ 0.00"},{"v":0,"d":"€ 0.00"}]
[null,800,{"$nulls":7},{"v":0,"d":"€ 0.00"},{"v":0,"d":"€ 0.00"}]
[null,801,{"$nulls":7},{"v":0,"d":"€ 0.00"},{"v":0,"d":"€ 0.00"}]
[null,802,{"$nulls":7},{"v":0,"d":"€ 0.00"},{"v":0,"d":"€ 0.00"}]
[null,803,{"$nulls":7},{"v":0,"d":"€ 0.00"},{"v":0,"d":"€ 0.00"}]
[null,804,{"$nulls":7},{"v":0,"d":"€ 0.00"},{"v":0,"d":"€ 0.00"}]
[null,805,{"$nulls":7},{"v":0,"d":"€ 0.00"},{"v":0,"d":"€ 0.00"}]
[null,806,{"$nulls":7},{"v":0,"d":"€ 0.00"},{"v":0,"d":"€ 0.00"}]
[null,807,{"$nulls":7},{"v":0,"d":"€ 0.00"},{"v":0,"d":"€ 0.00"}]
[null,808,{"$nulls":7},{"v":0,"d":"€ 0.00"},{"v":0,"d":"€ 0.00"}]
[null,809,{"$nulls":7},{"v":0,"d":"€ 0.00"},{"v":0,"d":"€ 0.00"}]
[null,810,{"$nulls":7},{"v":0,"d":"€ 0.00"},{"v":0,"d":"€ 0.00"}]
[null,811,{"$nulls":7},{"v":0,"d":"€ 0.00"},{"v":0,"d":"€ 0.00"}]
[null,812,{"$nulls":7},{"v":0,"d":"€ 0.00"},{"v":0,"d":"€ 0.00"}]
[null,813,{"$nulls":7},{"v":0,"d":"€ 0.00"},{"v":0,"d":"€ 0.00"}]
[null,814,{"$nulls":7},{"v":0,"d":"€ 0.00"},{"v":0,"d":"€ 0.00"}]
[null,815,{"$nulls":7},{"v":0,"d":"€ 0.00"},{"v":0,"d":"€ 0.00"}]
[null,816,{"$nulls":7},{"v":0,"d":"€ 0.00"},{"v":0,"d":"€ 0.00"}]
[null,817,{"$nulls":7},{"v":0,"d":"€ 0.00"},{"v":0,"d":"€ 0.00"}]
[null,818,{"$nulls":7},{"v":0,"d":"€ 0.00"},{"v":0,"d":"€ 0.00"}]
[null,819,{"$nulls":7},{"v":0,"d":"€ 0.00"},{"v":0,"d":"€ 0.00"}]
[null,820,{"$nulls":7},{"v":0,"d":"€ 0.00"},{"v":0,"d":"€ 0.00"}]
[null,821,{"$nulls":7},{"v":0,"d":"€ 0.00"},{"v":0,"d":"€ 0.00"}]
[null,822,{"$nulls":7},{"v":0,"d":"€ 0.00"},{"v":0,"d":"€ 0.00"}]
[null,823,{"$nulls":7},{"v":0,"d":"€ 0.00"},{"v":0,"d":"€ 0.00"}]
[null,824,{"$nulls":7},{"v":0,"d":"€ 0.00"},{"v":0,"d":"€ 0.00"}]
[null,825,{"$nulls":7},{"v":0,"d":"€ 0.00"},{"v":0,"d":"€ 0.00"}]
[null,826,{"$nulls":7},{"v":0,"d":"€ 0.00"},{"v":0,"d":"€ 0.00"}]
[null,827,{"$nulls":7},{"v":0,"d":"€ 0.00"},{"v":0,"d":"€ 0.00"}]
[null,828,{"$nulls":7},{"v":0,"d":"€ 0.00"},{"v":0,"d":"€ 0.00"}]
[null,829,{"$nulls":7},{"v":0,"d":"€ 0.00"},{"v":0,"d":"€ 0.00"}]
[null,830,{"$nulls":7},{"v":0,"d":"€ 0.00"},{"v":0,"d":"€ 0.00"}]
[null,831,{"$nulls":7},{"v":0,"d":"€ 0.00"},{"v":0,"d":"€ 0.00"}]
[null,832,{"$nulls":7},{"v":0,"d":"€ 0.00"},{"v":0,"d":"€ 0.00"}]
[null,833,{"$nulls":7},{"$f":"IF(OR(ISBLANK(H840)=TRUE,ISBLANK(I840)=TRUE),,ROUND(H840*I840,2))","v":{"v":0,"d":"€ 0.00"}},{"v":0,"d":"€ 0.00"}]
[null,834,{"$nulls":7},{"v":0,"d":"€ 0.00"},{"$f":"G841+J841","v":{"v":0,"d":"€ 0.00"}}]
[null,835,{"$nulls":7},{"v":0,"d":"€ 0.00"},{"v":0,"d":"€ 0.00"}]
[null,836,{"$nulls":7},{"v":0,"d":"€ 0.00"},{"v":0,"d":"€ 0.00"}]
[null,837,{"$nulls":7},{"v":0,"d":"€ 0.00"},{"v":0,"d":"€ 0.00"}]
[null,838,{"$nulls":7},{"v":0,"d":"€ 0.00"},{"v":0,"d":"€ 0.00"}]
[null,839,{"$nulls":7},{"v":0,"d":"€ 0.00"},{"v":0,"d":"€ 0.00"}]
[null,840,{"$nulls":7},{"v":0,"d":"€ 0.00"},{"v":0,"d":"€ 0.00"}]
[null,841,{"$nulls":7},{"v":0,"d":"€ 0.00"},{"v":0,"d":"€ 0.00"}]
[null,842,{"$nulls":7},{"v":0,"d":"€ 0.00"},{"v":0,"d":"€ 0.00"}]
[null,843,{"$nulls":7},{"v":0,"d":"€ 0.00"},{"v":0,"d":"€ 0.00"}]
[null,844,{"$nulls":7},{"v":0,"d":"€ 0.00"},{"v":0,"d":"€ 0.00"}]
[null,845,{"$nulls":7},{"v":0,"d":"€ 0.00"},{"v":0,"d":"€ 0.00"}]
[null,846,{"$nulls":7},{"v":0,"d":"€ 0.00"},{"v":0,"d":"€ 0.00"}]
[null,847,{"$nulls":7},{"v":0,"d":"€ 0.00"},{"v":0,"d":"€ 0.00"}]
[null,848,{"$nulls":7},{"v":0,"d":"€ 0.00"},{"v":0,"d":"€ 0.00"}]
[null,849,{"$nulls":7},{"v":0,"d":"€ 0.00"},{"v":0,"d":"€ 0.00"}]
[null,850,{"$nulls":7},{"v":0,"d":"€ 0.00"},{"v":0,"d":"€ 0.00"}]
[null,851,{"$nulls":7},{"v":0,"d":"€ 0.00"},{"v":0,"d":"€ 0.00"}]
[null,852,{"$nulls":7},{"v":0,"d":"€ 0.00"},{"v":0,"d":"€ 0.00"}]
[null,853,{"$nulls":7},{"v":0,"d":"€ 0.00"},{"v":0,"d":"€ 0.00"}]
[null,854,{"$nulls":7},{"v":0,"d":"€ 0.00"},{"v":0,"d":"€ 0.00"}]
[null,855,{"$nulls":7},{"v":0,"d":"€ 0.00"},{"v":0,"d":"€ 0.00"}]
[null,856,{"$nulls":7},{"v":0,"d":"€ 0.00"},{"v":0,"d":"€ 0.00"}]
[null,857,{"$nulls":7},{"v":0,"d":"€ 0.00"},{"v":0,"d":"€ 0.00"}]
[null,858,{"$nulls":7},{"v":0,"d":"€ 0.00"},{"v":0,"d":"€ 0.00"}]
[null,859,{"$nulls":7},{"v":0,"d":"€ 0.00"},{"v":0,"d":"€ 0.00"}]
[null,860,{"$nulls":7},{"v":0,"d":"€ 0.00"},{"v":0,"d":"€ 0.00"}]
[null,861,{"$nulls":7},{"v":0,"d":"€ 0.00"},{"v":0,"d":"€ 0.00"}]
[null,862,{"$nulls":7},{"v":0,"d":"€ 0.00"},{"v":0,"d":"€ 0.00"}]
[null,863,{"$nulls":7},{"v":0,"d":"€ 0.00"},{"v":0,"d":"€ 0.00"}]
[null,864,{"$nulls":7},{"v":0,"d":"€ 0.00"},{"v":0,"d":"€ 0.00"}]
[null,865,{"$nulls":7},{"v":0,"d":"€ 0.00"},{"v":0,"d":"€ 0.00"}]
[null,866,{"$nulls":7},{"v":0,"d":"€ 0.00"},{"v":0,"d":"€ 0.00"}]
[null,867,{"$nulls":7},{"v":0,"d":"€ 0.00"},{"v":0,"d":"€ 0.00"}]
[null,868,{"$nulls":7},{"v":0,"d":"€ 0.00"},{"v":0,"d":"€ 0.00"}]
[null,869,{"$nulls":7},{"v":0,"d":"€ 0.00"},{"v":0,"d":"€ 0.00"}]
[null,870,{"$nulls":7},{"v":0,"d":"€ 0.00"},{"v":0,"d":"€ 0.00"}]
[null,871,{"$nulls":7},{"v":0,"d":"€ 0.00"},{"v":0,"d":"€ 0.00"}]
[null,872,{"$nulls":7},{"v":0,"d":"€ 0.00"},{"v":0,"d":"€ 0.00"}]
[null,873,{"$nulls":7},{"v":0,"d":"€ 0.00"},{"v":0,"d":"€ 0.00"}]
[null,874,{"$nulls":7},{"v":0,"d":"€ 0.00"},{"v":0,"d":"€ 0.00"}]
[null,875,{"$nulls":7},{"v":0,"d":"€ 0.00"},{"v":0,"d":"€ 0.00"}]
[null,876,{"$nulls":7},{"v":0,"d":"€ 0.00"},{"v":0,"d":"€ 0.00"}]
[null,877,{"$nulls":7},{"v":0,"d":"€ 0.00"},{"v":0,"d":"€ 0.00"}]
[null,878,{"$nulls":7},{"v":0,"d":"€ 0.00"},{"v":0,"d":"€ 0.00"}]
[null,879,{"$nulls":7},{"v":0,"d":"€ 0.00"},{"v":0,"d":"€ 0.00"}]
[null,880,{"$nulls":7},{"v":0,"d":"€ 0.00"},{"v":0,"d":"€ 0.00"}]
[null,881,{"$nulls":7},{"v":0,"d":"€ 0.00"},{"v":0,"d":"€ 0.00"}]
[null,882,{"$nulls":7},{"v":0,"d":"€ 0.00"},{"v":0,"d":"€ 0.00"}]
[null,883,{"$nulls":7},{"v":0,"d":"€ 0.00"},{"v":0,"d":"€ 0.00"}]
[null,884,{"$nulls":7},{"v":0,"d":"€ 0.00"},{"v":0,"d":"€ 0.00"}]
[null,885,{"$nulls":7},{"v":0,"d":"€ 0.00"},{"v":0,"d":"€ 0.00"}]
[null,886,{"$nulls":7},{"v":0,"d":"€ 0.00"},{"v":0,"d":"€ 0.00"}]
[null,887,{"$nulls":7},{"v":0,"d":"€ 0.00"},{"v":0,"d":"€ 0.00"}]
[null,888,{"$nulls":7},{"v":0,"d":"€ 0.00"},{"v":0,"d":"€ 0.00"}]
[null,889,{"$nulls":7},{"v":0,"d":"€ 0.00"},{"v":0,"d":"€ 0.00"}]
[null,890,{"$nulls":7},{"v":0,"d":"€ 0.00"},{"v":0,"d":"€ 0.00"}]
[null,891,{"$nulls":7},{"v":0,"d":"€ 0.00"},{"v":0,"d":"€ 0.00"}]
[null,892,{"$nulls":7},{"v":0,"d":"€ 0.00"},{"v":0,"d":"€ 0.00"}]
[null,893,{"$nulls":7},{"v":0,"d":"€ 0.00"},{"v":0,"d":"€ 0.00"}]
[null,894,{"$nulls":7},{"v":0,"d":"€ 0.00"},{"v":0,"d":"€ 0.00"}]
[null,895,{"$nulls":7},{"v":0,"d":"€ 0.00"},{"v":0,"d":"€ 0.00"}]
[null,896,{"$nulls":7},{"v":0,"d":"€ 0.00"},{"v":0,"d":"€ 0.00"}]
[null,897,{"$nulls":7},{"$f":"IF(OR(ISBLANK(H904)=TRUE,ISBLANK(I904)=TRUE),,ROUND(H904*I904,2))","v":{"v":0,"d":"€ 0.00"}},{"v":0,"d":"€ 0.00"}]
[null,898,{"$nulls":7},{"v":0,"d":"€ 0.00"},{"$f":"G905+J905","v":{"v":0,"d":"€ 0.00"}}]
[null,899,{"$nulls":7},{"v":0,"d":"€ 0.00"},{"v":0,"d":"€ 0.00"}]
[null,900,{"$nulls":7},{"v":0,"d":"€ 0.00"},{"v":0,"d":"€ 0.00"}]
[null,901,{"$nulls":7},{"v":0,"d":"€ 0.00"},{"v":0,"d":"€ 0.00"}]
[null,902,{"$nulls":7},{"v":0,"d":"€ 0.00"},{"v":0,"d":"€ 0.00"}]
[null,903,{"$nulls":7},{"v":0,"d":"€ 0.00"},{"v":0,"d":"€ 0.00"}]
[null,904,{"$nulls":7},{"v":0,"d":"€ 0.00"},{"v":0,"d":"€ 0.00"}]
[null,905,{"$nulls":7},{"v":0,"d":"€ 0.00"},{"v":0,"d":"€ 0.00"}]
[null,906,{"$nulls":7},{"v":0,"d":"€ 0.00"},{"v":0,"d":"€ 0.00"}]
[null,907,{"$nulls":7},{"v":0,"d":"€ 0.00"},{"v":0,"d":"€ 0.00"}]
[null,908,{"$nulls":7},{"v":0,"d":"€ 0.00"},{"v":0,"d":"€ 0.00"}]
[null,909,{"$nulls":7},{"v":0,"d":"€ 0.00"},{"v":0,"d":"€ 0.00"}]
[null,910,{"$nulls":7},{"v":0,"d":"€ 0.00"},{"v":0,"d":"€ 0.00"}]
[null,911,{"$nulls":7},{"v":0,"d":"€ 0.00"},{"v":0,"d":"€ 0.00"}]
[null,912,{"$nulls":7},{"v":0,"d":"€ 0.00"},{"v":0,"d":"€ 0.00"}]
[null,913,{"$nulls":7},{"v":0,"d":"€ 0.00"},{"v":0,"d":"€ 0.00"}]
[null,914,{"$nulls":7},{"v":0,"d":"€ 0.00"},{"v":0,"d":"€ 0.00"}]
[null,915,{"$nulls":7},{"$f":"IF(OR(ISBLANK(H922)=TRUE,ISBLANK(I922)=TRUE),,ROUND(H922*I922,2))","v":{"v":0,"d":"€ 0.00"}},{"$f":"G922+J922","v":{"v":0,"d":"€ 0.00"}}]
[null,916,{"$nulls":7},{"v":0,"d":"€ 0.00"},{"v":0,"d":"€ 0.00"}]
[null,917,{"$nulls":7},{"v":0,"d":"€ 0.00"},{"v":0,"d":"€ 0.00"}]
[null,918,{"$nulls":7},{"v":0,"d":"€ 0.00"},{"v":0,"d":"€ 0.00"}]
[null,919,{"$nulls":7},{"v":0,"d":"€ 0.00"},{"v":0,"d":"€ 0.00"}]
[null,920,{"$nulls":7},{"v":0,"d":"€ 0.00"},{"v":0,"d":"€ 0.00"}]
[null,921,{"$nulls":7},{"v":0,"d":"€ 0.00"},{"v":0,"d":"€ 0.00"}]
[null,922,{"$nulls":7},{"v":0,"d":"€ 0.00"},{"v":0,"d":"€ 0.00"}]
[null,923,{"$nulls":7},{"v":0,"d":"€ 0.00"},{"v":0,"d":"€ 0.00"}]
[null,924,{"$nulls":7},{"v":0,"d":"€ 0.00"},{"v":0,"d":"€ 0.00"}]
[null,925,{"$nulls":7},{"v":0,"d":"€ 0.00"},{"v":0,"d":"€ 0.00"}]
[null,926,{"$nulls":7},{"v":0,"d":"€ 0.00"},{"v":0,"d":"€ 0.00"}]
[null,927,{"$nulls":7},{"v":0,"d":"€ 0.00"},{"v":0,"d":"€ 0.00"}]
[null,928,{"$nulls":7},{"v":0,"d":"€ 0.00"},{"v":0,"d":"€ 0.00"}]
[null,929,{"$nulls":7},{"v":0,"d":"€ 0.00"},{"v":0,"d":"€ 0.00"}]
[null,930,{"$nulls":7},{"v":0,"d":"€ 0.00"},{"v":0,"d":"€ 0.00"}]
[null,931,{"$nulls":7},{"v":0,"d":"€ 0.00"},{"v":0,"d":"€ 0.00"}]
[null,932,{"$nulls":7},{"v":0,"d":"€ 0.00"},{"v":0,"d":"€ 0.00"}]
[null,933,{"$nulls":7},{"v":0,"d":"€ 0.00"},{"v":0,"d":"€ 0.00"}]
[null,934,{"$nulls":7},{"v":0,"d":"€ 0.00"},{"v":0,"d":"€ 0.00"}]
[null,935,{"$nulls":7},{"v":0,"d":"€ 0.00"},{"v":0,"d":"€ 0.00"}]
[null,936,{"$nulls":7},{"v":0,"d":"€ 0.00"},{"v":0,"d":"€ 0.00"}]
[null,937,{"$nulls":7},{"v":0,"d":"€ 0.00"},{"v":0,"d":"€ 0.00"}]
[null,938,{"$nulls":7},{"v":0,"d":"€ 0.00"},{"v":0,"d":"€ 0.00"}]
[null,939,{"$nulls":7},{"v":0,"d":"€ 0.00"},{"v":0,"d":"€ 0.00"}]
[null,940,{"$nulls":7},{"v":0,"d":"€ 0.00"},{"v":0,"d":"€ 0.00"}]
[null,941,{"$nulls":7},{"v":0,"d":"€ 0.00"},{"v":0,"d":"€ 0.00"}]
[null,942,{"$nulls":7},{"v":0,"d":"€ 0.00"},{"v":0,"d":"€ 0.00"}]
[null,943,{"$nulls":7},{"v":0,"d":"€ 0.00"},{"v":0,"d":"€ 0.00"}]
[null,944,{"$nulls":7},{"v":0,"d":"€ 0.00"},{"v":0,"d":"€ 0.00"}]
[null,945,{"$nulls":7},{"v":0,"d":"€ 0.00"},{"v":0,"d":"€ 0.00"}]
[null,946,{"$nulls":7},{"v":0,"d":"€ 0.00"},{"v":0,"d":"€ 0.00"}]
[null,947,{"$nulls":7},{"v":0,"d":"€ 0.00"},{"v":0,"d":"€ 0.00"}]
[null,948,{"$nulls":7},{"v":0,"d":"€ 0.00"},{"v":0,"d":"€ 0.00"}]
[null,949,{"$nulls":7},{"v":0,"d":"€ 0.00"},{"v":0,"d":"€ 0.00"}]
[null,950,{"$nulls":7},{"v":0,"d":"€ 0.00"},{"v":0,"d":"€ 0.00"}]
[null,951,{"$nulls":7},{"v":0,"d":"€ 0.00"},{"v":0,"d":"€ 0.00"}]
[null,952,{"$nulls":7},{"v":0,"d":"€ 0.00"},{"v":0,"d":"€ 0.00"}]
[null,953,{"$nulls":7},{"v":0,"d":"€ 0.00"},{"v":0,"d":"€ 0.00"}]
[null,954,{"$nulls":7},{"v":0,"d":"€ 0.00"},{"v":0,"d":"€ 0.00"}]
[null,955,{"$nulls":7},{"v":0,"d":"€ 0.00"},{"v":0,"d":"€ 0.00"}]
[null,956,{"$nulls":7},{"v":0,"d":"€ 0.00"},{"v":0,"d":"€ 0.00"}]
[null,957,{"$nulls":7},{"v":0,"d":"€ 0.00"},{"v":0,"d":"€ 0.00"}]
[null,958,{"$nulls":7},{"v":0,"d":"€ 0.00"},{"v":0,"d":"€ 0.00"}]
[null,959,{"$nulls":7},{"v":0,"d":"€ 0.00"},{"v":0,"d":"€ 0.00"}]
[null,960,{"$nulls":7},{"v":0,"d":"€ 0.00"},{"v":0,"d":"€ 0.00"}]
[null,961,{"$nulls":7},{"v":0,"d":"€ 0.00"},{"v":0,"d":"€ 0.00"}]
[null,962,{"$nulls":7},{"v":0,"d":"€ 0.00"},{"v":0,"d":"€ 0.00"}]
[null,963,{"$nulls":7},{"v":0,"d":"€ 0.00"},{"v":0,"d":"€ 0.00"}]
[null,964,{"$nulls":7},{"v":0,"d":"€ 0.00"},{"v":0,"d":"€ 0.00"}]
[null,965,{"$nulls":7},{"v":0,"d":"€ 0.00"},{"v":0,"d":"€ 0.00"}]
[null,966,{"$nulls":7},{"v":0,"d":"€ 0.00"},{"v":0,"d":"€ 0.00"}]
[null,967,{"$nulls":7},{"v":0,"d":"€ 0.00"},{"v":0,"d":"€ 0.00"}]
[null,968,{"$nulls":7},{"v":0,"d":"€ 0.00"},{"v":0,"d":"€ 0.00"}]
[null,969,{"$nulls":7},{"v":0,"d":"€ 0.00"},{"v":0,"d":"€ 0.00"}]
[null,970,{"$nulls":7},{"v":0,"d":"€ 0.00"},{"v":0,"d":"€ 0.00"}]
[null,971,{"$nulls":7},{"v":0,"d":"€ 0.00"},{"v":0,"d":"€ 0.00"}]
[null,972,{"$nulls":7},{"v":0,"d":"€ 0.00"},{"v":0,"d":"€ 0.00"}]
[null,973,{"$nulls":7},{"v":0,"d":"€ 0.00"},{"v":0,"d":"€ 0.00"}]
[null,974,{"$nulls":7},{"v":0,"d":"€ 0.00"},{"v":0,"d":"€ 0.00"}]
[null,975,{"$nulls":7},{"v":0,"d":"€ 0.00"},{"v":0,"d":"€ 0.00"}]
[null,976,{"$nulls":7},{"v":0,"d":"€ 0.00"},{"v":0,"d":"€ 0.00"}]
[null,977,{"$nulls":7},{"v":0,"d":"€ 0.00"},{"v":0,"d":"€ 0.00"}]
[null,978,{"$nulls":7},{"v":0,"d":"€ 0.00"},{"v":0,"d":"€ 0.00"}]
[null,979,{"$nulls":7},{"$f":"IF(OR(ISBLANK(H986)=TRUE,ISBLANK(I986)=TRUE),,ROUND(H986*I986,2))","v":{"v":0,"d":"€ 0.00"}},{"$f":"G986+J986","v":{"v":0,"d":"€ 0.00"}}]
[null,980,{"$nulls":7},{"v":0,"d":"€ 0.00"},{"v":0,"d":"€ 0.00"}]
[null,981,{"$nulls":7},{"v":0,"d":"€ 0.00"},{"v":0,"d":"€ 0.00"}]
[null,982,{"$nulls":7},{"v":0,"d":"€ 0.00"},{"v":0,"d":"€ 0.00"}]
[null,983,{"$nulls":7},{"v":0,"d":"€ 0.00"},{"v":0,"d":"€ 0.00"}]
[null,984,{"$nulls":7},{"v":0,"d":"€ 0.00"},{"v":0,"d":"€ 0.00"}]
[null,985,{"$nulls":7},{"v":0,"d":"€ 0.00"},{"v":0,"d":"€ 0.00"}]
[null,986,{"$nulls":7},{"v":0,"d":"€ 0.00"},{"v":0,"d":"€ 0.00"}]
[null,987,{"$nulls":7},{"v":0,"d":"€ 0.00"},{"v":0,"d":"€ 0.00"}]
[null,988,{"$nulls":7},{"v":0,"d":"€ 0.00"},{"v":0,"d":"€ 0.00"}]
[null,989,{"$nulls":7},{"v":0,"d":"€ 0.00"},{"v":0,"d":"€ 0.00"}]
[null,990,{"$nulls":7},{"v":0,"d":"€ 0.00"},{"v":0,"d":"€ 0.00"}]
[null,991,{"$nulls":7},{"v":0,"d":"€ 0.00"},{"v":0,"d":"€ 0.00"}]
[null,992,{"$nulls":7},{"v":0,"d":"€ 0.00"},{"v":0,"d":"€ 0.00"}]
[null,993,{"$nulls":7},{"v":0,"d":"€ 0.00"},{"v":0,"d":"€ 0.00"}]
[null,994,{"$nulls":7},{"v":0,"d":"€ 0.00"},{"v":0,"d":"€ 0.00"}]
[null,995,{"$nulls":7},{"v":0,"d":"€ 0.00"},{"v":0,"d":"€ 0.00"}]
[null,996,{"$nulls":7},{"v":0,"d":"€ 0.00"},{"v":0,"d":"€ 0.00"}]
[null,997,{"$nulls":7},{"v":0,"d":"€ 0.00"},{"v":0,"d":"€ 0.00"}]
[null,998,{"$nulls":7},{"v":0,"d":"€ 0.00"},{"v":0,"d":"€ 0.00"}]
[null,999,{"$nulls":7},{"v":0,"d":"€ 0.00"},{"v":0,"d":"€ 0.00"}]
[null,1000,{"$nulls":7},{"v":0,"d":"€ 0.00"},{"v":0,"d":"€ 0.00"}]
[null,1001,{"$nulls":7},{"v":0,"d":"€ 0.00"},{"v":0,"d":"€ 0.00"}]
[null,1002,{"$nulls":7},{"v":0,"d":"€ 0.00"},{"v":0,"d":"€ 0.00"}]
[null,1003,{"$nulls":7},{"v":0,"d":"€ 0.00"},{"v":0,"d":"€ 0.00"}]
[null,1004,{"$nulls":7},{"v":0,"d":"€ 0.00"},{"v":0,"d":"€ 0.00"}]
[null,1005,{"$nulls":7},{"v":0,"d":"€ 0.00"},{"v":0,"d":"€ 0.00"}]
[null,1006,{"$nulls":7},{"v":0,"d":"€ 0.00"},{"v":0,"d":"€ 0.00"}]
[null,1007,{"$nulls":7},{"v":0,"d":"€ 0.00"},{"v":0,"d":"€ 0.00"}]
[null,1008,{"$nulls":7},{"v":0,"d":"€ 0.00"},{"v":0,"d":"€ 0.00"}]
[null,1009,{"$nulls":7},{"v":0,"d":"€ 0.00"},{"v":0,"d":"€ 0.00"}]
[null,1010,{"$nulls":7},{"v":0,"d":"€ 0.00"},{"v":0,"d":"€ 0.00"}]
[null,1011,{"$nulls":7},{"v":0,"d":"€ 0.00"},{"v":0,"d":"€ 0.00"}]
[null,1012,{"$nulls":7},{"v":0,"d":"€ 0.00"},{"v":0,"d":"€ 0.00"}]
[null,1013,{"$nulls":7},{"v":0,"d":"€ 0.00"},{"v":0,"d":"€ 0.00"}]
[null,1014,{"$nulls":7},{"v":0,"d":"€ 0.00"},{"v":0,"d":"€ 0.00"}]
[null,1015,{"$nulls":7},{"v":0,"d":"€ 0.00"},{"v":0,"d":"€ 0.00"}]
[null,1016,{"$nulls":7},{"v":0,"d":"€ 0.00"},{"v":0,"d":"€ 0.00"}]
[null,1017,{"$nulls":7},{"v":0,"d":"€ 0.00"},{"v":0,"d":"€ 0.00"}]
[null,1018,{"$nulls":7},{"v":0,"d":"€ 0.00"},{"v":0,"d":"€ 0.00"}]
[null,1019,{"$nulls":7},{"v":0,"d":"€ 0.00"},{"v":0,"d":"€ 0.00"}]
[null,1020,{"$nulls":7},{"v":0,"d":"€ 0.00"},{"v":0,"d":"€ 0.00"}]
[null,1021,{"$nulls":7},{"v":0,"d":"€ 0.00"},{"v":0,"d":"€ 0.00"}]
[null,1022,{"$nulls":7},{"v":0,"d":"€ 0.00"},{"v":0,"d":"€ 0.00"}]
[null,1023,{"$nulls":7},{"v":0,"d":"€ 0.00"},{"v":0,"d":"€ 0.00"}]
[null,1024,{"$nulls":7},{"v":0,"d":"€ 0.00"},{"v":0,"d":"€ 0.00"}]
[null,1025,{"$nulls":7},{"v":0,"d":"€ 0.00"},{"v":0,"d":"€ 0.00"}]
[null,1026,{"$nulls":7},{"v":0,"d":"€ 0.00"},{"v":0,"d":"€ 0.00"}]
[null,1027,{"$nulls":7},{"v":0,"d":"€ 0.00"},{"v":0,"d":"€ 0.00"}]
[null,1028,{"$nulls":7},{"v":0,"d":"€ 0.00"},{"v":0,"d":"€ 0.00"}]
[null,1029,{"$nulls":7},{"v":0,"d":"€ 0.00"},{"v":0,"d":"€ 0.00"}]
[null,1030,{"$nulls":7},{"v":0,"d":"€ 0.00"},{"v":0,"d":"€ 0.00"}]
[null,1031,{"$nulls":7},{"v":0,"d":"€ 0.00"},{"v":0,"d":"€ 0.00"}]
[null,1032,{"$nulls":7},{"v":0,"d":"€ 0.00"},{"v":0,"d":"€ 0.00"}]
[null,1033,{"$nulls":7},{"v":0,"d":"€ 0.00"},{"v":0,"d":"€ 0.00"}]
[null,1034,{"$nulls":7},{"v":0,"d":"€ 0.00"},{"v":0,"d":"€ 0.00"}]
[null,1035,{"$nulls":7},{"v":0,"d":"€ 0.00"},{"v":0,"d":"€ 0.00"}]
[null,1036,{"$nulls":7},{"v":0,"d":"€ 0.00"},{"v":0,"d":"€ 0.00"}]
[null,1037,{"$nulls":7},{"v":0,"d":"€ 0.00"},{"v":0,"d":"€ 0.00"}]
[null,1038,{"$nulls":7},{"v":0,"d":"€ 0.00"},{"v":0,"d":"€ 0.00"}]
[null,1039,{"$nulls":7},{"v":0,"d":"€ 0.00"},{"v":0,"d":"€ 0.00"}]
[null,1040,{"$nulls":7},{"v":0,"d":"€ 0.00"},{"v":0,"d":"€ 0.00"}]
[null,1041,{"$nulls":7},{"v":0,"d":"€ 0.00"},{"v":0,"d":"€ 0.00"}]
[null,1042,{"$nulls":7},{"v":0,"d":"€ 0.00"},{"v":0,"d":"€ 0.00"}]
[null,1043,{"$nulls":7},{"$f":"IF(OR(ISBLANK(H1050)=TRUE,ISBLANK(I1050)=TRUE),,ROUND(H1050*I1050,2))","v":{"v":0,"d":"€ 0.00"}},{"$f":"G1050+J1050","v":{"v":0,"d":"€ 0.00"}}]
[null,1044,{"$nulls":7},{"v":0,"d":"€ 0.00"},{"v":0,"d":"€ 0.00"}]
[null,1045,{"$nulls":7},{"v":0,"d":"€ 0.00"},{"v":0,"d":"€ 0.00"}]
[null,1046,{"$nulls":7},{"v":0,"d":"€ 0.00"},{"v":0,"d":"€ 0.00"}]
[null,1047,{"$nulls":7},{"v":0,"d":"€ 0.00"},{"v":0,"d":"€ 0.00"}]
[null,1048,{"$nulls":7},{"v":0,"d":"€ 0.00"},{"v":0,"d":"€ 0.00"}]
[null,1049,{"$nulls":7},{"v":0,"d":"€ 0.00"},{"v":0,"d":"€ 0.00"}]
[null,1050,{"$nulls":7},{"v":0,"d":"€ 0.00"},{"v":0,"d":"€ 0.00"}]
[null,1051,{"$nulls":7},{"v":0,"d":"€ 0.00"},{"v":0,"d":"€ 0.00"}]
[null,1052,{"$nulls":7},{"v":0,"d":"€ 0.00"},{"v":0,"d":"€ 0.00"}]
[null,1053,{"$nulls":7},{"v":0,"d":"€ 0.00"},{"v":0,"d":"€ 0.00"}]
[null,1054,{"$nulls":7},{"v":0,"d":"€ 0.00"},{"v":0,"d":"€ 0.00"}]
[null,1055,{"$nulls":7},{"v":0,"d":"€ 0.00"},{"v":0,"d":"€ 0.00"}]
[null,1056,{"$nulls":7},{"v":0,"d":"€ 0.00"},{"v":0,"d":"€ 0.00"}]
[null,1057,{"$nulls":7},{"v":0,"d":"€ 0.00"},{"v":0,"d":"€ 0.00"}]
[null,1058,{"$nulls":7},{"v":0,"d":"€ 0.00"},{"v":0,"d":"€ 0.00"}]
[null,1059,{"$nulls":7},{"v":0,"d":"€ 0.00"},{"v":0,"d":"€ 0.00"}]
[null,1060,{"$nulls":7},{"v":0,"d":"€ 0.00"},{"v":0,"d":"€ 0.00"}]
[null,1061,{"$nulls":7},{"v":0,"d":"€ 0.00"},{"v":0,"d":"€ 0.00"}]
[null,1062,{"$nulls":7},{"v":0,"d":"€ 0.00"},{"v":0,"d":"€ 0.00"}]
[null,1063,{"$nulls":7},{"v":0,"d":"€ 0.00"},{"v":0,"d":"€ 0.00"}]
[null,1064,{"$nulls":7},{"v":0,"d":"€ 0.00"},{"v":0,"d":"€ 0.00"}]
[null,1065,{"$nulls":7},{"v":0,"d":"€ 0.00"},{"v":0,"d":"€ 0.00"}]
[null,1066,{"$nulls":7},{"v":0,"d":"€ 0.00"},{"v":0,"d":"€ 0.00"}]
[null,1067,{"$nulls":7},{"v":0,"d":"€ 0.00"},{"v":0,"d":"€ 0.00"}]
[null,1068,{"$nulls":7},{"v":0,"d":"€ 0.00"},{"v":0,"d":"€ 0.00"}]
[null,1069,{"$nulls":7},{"v":0,"d":"€ 0.00"},{"v":0,"d":"€ 0.00"}]
[null,1070,{"$nulls":7},{"v":0,"d":"€ 0.00"},{"v":0,"d":"€ 0.00"}]
[null,1071,{"$nulls":7},{"v":0,"d":"€ 0.00"},{"v":0,"d":"€ 0.00"}]
[null,1072,{"$nulls":7},{"v":0,"d":"€ 0.00"},{"v":0,"d":"€ 0.00"}]
[null,1073,{"$nulls":7},{"v":0,"d":"€ 0.00"},{"v":0,"d":"€ 0.00"}]
[null,1074,{"$nulls":7},{"v":0,"d":"€ 0.00"},{"v":0,"d":"€ 0.00"}]
[null,1075,{"$nulls":7},{"v":0,"d":"€ 0.00"},{"v":0,"d":"€ 0.00"}]
[null,1076,{"$nulls":7},{"v":0,"d":"€ 0.00"},{"v":0,"d":"€ 0.00"}]
[null,1077,{"$nulls":7},{"v":0,"d":"€ 0.00"},{"v":0,"d":"€ 0.00"}]
[null,1078,{"$nulls":7},{"v":0,"d":"€ 0.00"},{"v":0,"d":"€ 0.00"}]
[null,1079,{"$nulls":7},{"v":0,"d":"€ 0.00"},{"v":0,"d":"€ 0.00"}]
[null,1080,{"$nulls":7},{"v":0,"d":"€ 0.00"},{"v":0,"d":"€ 0.00"}]
[null,1081,{"$nulls":7},{"v":0,"d":"€ 0.00"},{"v":0,"d":"€ 0.00"}]
[null,1082,{"$nulls":7},{"v":0,"d":"€ 0.00"},{"v":0,"d":"€ 0.00"}]
[null,1083,{"$nulls":7},{"v":0,"d":"€ 0.00"},{"v":0,"d":"€ 0.00"}]
[null,1084,{"$nulls":7},{"v":0,"d":"€ 0.00"},{"v":0,"d":"€ 0.00"}]
[null,1085,{"$nulls":7},{"v":0,"d":"€ 0.00"},{"v":0,"d":"€ 0.00"}]
[null,1086,{"$nulls":7},{"v":0,"d":"€ 0.00"},{"v":0,"d":"€ 0.00"}]
[null,1087,{"$nulls":7},{"v":0,"d":"€ 0.00"},{"v":0,"d":"€ 0.00"}]
[null,1088,{"$nulls":7},{"v":0,"d":"€ 0.00"},{"v":0,"d":"€ 0.00"}]
[null,1089,{"$nulls":7},{"v":0,"d":"€ 0.00"},{"v":0,"d":"€ 0.00"}]
[null,1090,{"$nulls":7},{"v":0,"d":"€ 0.00"},{"v":0,"d":"€ 0.00"}]
[null,1091,{"$nulls":7},{"v":0,"d":"€ 0.00"},{"v":0,"d":"€ 0.00"}]
[null,1092,{"$nulls":7},{"v":0,"d":"€ 0.00"},{"v":0,"d":"€ 0.00"}]
[null,1093,{"$nulls":7},{"v":0,"d":"€ 0.00"},{"v":0,"d":"€ 0.00"}]
[null,1094,{"$nulls":7},{"v":0,"d":"€ 0.00"},{"v":0,"d":"€ 0.00"}]
[null,1095,{"$nulls":7},{"v":0,"d":"€ 0.00"},{"v":0,"d":"€ 0.00"}]
[null,1096,{"$nulls":7},{"v":0,"d":"€ 0.00"},{"v":0,"d":"€ 0.00"}]
[null,1097,{"$nulls":7},{"v":0,"d":"€ 0.00"},{"v":0,"d":"€ 0.00"}]
[null,1098,{"$nulls":7},{"v":0,"d":"€ 0.00"},{"v":0,"d":"€ 0.00"}]
[null,1099,{"$nulls":7},{"v":0,"d":"€ 0.00"},{"v":0,"d":"€ 0.00"}]
[null,1100,{"$nulls":7},{"v":0,"d":"€ 0.00"},{"v":0,"d":"€ 0.00"}]
[null,1101,{"$nulls":7},{"v":0,"d":"€ 0.00"},{"v":0,"d":"€ 0.00"}]
[null,1102,{"$nulls":7},{"v":0,"d":"€ 0.00"},{"v":0,"d":"€ 0.00"}]
[null,1103,{"$nulls":7},{"v":0,"d":"€ 0.00"},{"v":0,"d":"€ 0.00"}]
[null,1104,{"$nulls":7},{"v":0,"d":"€ 0.00"},{"v":0,"d":"€ 0.00"}]
[null,1105,{"$nulls":7},{"v":0,"d":"€ 0.00"},{"v":0,"d":"€ 0.00"}]
[null,1106,{"$nulls":7},{"v":0,"d":"€ 0.00"},{"v":0,"d":"€ 0.00"}]
[null,1107,{"$nulls":7},{"$f":"IF(OR(ISBLANK(H1114)=TRUE,ISBLANK(I1114)=TRUE),,ROUND(H1114*I1114,2))","v":{"v":0,"d":"€ 0.00"}},{"$f":"G1114+J1114","v":{"v":0,"d":"€ 0.00"}}]
[null,1108,{"$nulls":7},{"v":0,"d":"€ 0.00"},{"v":0,"d":"€ 0.00"}]
[null,1109,{"$nulls":7},{"v":0,"d":"€ 0.00"},{"v":0,"d":"€ 0.00"}]
[null,1110,{"$nulls":7},{"v":0,"d":"€ 0.00"},{"v":0,"d":"€ 0.00"}]
[null,1111,{"$nulls":7},{"v":0,"d":"€ 0.00"},{"v":0,"d":"€ 0.00"}]
[null,1112,{"$nulls":7},{"v":0,"d":"€ 0.00"},{"v":0,"d":"€ 0.00"}]
[null,1113,{"$nulls":7},{"v":0,"d":"€ 0.00"},{"v":0,"d":"€ 0.00"}]
[null,1114,{"$nulls":7},{"v":0,"d":"€ 0.00"},{"v":0,"d":"€ 0.00"}]
[null,1115,{"$nulls":7},{"v":0,"d":"€ 0.00"},{"v":0,"d":"€ 0.00"}]
[null,1116,{"$nulls":7},{"v":0,"d":"€ 0.00"},{"v":0,"d":"€ 0.00"}]
[null,1117,{"$nulls":7},{"v":0,"d":"€ 0.00"},{"v":0,"d":"€ 0.00"}]
[null,1118,{"$nulls":7},{"v":0,"d":"€ 0.00"},{"v":0,"d":"€ 0.00"}]
[null,1119,{"$nulls":7},{"v":0,"d":"€ 0.00"},{"v":0,"d":"€ 0.00"}]
[null,1120,{"$nulls":7},{"v":0,"d":"€ 0.00"},{"v":0,"d":"€ 0.00"}]
[null,1121,{"$nulls":7},{"v":0,"d":"€ 0.00"},{"v":0,"d":"€ 0.00"}]
[null,1122,{"$nulls":7},{"v":0,"d":"€ 0.00"},{"v":0,"d":"€ 0.00"}]
[null,1123,{"$nulls":7},{"v":0,"d":"€ 0.00"},{"v":0,"d":"€ 0.00"}]
[null,1124,{"$nulls":7},{"v":0,"d":"€ 0.00"},{"v":0,"d":"€ 0.00"}]
[null,1125,{"$nulls":7},{"v":0,"d":"€ 0.00"},{"v":0,"d":"€ 0.00"}]
[null,1126,{"$nulls":7},{"v":0,"d":"€ 0.00"},{"v":0,"d":"€ 0.00"}]
[null,1127,{"$nulls":7},{"v":0,"d":"€ 0.00"},{"v":0,"d":"€ 0.00"}]
[null,1128,{"$nulls":7},{"v":0,"d":"€ 0.00"},{"v":0,"d":"€ 0.00"}]
[null,1129,{"$nulls":7},{"v":0,"d":"€ 0.00"},{"v":0,"d":"€ 0.00"}]
[null,1130,{"$nulls":7},{"v":0,"d":"€ 0.00"},{"v":0,"d":"€ 0.00"}]
[null,1131,{"$nulls":7},{"v":0,"d":"€ 0.00"},{"v":0,"d":"€ 0.00"}]
[null,1132,{"$nulls":7},{"v":0,"d":"€ 0.00"},{"v":0,"d":"€ 0.00"}]
[null,1133,{"$nulls":7},{"v":0,"d":"€ 0.00"},{"v":0,"d":"€ 0.00"}]
[null,1134,{"$nulls":7},{"v":0,"d":"€ 0.00"},{"v":0,"d":"€ 0.00"}]
[null,1135,{"$nulls":7},{"v":0,"d":"€ 0.00"},{"v":0,"d":"€ 0.00"}]
[null,1136,{"$nulls":7},{"v":0,"d":"€ 0.00"},{"v":0,"d":"€ 0.00"}]
[null,1137,{"$nulls":7},{"v":0,"d":"€ 0.00"},{"v":0,"d":"€ 0.00"}]
[null,1138,{"$nulls":7},{"v":0,"d":"€ 0.00"},{"v":0,"d":"€ 0.00"}]
[null,1139,{"$nulls":7},{"v":0,"d":"€ 0.00"},{"v":0,"d":"€ 0.00"}]
[null,1140,{"$nulls":7},{"v":0,"d":"€ 0.00"},{"v":0,"d":"€ 0.00"}]
[null,1141,{"$nulls":7},{"v":0,"d":"€ 0.00"},{"v":0,"d":"€ 0.00"}]
[null,1142,{"$nulls":7},{"v":0,"d":"€ 0.00"},{"v":0,"d":"€ 0.00"}]
[null,1143,{"$nulls":7},{"v":0,"d":"€ 0.00"},{"v":0,"d":"€ 0.00"}]
[null,1144,{"$nulls":7},{"v":0,"d":"€ 0.00"},{"v":0,"d":"€ 0.00"}]
[null,1145,{"$nulls":7},{"v":0,"d":"€ 0.00"},{"v":0,"d":"€ 0.00"}]
[null,1146,{"$nulls":7},{"v":0,"d":"€ 0.00"},{"v":0,"d":"€ 0.00"}]
[null,1147,{"$nulls":7},{"v":0,"d":"€ 0.00"},{"v":0,"d":"€ 0.00"}]
[null,1148,{"$nulls":7},{"v":0,"d":"€ 0.00"},{"v":0,"d":"€ 0.00"}]
[null,1149,{"$nulls":7},{"v":0,"d":"€ 0.00"},{"v":0,"d":"€ 0.00"}]
[null,1150,{"$nulls":7},{"v":0,"d":"€ 0.00"},{"v":0,"d":"€ 0.00"}]
[null,1151,{"$nulls":7},{"v":0,"d":"€ 0.00"},{"v":0,"d":"€ 0.00"}]
[null,1152,{"$nulls":7},{"v":0,"d":"€ 0.00"},{"v":0,"d":"€ 0.00"}]
[null,1153,{"$nulls":7},{"v":0,"d":"€ 0.00"},{"v":0,"d":"€ 0.00"}]
[null,1154,{"$nulls":7},{"v":0,"d":"€ 0.00"},{"v":0,"d":"€ 0.00"}]
[null,1155,{"$nulls":7},{"v":0,"d":"€ 0.00"},{"v":0,"d":"€ 0.00"}]
[null,1156,{"$nulls":7},{"v":0,"d":"€ 0.00"},{"v":0,"d":"€ 0.00"}]
[null,1157,{"$nulls":7},{"v":0,"d":"€ 0.00"},{"v":0,"d":"€ 0.00"}]
[null,1158,{"$nulls":7},{"v":0,"d":"€ 0.00"},{"v":0,"d":"€ 0.00"}]
[null,1159,{"$nulls":7},{"v":0,"d":"€ 0.00"},{"v":0,"d":"€ 0.00"}]
[null,1160,{"$nulls":7},{"v":0,"d":"€ 0.00"},{"v":0,"d":"€ 0.00"}]
[null,1161,{"$nulls":7},{"v":0,"d":"€ 0.00"},{"v":0,"d":"€ 0.00"}]
[null,1162,{"$nulls":7},{"v":0,"d":"€ 0.00"},{"v":0,"d":"€ 0.00"}]
[null,1163,{"$nulls":7},{"v":0,"d":"€ 0.00"},{"v":0,"d":"€ 0.00"}]
[null,1164,{"$nulls":7},{"v":0,"d":"€ 0.00"},{"v":0,"d":"€ 0.00"}]
[null,1165,{"$nulls":7},{"v":0,"d":"€ 0.00"},{"v":0,"d":"€ 0.00"}]
[null,1166,{"$nulls":7},{"v":0,"d":"€ 0.00"},{"v":0,"d":"€ 0.00"}]
[null,1167,{"$nulls":7},{"v":0,"d":"€ 0.00"},{"v":0,"d":"€ 0.00"}]
[null,1168,{"$nulls":7},{"v":0,"d":"€ 0.00"},{"v":0,"d":"€ 0.00"}]
[null,1169,{"$nulls":7},{"v":0,"d":"€ 0.00"},{"v":0,"d":"€ 0.00"}]
[null,1170,{"$nulls":7},{"v":0,"d":"€ 0.00"},{"v":0,"d":"€ 0.00"}]
[null,1171,{"$nulls":7},{"$f":"IF(OR(ISBLANK(H1178)=TRUE,ISBLANK(I1178)=TRUE),,ROUND(H1178*I1178,2))","v":{"v":0,"d":"€ 0.00"}},{"$f":"G1178+J1178","v":{"v":0,"d":"€ 0.00"}}]
[null,1172,{"$nulls":7},{"v":0,"d":"€ 0.00"},{"v":0,"d":"€ 0.00"}]
[null,1173,{"$nulls":7},{"v":0,"d":"€ 0.00"},{"v":0,"d":"€ 0.00"}]
[null,1174,{"$nulls":7},{"v":0,"d":"€ 0.00"},{"v":0,"d":"€ 0.00"}]
[null,1175,{"$nulls":7},{"v":0,"d":"€ 0.00"},{"v":0,"d":"€ 0.00"}]
[null,1176,{"$nulls":7},{"v":0,"d":"€ 0.00"},{"v":0,"d":"€ 0.00"}]
[null,1177,{"$nulls":7},{"v":0,"d":"€ 0.00"},{"v":0,"d":"€ 0.00"}]
[null,1178,{"$nulls":7},{"v":0,"d":"€ 0.00"},{"v":0,"d":"€ 0.00"}]
[null,1179,{"$nulls":7},{"v":0,"d":"€ 0.00"},{"v":0,"d":"€ 0.00"}]
[null,1180,{"$nulls":7},{"v":0,"d":"€ 0.00"},{"v":0,"d":"€ 0.00"}]
[null,1181,{"$nulls":7},{"v":0,"d":"€ 0.00"},{"v":0,"d":"€ 0.00"}]
[null,1182,{"$nulls":7},{"v":0,"d":"€ 0.00"},{"v":0,"d":"€ 0.00"}]
[null,1183,{"$nulls":7},{"v":0,"d":"€ 0.00"},{"v":0,"d":"€ 0.00"}]
[null,1184,{"$nulls":7},{"v":0,"d":"€ 0.00"},{"v":0,"d":"€ 0.00"}]
[null,1185,{"$nulls":7},{"v":0,"d":"€ 0.00"},{"v":0,"d":"€ 0.00"}]
[null,1186,{"$nulls":7},{"v":0,"d":"€ 0.00"},{"v":0,"d":"€ 0.00"}]
[null,1187,{"$nulls":7},{"v":0,"d":"€ 0.00"},{"v":0,"d":"€ 0.00"}]
[null,1188,{"$nulls":7},{"v":0,"d":"€ 0.00"},{"v":0,"d":"€ 0.00"}]
[null,1189,{"$nulls":7},{"v":0,"d":"€ 0.00"},{"v":0,"d":"€ 0.00"}]
[null,1190,{"$nulls":7},{"v":0,"d":"€ 0.00"},{"v":0,"d":"€ 0.00"}]
[null,1191,{"$nulls":7},{"v":0,"d":"€ 0.00"},{"v":0,"d":"€ 0.00"}]
[null,1192,{"$nulls":7},{"v":0,"d":"€ 0.00"},{"v":0,"d":"€ 0.00"}]
[null,1193,{"$nulls":7},{"v":0,"d":"€ 0.00"},{"v":0,"d":"€ 0.00"}]
[null,1194,{"$nulls":7},{"v":0,"d":"€ 0.00"},{"v":0,"d":"€ 0.00"}]
[null,1195,{"$nulls":7},{"v":0,"d":"€ 0.00"},{"v":0,"d":"€ 0.00"}]
[null,1196,{"$nulls":7},{"v":0,"d":"€ 0.00"},{"v":0,"d":"€ 0.00"}]
[null,1197,{"$nulls":7},{"v":0,"d":"€ 0.00"},{"v":0,"d":"€ 0.00"}]
[null,1198,{"$nulls":7},{"v":0,"d":"€ 0.00"},{"v":0,"d":"€ 0.00"}]
[null,1199,{"$nulls":7},{"v":0,"d":"€ 0.00"},{"v":0,"d":"€ 0.00"}]
[null,1200,{"$nulls":7},{"v":0,"d":"€ 0.00"},{"v":0,"d":"€ 0.00"}]
[null,1201,{"$nulls":7},{"v":0,"d":"€ 0.00"},{"v":0,"d":"€ 0.00"}]
[null,1202,{"$nulls":7},{"v":0,"d":"€ 0.00"},{"v":0,"d":"€ 0.00"}]
[null,1203,{"$nulls":7},{"v":0,"d":"€ 0.00"},{"v":0,"d":"€ 0.00"}]
[null,1204,{"$nulls":7},{"v":0,"d":"€ 0.00"},{"v":0,"d":"€ 0.00"}]
[null,1205,{"$nulls":7},{"v":0,"d":"€ 0.00"},{"v":0,"d":"€ 0.00"}]
[null,1206,{"$nulls":7},{"v":0,"d":"€ 0.00"},{"v":0,"d":"€ 0.00"}]
[null,1207,{"$nulls":7},{"v":0,"d":"€ 0.00"},{"v":0,"d":"€ 0.00"}]
[null,1208,{"$nulls":7},{"v":0,"d":"€ 0.00"},{"v":0,"d":"€ 0.00"}]
[null,1209,{"$nulls":7},{"v":0,"d":"€ 0.00"},{"v":0,"d":"€ 0.00"}]
[null,1210,{"$nulls":7},{"v":0,"d":"€ 0.00"},{"v":0,"d":"€ 0.00"}]
[null,1211,{"$nulls":7},{"v":0,"d":"€ 0.00"},{"v":0,"d":"€ 0.00"}]
[null,1212,{"$nulls":7},{"v":0,"d":"€ 0.00"},{"v":0,"d":"€ 0.00"}]
[null,1213,{"$nulls":7},{"v":0,"d":"€ 0.00"},{"v":0,"d":"€ 0.00"}]
[null,1214,{"$nulls":7},{"v":0,"d":"€ 0.00"},{"v":0,"d":"€ 0.00"}]
[null,1215,{"$nulls":7},{"v":0,"d":"€ 0.00"},{"v":0,"d":"€ 0.00"}]
[null,1216,{"$nulls":7},{"v":0,"d":"€ 0.00"},{"v":0,"d":"€ 0.00"}]
[null,1217,{"$nulls":7},{"v":0,"d":"€ 0.00"},{"v":0,"d":"€ 0.00"}]
[null,1218,{"$nulls":7},{"v":0,"d":"€ 0.00"},{"v":0,"d":"€ 0.00"}]
[null,1219,{"$nulls":7},{"v":0,"d":"€ 0.00"},{"v":0,"d":"€ 0.00"}]
[null,1220,{"$nulls":7},{"v":0,"d":"€ 0.00"},{"v":0,"d":"€ 0.00"}]
[null,1221,{"$nulls":7},{"v":0,"d":"€ 0.00"},{"v":0,"d":"€ 0.00"}]
[null,1222,{"$nulls":7},{"v":0,"d":"€ 0.00"},{"v":0,"d":"€ 0.00"}]
[null,1223,{"$nulls":7},{"v":0,"d":"€ 0.00"},{"v":0,"d":"€ 0.00"}]
[null,1224,{"$nulls":7},{"v":0,"d":"€ 0.00"},{"v":0,"d":"€ 0.00"}]
[null,1225,{"$nulls":7},{"v":0,"d":"€ 0.00"},{"v":0,"d":"€ 0.00"}]
[null,1226,{"$nulls":7},{"v":0,"d":"€ 0.00"},{"v":0,"d":"€ 0.00"}]
[null,1227,{"$nulls":7},{"v":0,"d":"€ 0.00"},{"v":0,"d":"€ 0.00"}]
[null,1228,{"$nulls":7},{"v":0,"d":"€ 0.00"},{"v":0,"d":"€ 0.00"}]
[null,1229,{"$nulls":7},{"v":0,"d":"€ 0.00"},{"v":0,"d":"€ 0.00"}]
[null,1230,{"$nulls":7},{"v":0,"d":"€ 0.00"},{"v":0,"d":"€ 0.00"}]
[null,1231,{"$nulls":7},{"v":0,"d":"€ 0.00"},{"v":0,"d":"€ 0.00"}]
[null,1232,{"$nulls":7},{"v":0,"d":"€ 0.00"},{"v":0,"d":"€ 0.00"}]
[null,1233,{"$nulls":7},{"v":0,"d":"€ 0.00"},{"v":0,"d":"€ 0.00"}]
[null,1234,{"$nulls":7},{"v":0,"d":"€ 0.00"},{"v":0,"d":"€ 0.00"}]
[null,1235,{"$nulls":7},{"$f":"IF(OR(ISBLANK(H1242)=TRUE,ISBLANK(I1242)=TRUE),,ROUND(H1242*I1242,2))","v":{"v":0,"d":"€ 0.00"}},{"$f":"G1242+J1242","v":{"v":0,"d":"€ 0.00"}}]
[null,1236,{"$nulls":7},{"v":0,"d":"€ 0.00"},{"v":0,"d":"€ 0.00"}]
[null,1237,{"$nulls":7},{"v":0,"d":"€ 0.00"},{"v":0,"d":"€ 0.00"}]
[null,1238,{"$nulls":7},{"v":0,"d":"€ 0.00"},{"v":0,"d":"€ 0.00"}]
[null,1239,{"$nulls":7},{"v":0,"d":"€ 0.00"},{"v":0,"d":"€ 0.00"}]
[null,1240,{"$nulls":7},{"v":0,"d":"€ 0.00"},{"v":0,"d":"€ 0.00"}]
[null,1241,{"$nulls":7},{"v":0,"d":"€ 0.00"},{"v":0,"d":"€ 0.00"}]
[null,1242,{"$nulls":7},{"v":0,"d":"€ 0.00"},{"v":0,"d":"€ 0.00"}]
[null,1243,{"$nulls":7},{"v":0,"d":"€ 0.00"},{"v":0,"d":"€ 0.00"}]
[null,1244,{"$nulls":7},{"v":0,"d":"€ 0.00"},{"v":0,"d":"€ 0.00"}]
[null,1245,{"$nulls":7},{"v":0,"d":"€ 0.00"},{"v":0,"d":"€ 0.00"}]
[null,1246,{"$nulls":7},{"v":0,"d":"€ 0.00"},{"v":0,"d":"€ 0.00"}]
[null,1247,{"$nulls":7},{"v":0,"d":"€ 0.00"},{"v":0,"d":"€ 0.00"}]
[null,1248,{"$nulls":7},{"v":0,"d":"€ 0.00"},{"v":0,"d":"€ 0.00"}]
[null,1249,{"$nulls":7},{"v":0,"d":"€ 0.00"},{"v":0,"d":"€ 0.00"}]
[null,1250,{"$nulls":7},{"v":0,"d":"€ 0.00"},{"v":0,"d":"€ 0.00"}]
[null,1251,{"$nulls":7},{"v":0,"d":"€ 0.00"},{"v":0,"d":"€ 0.00"}]
[null,1252,{"$nulls":7},{"v":0,"d":"€ 0.00"},{"v":0,"d":"€ 0.00"}]
[null,1253,{"$nulls":7},{"v":0,"d":"€ 0.00"},{"v":0,"d":"€ 0.00"}]
[null,1254,{"$nulls":7},{"v":0,"d":"€ 0.00"},{"v":0,"d":"€ 0.00"}]
[null,1255,{"$nulls":7},{"v":0,"d":"€ 0.00"},{"v":0,"d":"€ 0.00"}]
[null,1256,{"$nulls":7},{"v":0,"d":"€ 0.00"},{"v":0,"d":"€ 0.00"}]
[null,1257,{"$nulls":7},{"v":0,"d":"€ 0.00"},{"v":0,"d":"€ 0.00"}]
[null,1258,{"$nulls":7},{"v":0,"d":"€ 0.00"},{"v":0,"d":"€ 0.00"}]
[null,1259,{"$nulls":7},{"v":0,"d":"€ 0.00"},{"v":0,"d":"€ 0.00"}]
[null,1260,{"$nulls":7},{"v":0,"d":"€ 0.00"},{"v":0,"d":"€ 0.00"}]
[null,1261,{"$nulls":7},{"v":0,"d":"€ 0.00"},{"v":0,"d":"€ 0.00"}]
[null,1262,{"$nulls":7},{"v":0,"d":"€ 0.00"},{"v":0,"d":"€ 0.00"}]
[null,1263,{"$nulls":7},{"v":0,"d":"€ 0.00"},{"v":0,"d":"€ 0.00"}]
[null,1264,{"$nulls":7},{"v":0,"d":"€ 0.00"},{"v":0,"d":"€ 0.00"}]
[null,1265,{"$nulls":7},{"v":0,"d":"€ 0.00"},{"v":0,"d":"€ 0.00"}]
[null,1266,{"$nulls":7},{"v":0,"d":"€ 0.00"},{"v":0,"d":"€ 0.00"}]
[null,1267,{"$nulls":7},{"v":0,"d":"€ 0.00"},{"v":0,"d":"€ 0.00"}]
[null,1268,{"$nulls":7},{"v":0,"d":"€ 0.00"},{"v":0,"d":"€ 0.00"}]
[null,1269,{"$nulls":7},{"v":0,"d":"€ 0.00"},{"v":0,"d":"€ 0.00"}]
[null,1270,{"$nulls":7},{"v":0,"d":"€ 0.00"},{"v":0,"d":"€ 0.00"}]
[null,1271,{"$nulls":7},{"v":0,"d":"€ 0.00"},{"v":0,"d":"€ 0.00"}]
[null,1272,{"$nulls":7},{"v":0,"d":"€ 0.00"},{"v":0,"d":"€ 0.00"}]
[null,1273,{"$nulls":7},{"v":0,"d":"€ 0.00"},{"v":0,"d":"€ 0.00"}]
[null,1274,{"$nulls":7},{"v":0,"d":"€ 0.00"},{"v":0,"d":"€ 0.00"}]
[null,1275,{"$nulls":7},{"v":0,"d":"€ 0.00"},{"v":0,"d":"€ 0.00"}]
[null,1276,{"$nulls":7},{"v":0,"d":"€ 0.00"},{"v":0,"d":"€ 0.00"}]
[null,1277,{"$nulls":7},{"v":0,"d":"€ 0.00"},{"v":0,"d":"€ 0.00"}]
[null,1278,{"$nulls":7},{"v":0,"d":"€ 0.00"},{"v":0,"d":"€ 0.00"}]
[null,1279,{"$nulls":7},{"v":0,"d":"€ 0.00"},{"v":0,"d":"€ 0.00"}]
[null,1280,{"$nulls":7},{"v":0,"d":"€ 0.00"},{"v":0,"d":"€ 0.00"}]
[null,1281,{"$nulls":7},{"v":0,"d":"€ 0.00"},{"v":0,"d":"€ 0.00"}]
[null,1282,{"$nulls":7},{"v":0,"d":"€ 0.00"},{"v":0,"d":"€ 0.00"}]
[null,1283,{"$nulls":7},{"v":0,"d":"€ 0.00"},{"v":0,"d":"€ 0.00"}]
[null,1284,{"$nulls":7},{"v":0,"d":"€ 0.00"},{"v":0,"d":"€ 0.00"}]
[null,1285,{"$nulls":7},{"v":0,"d":"€ 0.00"},{"v":0,"d":"€ 0.00"}]
[null,1286,{"$nulls":7},{"v":0,"d":"€ 0.00"},{"v":0,"d":"€ 0.00"}]
[null,1287,{"$nulls":7},{"v":0,"d":"€ 0.00"},{"v":0,"d":"€ 0.00"}]
[null,1288,{"$nulls":7},{"v":0,"d":"€ 0.00"},{"v":0,"d":"€ 0.00"}]
[null,1289,{"$nulls":7},{"v":0,"d":"€ 0.00"},{"v":0,"d":"€ 0.00"}]
[null,1290,{"$nulls":7},{"v":0,"d":"€ 0.00"},{"v":0,"d":"€ 0.00"}]
[null,1291,{"$nulls":7},{"v":0,"d":"€ 0.00"},{"v":0,"d":"€ 0.00"}]
[null,1292,{"$nulls":7},{"v":0,"d":"€ 0.00"},{"v":0,"d":"€ 0.00"}]
[null,1293,{"$nulls":7},{"v":0,"d":"€ 0.00"},{"v":0,"d":"€ 0.00"}]
[null,1294,{"$nulls":7},{"v":0,"d":"€ 0.00"},{"v":0,"d":"€ 0.00"}]
[null,1295,{"$nulls":7},{"v":0,"d":"€ 0.00"},{"v":0,"d":"€ 0.00"}]
[null,1296,{"$nulls":7},{"v":0,"d":"€ 0.00"},{"v":0,"d":"€ 0.00"}]
[null,1297,{"$nulls":7},{"v":0,"d":"€ 0.00"},{"v":0,"d":"€ 0.00"}]
[null,1298,{"$nulls":7},{"v":0,"d":"€ 0.00"},{"v":0,"d":"€ 0.00"}]
[null,1299,{"$nulls":7},{"$f":"IF(OR(ISBLANK(H1306)=TRUE,ISBLANK(I1306)=TRUE),,ROUND(H1306*I1306,2))","v":{"v":0,"d":"€ 0.00"}},{"$f":"G1306+J1306","v":{"v":0,"d":"€ 0.00"}}]
[null,1300,{"$nulls":7},{"v":0,"d":"€ 0.00"},{"v":0,"d":"€ 0.00"}]
[null,1301,{"$nulls":7},{"v":0,"d":"€ 0.00"},{"v":0,"d":"€ 0.00"}]
[null,1302,{"$nulls":7},{"v":0,"d":"€ 0.00"},{"v":0,"d":"€ 0.00"}]
[null,1303,{"$nulls":7},{"v":0,"d":"€ 0.00"},{"v":0,"d":"€ 0.00"}]
[null,1304,{"$nulls":7},{"v":0,"d":"€ 0.00"},{"v":0,"d":"€ 0.00"}]
[null,1305,{"$nulls":7},{"v":0,"d":"€ 0.00"},{"v":0,"d":"€ 0.00"}]
[null,1306,{"$nulls":7},{"v":0,"d":"€ 0.00"},{"v":0,"d":"€ 0.00"}]
[null,1307,{"$nulls":7},{"v":0,"d":"€ 0.00"},{"v":0,"d":"€ 0.00"}]
[null,1308,{"$nulls":7},{"v":0,"d":"€ 0.00"},{"v":0,"d":"€ 0.00"}]
[null,1309,{"$nulls":7},{"v":0,"d":"€ 0.00"},{"v":0,"d":"€ 0.00"}]
[null,1310,{"$nulls":7},{"v":0,"d":"€ 0.00"},{"v":0,"d":"€ 0.00"}]
[null,1311,{"$nulls":7},{"v":0,"d":"€ 0.00"},{"v":0,"d":"€ 0.00"}]
[null,1312,{"$nulls":7},{"v":0,"d":"€ 0.00"},{"v":0,"d":"€ 0.00"}]
[null,1313,{"$nulls":7},{"v":0,"d":"€ 0.00"},{"v":0,"d":"€ 0.00"}]
[null,1314,{"$nulls":7},{"v":0,"d":"€ 0.00"},{"v":0,"d":"€ 0.00"}]
[null,1315,{"$nulls":7},{"v":0,"d":"€ 0.00"},{"v":0,"d":"€ 0.00"}]
[null,1316,{"$nulls":7},{"v":0,"d":"€ 0.00"},{"v":0,"d":"€ 0.00"}]
[null,1317,{"$nulls":7},{"v":0,"d":"€ 0.00"},{"v":0,"d":"€ 0.00"}]
[null,1318,{"$nulls":7},{"v":0,"d":"€ 0.00"},{"v":0,"d":"€ 0.00"}]
[null,1319,{"$nulls":7},{"v":0,"d":"€ 0.00"},{"v":0,"d":"€ 0.00"}]
[null,1320,{"$nulls":7},{"v":0,"d":"€ 0.00"},{"v":0,"d":"€ 0.00"}]
[null,1321,{"$nulls":7},{"v":0,"d":"€ 0.00"},{"v":0,"d":"€ 0.00"}]
[null,1322,{"$nulls":7},{"v":0,"d":"€ 0.00"},{"v":0,"d":"€ 0.00"}]
[null,1323,{"$nulls":7},{"v":0,"d":"€ 0.00"},{"v":0,"d":"€ 0.00"}]
[null,1324,{"$nulls":7},{"v":0,"d":"€ 0.00"},{"v":0,"d":"€ 0.00"}]
[null,1325,{"$nulls":7},{"v":0,"d":"€ 0.00"},{"v":0,"d":"€ 0.00"}]
[null,1326,{"$nulls":7},{"v":0,"d":"€ 0.00"},{"v":0,"d":"€ 0.00"}]
[null,1327,{"$nulls":7},{"v":0,"d":"€ 0.00"},{"v":0,"d":"€ 0.00"}]
[null,1328,{"$nulls":7},{"v":0,"d":"€ 0.00"},{"v":0,"d":"€ 0.00"}]
[null,1329,{"$nulls":7},{"v":0,"d":"€ 0.00"},{"v":0,"d":"€ 0.00"}]
[null,1330,{"$nulls":7},{"v":0,"d":"€ 0.00"},{"v":0,"d":"€ 0.00"}]
[null,1331,{"$nulls":7},{"v":0,"d":"€ 0.00"},{"v":0,"d":"€ 0.00"}]
[null,1332,{"$nulls":7},{"v":0,"d":"€ 0.00"},{"v":0,"d":"€ 0.00"}]
[null,1333,{"$nulls":7},{"v":0,"d":"€ 0.00"},{"v":0,"d":"€ 0.00"}]
[null,1334,{"$nulls":7},{"v":0,"d":"€ 0.00"},{"v":0,"d":"€ 0.00"}]
[null,1335,{"$nulls":7},{"v":0,"d":"€ 0.00"},{"v":0,"d":"€ 0.00"}]
[null,1336,{"$nulls":7},{"v":0,"d":"€ 0.00"},{"v":0,"d":"€ 0.00"}]
[null,1337,{"$nulls":7},{"v":0,"d":"€ 0.00"},{"v":0,"d":"€ 0.00"}]
[null,1338,{"$nulls":7},{"v":0,"d":"€ 0.00"},{"v":0,"d":"€ 0.00"}]
[null,1339,{"$nulls":7},{"v":0,"d":"€ 0.00"},{"v":0,"d":"€ 0.00"}]
[null,1340,{"$nulls":7},{"v":0,"d":"€ 0.00"},{"v":0,"d":"€ 0.00"}]
[null,1341,{"$nulls":7},{"v":0,"d":"€ 0.00"},{"v":0,"d":"€ 0.00"}]
[null,1342,{"$nulls":7},{"v":0,"d":"€ 0.00"},{"v":0,"d":"€ 0.00"}]
[null,1343,{"$nulls":7},{"v":0,"d":"€ 0.00"},{"v":0,"d":"€ 0.00"}]
[null,1344,{"$nulls":7},{"v":0,"d":"€ 0.00"},{"v":0,"d":"€ 0.00"}]
[null,1345,{"$nulls":7},{"v":0,"d":"€ 0.00"},{"v":0,"d":"€ 0.00"}]
[null,1346,{"$nulls":7},{"v":0,"d":"€ 0.00"},{"v":0,"d":"€ 0.00"}]
[null,1347,{"$nulls":7},{"v":0,"d":"€ 0.00"},{"v":0,"d":"€ 0.00"}]
[null,1348,{"$nulls":7},{"v":0,"d":"€ 0.00"},{"v":0,"d":"€ 0.00"}]
[null,1349,{"$nulls":7},{"v":0,"d":"€ 0.00"},{"v":0,"d":"€ 0.00"}]
[null,1350,{"$nulls":7},{"v":0,"d":"€ 0.00"},{"v":0,"d":"€ 0.00"}]
[null,1351,{"$nulls":7},{"v":0,"d":"€ 0.00"},{"v":0,"d":"€ 0.00"}]
[null,1352,{"$nulls":7},{"v":0,"d":"€ 0.00"},{"v":0,"d":"€ 0.00"}]
[null,1353,{"$nulls":7},{"v":0,"d":"€ 0.00"},{"v":0,"d":"€ 0.00"}]
[null,1354,{"$nulls":7},{"v":0,"d":"€ 0.00"},{"v":0,"d":"€ 0.00"}]
[null,1355,{"$nulls":7},{"v":0,"d":"€ 0.00"},{"v":0,"d":"€ 0.00"}]
[null,1356,{"$nulls":7},{"v":0,"d":"€ 0.00"},{"v":0,"d":"€ 0.00"}]
[null,1357,{"$nulls":7},{"v":0,"d":"€ 0.00"},{"v":0,"d":"€ 0.00"}]
[null,1358,{"$nulls":7},{"v":0,"d":"€ 0.00"},{"v":0,"d":"€ 0.00"}]
[null,1359,{"$nulls":7},{"v":0,"d":"€ 0.00"},{"v":0,"d":"€ 0.00"}]
[null,1360,{"$nulls":7},{"v":0,"d":"€ 0.00"},{"v":0,"d":"€ 0.00"}]
[null,1361,{"$nulls":7},{"v":0,"d":"€ 0.00"},{"v":0,"d":"€ 0.00"}]
[null,1362,{"$nulls":7},{"v":0,"d":"€ 0.00"},{"v":0,"d":"€ 0.00"}]
[null,1363,{"$nulls":7},{"$f":"IF(OR(ISBLANK(H1370)=TRUE,ISBLANK(I1370)=TRUE),,ROUND(H1370*I1370,2))","v":{"v":0,"d":"€ 0.00"}},{"$f":"G1370+J1370","v":{"v":0,"d":"€ 0.00"}}]
[null,1364,{"$nulls":7},{"v":0,"d":"€ 0.00"},{"v":0,"d":"€ 0.00"}]
[null,1365,{"$nulls":7},{"v":0,"d":"€ 0.00"},{"v":0,"d":"€ 0.00"}]
[null,1366,{"$nulls":7},{"v":0,"d":"€ 0.00"},{"v":0,"d":"€ 0.00"}]
[null,1367,{"$nulls":7},{"v":0,"d":"€ 0.00"},{"v":0,"d":"€ 0.00"}]
[null,1368,{"$nulls":7},{"v":0,"d":"€ 0.00"},{"v":0,"d":"€ 0.00"}]
[null,1369,{"$nulls":7},{"v":0,"d":"€ 0.00"},{"v":0,"d":"€ 0.00"}]
[null,1370,{"$nulls":7},{"v":0,"d":"€ 0.00"},{"v":0,"d":"€ 0.00"}]
[null,1371,{"$nulls":7},{"v":0,"d":"€ 0.00"},{"v":0,"d":"€ 0.00"}]
[null,1372,{"$nulls":7},{"v":0,"d":"€ 0.00"},{"v":0,"d":"€ 0.00"}]
[null,1373,{"$nulls":7},{"v":0,"d":"€ 0.00"},{"v":0,"d":"€ 0.00"}]
[null,1374,{"$nulls":7},{"v":0,"d":"€ 0.00"},{"v":0,"d":"€ 0.00"}]
[null,1375,{"$nulls":7},{"v":0,"d":"€ 0.00"},{"v":0,"d":"€ 0.00"}]
[null,1376,{"$nulls":7},{"v":0,"d":"€ 0.00"},{"v":0,"d":"€ 0.00"}]
[null,1377,{"$nulls":7},{"v":0,"d":"€ 0.00"},{"v":0,"d":"€ 0.00"}]
[null,1378,{"$nulls":7},{"v":0,"d":"€ 0.00"},{"v":0,"d":"€ 0.00"}]
[null,1379,{"$nulls":7},{"v":0,"d":"€ 0.00"},{"v":0,"d":"€ 0.00"}]
[null,1380,{"$nulls":7},{"v":0,"d":"€ 0.00"},{"v":0,"d":"€ 0.00"}]
[null,1381,{"$nulls":7},{"v":0,"d":"€ 0.00"},{"v":0,"d":"€ 0.00"}]
[null,1382,{"$nulls":7},{"v":0,"d":"€ 0.00"},{"v":0,"d":"€ 0.00"}]
[null,1383,{"$nulls":7},{"v":0,"d":"€ 0.00"},{"v":0,"d":"€ 0.00"}]
[null,1384,{"$nulls":7},{"v":0,"d":"€ 0.00"},{"v":0,"d":"€ 0.00"}]
[null,1385,{"$nulls":7},{"v":0,"d":"€ 0.00"},{"v":0,"d":"€ 0.00"}]
[null,1386,{"$nulls":7},{"v":0,"d":"€ 0.00"},{"v":0,"d":"€ 0.00"}]
[null,1387,{"$nulls":7},{"v":0,"d":"€ 0.00"},{"v":0,"d":"€ 0.00"}]
[null,1388,{"$nulls":7},{"v":0,"d":"€ 0.00"},{"v":0,"d":"€ 0.00"}]
[null,1389,{"$nulls":7},{"v":0,"d":"€ 0.00"},{"v":0,"d":"€ 0.00"}]
[null,1390,{"$nulls":7},{"v":0,"d":"€ 0.00"},{"v":0,"d":"€ 0.00"}]
[null,1391,{"$nulls":7},{"v":0,"d":"€ 0.00"},{"v":0,"d":"€ 0.00"}]
[null,1392,{"$nulls":7},{"v":0,"d":"€ 0.00"},{"v":0,"d":"€ 0.00"}]
[null,1393,{"$nulls":7},{"v":0,"d":"€ 0.00"},{"v":0,"d":"€ 0.00"}]
[null,1394,{"$nulls":7},{"v":0,"d":"€ 0.00"},{"v":0,"d":"€ 0.00"}]
[null,1395,{"$nulls":7},{"v":0,"d":"€ 0.00"},{"v":0,"d":"€ 0.00"}]
[null,1396,{"$nulls":7},{"v":0,"d":"€ 0.00"},{"v":0,"d":"€ 0.00"}]
[null,1397,{"$nulls":7},{"v":0,"d":"€ 0.00"},{"v":0,"d":"€ 0.00"}]
[null,1398,{"$nulls":7},{"v":0,"d":"€ 0.00"},{"v":0,"d":"€ 0.00"}]
[null,1399,{"$nulls":7},{"v":0,"d":"€ 0.00"},{"v":0,"d":"€ 0.00"}]
[null,1400,{"$nulls":7},{"v":0,"d":"€ 0.00"},{"v":0,"d":"€ 0.00"}]
[null,1401,{"$nulls":7},{"v":0,"d":"€ 0.00"},{"v":0,"d":"€ 0.00"}]
[null,1402,{"$nulls":7},{"v":0,"d":"€ 0.00"},{"v":0,"d":"€ 0.00"}]
[null,1403,{"$nulls":7},{"v":0,"d":"€ 0.00"},{"v":0,"d":"€ 0.00"}]
[null,1404,{"$nulls":7},{"v":0,"d":"€ 0.00"},{"v":0,"d":"€ 0.00"}]
[null,1405,{"$nulls":7},{"v":0,"d":"€ 0.00"},{"v":0,"d":"€ 0.00"}]
[null,1406,{"$nulls":7},{"v":0,"d":"€ 0.00"},{"v":0,"d":"€ 0.00"}]
[null,1407,{"$nulls":7},{"v":0,"d":"€ 0.00"},{"v":0,"d":"€ 0.00"}]
[null,1408,{"$nulls":7},{"v":0,"d":"€ 0.00"},{"v":0,"d":"€ 0.00"}]
[null,1409,{"$nulls":7},{"v":0,"d":"€ 0.00"},{"v":0,"d":"€ 0.00"}]
[null,1410,{"$nulls":7},{"v":0,"d":"€ 0.00"},{"v":0,"d":"€ 0.00"}]
[null,1411,{"$nulls":7},{"v":0,"d":"€ 0.00"},{"v":0,"d":"€ 0.00"}]
[null,1412,{"$nulls":7},{"v":0,"d":"€ 0.00"},{"v":0,"d":"€ 0.00"}]
[null,1413,{"$nulls":7},{"v":0,"d":"€ 0.00"},{"v":0,"d":"€ 0.00"}]
[null,1414,{"$nulls":7},{"v":0,"d":"€ 0.00"},{"v":0,"d":"€ 0.00"}]
[null,1415,{"$nulls":7},{"v":0,"d":"€ 0.00"},{"v":0,"d":"€ 0.00"}]
[null,1416,{"$nulls":7},{"v":0,"d":"€ 0.00"},{"v":0,"d":"€ 0.00"}]
[null,1417,{"$nulls":7},{"v":0,"d":"€ 0.00"},{"v":0,"d":"€ 0.00"}]
[null,1418,{"$nulls":7},{"v":0,"d":"€ 0.00"},{"v":0,"d":"€ 0.00"}]
[null,1419,{"$nulls":7},{"v":0,"d":"€ 0.00"},{"v":0,"d":"€ 0.00"}]
[null,1420,{"$nulls":7},{"v":0,"d":"€ 0.00"},{"v":0,"d":"€ 0.00"}]
[null,1421,{"$nulls":7},{"v":0,"d":"€ 0.00"},{"v":0,"d":"€ 0.00"}]
[null,1422,{"$nulls":7},{"v":0,"d":"€ 0.00"},{"v":0,"d":"€ 0.00"}]
[null,1423,{"$nulls":7},{"v":0,"d":"€ 0.00"},{"v":0,"d":"€ 0.00"}]
[null,1424,{"$nulls":7},{"v":0,"d":"€ 0.00"},{"v":0,"d":"€ 0.00"}]
[null,1425,{"$nulls":7},{"v":0,"d":"€ 0.00"},{"v":0,"d":"€ 0.00"}]
[null,1426,{"$nulls":7},{"v":0,"d":"€ 0.00"},{"v":0,"d":"€ 0.00"}]
[null,1427,{"$nulls":7},{"$f":"IF(OR(ISBLANK(H1434)=TRUE,ISBLANK(I1434)=TRUE),,ROUND(H1434*I1434,2))","v":{"v":0,"d":"€ 0.00"}},{"$f":"G1434+J1434","v":{"v":0,"d":"€ 0.00"}}]
[null,1428,{"$nulls":7},{"v":0,"d":"€ 0.00"},{"v":0,"d":"€ 0.00"}]
[null,1429,{"$nulls":7},{"v":0,"d":"€ 0.00"},{"v":0,"d":"€ 0.00"}]
[null,1430,{"$nulls":7},{"v":0,"d":"€ 0.00"},{"v":0,"d":"€ 0.00"}]
[null,1431,{"$nulls":7},{"v":0,"d":"€ 0.00"},{"v":0,"d":"€ 0.00"}]
[null,1432,{"$nulls":7},{"v":0,"d":"€ 0.00"},{"v":0,"d":"€ 0.00"}]
[null,1433,{"$nulls":7},{"v":0,"d":"€ 0.00"},{"v":0,"d":"€ 0.00"}]
[null,1434,{"$nulls":7},{"v":0,"d":"€ 0.00"},{"v":0,"d":"€ 0.00"}]
[null,1435,{"$nulls":7},{"v":0,"d":"€ 0.00"},{"v":0,"d":"€ 0.00"}]
[null,1436,{"$nulls":7},{"v":0,"d":"€ 0.00"},{"v":0,"d":"€ 0.00"}]
[null,1437,{"$nulls":7},{"v":0,"d":"€ 0.00"},{"v":0,"d":"€ 0.00"}]
[null,1438,{"$nulls":7},{"v":0,"d":"€ 0.00"},{"v":0,"d":"€ 0.00"}]
[null,1439,{"$nulls":7},{"v":0,"d":"€ 0.00"},{"v":0,"d":"€ 0.00"}]
[null,1440,{"$nulls":7},{"v":0,"d":"€ 0.00"},{"v":0,"d":"€ 0.00"}]
[null,1441,{"$nulls":7},{"v":0,"d":"€ 0.00"},{"v":0,"d":"€ 0.00"}]
[null,1442,{"$nulls":7},{"v":0,"d":"€ 0.00"},{"v":0,"d":"€ 0.00"}]
[null,1443,{"$nulls":7},{"v":0,"d":"€ 0.00"},{"v":0,"d":"€ 0.00"}]
[null,1444,{"$nulls":7},{"v":0,"d":"€ 0.00"},{"v":0,"d":"€ 0.00"}]
[null,1445,{"$nulls":7},{"v":0,"d":"€ 0.00"},{"v":0,"d":"€ 0.00"}]
[null,1446,{"$nulls":7},{"v":0,"d":"€ 0.00"},{"v":0,"d":"€ 0.00"}]
[null,1447,{"$nulls":7},{"v":0,"d":"€ 0.00"},{"v":0,"d":"€ 0.00"}]
[null,1448,{"$nulls":7},{"v":0,"d":"€ 0.00"},{"v":0,"d":"€ 0.00"}]
[null,1449,{"$nulls":7},{"v":0,"d":"€ 0.00"},{"v":0,"d":"€ 0.00"}]
[null,1450,{"$nulls":7},{"v":0,"d":"€ 0.00"},{"v":0,"d":"€ 0.00"}]
[null,1451,{"$nulls":7},{"v":0,"d":"€ 0.00"},{"v":0,"d":"€ 0.00"}]
[null,1452,{"$nulls":7},{"v":0,"d":"€ 0.00"},{"v":0,"d":"€ 0.00"}]
[null,1453,{"$nulls":7},{"v":0,"d":"€ 0.00"},{"v":0,"d":"€ 0.00"}]
[null,1454,{"$nulls":7},{"v":0,"d":"€ 0.00"},{"v":0,"d":"€ 0.00"}]
[null,1455,{"$nulls":7},{"v":0,"d":"€ 0.00"},{"v":0,"d":"€ 0.00"}]
[null,1456,{"$nulls":7},{"v":0,"d":"€ 0.00"},{"v":0,"d":"€ 0.00"}]
[null,1457,{"$nulls":7},{"v":0,"d":"€ 0.00"},{"v":0,"d":"€ 0.00"}]
[null,1458,{"$nulls":7},{"v":0,"d":"€ 0.00"},{"v":0,"d":"€ 0.00"}]
[null,1459,{"$nulls":7},{"v":0,"d":"€ 0.00"},{"v":0,"d":"€ 0.00"}]
[null,1460,{"$nulls":7},{"v":0,"d":"€ 0.00"},{"v":0,"d":"€ 0.00"}]
[null,1461,{"$nulls":7},{"v":0,"d":"€ 0.00"},{"v":0,"d":"€ 0.00"}]
[null,1462,{"$nulls":7},{"v":0,"d":"€ 0.00"},{"v":0,"d":"€ 0.00"}]
[null,1463,{"$nulls":7},{"v":0,"d":"€ 0.00"},{"v":0,"d":"€ 0.00"}]
[null,1464,{"$nulls":7},{"v":0,"d":"€ 0.00"},{"v":0,"d":"€ 0.00"}]
[null,1465,{"$nulls":7},{"v":0,"d":"€ 0.00"},{"v":0,"d":"€ 0.00"}]
[null,1466,{"$nulls":7},{"v":0,"d":"€ 0.00"},{"v":0,"d":"€ 0.00"}]
[null,1467,{"$nulls":7},{"v":0,"d":"€ 0.00"},{"v":0,"d":"€ 0.00"}]
[null,1468,{"$nulls":7},{"v":0,"d":"€ 0.00"},{"v":0,"d":"€ 0.00"}]
[null,1469,{"$nulls":7},{"v":0,"d":"€ 0.00"},{"v":0,"d":"€ 0.00"}]
[null,1470,{"$nulls":7},{"v":0,"d":"€ 0.00"},{"v":0,"d":"€ 0.00"}]
[null,1471,{"$nulls":7},{"v":0,"d":"€ 0.00"},{"v":0,"d":"€ 0.00"}]
[null,1472,{"$nulls":7},{"v":0,"d":"€ 0.00"},{"v":0,"d":"€ 0.00"}]
[null,1473,{"$nulls":7},{"v":0,"d":"€ 0.00"},{"v":0,"d":"€ 0.00"}]
[null,1474,{"$nulls":7},{"v":0,"d":"€ 0.00"},{"v":0,"d":"€ 0.00"}]
[null,1475,{"$nulls":7},{"v":0,"d":"€ 0.00"},{"v":0,"d":"€ 0.00"}]
[null,1476,{"$nulls":7},{"v":0,"d":"€ 0.00"},{"v":0,"d":"€ 0.00"}]
[null,1477,{"$nulls":7},{"v":0,"d":"€ 0.00"},{"v":0,"d":"€ 0.00"}]
[null,1478,{"$nulls":7},{"v":0,"d":"€ 0.00"},{"v":0,"d":"€ 0.00"}]
[null,1479,{"$nulls":7},{"v":0,"d":"€ 0.00"},{"v":0,"d":"€ 0.00"}]
[null,1480,{"$nulls":7},{"v":0,"d":"€ 0.00"},{"v":0,"d":"€ 0.00"}]
[null,1481,{"$nulls":7},{"v":0,"d":"€ 0.00"},{"v":0,"d":"€ 0.00"}]
[null,1482,{"$nulls":7},{"v":0,"d":"€ 0.00"},{"v":0,"d":"€ 0.00"}]
[null,1483,{"$nulls":7},{"v":0,"d":"€ 0.00"},{"v":0,"d":"€ 0.00"}]
[null,1484,{"$nulls":7},{"v":0,"d":"€ 0.00"},{"v":0,"d":"€ 0.00"}]
[null,1485,{"$nulls":7},{"v":0,"d":"€ 0.00"},{"v":0,"d":"€ 0.00"}]
[null,1486,{"$nulls":7},{"v":0,"d":"€ 0.00"},{"v":0,"d":"€ 0.00"}]
[null,1487,{"$nulls":7},{"v":0,"d":"€ 0.00"},{"v":0,"d":"€ 0.00"}]
[null,1488,{"$nulls":7},{"v":0,"d":"€ 0.00"},{"v":0,"d":"€ 0.00"}]
[null,1489,{"$nulls":7},{"v":0,"d":"€ 0.00"},{"v":0,"d":"€ 0.00"}]
[null,1490,{"$nulls":7},{"v":0,"d":"€ 0.00"},{"v":0,"d":"€ 0.00"}]
[null,1491,{"$nulls":7},{"$f":"IF(OR(ISBLANK(H1498)=TRUE,ISBLANK(I1498)=TRUE),,ROUND(H1498*I1498,2))","v":{"v":0,"d":"€ 0.00"}},{"$f":"G1498+J1498","v":{"v":0,"d":"€ 0.00"}}]
[null,1492,{"$nulls":7},{"v":0,"d":"€ 0.00"},{"v":0,"d":"€ 0.00"}]
[null,1493,{"$nulls":7},{"v":0,"d":"€ 0.00"},{"v":0,"d":"€ 0.00"}]
[null,1494,{"$nulls":7},{"v":0,"d":"€ 0.00"},{"v":0,"d":"€ 0.00"}]
[null,1495,{"$nulls":7},{"v":0,"d":"€ 0.00"},{"v":0,"d":"€ 0.00"}]
[null,1496,{"$nulls":7},{"v":0,"d":"€ 0.00"},{"v":0,"d":"€ 0.00"}]
[null,1497,{"$nulls":7},{"v":0,"d":"€ 0.00"},{"v":0,"d":"€ 0.00"}]
[null,1498,{"$nulls":7},{"v":0,"d":"€ 0.00"},{"v":0,"d":"€ 0.00"}]
[null,1499,{"$nulls":7},{"v":0,"d":"€ 0.00"},{"v":0,"d":"€ 0.00"}]
[null,1500,{"$nulls":7},{"v":0,"d":"€ 0.00"},{"v":0,"d":"€ 0.00"}]
[null,1501,{"$nulls":7},{"v":0,"d":"€ 0.00"},{"v":0,"d":"€ 0.00"}]
[null,1502,{"$nulls":7},{"v":0,"d":"€ 0.00"},{"v":0,"d":"€ 0.00"}]
[null,1503,{"$nulls":7},{"v":0,"d":"€ 0.00"},{"v":0,"d":"€ 0.00"}]
[null,1504,{"$nulls":7},{"v":0,"d":"€ 0.00"},{"v":0,"d":"€ 0.00"}]
[null,1505,{"$nulls":7},{"v":0,"d":"€ 0.00"},{"v":0,"d":"€ 0.00"}]
[null,1506,{"$nulls":7},{"v":0,"d":"€ 0.00"},{"v":0,"d":"€ 0.00"}]
[null,1507,{"$nulls":7},{"v":0,"d":"€ 0.00"},{"v":0,"d":"€ 0.00"}]
[null,1508,{"$nulls":7},{"v":0,"d":"€ 0.00"},{"v":0,"d":"€ 0.00"}]
[null,1509,{"$nulls":7},{"v":0,"d":"€ 0.00"},{"v":0,"d":"€ 0.00"}]
[null,1510,{"$nulls":7},{"v":0,"d":"€ 0.00"},{"v":0,"d":"€ 0.00"}]
[null,1511,{"$nulls":7},{"v":0,"d":"€ 0.00"},{"v":0,"d":"€ 0.00"}]
[null,1512,{"$nulls":7},{"v":0,"d":"€ 0.00"},{"v":0,"d":"€ 0.00"}]
[null,1513,{"$nulls":7},{"v":0,"d":"€ 0.00"},{"v":0,"d":"€ 0.00"}]
[null,1514,{"$nulls":7},{"v":0,"d":"€ 0.00"},{"v":0,"d":"€ 0.00"}]
[null,1515,{"$nulls":7},{"v":0,"d":"€ 0.00"},{"v":0,"d":"€ 0.00"}]
[null,1516,{"$nulls":7},{"v":0,"d":"€ 0.00"},{"v":0,"d":"€ 0.00"}]
[null,1517,{"$nulls":7},{"v":0,"d":"€ 0.00"},{"v":0,"d":"€ 0.00"}]
[null,1518,{"$nulls":7},{"v":0,"d":"€ 0.00"},{"v":0,"d":"€ 0.00"}]
[null,1519,{"$nulls":7},{"v":0,"d":"€ 0.00"},{"v":0,"d":"€ 0.00"}]
[null,1520,{"$nulls":7},{"v":0,"d":"€ 0.00"},{"v":0,"d":"€ 0.00"}]
[null,1521,{"$nulls":7},{"v":0,"d":"€ 0.00"},{"v":0,"d":"€ 0.00"}]
[null,1522,{"$nulls":7},{"v":0,"d":"€ 0.00"},{"v":0,"d":"€ 0.00"}]
[null,1523,{"$nulls":7},{"v":0,"d":"€ 0.00"},{"v":0,"d":"€ 0.00"}]
[null,1524,{"$nulls":7},{"v":0,"d":"€ 0.00"},{"v":0,"d":"€ 0.00"}]
[null,1525,{"$nulls":7},{"v":0,"d":"€ 0.00"},{"v":0,"d":"€ 0.00"}]
[null,1526,{"$nulls":7},{"v":0,"d":"€ 0.00"},{"v":0,"d":"€ 0.00"}]
[null,1527,{"$nulls":7},{"v":0,"d":"€ 0.00"},{"v":0,"d":"€ 0.00"}]
[null,1528,{"$nulls":7},{"v":0,"d":"€ 0.00"},{"v":0,"d":"€ 0.00"}]
[null,1529,{"$nulls":7},{"v":0,"d":"€ 0.00"},{"v":0,"d":"€ 0.00"}]
[null,1530,{"$nulls":7},{"v":0,"d":"€ 0.00"},{"v":0,"d":"€ 0.00"}]
[null,1531,{"$nulls":7},{"v":0,"d":"€ 0.00"},{"v":0,"d":"€ 0.00"}]
[null,1532,{"$nulls":7},{"v":0,"d":"€ 0.00"},{"v":0,"d":"€ 0.00"}]
[null,1533,{"$nulls":7},{"v":0,"d":"€ 0.00"},{"v":0,"d":"€ 0.00"}]
[null,1534,{"$nulls":7},{"v":0,"d":"€ 0.00"},{"v":0,"d":"€ 0.00"}]
[null,1535,{"$nulls":7},{"v":0,"d":"€ 0.00"},{"v":0,"d":"€ 0.00"}]
[null,1536,{"$nulls":7},{"v":0,"d":"€ 0.00"},{"v":0,"d":"€ 0.00"}]
[null,1537,{"$nulls":7},{"v":0,"d":"€ 0.00"},{"v":0,"d":"€ 0.00"}]
[null,1538,{"$nulls":7},{"v":0,"d":"€ 0.00"},{"v":0,"d":"€ 0.00"}]
[null,1539,{"$nulls":7},{"v":0,"d":"€ 0.00"},{"v":0,"d":"€ 0.00"}]
[null,1540,{"$nulls":7},{"v":0,"d":"€ 0.00"},{"v":0,"d":"€ 0.00"}]
[null,1541,{"$nulls":7},{"v":0,"d":"€ 0.00"},{"v":0,"d":"€ 0.00"}]
[null,1542,{"$nulls":7},{"v":0,"d":"€ 0.00"},{"v":0,"d":"€ 0.00"}]
[null,1543,{"$nulls":7},{"v":0,"d":"€ 0.00"},{"v":0,"d":"€ 0.00"}]
[null,1544,{"$nulls":7},{"v":0,"d":"€ 0.00"},{"v":0,"d":"€ 0.00"}]
[null,1545,{"$nulls":7},{"v":0,"d":"€ 0.00"},{"v":0,"d":"€ 0.00"}]
[null,1546,{"$nulls":7},{"v":0,"d":"€ 0.00"},{"v":0,"d":"€ 0.00"}]
[null,1547,{"$nulls":7},{"v":0,"d":"€ 0.00"},{"v":0,"d":"€ 0.00"}]
[null,1548,{"$nulls":7},{"v":0,"d":"€ 0.00"},{"v":0,"d":"€ 0.00"}]
[null,1549,{"$nulls":7},{"v":0,"d":"€ 0.00"},{"v":0,"d":"€ 0.00"}]
[null,1550,{"$nulls":7},{"v":0,"d":"€ 0.00"},{"v":0,"d":"€ 0.00"}]
[null,1551,{"$nulls":7},{"v":0,"d":"€ 0.00"},{"v":0,"d":"€ 0.00"}]
[null,1552,{"$nulls":7},{"v":0,"d":"€ 0.00"},{"v":0,"d":"€ 0.00"}]
[null,1553,{"$nulls":7},{"v":0,"d":"€ 0.00"},{"v":0,"d":"€ 0.00"}]
[null,1554,{"$nulls":7},{"v":0,"d":"€ 0.00"},{"v":0,"d":"€ 0.00"}]
[null,1555,{"$nulls":7},{"$f":"IF(OR(ISBLANK(H1562)=TRUE,ISBLANK(I1562)=TRUE),,ROUND(H1562*I1562,2))","v":{"v":0,"d":"€ 0.00"}},{"$f":"G1562+J1562","v":{"v":0,"d":"€ 0.00"}}]
[null,1556,{"$nulls":7},{"v":0,"d":"€ 0.00"},{"v":0,"d":"€ 0.00"}]
[null,1557,{"$nulls":7},{"v":0,"d":"€ 0.00"},{"v":0,"d":"€ 0.00"}]
[null,1558,{"$nulls":7},{"v":0,"d":"€ 0.00"},{"v":0,"d":"€ 0.00"}]
[null,1559,{"$nulls":7},{"v":0,"d":"€ 0.00"},{"v":0,"d":"€ 0.00"}]
[null,1560,{"$nulls":7},{"v":0,"d":"€ 0.00"},{"v":0,"d":"€ 0.00"}]
[null,1561,{"$nulls":7},{"v":0,"d":"€ 0.00"},{"v":0,"d":"€ 0.00"}]
[null,1562,{"$nulls":7},{"v":0,"d":"€ 0.00"},{"v":0,"d":"€ 0.00"}]
[null,1563,{"$nulls":7},{"v":0,"d":"€ 0.00"},{"v":0,"d":"€ 0.00"}]
[null,1564,{"$nulls":7},{"v":0,"d":"€ 0.00"},{"v":0,"d":"€ 0.00"}]
[null,1565,{"$nulls":7},{"v":0,"d":"€ 0.00"},{"v":0,"d":"€ 0.00"}]
[null,1566,{"$nulls":7},{"v":0,"d":"€ 0.00"},{"v":0,"d":"€ 0.00"}]
[null,1567,{"$nulls":7},{"v":0,"d":"€ 0.00"},{"v":0,"d":"€ 0.00"}]
[null,1568,{"$nulls":7},{"v":0,"d":"€ 0.00"},{"v":0,"d":"€ 0.00"}]
[null,1569,{"$nulls":7},{"v":0,"d":"€ 0.00"},{"v":0,"d":"€ 0.00"}]
[null,1570,{"$nulls":7},{"v":0,"d":"€ 0.00"},{"v":0,"d":"€ 0.00"}]
[null,1571,{"$nulls":7},{"v":0,"d":"€ 0.00"},{"v":0,"d":"€ 0.00"}]
[null,1572,{"$nulls":7},{"v":0,"d":"€ 0.00"},{"v":0,"d":"€ 0.00"}]
[null,1573,{"$nulls":7},{"v":0,"d":"€ 0.00"},{"v":0,"d":"€ 0.00"}]
[null,1574,{"$nulls":7},{"v":0,"d":"€ 0.00"},{"v":0,"d":"€ 0.00"}]
[null,1575,{"$nulls":7},{"v":0,"d":"€ 0.00"},{"v":0,"d":"€ 0.00"}]
[null,1576,{"$nulls":7},{"v":0,"d":"€ 0.00"},{"v":0,"d":"€ 0.00"}]
[null,1577,{"$nulls":7},{"v":0,"d":"€ 0.00"},{"v":0,"d":"€ 0.00"}]
[null,1578,{"$nulls":7},{"v":0,"d":"€ 0.00"},{"v":0,"d":"€ 0.00"}]
[null,1579,{"$nulls":7},{"v":0,"d":"€ 0.00"},{"v":0,"d":"€ 0.00"}]
[null,1580,{"$nulls":7},{"v":0,"d":"€ 0.00"},{"v":0,"d":"€ 0.00"}]
[null,1581,{"$nulls":7},{"v":0,"d":"€ 0.00"},{"v":0,"d":"€ 0.00"}]
[null,1582,{"$nulls":7},{"v":0,"d":"€ 0.00"},{"v":0,"d":"€ 0.00"}]
[null,1583,{"$nulls":7},{"v":0,"d":"€ 0.00"},{"v":0,"d":"€ 0.00"}]
[null,1584,{"$nulls":7},{"v":0,"d":"€ 0.00"},{"v":0,"d":"€ 0.00"}]
[null,1585,{"$nulls":7},{"v":0,"d":"€ 0.00"},{"v":0,"d":"€ 0.00"}]
[null,1586,{"$nulls":7},{"v":0,"d":"€ 0.00"},{"v":0,"d":"€ 0.00"}]
[null,1587,{"$nulls":7},{"v":0,"d":"€ 0.00"},{"v":0,"d":"€ 0.00"}]
[null,1588,{"$nulls":7},{"v":0,"d":"€ 0.00"},{"v":0,"d":"€ 0.00"}]
[null,1589,{"$nulls":7},{"v":0,"d":"€ 0.00"},{"v":0,"d":"€ 0.00"}]
[null,1590,{"$nulls":7},{"v":0,"d":"€ 0.00"},{"v":0,"d":"€ 0.00"}]
[null,1591,{"$nulls":7},{"v":0,"d":"€ 0.00"},{"v":0,"d":"€ 0.00"}]
[null,1592,{"$nulls":7},{"v":0,"d":"€ 0.00"},{"v":0,"d":"€ 0.00"}]
[null,1593,{"$nulls":7},{"v":0,"d":"€ 0.00"},{"v":0,"d":"€ 0.00"}]
[null,1594,{"$nulls":7},{"v":0,"d":"€ 0.00"},{"v":0,"d":"€ 0.00"}]
[null,1595,{"$nulls":7},{"v":0,"d":"€ 0.00"},{"v":0,"d":"€ 0.00"}]
[null,1596,{"$nulls":7},{"v":0,"d":"€ 0.00"},{"v":0,"d":"€ 0.00"}]
[null,1597,{"$nulls":7},{"v":0,"d":"€ 0.00"},{"v":0,"d":"€ 0.00"}]
[null,1598,{"$nulls":7},{"v":0,"d":"€ 0.00"},{"v":0,"d":"€ 0.00"}]
[null,1599,{"$nulls":7},{"v":0,"d":"€ 0.00"},{"v":0,"d":"€ 0.00"}]
[null,1600,{"$nulls":7},{"v":0,"d":"€ 0.00"},{"v":0,"d":"€ 0.00"}]
[null,1601,{"$nulls":7},{"v":0,"d":"€ 0.00"},{"v":0,"d":"€ 0.00"}]
[null,1602,{"$nulls":7},{"v":0,"d":"€ 0.00"},{"v":0,"d":"€ 0.00"}]
[null,1603,{"$nulls":7},{"v":0,"d":"€ 0.00"},{"v":0,"d":"€ 0.00"}]
[null,1604,{"$nulls":7},{"v":0,"d":"€ 0.00"},{"v":0,"d":"€ 0.00"}]
[null,1605,{"$nulls":7},{"v":0,"d":"€ 0.00"},{"v":0,"d":"€ 0.00"}]
[null,1606,{"$nulls":7},{"v":0,"d":"€ 0.00"},{"v":0,"d":"€ 0.00"}]
[null,1607,{"$nulls":7},{"v":0,"d":"€ 0.00"},{"v":0,"d":"€ 0.00"}]
[null,1608,{"$nulls":7},{"v":0,"d":"€ 0.00"},{"v":0,"d":"€ 0.00"}]
[null,1609,{"$nulls":7},{"v":0,"d":"€ 0.00"},{"v":0,"d":"€ 0.00"}]
[null,1610,{"$nulls":7},{"v":0,"d":"€ 0.00"},{"v":0,"d":"€ 0.00"}]
[null,1611,{"$nulls":7},{"v":0,"d":"€ 0.00"},{"v":0,"d":"€ 0.00"}]
[null,1612,{"$nulls":7},{"v":0,"d":"€ 0.00"},{"v":0,"d":"€ 0.00"}]
[null,1613,{"$nulls":7},{"v":0,"d":"€ 0.00"},{"v":0,"d":"€ 0.00"}]
[null,1614,{"$nulls":7},{"v":0,"d":"€ 0.00"},{"v":0,"d":"€ 0.00"}]
[null,1615,{"$nulls":7},{"v":0,"d":"€ 0.00"},{"v":0,"d":"€ 0.00"}]
[null,1616,{"$nulls":7},{"v":0,"d":"€ 0.00"},{"v":0,"d":"€ 0.00"}]
[null,1617,{"$nulls":7},{"v":0,"d":"€ 0.00"},{"v":0,"d":"€ 0.00"}]
[null,1618,{"$nulls":7},{"v":0,"d":"€ 0.00"},{"v":0,"d":"€ 0.00"}]
[null,1619,{"$nulls":7},{"$f":"IF(OR(ISBLANK(H1626)=TRUE,ISBLANK(I1626)=TRUE),,ROUND(H1626*I1626,2))","v":{"v":0,"d":"€ 0.00"}},{"$f":"G1626+J1626","v":{"v":0,"d":"€ 0.00"}}]
[null,1620,{"$nulls":7},{"v":0,"d":"€ 0.00"},{"v":0,"d":"€ 0.00"}]
[null,1621,{"$nulls":7},{"v":0,"d":"€ 0.00"},{"v":0,"d":"€ 0.00"}]
[null,1622,{"$nulls":7},{"v":0,"d":"€ 0.00"},{"v":0,"d":"€ 0.00"}]
[null,1623,{"$nulls":7},{"v":0,"d":"€ 0.00"},{"v":0,"d":"€ 0.00"}]
[null,1624,{"$nulls":7},{"v":0,"d":"€ 0.00"},{"v":0,"d":"€ 0.00"}]
[null,1625,{"$nulls":7},{"v":0,"d":"€ 0.00"},{"v":0,"d":"€ 0.00"}]
[null,1626,{"$nulls":7},{"v":0,"d":"€ 0.00"},{"v":0,"d":"€ 0.00"}]
[null,1627,{"$nulls":7},{"v":0,"d":"€ 0.00"},{"v":0,"d":"€ 0.00"}]
[null,1628,{"$nulls":7},{"v":0,"d":"€ 0.00"},{"v":0,"d":"€ 0.00"}]
[null,1629,{"$nulls":7},{"v":0,"d":"€ 0.00"},{"v":0,"d":"€ 0.00"}]
[null,1630,{"$nulls":7},{"v":0,"d":"€ 0.00"},{"v":0,"d":"€ 0.00"}]
[null,1631,{"$nulls":7},{"v":0,"d":"€ 0.00"},{"v":0,"d":"€ 0.00"}]
[null,1632,{"$nulls":7},{"v":0,"d":"€ 0.00"},{"v":0,"d":"€ 0.00"}]
[null,1633,{"$nulls":7},{"v":0,"d":"€ 0.00"},{"v":0,"d":"€ 0.00"}]
[null,1634,{"$nulls":7},{"v":0,"d":"€ 0.00"},{"v":0,"d":"€ 0.00"}]
[null,1635,{"$nulls":7},{"v":0,"d":"€ 0.00"},{"v":0,"d":"€ 0.00"}]
[null,1636,{"$nulls":7},{"v":0,"d":"€ 0.00"},{"v":0,"d":"€ 0.00"}]
[null,1637,{"$nulls":7},{"v":0,"d":"€ 0.00"},{"v":0,"d":"€ 0.00"}]
[null,1638,{"$nulls":7},{"v":0,"d":"€ 0.00"},{"v":0,"d":"€ 0.00"}]
[null,1639,{"$nulls":7},{"v":0,"d":"€ 0.00"},{"v":0,"d":"€ 0.00"}]
[null,1640,{"$nulls":7},{"v":0,"d":"€ 0.00"},{"v":0,"d":"€ 0.00"}]
[null,1641,{"$nulls":7},{"v":0,"d":"€ 0.00"},{"v":0,"d":"€ 0.00"}]
[null,1642,{"$nulls":7},{"v":0,"d":"€ 0.00"},{"v":0,"d":"€ 0.00"}]
[null,1643,{"$nulls":7},{"v":0,"d":"€ 0.00"},{"v":0,"d":"€ 0.00"}]
[null,1644,{"$nulls":7},{"v":0,"d":"€ 0.00"},{"v":0,"d":"€ 0.00"}]
[null,1645,{"$nulls":7},{"v":0,"d":"€ 0.00"},{"v":0,"d":"€ 0.00"}]
[null,1646,{"$nulls":7},{"v":0,"d":"€ 0.00"},{"v":0,"d":"€ 0.00"}]
[null,1647,{"$nulls":7},{"v":0,"d":"€ 0.00"},{"v":0,"d":"€ 0.00"}]
[null,1648,{"$nulls":7},{"v":0,"d":"€ 0.00"},{"v":0,"d":"€ 0.00"}]
[null,1649,{"$nulls":7},{"v":0,"d":"€ 0.00"},{"v":0,"d":"€ 0.00"}]
[null,1650,{"$nulls":7},{"v":0,"d":"€ 0.00"},{"v":0,"d":"€ 0.00"}]
[null,1651,{"$nulls":7},{"v":0,"d":"€ 0.00"},{"v":0,"d":"€ 0.00"}]
[null,1652,{"$nulls":7},{"v":0,"d":"€ 0.00"},{"v":0,"d":"€ 0.00"}]
[null,1653,{"$nulls":7},{"v":0,"d":"€ 0.00"},{"v":0,"d":"€ 0.00"}]
[null,1654,{"$nulls":7},{"v":0,"d":"€ 0.00"},{"v":0,"d":"€ 0.00"}]
[null,1655,{"$nulls":7},{"v":0,"d":"€ 0.00"},{"v":0,"d":"€ 0.00"}]
[null,1656,{"$nulls":7},{"v":0,"d":"€ 0.00"},{"v":0,"d":"€ 0.00"}]
[null,1657,{"$nulls":7},{"v":0,"d":"€ 0.00"},{"v":0,"d":"€ 0.00"}]
[null,1658,{"$nulls":7},{"v":0,"d":"€ 0.00"},{"v":0,"d":"€ 0.00"}]
[null,1659,{"$nulls":7},{"v":0,"d":"€ 0.00"},{"v":0,"d":"€ 0.00"}]
[null,1660,{"$nulls":7},{"v":0,"d":"€ 0.00"},{"v":0,"d":"€ 0.00"}]
[null,1661,{"$nulls":7},{"v":0,"d":"€ 0.00"},{"v":0,"d":"€ 0.00"}]
[null,1662,{"$nulls":7},{"v":0,"d":"€ 0.00"},{"v":0,"d":"€ 0.00"}]
[null,1663,{"$nulls":7},{"v":0,"d":"€ 0.00"},{"v":0,"d":"€ 0.00"}]
[null,1664,{"$nulls":7},{"v":0,"d":"€ 0.00"},{"v":0,"d":"€ 0.00"}]
[null,1665,{"$nulls":7},{"v":0,"d":"€ 0.00"},{"v":0,"d":"€ 0.00"}]
[null,1666,{"$nulls":7},{"v":0,"d":"€ 0.00"},{"v":0,"d":"€ 0.00"}]
[null,1667,{"$nulls":7},{"v":0,"d":"€ 0.00"},{"v":0,"d":"€ 0.00"}]
[null,1668,{"$nulls":7},{"v":0,"d":"€ 0.00"},{"v":0,"d":"€ 0.00"}]
[null,1669,{"$nulls":7},{"v":0,"d":"€ 0.00"},{"v":0,"d":"€ 0.00"}]
[null,1670,{"$nulls":7},{"v":0,"d":"€ 0.00"},{"v":0,"d":"€ 0.00"}]
[null,1671,{"$nulls":7},{"v":0,"d":"€ 0.00"},{"v":0,"d":"€ 0.00"}]
[null,1672,{"$nulls":7},{"v":0,"d":"€ 0.00"},{"v":0,"d":"€ 0.00"}]
[null,1673,{"$nulls":7},{"v":0,"d":"€ 0.00"},{"v":0,"d":"€ 0.00"}]
[null,1674,{"$nulls":7},{"v":0,"d":"€ 0.00"},{"v":0,"d":"€ 0.00"}]
[null,1675,{"$nulls":7},{"v":0,"d":"€ 0.00"},{"v":0,"d":"€ 0.00"}]
[null,1676,{"$nulls":7},{"v":0,"d":"€ 0.00"},{"v":0,"d":"€ 0.00"}]
[null,1677,{"$nulls":7},{"v":0,"d":"€ 0.00"},{"v":0,"d":"€ 0.00"}]
[null,1678,{"$nulls":7},{"v":0,"d":"€ 0.00"},{"v":0,"d":"€ 0.00"}]
[null,1679,{"$nulls":7},{"v":0,"d":"€ 0.00"},{"v":0,"d":"€ 0.00"}]
[null,1680,{"$nulls":7},{"v":0,"d":"€ 0.00"},{"v":0,"d":"€ 0.00"}]
[null,1681,{"$nulls":7},{"v":0,"d":"€ 0.00"},{"v":0,"d":"€ 0.00"}]
[null,1682,{"$nulls":7},{"v":0,"d":"€ 0.00"},{"v":0,"d":"€ 0.00"}]
[null,1683,{"$nulls":7},{"$f":"IF(OR(ISBLANK(H1690)=TRUE,ISBLANK(I1690)=TRUE),,ROUND(H1690*I1690,2))","v":{"v":0,"d":"€ 0.00"}},{"$f":"G1690+J1690","v":{"v":0,"d":"€ 0.00"}}]
[null,1684,{"$nulls":7},{"v":0,"d":"€ 0.00"},{"v":0,"d":"€ 0.00"}]
[null,1685,{"$nulls":7},{"v":0,"d":"€ 0.00"},{"v":0,"d":"€ 0.00"}]
[null,1686,{"$nulls":7},{"v":0,"d":"€ 0.00"},{"v":0,"d":"€ 0.00"}]
[null,1687,{"$nulls":7},{"v":0,"d":"€ 0.00"},{"v":0,"d":"€ 0.00"}]
[null,1688,{"$nulls":7},{"v":0,"d":"€ 0.00"},{"v":0,"d":"€ 0.00"}]
[null,1689,{"$nulls":7},{"v":0,"d":"€ 0.00"},{"v":0,"d":"€ 0.00"}]
[null,1690,{"$nulls":7},{"v":0,"d":"€ 0.00"},{"v":0,"d":"€ 0.00"}]
[null,1691,{"$nulls":7},{"v":0,"d":"€ 0.00"},{"v":0,"d":"€ 0.00"}]
[null,1692,{"$nulls":7},{"v":0,"d":"€ 0.00"},{"v":0,"d":"€ 0.00"}]
[null,1693,{"$nulls":7},{"v":0,"d":"€ 0.00"},{"v":0,"d":"€ 0.00"}]
[null,1694,{"$nulls":7},{"v":0,"d":"€ 0.00"},{"v":0,"d":"€ 0.00"}]
[null,1695,{"$nulls":7},{"v":0,"d":"€ 0.00"},{"v":0,"d":"€ 0.00"}]
[null,1696,{"$nulls":7},{"v":0,"d":"€ 0.00"},{"v":0,"d":"€ 0.00"}]
[null,1697,{"$nulls":7},{"v":0,"d":"€ 0.00"},{"v":0,"d":"€ 0.00"}]
[null,1698,{"$nulls":7},{"v":0,"d":"€ 0.00"},{"v":0,"d":"€ 0.00"}]
[null,1699,{"$nulls":7},{"v":0,"d":"€ 0.00"},{"v":0,"d":"€ 0.00"}]
[null,1700,{"$nulls":7},{"v":0,"d":"€ 0.00"},{"v":0,"d":"€ 0.00"}]
[null,1701,{"$nulls":7},{"v":0,"d":"€ 0.00"},{"v":0,"d":"€ 0.00"}]
[null,1702,{"$nulls":7},{"v":0,"d":"€ 0.00"},{"v":0,"d":"€ 0.00"}]
[null,1703,{"$nulls":7},{"v":0,"d":"€ 0.00"},{"v":0,"d":"€ 0.00"}]
[null,1704,{"$nulls":7},{"v":0,"d":"€ 0.00"},{"v":0,"d":"€ 0.00"}]
[null,1705,{"$nulls":7},{"v":0,"d":"€ 0.00"},{"v":0,"d":"€ 0.00"}]
[null,1706,{"$nulls":7},{"v":0,"d":"€ 0.00"},{"v":0,"d":"€ 0.00"}]
[null,1707,{"$nulls":7},{"v":0,"d":"€ 0.00"},{"v":0,"d":"€ 0.00"}]
[null,1708,{"$nulls":7},{"v":0,"d":"€ 0.00"},{"v":0,"d":"€ 0.00"}]
[null,1709,{"$nulls":7},{"v":0,"d":"€ 0.00"},{"v":0,"d":"€ 0.00"}]
[null,1710,{"$nulls":7},{"v":0,"d":"€ 0.00"},{"v":0,"d":"€ 0.00"}]
[null,1711,{"$nulls":7},{"v":0,"d":"€ 0.00"},{"v":0,"d":"€ 0.00"}]
[null,1712,{"$nulls":7},{"v":0,"d":"€ 0.00"},{"v":0,"d":"€ 0.00"}]
[null,1713,{"$nulls":7},{"v":0,"d":"€ 0.00"},{"v":0,"d":"€ 0.00"}]
[null,1714,{"$nulls":7},{"v":0,"d":"€ 0.00"},{"v":0,"d":"€ 0.00"}]
[null,1715,{"$nulls":7},{"v":0,"d":"€ 0.00"},{"v":0,"d":"€ 0.00"}]
[null,1716,{"$nulls":7},{"v":0,"d":"€ 0.00"},{"v":0,"d":"€ 0.00"}]
[null,1717,{"$nulls":7},{"v":0,"d":"€ 0.00"},{"v":0,"d":"€ 0.00"}]
[null,1718,{"$nulls":7},{"v":0,"d":"€ 0.00"},{"v":0,"d":"€ 0.00"}]
[null,1719,{"$nulls":7},{"v":0,"d":"€ 0.00"},{"v":0,"d":"€ 0.00"}]
[null,1720,{"$nulls":7},{"v":0,"d":"€ 0.00"},{"v":0,"d":"€ 0.00"}]
[null,1721,{"$nulls":7},{"v":0,"d":"€ 0.00"},{"v":0,"d":"€ 0.00"}]
[null,1722,{"$nulls":7},{"v":0,"d":"€ 0.00"},{"v":0,"d":"€ 0.00"}]
[null,1723,{"$nulls":7},{"v":0,"d":"€ 0.00"},{"v":0,"d":"€ 0.00"}]
[null,1724,{"$nulls":7},{"v":0,"d":"€ 0.00"},{"v":0,"d":"€ 0.00"}]
[null,1725,{"$nulls":7},{"v":0,"d":"€ 0.00"},{"v":0,"d":"€ 0.00"}]
[null,1726,{"$nulls":7},{"v":0,"d":"€ 0.00"},{"v":0,"d":"€ 0.00"}]
[null,1727,{"$nulls":7},{"v":0,"d":"€ 0.00"},{"v":0,"d":"€ 0.00"}]
[null,1728,{"$nulls":7},{"v":0,"d":"€ 0.00"},{"v":0,"d":"€ 0.00"}]
[null,1729,{"$nulls":7},{"v":0,"d":"€ 0.00"},{"v":0,"d":"€ 0.00"}]
[null,1730,{"$nulls":7},{"v":0,"d":"€ 0.00"},{"v":0,"d":"€ 0.00"}]
[null,1731,{"$nulls":7},{"v":0,"d":"€ 0.00"},{"v":0,"d":"€ 0.00"}]
[null,1732,{"$nulls":7},{"v":0,"d":"€ 0.00"},{"v":0,"d":"€ 0.00"}]
[null,1733,{"$nulls":7},{"v":0,"d":"€ 0.00"},{"v":0,"d":"€ 0.00"}]
[null,1734,{"$nulls":7},{"v":0,"d":"€ 0.00"},{"v":0,"d":"€ 0.00"}]
[null,1735,{"$nulls":7},{"v":0,"d":"€ 0.00"},{"v":0,"d":"€ 0.00"}]
[null,1736,{"$nulls":7},{"v":0,"d":"€ 0.00"},{"v":0,"d":"€ 0.00"}]
[null,1737,{"$nulls":7},{"v":0,"d":"€ 0.00"},{"v":0,"d":"€ 0.00"}]
[null,1738,{"$nulls":7},{"v":0,"d":"€ 0.00"},{"v":0,"d":"€ 0.00"}]
[null,1739,{"$nulls":7},{"v":0,"d":"€ 0.00"},{"v":0,"d":"€ 0.00"}]
[null,1740,{"$nulls":7},{"v":0,"d":"€ 0.00"},{"v":0,"d":"€ 0.00"}]
[null,1741,{"$nulls":7},{"v":0,"d":"€ 0.00"},{"v":0,"d":"€ 0.00"}]
[null,1742,{"$nulls":7},{"v":0,"d":"€ 0.00"},{"v":0,"d":"€ 0.00"}]
[null,1743,{"$nulls":7},{"v":0,"d":"€ 0.00"},{"v":0,"d":"€ 0.00"}]
[null,1744,{"$nulls":7},{"v":0,"d":"€ 0.00"},{"v":0,"d":"€ 0.00"}]
[null,1745,{"$nulls":7},{"v":0,"d":"€ 0.00"},{"v":0,"d":"€ 0.00"}]
[null,1746,{"$nulls":7},{"v":0,"d":"€ 0.00"},{"v":0,"d":"€ 0.00"}]
[null,1747,{"$nulls":7},{"$f":"IF(OR(ISBLANK(H1754)=TRUE,ISBLANK(I1754)=TRUE),,ROUND(H1754*I1754,2))","v":{"v":0,"d":"€ 0.00"}},{"$f":"G1754+J1754","v":{"v":0,"d":"€ 0.00"}}]
[null,1748,{"$nulls":7},{"v":0,"d":"€ 0.00"},{"v":0,"d":"€ 0.00"}]
[null,1749,{"$nulls":7},{"v":0,"d":"€ 0.00"},{"v":0,"d":"€ 0.00"}]
[null,1750,{"$nulls":7},{"v":0,"d":"€ 0.00"},{"v":0,"d":"€ 0.00"}]
[null,1751,{"$nulls":7},{"v":0,"d":"€ 0.00"},{"v":0,"d":"€ 0.00"}]
[null,1752,{"$nulls":7},{"v":0,"d":"€ 0.00"},{"v":0,"d":"€ 0.00"}]
[null,1753,{"$nulls":7},{"v":0,"d":"€ 0.00"},{"v":0,"d":"€ 0.00"}]
[null,1754,{"$nulls":7},{"v":0,"d":"€ 0.00"},{"v":0,"d":"€ 0.00"}]
[null,1755,{"$nulls":7},{"v":0,"d":"€ 0.00"},{"v":0,"d":"€ 0.00"}]
[null,1756,{"$nulls":7},{"v":0,"d":"€ 0.00"},{"v":0,"d":"€ 0.00"}]
[null,1757,{"$nulls":7},{"v":0,"d":"€ 0.00"},{"v":0,"d":"€ 0.00"}]
[null,1758,{"$nulls":7},{"v":0,"d":"€ 0.00"},{"v":0,"d":"€ 0.00"}]
[null,1759,{"$nulls":7},{"v":0,"d":"€ 0.00"},{"v":0,"d":"€ 0.00"}]
[null,1760,{"$nulls":7},{"v":0,"d":"€ 0.00"},{"v":0,"d":"€ 0.00"}]
[null,1761,{"$nulls":7},{"v":0,"d":"€ 0.00"},{"v":0,"d":"€ 0.00"}]
[null,1762,{"$nulls":7},{"v":0,"d":"€ 0.00"},{"v":0,"d":"€ 0.00"}]
[null,1763,{"$nulls":7},{"v":0,"d":"€ 0.00"},{"v":0,"d":"€ 0.00"}]
[null,1764,{"$nulls":7},{"v":0,"d":"€ 0.00"},{"v":0,"d":"€ 0.00"}]
[null,1765,{"$nulls":7},{"v":0,"d":"€ 0.00"},{"v":0,"d":"€ 0.00"}]
[null,1766,{"$nulls":7},{"v":0,"d":"€ 0.00"},{"v":0,"d":"€ 0.00"}]
[null,1767,{"$nulls":7},{"v":0,"d":"€ 0.00"},{"v":0,"d":"€ 0.00"}]
[null,1768,{"$nulls":7},{"v":0,"d":"€ 0.00"},{"v":0,"d":"€ 0.00"}]
[null,1769,{"$nulls":7},{"v":0,"d":"€ 0.00"},{"v":0,"d":"€ 0.00"}]
[null,1770,{"$nulls":7},{"v":0,"d":"€ 0.00"},{"v":0,"d":"€ 0.00"}]
[null,1771,{"$nulls":7},{"v":0,"d":"€ 0.00"},{"v":0,"d":"€ 0.00"}]
[null,1772,{"$nulls":7},{"v":0,"d":"€ 0.00"},{"v":0,"d":"€ 0.00"}]
[null,1773,{"$nulls":7},{"v":0,"d":"€ 0.00"},{"v":0,"d":"€ 0.00"}]
[null,1774,{"$nulls":7},{"v":0,"d":"€ 0.00"},{"v":0,"d":"€ 0.00"}]
[null,1775,{"$nulls":7},{"v":0,"d":"€ 0.00"},{"v":0,"d":"€ 0.00"}]
[null,1776,{"$nulls":7},{"v":0,"d":"€ 0.00"},{"v":0,"d":"€ 0.00"}]
[null,1777,{"$nulls":7},{"v":0,"d":"€ 0.00"},{"v":0,"d":"€ 0.00"}]
[null,1778,{"$nulls":7},{"v":0,"d":"€ 0.00"},{"v":0,"d":"€ 0.00"}]
[null,1779,{"$nulls":7},{"v":0,"d":"€ 0.00"},{"v":0,"d":"€ 0.00"}]
[null,1780,{"$nulls":7},{"v":0,"d":"€ 0.00"},{"v":0,"d":"€ 0.00"}]
[null,1781,{"$nulls":7},{"v":0,"d":"€ 0.00"},{"v":0,"d":"€ 0.00"}]
[null,1782,{"$nulls":7},{"v":0,"d":"€ 0.00"},{"v":0,"d":"€ 0.00"}]
[null,1783,{"$nulls":7},{"v":0,"d":"€ 0.00"},{"v":0,"d":"€ 0.00"}]
[null,1784,{"$nulls":7},{"v":0,"d":"€ 0.00"},{"v":0,"d":"€ 0.00"}]
[null,1785,{"$nulls":7},{"v":0,"d":"€ 0.00"},{"v":0,"d":"€ 0.00"}]
[null,1786,{"$nulls":7},{"v":0,"d":"€ 0.00"},{"v":0,"d":"€ 0.00"}]
[null,1787,{"$nulls":7},{"v":0,"d":"€ 0.00"},{"v":0,"d":"€ 0.00"}]
[null,1788,{"$nulls":7},{"v":0,"d":"€ 0.00"},{"v":0,"d":"€ 0.00"}]
[null,1789,{"$nulls":7},{"v":0,"d":"€ 0.00"},{"v":0,"d":"€ 0.00"}]
[null,1790,{"$nulls":7},{"v":0,"d":"€ 0.00"},{"v":0,"d":"€ 0.00"}]
[null,1791,{"$nulls":7},{"v":0,"d":"€ 0.00"},{"v":0,"d":"€ 0.00"}]
[null,1792,{"$nulls":7},{"v":0,"d":"€ 0.00"},{"v":0,"d":"€ 0.00"}]
[null,1793,{"$nulls":7},{"v":0,"d":"€ 0.00"},{"v":0,"d":"€ 0.00"}]
[null,1794,{"$nulls":7},{"v":0,"d":"€ 0.00"},{"v":0,"d":"€ 0.00"}]
[null,1795,{"$nulls":7},{"v":0,"d":"€ 0.00"},{"v":0,"d":"€ 0.00"}]
[null,1796,{"$nulls":7},{"v":0,"d":"€ 0.00"},{"v":0,"d":"€ 0.00"}]
[null,1797,{"$nulls":7},{"v":0,"d":"€ 0.00"},{"v":0,"d":"€ 0.00"}]
[null,1798,{"$nulls":7},{"v":0,"d":"€ 0.00"},{"v":0,"d":"€ 0.00"}]
[null,1799,{"$nulls":7},{"v":0,"d":"€ 0.00"},{"v":0,"d":"€ 0.00"}]
[null,1800,{"$nulls":7},{"v":0,"d":"€ 0.00"},{"v":0,"d":"€ 0.00"}]
[null,1801,{"$nulls":7},{"v":0,"d":"€ 0.00"},{"v":0,"d":"€ 0.00"}]
[null,1802,{"$nulls":7},{"v":0,"d":"€ 0.00"},{"v":0,"d":"€ 0.00"}]
[null,1803,{"$nulls":7},{"v":0,"d":"€ 0.00"},{"v":0,"d":"€ 0.00"}]
[null,1804,{"$nulls":7},{"v":0,"d":"€ 0.00"},{"v":0,"d":"€ 0.00"}]
[null,1805,{"$nulls":7},{"v":0,"d":"€ 0.00"},{"v":0,"d":"€ 0.00"}]
[null,1806,{"$nulls":7},{"v":0,"d":"€ 0.00"},{"v":0,"d":"€ 0.00"}]
[null,1807,{"$nulls":7},{"v":0,"d":"€ 0.00"},{"v":0,"d":"€ 0.00"}]
[null,1808,{"$nulls":7},{"v":0,"d":"€ 0.00"},{"v":0,"d":"€ 0.00"}]
[null,1809,{"$nulls":7},{"v":0,"d":"€ 0.00"},{"v":0,"d":"€ 0.00"}]
[null,1810,{"$nulls":7},{"v":0,"d":"€ 0.00"},{"v":0,"d":"€ 0.00"}]
[null,1811,{"$nulls":7},{"$f":"IF(OR(ISBLANK(H1818)=TRUE,ISBLANK(I1818)=TRUE),,ROUND(H1818*I1818,2))","v":{"v":0,"d":"€ 0.00"}},{"$f":"G1818+J1818","v":{"v":0,"d":"€ 0.00"}}]
[null,1812,{"$nulls":7},{"v":0,"d":"€ 0.00"},{"v":0,"d":"€ 0.00"}]
[null,1813,{"$nulls":7},{"v":0,"d":"€ 0.00"},{"v":0,"d":"€ 0.00"}]
[null,1814,{"$nulls":7},{"v":0,"d":"€ 0.00"},{"v":0,"d":"€ 0.00"}]
[null,1815,{"$nulls":7},{"v":0,"d":"€ 0.00"},{"v":0,"d":"€ 0.00"}]
[null,1816,{"$nulls":7},{"v":0,"d":"€ 0.00"},{"v":0,"d":"€ 0.00"}]
[null,1817,{"$nulls":7},{"v":0,"d":"€ 0.00"},{"v":0,"d":"€ 0.00"}]
[null,1818,{"$nulls":7},{"v":0,"d":"€ 0.00"},{"v":0,"d":"€ 0.00"}]
[null,1819,{"$nulls":7},{"v":0,"d":"€ 0.00"},{"v":0,"d":"€ 0.00"}]
[null,1820,{"$nulls":7},{"v":0,"d":"€ 0.00"},{"v":0,"d":"€ 0.00"}]
[null,1821,{"$nulls":7},{"v":0,"d":"€ 0.00"},{"v":0,"d":"€ 0.00"}]
[null,1822,{"$nulls":7},{"v":0,"d":"€ 0.00"},{"v":0,"d":"€ 0.00"}]
[null,1823,{"$nulls":7},{"v":0,"d":"€ 0.00"},{"v":0,"d":"€ 0.00"}]
[null,1824,{"$nulls":7},{"v":0,"d":"€ 0.00"},{"v":0,"d":"€ 0.00"}]
[null,1825,{"$nulls":7},{"v":0,"d":"€ 0.00"},{"v":0,"d":"€ 0.00"}]
[null,1826,{"$nulls":7},{"v":0,"d":"€ 0.00"},{"v":0,"d":"€ 0.00"}]
[null,1827,{"$nulls":7},{"v":0,"d":"€ 0.00"},{"v":0,"d":"€ 0.00"}]
[null,1828,{"$nulls":7},{"v":0,"d":"€ 0.00"},{"v":0,"d":"€ 0.00"}]
[null,1829,{"$nulls":7},{"v":0,"d":"€ 0.00"},{"v":0,"d":"€ 0.00"}]
[null,1830,{"$nulls":7},{"v":0,"d":"€ 0.00"},{"v":0,"d":"€ 0.00"}]
[null,1831,{"$nulls":7},{"v":0,"d":"€ 0.00"},{"v":0,"d":"€ 0.00"}]
[null,1832,{"$nulls":7},{"v":0,"d":"€ 0.00"},{"v":0,"d":"€ 0.00"}]
[null,1833,{"$nulls":7},{"v":0,"d":"€ 0.00"},{"v":0,"d":"€ 0.00"}]
[null,1834,{"$nulls":7},{"v":0,"d":"€ 0.00"},{"v":0,"d":"€ 0.00"}]
[null,1835,{"$nulls":7},{"v":0,"d":"€ 0.00"},{"v":0,"d":"€ 0.00"}]
[null,1836,{"$nulls":7},{"v":0,"d":"€ 0.00"},{"v":0,"d":"€ 0.00"}]
[null,1837,{"$nulls":7},{"v":0,"d":"€ 0.00"},{"v":0,"d":"€ 0.00"}]
[null,1838,{"$nulls":7},{"v":0,"d":"€ 0.00"},{"v":0,"d":"€ 0.00"}]
[null,1839,{"$nulls":7},{"v":0,"d":"€ 0.00"},{"v":0,"d":"€ 0.00"}]
[null,1840,{"$nulls":7},{"v":0,"d":"€ 0.00"},{"v":0,"d":"€ 0.00"}]
[null,1841,{"$nulls":7},{"v":0,"d":"€ 0.00"},{"v":0,"d":"€ 0.00"}]
[null,1842,{"$nulls":7},{"v":0,"d":"€ 0.00"},{"v":0,"d":"€ 0.00"}]
[null,1843,{"$nulls":7},{"v":0,"d":"€ 0.00"},{"v":0,"d":"€ 0.00"}]
[null,1844,{"$nulls":7},{"v":0,"d":"€ 0.00"},{"v":0,"d":"€ 0.00"}]
[null,1845,{"$nulls":7},{"v":0,"d":"€ 0.00"},{"v":0,"d":"€ 0.00"}]
[null,1846,{"$nulls":7},{"v":0,"d":"€ 0.00"},{"v":0,"d":"€ 0.00"}]
[null,1847,{"$nulls":7},{"v":0,"d":"€ 0.00"},{"v":0,"d":"€ 0.00"}]
[null,1848,{"$nulls":7},{"v":0,"d":"€ 0.00"},{"v":0,"d":"€ 0.00"}]
[null,1849,{"$nulls":7},{"v":0,"d":"€ 0.00"},{"v":0,"d":"€ 0.00"}]
[null,1850,{"$nulls":7},{"v":0,"d":"€ 0.00"},{"v":0,"d":"€ 0.00"}]
[null,1851,{"$nulls":7},{"v":0,"d":"€ 0.00"},{"v":0,"d":"€ 0.00"}]
[null,1852,{"$nulls":7},{"v":0,"d":"€ 0.00"},{"v":0,"d":"€ 0.00"}]
[null,1853,{"$nulls":7},{"v":0,"d":"€ 0.00"},{"v":0,"d":"€ 0.00"}]
[null,1854,{"$nulls":7},{"v":0,"d":"€ 0.00"},{"v":0,"d":"€ 0.00"}]
[null,1855,{"$nulls":7},{"v":0,"d":"€ 0.00"},{"v":0,"d":"€ 0.00"}]
[null,1856,{"$nulls":7},{"v":0,"d":"€ 0.00"},{"v":0,"d":"€ 0.00"}]
[null,1857,{"$nulls":7},{"v":0,"d":"€ 0.00"},{"v":0,"d":"€ 0.00"}]
[null,1858,{"$nulls":7},{"v":0,"d":"€ 0.00"},{"v":0,"d":"€ 0.00"}]
[null,1859,{"$nulls":7},{"v":0,"d":"€ 0.00"},{"v":0,"d":"€ 0.00"}]
[null,1860,{"$nulls":7},{"v":0,"d":"€ 0.00"},{"v":0,"d":"€ 0.00"}]
[null,1861,{"$nulls":7},{"v":0,"d":"€ 0.00"},{"v":0,"d":"€ 0.00"}]
[null,1862,{"$nulls":7},{"v":0,"d":"€ 0.00"},{"v":0,"d":"€ 0.00"}]
[null,1863,{"$nulls":7},{"v":0,"d":"€ 0.00"},{"v":0,"d":"€ 0.00"}]
[null,1864,{"$nulls":7},{"v":0,"d":"€ 0.00"},{"v":0,"d":"€ 0.00"}]
[null,1865,{"$nulls":7},{"v":0,"d":"€ 0.00"},{"v":0,"d":"€ 0.00"}]
[null,1866,{"$nulls":7},{"v":0,"d":"€ 0.00"},{"v":0,"d":"€ 0.00"}]
[null,1867,{"$nulls":7},{"v":0,"d":"€ 0.00"},{"v":0,"d":"€ 0.00"}]
[null,1868,{"$nulls":7},{"v":0,"d":"€ 0.00"},{"v":0,"d":"€ 0.00"}]
[null,1869,{"$nulls":7},{"v":0,"d":"€ 0.00"},{"v":0,"d":"€ 0.00"}]
[null,1870,{"$nulls":7},{"v":0,"d":"€ 0.00"},{"v":0,"d":"€ 0.00"}]
[null,1871,{"$nulls":7},{"v":0,"d":"€ 0.00"},{"v":0,"d":"€ 0.00"}]
[null,1872,{"$nulls":7},{"v":0,"d":"€ 0.00"},{"v":0,"d":"€ 0.00"}]
[null,1873,{"$nulls":7},{"v":0,"d":"€ 0.00"},{"v":0,"d":"€ 0.00"}]
[null,1874,{"$nulls":7},{"v":0,"d":"€ 0.00"},{"v":0,"d":"€ 0.00"}]
[null,1875,{"$nulls":7},{"$f":"IF(OR(ISBLANK(H1882)=TRUE,ISBLANK(I1882)=TRUE),,ROUND(H1882*I1882,2))","v":{"v":0,"d":"€ 0.00"}},{"$f":"G1882+J1882","v":{"v":0,"d":"€ 0.00"}}]
[null,1876,{"$nulls":7},{"v":0,"d":"€ 0.00"},{"v":0,"d":"€ 0.00"}]
[null,1877,{"$nulls":7},{"v":0,"d":"€ 0.00"},{"v":0,"d":"€ 0.00"}]
[null,1878,{"$nulls":7},{"v":0,"d":"€ 0.00"},{"v":0,"d":"€ 0.00"}]
[null,1879,{"$nulls":7},{"v":0,"d":"€ 0.00"},{"v":0,"d":"€ 0.00"}]
[null,1880,{"$nulls":7},{"v":0,"d":"€ 0.00"},{"v":0,"d":"€ 0.00"}]
[null,1881,{"$nulls":7},{"v":0,"d":"€ 0.00"},{"v":0,"d":"€ 0.00"}]
[null,1882,{"$nulls":7},{"v":0,"d":"€ 0.00"},{"v":0,"d":"€ 0.00"}]
[null,1883,{"$nulls":7},{"v":0,"d":"€ 0.00"},{"v":0,"d":"€ 0.00"}]
[null,1884,{"$nulls":7},{"v":0,"d":"€ 0.00"},{"v":0,"d":"€ 0.00"}]
[null,1885,{"$nulls":7},{"v":0,"d":"€ 0.00"},{"v":0,"d":"€ 0.00"}]
[null,1886,{"$nulls":7},{"v":0,"d":"€ 0.00"},{"v":0,"d":"€ 0.00"}]
[null,1887,{"$nulls":7},{"v":0,"d":"€ 0.00"},{"v":0,"d":"€ 0.00"}]
[null,1888,{"$nulls":7},{"v":0,"d":"€ 0.00"},{"v":0,"d":"€ 0.00"}]
[null,1889,{"$nulls":7},{"v":0,"d":"€ 0.00"},{"v":0,"d":"€ 0.00"}]
[null,1890,{"$nulls":7},{"v":0,"d":"€ 0.00"},{"v":0,"d":"€ 0.00"}]
[null,1891,{"$nulls":7},{"v":0,"d":"€ 0.00"},{"v":0,"d":"€ 0.00"}]
[null,1892,{"$nulls":7},{"v":0,"d":"€ 0.00"},{"v":0,"d":"€ 0.00"}]
[null,1893,{"$nulls":7},{"v":0,"d":"€ 0.00"},{"v":0,"d":"€ 0.00"}]
[null,1894,{"$nulls":7},{"v":0,"d":"€ 0.00"},{"v":0,"d":"€ 0.00"}]
[null,1895,{"$nulls":7},{"v":0,"d":"€ 0.00"},{"v":0,"d":"€ 0.00"}]
[null,1896,{"$nulls":7},{"v":0,"d":"€ 0.00"},{"v":0,"d":"€ 0.00"}]
[null,1897,{"$nulls":7},{"v":0,"d":"€ 0.00"},{"v":0,"d":"€ 0.00"}]
[null,1898,{"$nulls":7},{"v":0,"d":"€ 0.00"},{"v":0,"d":"€ 0.00"}]
[null,1899,{"$nulls":7},{"v":0,"d":"€ 0.00"},{"v":0,"d":"€ 0.00"}]
[null,1900,{"$nulls":7},{"v":0,"d":"€ 0.00"},{"v":0,"d":"€ 0.00"}]
[null,1901,{"$nulls":7},{"v":0,"d":"€ 0.00"},{"v":0,"d":"€ 0.00"}]
[null,1902,{"$nulls":7},{"v":0,"d":"€ 0.00"},{"v":0,"d":"€ 0.00"}]
[null,1903,{"$nulls":7},{"v":0,"d":"€ 0.00"},{"v":0,"d":"€ 0.00"}]
[null,1904,{"$nulls":7},{"v":0,"d":"€ 0.00"},{"v":0,"d":"€ 0.00"}]
[null,1905,{"$nulls":7},{"v":0,"d":"€ 0.00"},{"v":0,"d":"€ 0.00"}]
[null,1906,{"$nulls":7},{"v":0,"d":"€ 0.00"},{"v":0,"d":"€ 0.00"}]
[null,1907,{"$nulls":7},{"v":0,"d":"€ 0.00"},{"v":0,"d":"€ 0.00"}]
[null,1908,{"$nulls":7},{"v":0,"d":"€ 0.00"},{"v":0,"d":"€ 0.00"}]
[null,1909,{"$nulls":7},{"v":0,"d":"€ 0.00"},{"v":0,"d":"€ 0.00"}]
[null,1910,{"$nulls":7},{"v":0,"d":"€ 0.00"},{"v":0,"d":"€ 0.00"}]
[null,1911,{"$nulls":7},{"v":0,"d":"€ 0.00"},{"v":0,"d":"€ 0.00"}]
[null,1912,{"$nulls":7},{"v":0,"d":"€ 0.00"},{"v":0,"d":"€ 0.00"}]
[null,1913,{"$nulls":7},{"v":0,"d":"€ 0.00"},{"v":0,"d":"€ 0.00"}]
[null,1914,{"$nulls":7},{"v":0,"d":"€ 0.00"},{"v":0,"d":"€ 0.00"}]
[null,1915,{"$nulls":7},{"v":0,"d":"€ 0.00"},{"v":0,"d":"€ 0.00"}]
[null,1916,{"$nulls":7},{"v":0,"d":"€ 0.00"},{"v":0,"d":"€ 0.00"}]
[null,1917,{"$nulls":7},{"v":0,"d":"€ 0.00"},{"v":0,"d":"€ 0.00"}]
[null,1918,{"$nulls":7},{"v":0,"d":"€ 0.00"},{"v":0,"d":"€ 0.00"}]
[null,1919,{"$nulls":7},{"v":0,"d":"€ 0.00"},{"v":0,"d":"€ 0.00"}]
[null,1920,{"$nulls":7},{"v":0,"d":"€ 0.00"},{"v":0,"d":"€ 0.00"}]
[null,1921,{"$nulls":7},{"v":0,"d":"€ 0.00"},{"v":0,"d":"€ 0.00"}]
[null,1922,{"$nulls":7},{"v":0,"d":"€ 0.00"},{"v":0,"d":"€ 0.00"}]
[null,1923,{"$nulls":7},{"v":0,"d":"€ 0.00"},{"v":0,"d":"€ 0.00"}]
[null,1924,{"$nulls":7},{"v":0,"d":"€ 0.00"},{"v":0,"d":"€ 0.00"}]
[null,1925,{"$nulls":7},{"v":0,"d":"€ 0.00"},{"v":0,"d":"€ 0.00"}]
[null,1926,{"$nulls":7},{"v":0,"d":"€ 0.00"},{"v":0,"d":"€ 0.00"}]
[null,1927,{"$nulls":7},{"v":0,"d":"€ 0.00"},{"v":0,"d":"€ 0.00"}]
[null,1928,{"$nulls":7},{"v":0,"d":"€ 0.00"},{"v":0,"d":"€ 0.00"}]
[null,1929,{"$nulls":7},{"v":0,"d":"€ 0.00"},{"v":0,"d":"€ 0.00"}]
[null,1930,{"$nulls":7},{"v":0,"d":"€ 0.00"},{"v":0,"d":"€ 0.00"}]
[null,1931,{"$nulls":7},{"v":0,"d":"€ 0.00"},{"v":0,"d":"€ 0.00"}]
[null,1932,{"$nulls":7},{"v":0,"d":"€ 0.00"},{"v":0,"d":"€ 0.00"}]
[null,1933,{"$nulls":7},{"v":0,"d":"€ 0.00"},{"v":0,"d":"€ 0.00"}]
[null,1934,{"$nulls":7},{"v":0,"d":"€ 0.00"},{"v":0,"d":"€ 0.00"}]
[null,1935,{"$nulls":7},{"v":0,"d":"€ 0.00"},{"v":0,"d":"€ 0.00"}]
[null,1936,{"$nulls":7},{"v":0,"d":"€ 0.00"},{"v":0,"d":"€ 0.00"}]
[null,1937,{"$nulls":7},{"v":0,"d":"€ 0.00"},{"v":0,"d":"€ 0.00"}]
[null,1938,{"$nulls":7},{"v":0,"d":"€ 0.00"},{"v":0,"d":"€ 0.00"}]
[null,1939,{"$nulls":7},{"$f":"IF(OR(ISBLANK(H1946)=TRUE,ISBLANK(I1946)=TRUE),,ROUND(H1946*I1946,2))","v":{"v":0,"d":"€ 0.00"}},{"$f":"G1946+J1946","v":{"v":0,"d":"€ 0.00"}}]
[null,1940,{"$nulls":7},{"v":0,"d":"€ 0.00"},{"v":0,"d":"€ 0.00"}]
[null,1941,{"$nulls":7},{"v":0,"d":"€ 0.00"},{"v":0,"d":"€ 0.00"}]
[null,1942,{"$nulls":7},{"v":0,"d":"€ 0.00"},{"v":0,"d":"€ 0.00"}]
[null,1943,{"$nulls":7},{"v":0,"d":"€ 0.00"},{"v":0,"d":"€ 0.00"}]
[null,1944,{"$nulls":7},{"v":0,"d":"€ 0.00"},{"v":0,"d":"€ 0.00"}]
[null,1945,{"$nulls":7},{"v":0,"d":"€ 0.00"},{"v":0,"d":"€ 0.00"}]
[null,1946,{"$nulls":7},{"v":0,"d":"€ 0.00"},{"v":0,"d":"€ 0.00"}]
[null,1947,{"$nulls":7},{"v":0,"d":"€ 0.00"},{"v":0,"d":"€ 0.00"}]
[null,1948,{"$nulls":7},{"v":0,"d":"€ 0.00"},{"v":0,"d":"€ 0.00"}]
[null,1949,{"$nulls":7},{"v":0,"d":"€ 0.00"},{"v":0,"d":"€ 0.00"}]
[null,1950,{"$nulls":7},{"v":0,"d":"€ 0.00"},{"v":0,"d":"€ 0.00"}]
[null,1951,{"$nulls":7},{"v":0,"d":"€ 0.00"},{"v":0,"d":"€ 0.00"}]
[null,1952,{"$nulls":7},{"v":0,"d":"€ 0.00"},{"v":0,"d":"€ 0.00"}]
[null,1953,{"$nulls":7},{"v":0,"d":"€ 0.00"},{"v":0,"d":"€ 0.00"}]
[null,1954,{"$nulls":7},{"v":0,"d":"€ 0.00"},{"v":0,"d":"€ 0.00"}]
[null,1955,{"$nulls":7},{"v":0,"d":"€ 0.00"},{"v":0,"d":"€ 0.00"}]
[null,1956,{"$nulls":7},{"v":0,"d":"€ 0.00"},{"v":0,"d":"€ 0.00"}]
[null,1957,{"$nulls":7},{"v":0,"d":"€ 0.00"},{"v":0,"d":"€ 0.00"}]
[null,1958,{"$nulls":7},{"v":0,"d":"€ 0.00"},{"v":0,"d":"€ 0.00"}]
[null,1959,{"$nulls":7},{"v":0,"d":"€ 0.00"},{"v":0,"d":"€ 0.00"}]
[null,1960,{"$nulls":7},{"v":0,"d":"€ 0.00"},{"v":0,"d":"€ 0.00"}]
[null,1961,{"$nulls":7},{"v":0,"d":"€ 0.00"},{"v":0,"d":"€ 0.00"}]
[null,1962,{"$nulls":7},{"v":0,"d":"€ 0.00"},{"v":0,"d":"€ 0.00"}]
[null,1963,{"$nulls":7},{"v":0,"d":"€ 0.00"},{"v":0,"d":"€ 0.00"}]
[null,1964,{"$nulls":7},{"v":0,"d":"€ 0.00"},{"v":0,"d":"€ 0.00"}]
[null,1965,{"$nulls":7},{"v":0,"d":"€ 0.00"},{"v":0,"d":"€ 0.00"}]
[null,1966,{"$nulls":7},{"v":0,"d":"€ 0.00"},{"v":0,"d":"€ 0.00"}]
[null,1967,{"$nulls":7},{"v":0,"d":"€ 0.00"},{"v":0,"d":"€ 0.00"}]
[null,1968,{"$nulls":7},{"v":0,"d":"€ 0.00"},{"v":0,"d":"€ 0.00"}]
[null,1969,{"$nulls":7},{"v":0,"d":"€ 0.00"},{"v":0,"d":"€ 0.00"}]
[null,1970,{"$nulls":7},{"v":0,"d":"€ 0.00"},{"v":0,"d":"€ 0.00"}]
[null,1971,{"$nulls":7},{"v":0,"d":"€ 0.00"},{"v":0,"d":"€ 0.00"}]
[null,1972,{"$nulls":7},{"v":0,"d":"€ 0.00"},{"v":0,"d":"€ 0.00"}]
[null,1973,{"$nulls":7},{"v":0,"d":"€ 0.00"},{"v":0,"d":"€ 0.00"}]
[null,1974,{"$nulls":7},{"v":0,"d":"€ 0.00"},{"v":0,"d":"€ 0.00"}]
[null,1975,{"$nulls":7},{"v":0,"d":"€ 0.00"},{"v":0,"d":"€ 0.00"}]
[null,1976,{"$nulls":7},{"v":0,"d":"€ 0.00"},{"v":0,"d":"€ 0.00"}]
[null,1977,{"$nulls":7},{"v":0,"d":"€ 0.00"},{"v":0,"d":"€ 0.00"}]
[null,1978,{"$nulls":7},{"v":0,"d":"€ 0.00"},{"v":0,"d":"€ 0.00"}]
[null,1979,{"$nulls":7},{"v":0,"d":"€ 0.00"},{"v":0,"d":"€ 0.00"}]
[null,1980,{"$nulls":7},{"v":0,"d":"€ 0.00"},{"v":0,"d":"€ 0.00"}]
[null,1981,{"$nulls":7},{"v":0,"d":"€ 0.00"},{"v":0,"d":"€ 0.00"}]
[null,1982,{"$nulls":7},{"v":0,"d":"€ 0.00"},{"v":0,"d":"€ 0.00"}]
[null,1983,{"$nulls":7},{"v":0,"d":"€ 0.00"},{"v":0,"d":"€ 0.00"}]
[null,1984,{"$nulls":7},{"v":0,"d":"€ 0.00"},{"v":0,"d":"€ 0.00"}]
[null,1985,{"$nulls":7},{"v":0,"d":"€ 0.00"},{"v":0,"d":"€ 0.00"}]
[null,1986,{"$nulls":7},{"v":0,"d":"€ 0.00"},{"v":0,"d":"€ 0.00"}]
[null,1987,{"$nulls":7},{"v":0,"d":"€ 0.00"},{"v":0,"d":"€ 0.00"}]
[null,1988,{"$nulls":7},{"v":0,"d":"€ 0.00"},{"v":0,"d":"€ 0.00"}]
[null,1989,{"$nulls":7},{"v":0,"d":"€ 0.00"},{"v":0,"d":"€ 0.00"}]
[null,1990,{"$nulls":7},{"v":0,"d":"€ 0.00"},{"v":0,"d":"€ 0.00"}]
[null,1991,{"$nulls":7},{"v":0,"d":"€ 0.00"},{"v":0,"d":"€ 0.00"}]
[null,1992,{"$nulls":7},{"v":0,"d":"€ 0.00"},{"v":0,"d":"€ 0.00"}]
[null,1993,{"$nulls":7},{"v":0,"d":"€ 0.00"},{"v":0,"d":"€ 0.00"}]
[null,1994,{"$nulls":7},{"v":0,"d":"€ 0.00"},{"v":0,"d":"€ 0.00"}]
[null,1995,{"$nulls":7},{"v":0,"d":"€ 0.00"},{"v":0,"d":"€ 0.00"}]
[null,1996,{"$nulls":7},{"v":0,"d":"€ 0.00"},{"v":0,"d":"€ 0.00"}]
[null,1997,{"$nulls":7},{"v":0,"d":"€ 0.00"},{"v":0,"d":"€ 0.00"}]
[null,1998,{"$nulls":7},{"v":0,"d":"€ 0.00"},{"v":0,"d":"€ 0.00"}]
[null,1999,{"$nulls":7},{"v":0,"d":"€ 0.00"},{"v":0,"d":"€ 0.00"}]
[null,2000,{"$nulls":7},{"v":0,"d":"€ 0.00"},{"v":0,"d":"€ 0.00"}]
[null,2001,{"$nulls":7},{"v":0,"d":"€ 0.00"},{"v":0,"d":"€ 0.00"}]
[null,2002,{"$nulls":7},{"v":0,"d":"€ 0.00"},{"v":0,"d":"€ 0.00"}]
[null,2003,{"$nulls":7},{"$f":"IF(OR(ISBLANK(H2010)=TRUE,ISBLANK(I2010)=TRUE),,ROUND(H2010*I2010,2))","v":{"v":0,"d":"€ 0.00"}},{"$f":"G2010+J2010","v":{"v":0,"d":"€ 0.00"}}]
[null,2004,{"$nulls":7},{"v":0,"d":"€ 0.00"},{"v":0,"d":"€ 0.00"}]
[null,2005,{"$nulls":7},{"v":0,"d":"€ 0.00"},{"v":0,"d":"€ 0.00"}]
[null,2006,{"$nulls":7},{"v":0,"d":"€ 0.00"},{"v":0,"d":"€ 0.00"}]
[null,2007,{"$nulls":7},{"v":0,"d":"€ 0.00"},{"v":0,"d":"€ 0.00"}]
[null,2008,{"$nulls":7},{"v":0,"d":"€ 0.00"},{"v":0,"d":"€ 0.00"}]
[null,2009,{"$nulls":7},{"v":0,"d":"€ 0.00"},{"v":0,"d":"€ 0.00"}]
[null,2010,{"$nulls":7},{"v":0,"d":"€ 0.00"},{"v":0,"d":"€ 0.00"}]
[null,2011,{"$nulls":7},{"v":0,"d":"€ 0.00"},{"v":0,"d":"€ 0.00"}]
[null,2012,{"$nulls":7},{"v":0,"d":"€ 0.00"},{"v":0,"d":"€ 0.00"}]
[null,2013,{"$nulls":7},{"v":0,"d":"€ 0.00"},{"v":0,"d":"€ 0.00"}]
[null,2014,{"$nulls":7},{"v":0,"d":"€ 0.00"},{"v":0,"d":"€ 0.00"}]
[null,2015,{"$nulls":7},{"v":0,"d":"€ 0.00"},{"v":0,"d":"€ 0.00"}]
[null,2016,{"$nulls":7},{"v":0,"d":"€ 0.00"},{"v":0,"d":"€ 0.00"}]
[null,2017,{"$nulls":7},{"v":0,"d":"€ 0.00"},{"v":0,"d":"€ 0.00"}]
[null,2018,{"$nulls":7},{"v":0,"d":"€ 0.00"},{"v":0,"d":"€ 0.00"}]
[null,2019,{"$nulls":7},{"v":0,"d":"€ 0.00"},{"v":0,"d":"€ 0.00"}]
[null,2020,{"$nulls":7},{"v":0,"d":"€ 0.00"},{"v":0,"d":"€ 0.00"}]
[null,2021,{"$nulls":7},{"v":0,"d":"€ 0.00"},{"v":0,"d":"€ 0.00"}]
[null,2022,{"$nulls":7},{"v":0,"d":"€ 0.00"},{"v":0,"d":"€ 0.00"}]
[null,2023,{"$nulls":7},{"v":0,"d":"€ 0.00"},{"v":0,"d":"€ 0.00"}]
[null,2024,{"$nulls":7},{"v":0,"d":"€ 0.00"},{"v":0,"d":"€ 0.00"}]
[null,2025,{"$nulls":7},{"v":0,"d":"€ 0.00"},{"v":0,"d":"€ 0.00"}]
[null,2026,{"$nulls":7},{"v":0,"d":"€ 0.00"},{"v":0,"d":"€ 0.00"}]
[null,2027,{"$nulls":7},{"v":0,"d":"€ 0.00"},{"v":0,"d":"€ 0.00"}]
[null,2028,{"$nulls":7},{"v":0,"d":"€ 0.00"},{"v":0,"d":"€ 0.00"}]
[null,2029,{"$nulls":7},{"v":0,"d":"€ 0.00"},{"v":0,"d":"€ 0.00"}]
[null,2030,{"$nulls":7},{"v":0,"d":"€ 0.00"},{"v":0,"d":"€ 0.00"}]
[null,2031,{"$nulls":7},{"v":0,"d":"€ 0.00"},{"v":0,"d":"€ 0.00"}]
[null,2032,{"$nulls":7},{"v":0,"d":"€ 0.00"},{"v":0,"d":"€ 0.00"}]
[null,2033,{"$nulls":7},{"v":0,"d":"€ 0.00"},{"v":0,"d":"€ 0.00"}]
[null,2034,{"$nulls":7},{"v":0,"d":"€ 0.00"},{"v":0,"d":"€ 0.00"}]
[null,2035,{"$nulls":7},{"v":0,"d":"€ 0.00"},{"v":0,"d":"€ 0.00"}]
[null,2036,{"$nulls":7},{"v":0,"d":"€ 0.00"},{"v":0,"d":"€ 0.00"}]
[null,2037,{"$nulls":7},{"v":0,"d":"€ 0.00"},{"v":0,"d":"€ 0.00"}]
[null,2038,{"$nulls":7},{"v":0,"d":"€ 0.00"},{"v":0,"d":"€ 0.00"}]
[null,2039,{"$nulls":7},{"v":0,"d":"€ 0.00"},{"v":0,"d":"€ 0.00"}]
[null,2040,{"$nulls":7},{"v":0,"d":"€ 0.00"},{"v":0,"d":"€ 0.00"}]
[null,2041,{"$nulls":7},{"v":0,"d":"€ 0.00"},{"v":0,"d":"€ 0.00"}]
[null,2042,{"$nulls":7},{"v":0,"d":"€ 0.00"},{"v":0,"d":"€ 0.00"}]
[null,2043,{"$nulls":7},{"v":0,"d":"€ 0.00"},{"v":0,"d":"€ 0.00"}]
[null,2044,{"$nulls":7},{"v":0,"d":"€ 0.00"},{"v":0,"d":"€ 0.00"}]
[null,2045,{"$nulls":7},{"v":0,"d":"€ 0.00"},{"v":0,"d":"€ 0.00"}]
[null,2046,{"$nulls":7},{"v":0,"d":"€ 0.00"},{"v":0,"d":"€ 0.00"}]
[null,2047,{"$nulls":7},{"v":0,"d":"€ 0.00"},{"v":0,"d":"€ 0.00"}]
[null,2048,{"$nulls":7},{"v":0,"d":"€ 0.00"},{"v":0,"d":"€ 0.00"}]
[null,2049,{"$nulls":7},{"v":0,"d":"€ 0.00"},{"v":0,"d":"€ 0.00"}]
[null,2050,{"$nulls":7},{"v":0,"d":"€ 0.00"},{"v":0,"d":"€ 0.00"}]
[null,2051,{"$nulls":7},{"v":0,"d":"€ 0.00"},{"v":0,"d":"€ 0.00"}]
[null,2052,{"$nulls":7},{"v":0,"d":"€ 0.00"},{"v":0,"d":"€ 0.00"}]
[null,2053,{"$nulls":7},{"v":0,"d":"€ 0.00"},{"v":0,"d":"€ 0.00"}]
[null,2054,{"$nulls":7},{"v":0,"d":"€ 0.00"},{"v":0,"d":"€ 0.00"}]
[null,2055,{"$nulls":7},{"v":0,"d":"€ 0.00"},{"v":0,"d":"€ 0.00"}]
[null,2056,{"$nulls":7},{"v":0,"d":"€ 0.00"},{"v":0,"d":"€ 0.00"}]
[null,2057,{"$nulls":7},{"v":0,"d":"€ 0.00"},{"v":0,"d":"€ 0.00"}]
[null,2058,{"$nulls":7},{"v":0,"d":"€ 0.00"},{"v":0,"d":"€ 0.00"}]
[null,2059,{"$nulls":7},{"v":0,"d":"€ 0.00"},{"v":0,"d":"€ 0.00"}]
[null,2060,{"$nulls":7},{"v":0,"d":"€ 0.00"},{"v":0,"d":"€ 0.00"}]
[null,2061,{"$nulls":7},{"v":0,"d":"€ 0.00"},{"v":0,"d":"€ 0.00"}]
[null,2062,{"$nulls":7},{"v":0,"d":"€ 0.00"},{"v":0,"d":"€ 0.00"}]
[null,2063,{"$nulls":7},{"v":0,"d":"€ 0.00"},{"v":0,"d":"€ 0.00"}]
[null,2064,{"$nulls":7},{"v":0,"d":"€ 0.00"},{"v":0,"d":"€ 0.00"}]
[null,2065,{"$nulls":7},{"v":0,"d":"€ 0.00"},{"v":0,"d":"€ 0.00"}]
[null,2066,{"$nulls":7},{"v":0,"d":"€ 0.00"},{"v":0,"d":"€ 0.00"}]
[null,2067,{"$nulls":7},{"$f":"IF(OR(ISBLANK(H2074)=TRUE,ISBLANK(I2074)=TRUE),,ROUND(H2074*I2074,2))","v":{"v":0,"d":"€ 0.00"}},{"$f":"G2074+J2074","v":{"v":0,"d":"€ 0.00"}}]
[null,2068,{"$nulls":7},{"v":0,"d":"€ 0.00"},{"v":0,"d":"€ 0.00"}]
[null,2069,{"$nulls":7},{"v":0,"d":"€ 0.00"},{"v":0,"d":"€ 0.00"}]
[null,2070,{"$nulls":7},{"v":0,"d":"€ 0.00"},{"v":0,"d":"€ 0.00"}]
[null,2071,{"$nulls":7},{"v":0,"d":"€ 0.00"},{"v":0,"d":"€ 0.00"}]
[null,2072,{"$nulls":7},{"v":0,"d":"€ 0.00"},{"v":0,"d":"€ 0.00"}]
[null,2073,{"$nulls":7},{"v":0,"d":"€ 0.00"},{"v":0,"d":"€ 0.00"}]
[null,2074,{"$nulls":7},{"v":0,"d":"€ 0.00"},{"v":0,"d":"€ 0.00"}]
[null,2075,{"$nulls":7},{"v":0,"d":"€ 0.00"},{"v":0,"d":"€ 0.00"}]
[null,2076,{"$nulls":7},{"v":0,"d":"€ 0.00"},{"v":0,"d":"€ 0.00"}]
[null,2077,{"$nulls":7},{"v":0,"d":"€ 0.00"},{"v":0,"d":"€ 0.00"}]
[null,2078,{"$nulls":7},{"v":0,"d":"€ 0.00"},{"v":0,"d":"€ 0.00"}]
[null,2079,{"$nulls":7},{"v":0,"d":"€ 0.00"},{"v":0,"d":"€ 0.00"}]
[null,2080,{"$nulls":7},{"v":0,"d":"€ 0.00"},{"v":0,"d":"€ 0.00"}]
[null,2081,{"$nulls":7},{"v":0,"d":"€ 0.00"},{"v":0,"d":"€ 0.00"}]
[null,2082,{"$nulls":7},{"v":0,"d":"€ 0.00"},{"v":0,"d":"€ 0.00"}]
[null,2083,{"$nulls":7},{"v":0,"d":"€ 0.00"},{"v":0,"d":"€ 0.00"}]
[null,2084,{"$nulls":7},{"v":0,"d":"€ 0.00"},{"v":0,"d":"€ 0.00"}]
[null,2085,{"$nulls":7},{"v":0,"d":"€ 0.00"},{"v":0,"d":"€ 0.00"}]
[null,2086,{"$nulls":7},{"v":0,"d":"€ 0.00"},{"v":0,"d":"€ 0.00"}]
[null,2087,{"$nulls":7},{"v":0,"d":"€ 0.00"},{"v":0,"d":"€ 0.00"}]
[null,2088,{"$nulls":7},{"v":0,"d":"€ 0.00"},{"v":0,"d":"€ 0.00"}]
[null,2089,{"$nulls":7},{"v":0,"d":"€ 0.00"},{"v":0,"d":"€ 0.00"}]
[null,2090,{"$nulls":7},{"v":0,"d":"€ 0.00"},{"v":0,"d":"€ 0.00"}]
[null,2091,{"$nulls":7},{"v":0,"d":"€ 0.00"},{"v":0,"d":"€ 0.00"}]
[null,2092,{"$nulls":7},{"v":0,"d":"€ 0.00"},{"v":0,"d":"€ 0.00"}]
[null,2093,{"$nulls":7},{"v":0,"d":"€ 0.00"},{"v":0,"d":"€ 0.00"}]
[null,2094,{"$nulls":7},{"v":0,"d":"€ 0.00"},{"v":0,"d":"€ 0.00"}]
[null,2095,{"$nulls":7},{"v":0,"d":"€ 0.00"},{"v":0,"d":"€ 0.00"}]
[null,2096,{"$nulls":7},{"v":0,"d":"€ 0.00"},{"v":0,"d":"€ 0.00"}]
[null,2097,{"$nulls":7},{"v":0,"d":"€ 0.00"},{"v":0,"d":"€ 0.00"}]
[null,2098,{"$nulls":7},{"v":0,"d":"€ 0.00"},{"v":0,"d":"€ 0.00"}]
[null,2099,{"$nulls":7},{"v":0,"d":"€ 0.00"},{"v":0,"d":"€ 0.00"}]
[null,2100,{"$nulls":7},{"v":0,"d":"€ 0.00"},{"v":0,"d":"€ 0.00"}]
[null,2101,{"$nulls":7},{"v":0,"d":"€ 0.00"},{"v":0,"d":"€ 0.00"}]
[null,2102,{"$nulls":7},{"v":0,"d":"€ 0.00"},{"v":0,"d":"€ 0.00"}]
[null,2103,{"$nulls":7},{"v":0,"d":"€ 0.00"},{"v":0,"d":"€ 0.00"}]
[null,2104,{"$nulls":7},{"v":0,"d":"€ 0.00"},{"v":0,"d":"€ 0.00"}]
[null,2105,{"$nulls":7},{"v":0,"d":"€ 0.00"},{"v":0,"d":"€ 0.00"}]
[null,2106,{"$nulls":7},{"v":0,"d":"€ 0.00"},{"v":0,"d":"€ 0.00"}]
[null,2107,{"$nulls":7},{"v":0,"d":"€ 0.00"},{"v":0,"d":"€ 0.00"}]
[null,2108,{"$nulls":7},{"v":0,"d":"€ 0.00"},{"v":0,"d":"€ 0.00"}]
[null,2109,{"$nulls":7},{"v":0,"d":"€ 0.00"},{"v":0,"d":"€ 0.00"}]
[null,2110,{"$nulls":7},{"v":0,"d":"€ 0.00"},{"v":0,"d":"€ 0.00"}]
[null,2111,{"$nulls":7},{"v":0,"d":"€ 0.00"},{"v":0,"d":"€ 0.00"}]
[null,2112,{"$nulls":7},{"v":0,"d":"€ 0.00"},{"v":0,"d":"€ 0.00"}]
[null,2113,{"$nulls":7},{"v":0,"d":"€ 0.00"},{"v":0,"d":"€ 0.00"}]
[null,2114,{"$nulls":7},{"v":0,"d":"€ 0.00"},{"v":0,"d":"€ 0.00"}]
[null,2115,{"$nulls":7},{"v":0,"d":"€ 0.00"},{"v":0,"d":"€ 0.00"}]
[null,2116,{"$nulls":7},{"v":0,"d":"€ 0.00"},{"v":0,"d":"€ 0.00"}]
[null,2117,{"$nulls":7},{"v":0,"d":"€ 0.00"},{"v":0,"d":"€ 0.00"}]
[null,2118,{"$nulls":7},{"v":0,"d":"€ 0.00"},{"v":0,"d":"€ 0.00"}]
[null,2119,{"$nulls":7},{"v":0,"d":"€ 0.00"},{"v":0,"d":"€ 0.00"}]
[null,2120,{"$nulls":7},{"v":0,"d":"€ 0.00"},{"v":0,"d":"€ 0.00"}]
[null,2121,{"$nulls":7},{"v":0,"d":"€ 0.00"},{"v":0,"d":"€ 0.00"}]
[null,2122,{"$nulls":7},{"v":0,"d":"€ 0.00"},{"v":0,"d":"€ 0.00"}]
[null,2123,{"$nulls":7},{"v":0,"d":"€ 0.00"},{"v":0,"d":"€ 0.00"}]
[null,2124,{"$nulls":7},{"v":0,"d":"€ 0.00"},{"v":0,"d":"€ 0.00"}]
[null,2125,{"$nulls":7},{"v":0,"d":"€ 0.00"},{"v":0,"d":"€ 0.00"}]
[null,2126,{"$nulls":7},{"v":0,"d":"€ 0.00"},{"v":0,"d":"€ 0.00"}]
[null,2127,{"$nulls":7},{"v":0,"d":"€ 0.00"},{"v":0,"d":"€ 0.00"}]
[null,2128,{"$nulls":7},{"v":0,"d":"€ 0.00"},{"v":0,"d":"€ 0.00"}]
[null,2129,{"$nulls":7},{"v":0,"d":"€ 0.00"},{"v":0,"d":"€ 0.00"}]
[null,2130,{"$nulls":7},{"v":0,"d":"€ 0.00"},{"v":0,"d":"€ 0.00"}]
[null,2131,{"$nulls":7},{"$f":"IF(OR(ISBLANK(H2138)=TRUE,ISBLANK(I2138)=TRUE),,ROUND(H2138*I2138,2))","v":{"v":0,"d":"€ 0.00"}},{"$f":"G2138+J2138","v":{"v":0,"d":"€ 0.00"}}]
[null,2132,{"$nulls":7},{"v":0,"d":"€ 0.00"},{"v":0,"d":"€ 0.00"}]
[null,2133,{"$nulls":7},{"v":0,"d":"€ 0.00"},{"v":0,"d":"€ 0.00"}]
[null,2134,{"$nulls":7},{"v":0,"d":"€ 0.00"},{"v":0,"d":"€ 0.00"}]
[null,2135,{"$nulls":7},{"v":0,"d":"€ 0.00"},{"v":0,"d":"€ 0.00"}]
[null,2136,{"$nulls":7},{"v":0,"d":"€ 0.00"},{"v":0,"d":"€ 0.00"}]
[null,2137,{"$nulls":7},{"v":0,"d":"€ 0.00"},{"v":0,"d":"€ 0.00"}]
[null,2138,{"$nulls":7},{"v":0,"d":"€ 0.00"},{"v":0,"d":"€ 0.00"}]
[null,2139,{"$nulls":7},{"v":0,"d":"€ 0.00"},{"v":0,"d":"€ 0.00"}]
[null,2140,{"$nulls":7},{"v":0,"d":"€ 0.00"},{"v":0,"d":"€ 0.00"}]
[null,2141,{"$nulls":7},{"v":0,"d":"€ 0.00"},{"v":0,"d":"€ 0.00"}]
[null,2142,{"$nulls":7},{"v":0,"d":"€ 0.00"},{"v":0,"d":"€ 0.00"}]
[null,2143,{"$nulls":7},{"v":0,"d":"€ 0.00"},{"v":0,"d":"€ 0.00"}]
[null,2144,{"$nulls":7},{"v":0,"d":"€ 0.00"},{"v":0,"d":"€ 0.00"}]
[null,2145,{"$nulls":7},{"v":0,"d":"€ 0.00"},{"v":0,"d":"€ 0.00"}]
[null,2146,{"$nulls":7},{"v":0,"d":"€ 0.00"},{"v":0,"d":"€ 0.00"}]
[null,2147,{"$nulls":7},{"v":0,"d":"€ 0.00"},{"v":0,"d":"€ 0.00"}]
[null,2148,{"$nulls":7},{"v":0,"d":"€ 0.00"},{"v":0,"d":"€ 0.00"}]
[null,2149,{"$nulls":7},{"v":0,"d":"€ 0.00"},{"v":0,"d":"€ 0.00"}]
[null,2150,{"$nulls":7},{"v":0,"d":"€ 0.00"},{"v":0,"d":"€ 0.00"}]
[null,2151,{"$nulls":7},{"v":0,"d":"€ 0.00"},{"v":0,"d":"€ 0.00"}]
[null,2152,{"$nulls":7},{"v":0,"d":"€ 0.00"},{"v":0,"d":"€ 0.00"}]
[null,2153,{"$nulls":7},{"v":0,"d":"€ 0.00"},{"v":0,"d":"€ 0.00"}]
[null,2154,{"$nulls":7},{"v":0,"d":"€ 0.00"},{"v":0,"d":"€ 0.00"}]
[null,2155,{"$nulls":7},{"v":0,"d":"€ 0.00"},{"v":0,"d":"€ 0.00"}]
[null,2156,{"$nulls":7},{"v":0,"d":"€ 0.00"},{"v":0,"d":"€ 0.00"}]
[null,2157,{"$nulls":7},{"v":0,"d":"€ 0.00"},{"v":0,"d":"€ 0.00"}]
[null,2158,{"$nulls":7},{"v":0,"d":"€ 0.00"},{"v":0,"d":"€ 0.00"}]
[null,2159,{"$nulls":7},{"v":0,"d":"€ 0.00"},{"v":0,"d":"€ 0.00"}]
[null,2160,{"$nulls":7},{"v":0,"d":"€ 0.00"},{"v":0,"d":"€ 0.00"}]
[null,2161,{"$nulls":7},{"v":0,"d":"€ 0.00"},{"v":0,"d":"€ 0.00"}]
[null,2162,{"$nulls":7},{"v":0,"d":"€ 0.00"},{"v":0,"d":"€ 0.00"}]
[null,2163,{"$nulls":7},{"v":0,"d":"€ 0.00"},{"v":0,"d":"€ 0.00"}]
[null,2164,{"$nulls":7},{"v":0,"d":"€ 0.00"},{"v":0,"d":"€ 0.00"}]
[null,2165,{"$nulls":7},{"v":0,"d":"€ 0.00"},{"v":0,"d":"€ 0.00"}]
[null,2166,{"$nulls":7},{"v":0,"d":"€ 0.00"},{"v":0,"d":"€ 0.00"}]
[null,2167,{"$nulls":7},{"v":0,"d":"€ 0.00"},{"v":0,"d":"€ 0.00"}]
[null,2168,{"$nulls":7},{"v":0,"d":"€ 0.00"},{"v":0,"d":"€ 0.00"}]
[null,2169,{"$nulls":7},{"v":0,"d":"€ 0.00"},{"v":0,"d":"€ 0.00"}]
[null,2170,{"$nulls":7},{"v":0,"d":"€ 0.00"},{"v":0,"d":"€ 0.00"}]
[null,2171,{"$nulls":7},{"v":0,"d":"€ 0.00"},{"v":0,"d":"€ 0.00"}]
[null,2172,{"$nulls":7},{"v":0,"d":"€ 0.00"},{"v":0,"d":"€ 0.00"}]
[null,2173,{"$nulls":7},{"v":0,"d":"€ 0.00"},{"v":0,"d":"€ 0.00"}]
[null,2174,{"$nulls":7},{"v":0,"d":"€ 0.00"},{"v":0,"d":"€ 0.00"}]
[null,2175,{"$nulls":7},{"v":0,"d":"€ 0.00"},{"v":0,"d":"€ 0.00"}]
[null,2176,{"$nulls":7},{"v":0,"d":"€ 0.00"},{"v":0,"d":"€ 0.00"}]
[null,2177,{"$nulls":7},{"v":0,"d":"€ 0.00"},{"v":0,"d":"€ 0.00"}]
[null,2178,{"$nulls":7},{"v":0,"d":"€ 0.00"},{"v":0,"d":"€ 0.00"}]
[null,2179,{"$nulls":7},{"v":0,"d":"€ 0.00"},{"v":0,"d":"€ 0.00"}]
[null,2180,{"$nulls":7},{"v":0,"d":"€ 0.00"},{"v":0,"d":"€ 0.00"}]
[null,2181,{"$nulls":7},{"v":0,"d":"€ 0.00"},{"v":0,"d":"€ 0.00"}]
[null,2182,{"$nulls":7},{"v":0,"d":"€ 0.00"},{"v":0,"d":"€ 0.00"}]
[null,2183,{"$nulls":7},{"v":0,"d":"€ 0.00"},{"v":0,"d":"€ 0.00"}]
[null,2184,{"$nulls":7},{"v":0,"d":"€ 0.00"},{"v":0,"d":"€ 0.00"}]
[null,2185,{"$nulls":7},{"v":0,"d":"€ 0.00"},{"v":0,"d":"€ 0.00"}]
[null,2186,{"$nulls":7},{"v":0,"d":"€ 0.00"},{"v":0,"d":"€ 0.00"}]
[null,2187,{"$nulls":7},{"v":0,"d":"€ 0.00"},{"v":0,"d":"€ 0.00"}]
[null,2188,{"$nulls":7},{"v":0,"d":"€ 0.00"},{"v":0,"d":"€ 0.00"}]
[null,2189,{"$nulls":7},{"v":0,"d":"€ 0.00"},{"v":0,"d":"€ 0.00"}]
[null,2190,{"$nulls":7},{"v":0,"d":"€ 0.00"},{"v":0,"d":"€ 0.00"}]
[null,2191,{"$nulls":7},{"v":0,"d":"€ 0.00"},{"v":0,"d":"€ 0.00"}]
[null,2192,{"$nulls":7},{"v":0,"d":"€ 0.00"},{"v":0,"d":"€ 0.00"}]
[null,2193,{"$nulls":7},{"v":0,"d":"€ 0.00"},{"v":0,"d":"€ 0.00"}]
[null,2194,{"$nulls":7},{"v":0,"d":"€ 0.00"},{"v":0,"d":"€ 0.00"}]
[null,2195,{"$nulls":7},{"$f":"IF(OR(ISBLANK(H2202)=TRUE,ISBLANK(I2202)=TRUE),,ROUND(H2202*I2202,2))","v":{"v":0,"d":"€ 0.00"}},{"$f":"G2202+J2202","v":{"v":0,"d":"€ 0.00"}}]
[null,2196,{"$nulls":7},{"v":0,"d":"€ 0.00"},{"v":0,"d":"€ 0.00"}]
[null,2197,{"$nulls":7},{"v":0,"d":"€ 0.00"},{"v":0,"d":"€ 0.00"}]
[null,2198,{"$nulls":7},{"v":0,"d":"€ 0.00"},{"v":0,"d":"€ 0.00"}]
[null,2199,{"$nulls":7},{"v":0,"d":"€ 0.00"},{"v":0,"d":"€ 0.00"}]
[null,2200,{"$nulls":7},{"v":0,"d":"€ 0.00"},{"v":0,"d":"€ 0.00"}]
[null,2201,{"$nulls":7},{"v":0,"d":"€ 0.00"},{"v":0,"d":"€ 0.00"}]
[null,2202,{"$nulls":7},{"v":0,"d":"€ 0.00"},{"v":0,"d":"€ 0.00"}]
[null,2203,{"$nulls":7},{"v":0,"d":"€ 0.00"},{"v":0,"d":"€ 0.00"}]
[null,2204,{"$nulls":7},{"v":0,"d":"€ 0.00"},{"v":0,"d":"€ 0.00"}]
[null,2205,{"$nulls":7},{"v":0,"d":"€ 0.00"},{"v":0,"d":"€ 0.00"}]
[null,2206,{"$nulls":7},{"v":0,"d":"€ 0.00"},{"v":0,"d":"€ 0.00"}]
[null,2207,{"$nulls":7},{"v":0,"d":"€ 0.00"},{"v":0,"d":"€ 0.00"}]
[null,2208,{"$nulls":7},{"v":0,"d":"€ 0.00"},{"v":0,"d":"€ 0.00"}]
[null,2209,{"$nulls":7},{"v":0,"d":"€ 0.00"},{"v":0,"d":"€ 0.00"}]
[null,2210,{"$nulls":7},{"v":0,"d":"€ 0.00"},{"v":0,"d":"€ 0.00"}]
[null,2211,{"$nulls":7},{"v":0,"d":"€ 0.00"},{"v":0,"d":"€ 0.00"}]
[null,2212,{"$nulls":7},{"v":0,"d":"€ 0.00"},{"v":0,"d":"€ 0.00"}]
[null,2213,{"$nulls":7},{"v":0,"d":"€ 0.00"},{"v":0,"d":"€ 0.00"}]
[null,2214,{"$nulls":7},{"v":0,"d":"€ 0.00"},{"v":0,"d":"€ 0.00"}]
[null,2215,{"$nulls":7},{"v":0,"d":"€ 0.00"},{"v":0,"d":"€ 0.00"}]
[null,2216,{"$nulls":7},{"v":0,"d":"€ 0.00"},{"v":0,"d":"€ 0.00"}]
[null,2217,{"$nulls":7},{"v":0,"d":"€ 0.00"},{"v":0,"d":"€ 0.00"}]
[null,2218,{"$nulls":7},{"v":0,"d":"€ 0.00"},{"v":0,"d":"€ 0.00"}]
[null,2219,{"$nulls":7},{"v":0,"d":"€ 0.00"},{"v":0,"d":"€ 0.00"}]
[null,2220,{"$nulls":7},{"v":0,"d":"€ 0.00"},{"v":0,"d":"€ 0.00"}]
[null,2221,{"$nulls":7},{"v":0,"d":"€ 0.00"},{"v":0,"d":"€ 0.00"}]
[null,2222,{"$nulls":7},{"v":0,"d":"€ 0.00"},{"v":0,"d":"€ 0.00"}]
[null,2223,{"$nulls":7},{"v":0,"d":"€ 0.00"},{"v":0,"d":"€ 0.00"}]
[null,2224,{"$nulls":7},{"v":0,"d":"€ 0.00"},{"v":0,"d":"€ 0.00"}]
[null,2225,{"$nulls":7},{"v":0,"d":"€ 0.00"},{"v":0,"d":"€ 0.00"}]
[null,2226,{"$nulls":7},{"v":0,"d":"€ 0.00"},{"v":0,"d":"€ 0.00"}]
[null,2227,{"$nulls":7},{"v":0,"d":"€ 0.00"},{"v":0,"d":"€ 0.00"}]
[null,2228,{"$nulls":7},{"v":0,"d":"€ 0.00"},{"v":0,"d":"€ 0.00"}]
[null,2229,{"$nulls":7},{"v":0,"d":"€ 0.00"},{"v":0,"d":"€ 0.00"}]
[null,2230,{"$nulls":7},{"v":0,"d":"€ 0.00"},{"v":0,"d":"€ 0.00"}]
[null,2231,{"$nulls":7},{"v":0,"d":"€ 0.00"},{"v":0,"d":"€ 0.00"}]
[null,2232,{"$nulls":7},{"v":0,"d":"€ 0.00"},{"v":0,"d":"€ 0.00"}]
[null,2233,{"$nulls":7},{"v":0,"d":"€ 0.00"},{"v":0,"d":"€ 0.00"}]
[null,2234,{"$nulls":7},{"v":0,"d":"€ 0.00"},{"v":0,"d":"€ 0.00"}]
[null,2235,{"$nulls":7},{"v":0,"d":"€ 0.00"},{"v":0,"d":"€ 0.00"}]
[null,2236,{"$nulls":7},{"v":0,"d":"€ 0.00"},{"v":0,"d":"€ 0.00"}]
[null,2237,{"$nulls":7},{"v":0,"d":"€ 0.00"},{"v":0,"d":"€ 0.00"}]
[null,2238,{"$nulls":7},{"v":0,"d":"€ 0.00"},{"v":0,"d":"€ 0.00"}]
[null,2239,{"$nulls":7},{"v":0,"d":"€ 0.00"},{"v":0,"d":"€ 0.00"}]
[null,2240,{"$nulls":7},{"v":0,"d":"€ 0.00"},{"v":0,"d":"€ 0.00"}]
[null,2241,{"$nulls":7},{"v":0,"d":"€ 0.00"},{"v":0,"d":"€ 0.00"}]
[null,2242,{"$nulls":7},{"v":0,"d":"€ 0.00"},{"v":0,"d":"€ 0.00"}]
[null,2243,{"$nulls":7},{"v":0,"d":"€ 0.00"},{"v":0,"d":"€ 0.00"}]
[null,2244,{"$nulls":7},{"v":0,"d":"€ 0.00"},{"v":0,"d":"€ 0.00"}]
[null,2245,{"$nulls":7},{"v":0,"d":"€ 0.00"},{"v":0,"d":"€ 0.00"}]
[null,2246,{"$nulls":7},{"v":0,"d":"€ 0.00"},{"v":0,"d":"€ 0.00"}]
[null,2247,{"$nulls":7},{"v":0,"d":"€ 0.00"},{"v":0,"d":"€ 0.00"}]
[null,2248,{"$nulls":7},{"v":0,"d":"€ 0.00"},{"v":0,"d":"€ 0.00"}]
[null,2249,{"$nulls":7},{"v":0,"d":"€ 0.00"},{"v":0,"d":"€ 0.00"}]
[null,2250,{"$nulls":7},{"v":0,"d":"€ 0.00"},{"v":0,"d":"€ 0.00"}]
[null,2251,{"$nulls":7},{"v":0,"d":"€ 0.00"},{"v":0,"d":"€ 0.00"}]
[null,2252,{"$nulls":7},{"v":0,"d":"€ 0.00"},{"v":0,"d":"€ 0.00"}]
[null,2253,{"$nulls":7},{"v":0,"d":"€ 0.00"},{"v":0,"d":"€ 0.00"}]
[null,2254,{"$nulls":7},{"v":0,"d":"€ 0.00"},{"v":0,"d":"€ 0.00"}]
[null,2255,{"$nulls":7},{"v":0,"d":"€ 0.00"},{"v":0,"d":"€ 0.00"}]
[null,2256,{"$nulls":7},{"v":0,"d":"€ 0.00"},{"v":0,"d":"€ 0.00"}]
[null,2257,{"$nulls":7},{"v":0,"d":"€ 0.00"},{"v":0,"d":"€ 0.00"}]
[null,2258,{"$nulls":7},{"v":0,"d":"€ 0.00"},{"v":0,"d":"€ 0.00"}]
[null,2259,{"$nulls":7},{"$f":"IF(OR(ISBLANK(H2266)=TRUE,ISBLANK(I2266)=TRUE),,ROUND(H2266*I2266,2))","v":{"v":0,"d":"€ 0.00"}},{"$f":"G2266+J2266","v":{"v":0,"d":"€ 0.00"}}]
[null,2260,{"$nulls":7},{"v":0,"d":"€ 0.00"},{"v":0,"d":"€ 0.00"}]
[null,2261,{"$nulls":7},{"v":0,"d":"€ 0.00"},{"v":0,"d":"€ 0.00"}]
[null,2262,{"$nulls":7},{"v":0,"d":"€ 0.00"},{"v":0,"d":"€ 0.00"}]
[null,2263,{"$nulls":7},{"v":0,"d":"€ 0.00"},{"v":0,"d":"€ 0.00"}]
[null,2264,{"$nulls":7},{"v":0,"d":"€ 0.00"},{"v":0,"d":"€ 0.00"}]
[null,2265,{"$nulls":7},{"v":0,"d":"€ 0.00"},{"v":0,"d":"€ 0.00"}]
[null,2266,{"$nulls":7},{"v":0,"d":"€ 0.00"},{"v":0,"d":"€ 0.00"}]
[null,2267,{"$nulls":7},{"v":0,"d":"€ 0.00"},{"v":0,"d":"€ 0.00"}]
[null,2268,{"$nulls":7},{"v":0,"d":"€ 0.00"},{"v":0,"d":"€ 0.00"}]
[null,2269,{"$nulls":7},{"v":0,"d":"€ 0.00"},{"v":0,"d":"€ 0.00"}]
[null,2270,{"$nulls":7},{"v":0,"d":"€ 0.00"},{"v":0,"d":"€ 0.00"}]
[null,2271,{"$nulls":7},{"v":0,"d":"€ 0.00"},{"v":0,"d":"€ 0.00"}]
[null,2272,{"$nulls":7},{"v":0,"d":"€ 0.00"},{"v":0,"d":"€ 0.00"}]
[null,2273,{"$nulls":7},{"v":0,"d":"€ 0.00"},{"v":0,"d":"€ 0.00"}]
[null,2274,{"$nulls":7},{"v":0,"d":"€ 0.00"},{"v":0,"d":"€ 0.00"}]
[null,2275,{"$nulls":7},{"v":0,"d":"€ 0.00"},{"v":0,"d":"€ 0.00"}]
[null,2276,{"$nulls":7},{"v":0,"d":"€ 0.00"},{"v":0,"d":"€ 0.00"}]
[null,2277,{"$nulls":7},{"v":0,"d":"€ 0.00"},{"v":0,"d":"€ 0.00"}]
[null,2278,{"$nulls":7},{"v":0,"d":"€ 0.00"},{"v":0,"d":"€ 0.00"}]
[null,2279,{"$nulls":7},{"v":0,"d":"€ 0.00"},{"v":0,"d":"€ 0.00"}]
[null,2280,{"$nulls":7},{"v":0,"d":"€ 0.00"},{"v":0,"d":"€ 0.00"}]
[null,2281,{"$nulls":7},{"v":0,"d":"€ 0.00"},{"v":0,"d":"€ 0.00"}]
[null,2282,{"$nulls":7},{"v":0,"d":"€ 0.00"},{"v":0,"d":"€ 0.00"}]
[null,2283,{"$nulls":7},{"v":0,"d":"€ 0.00"},{"v":0,"d":"€ 0.00"}]
[null,2284,{"$nulls":7},{"v":0,"d":"€ 0.00"},{"v":0,"d":"€ 0.00"}]
[null,2285,{"$nulls":7},{"v":0,"d":"€ 0.00"},{"v":0,"d":"€ 0.00"}]
[null,2286,{"$nulls":7},{"v":0,"d":"€ 0.00"},{"v":0,"d":"€ 0.00"}]
[null,2287,{"$nulls":7},{"v":0,"d":"€ 0.00"},{"v":0,"d":"€ 0.00"}]
[null,2288,{"$nulls":7},{"v":0,"d":"€ 0.00"},{"v":0,"d":"€ 0.00"}]
[null,2289,{"$nulls":7},{"v":0,"d":"€ 0.00"},{"v":0,"d":"€ 0.00"}]
[null,2290,{"$nulls":7},{"v":0,"d":"€ 0.00"},{"v":0,"d":"€ 0.00"}]
[null,2291,{"$nulls":7},{"v":0,"d":"€ 0.00"},{"v":0,"d":"€ 0.00"}]
[null,2292,{"$nulls":7},{"v":0,"d":"€ 0.00"},{"v":0,"d":"€ 0.00"}]
[null,2293,{"$nulls":7},{"v":0,"d":"€ 0.00"},{"v":0,"d":"€ 0.00"}]
[null,2294,{"$nulls":7},{"v":0,"d":"€ 0.00"},{"v":0,"d":"€ 0.00"}]
[null,2295,{"$nulls":7},{"v":0,"d":"€ 0.00"},{"v":0,"d":"€ 0.00"}]
[null,2296,{"$nulls":7},{"v":0,"d":"€ 0.00"},{"v":0,"d":"€ 0.00"}]
[null,2297,{"$nulls":7},{"v":0,"d":"€ 0.00"},{"v":0,"d":"€ 0.00"}]
[null,2298,{"$nulls":7},{"v":0,"d":"€ 0.00"},{"v":0,"d":"€ 0.00"}]
[null,2299,{"$nulls":7},{"v":0,"d":"€ 0.00"},{"v":0,"d":"€ 0.00"}]
[null,2300,{"$nulls":7},{"v":0,"d":"€ 0.00"},{"v":0,"d":"€ 0.00"}]
[null,2301,{"$nulls":7},{"v":0,"d":"€ 0.00"},{"v":0,"d":"€ 0.00"}]
[null,2302,{"$nulls":7},{"v":0,"d":"€ 0.00"},{"v":0,"d":"€ 0.00"}]
[null,2303,{"$nulls":7},{"v":0,"d":"€ 0.00"},{"v":0,"d":"€ 0.00"}]
[null,2304,{"$nulls":7},{"v":0,"d":"€ 0.00"},{"v":0,"d":"€ 0.00"}]
[null,2305,{"$nulls":7},{"v":0,"d":"€ 0.00"},{"v":0,"d":"€ 0.00"}]
[null,2306,{"$nulls":7},{"v":0,"d":"€ 0.00"},{"v":0,"d":"€ 0.00"}]
[null,2307,{"$nulls":7},{"v":0,"d":"€ 0.00"},{"v":0,"d":"€ 0.00"}]
[null,2308,{"$nulls":7},{"v":0,"d":"€ 0.00"},{"v":0,"d":"€ 0.00"}]
[null,2309,{"$nulls":7},{"v":0,"d":"€ 0.00"},{"v":0,"d":"€ 0.00"}]
[null,2310,{"$nulls":7},{"v":0,"d":"€ 0.00"},{"v":0,"d":"€ 0.00"}]
[null,2311,{"$nulls":7},{"v":0,"d":"€ 0.00"},{"v":0,"d":"€ 0.00"}]
[null,2312,{"$nulls":7},{"v":0,"d":"€ 0.00"},{"v":0,"d":"€ 0.00"}]
[null,2313,{"$nulls":7},{"v":0,"d":"€ 0.00"},{"v":0,"d":"€ 0.00"}]
[null,2314,{"$nulls":7},{"v":0,"d":"€ 0.00"},{"v":0,"d":"€ 0.00"}]
[null,2315,{"$nulls":7},{"v":0,"d":"€ 0.00"},{"v":0,"d":"€ 0.00"}]
[null,2316,{"$nulls":7},{"v":0,"d":"€ 0.00"},{"v":0,"d":"€ 0.00"}]
[null,2317,{"$nulls":7},{"v":0,"d":"€ 0.00"},{"v":0,"d":"€ 0.00"}]
[null,2318,{"$nulls":7},{"v":0,"d":"€ 0.00"},{"v":0,"d":"€ 0.00"}]
[null,2319,{"$nulls":7},{"v":0,"d":"€ 0.00"},{"v":0,"d":"€ 0.00"}]
[null,2320,{"$nulls":7},{"v":0,"d":"€ 0.00"},{"v":0,"d":"€ 0.00"}]
[null,2321,{"$nulls":7},{"v":0,"d":"€ 0.00"},{"v":0,"d":"€ 0.00"}]
[null,2322,{"$nulls":7},{"v":0,"d":"€ 0.00"},{"v":0,"d":"€ 0.00"}]
[null,2323,{"$nulls":7},{"$f":"IF(OR(ISBLANK(H2330)=TRUE,ISBLANK(I2330)=TRUE),,ROUND(H2330*I2330,2))","v":{"v":0,"d":"€ 0.00"}},{"$f":"G2330+J2330","v":{"v":0,"d":"€ 0.00"}}]
[null,2324,{"$nulls":7},{"v":0,"d":"€ 0.00"},{"v":0,"d":"€ 0.00"}]
[null,2325,{"$nulls":7},{"v":0,"d":"€ 0.00"},{"v":0,"d":"€ 0.00"}]
[null,2326,{"$nulls":7},{"v":0,"d":"€ 0.00"},{"v":0,"d":"€ 0.00"}]
[null,2327,{"$nulls":7},{"v":0,"d":"€ 0.00"},{"v":0,"d":"€ 0.00"}]
[null,2328,{"$nulls":7},{"v":0,"d":"€ 0.00"},{"v":0,"d":"€ 0.00"}]
[null,2329,{"$nulls":7},{"v":0,"d":"€ 0.00"},{"v":0,"d":"€ 0.00"}]
[null,2330,{"$nulls":7},{"v":0,"d":"€ 0.00"},{"v":0,"d":"€ 0.00"}]
[null,2331,{"$nulls":7},{"v":0,"d":"€ 0.00"},{"v":0,"d":"€ 0.00"}]
[null,2332,{"$nulls":7},{"v":0,"d":"€ 0.00"},{"v":0,"d":"€ 0.00"}]
[null,2333,{"$nulls":7},{"v":0,"d":"€ 0.00"},{"v":0,"d":"€ 0.00"}]
[null,2334,{"$nulls":7},{"v":0,"d":"€ 0.00"},{"v":0,"d":"€ 0.00"}]
[null,2335,{"$nulls":7},{"v":0,"d":"€ 0.00"},{"v":0,"d":"€ 0.00"}]
[null,2336,{"$nulls":7},{"v":0,"d":"€ 0.00"},{"v":0,"d":"€ 0.00"}]
[null,2337,{"$nulls":7},{"v":0,"d":"€ 0.00"},{"v":0,"d":"€ 0.00"}]
[null,2338,{"$nulls":7},{"v":0,"d":"€ 0.00"},{"v":0,"d":"€ 0.00"}]
[null,2339,{"$nulls":7},{"v":0,"d":"€ 0.00"},{"v":0,"d":"€ 0.00"}]
[null,2340,{"$nulls":7},{"v":0,"d":"€ 0.00"},{"v":0,"d":"€ 0.00"}]
[null,2341,{"$nulls":7},{"v":0,"d":"€ 0.00"},{"v":0,"d":"€ 0.00"}]
[null,2342,{"$nulls":7},{"v":0,"d":"€ 0.00"},{"v":0,"d":"€ 0.00"}]
[null,2343,{"$nulls":7},{"v":0,"d":"€ 0.00"},{"v":0,"d":"€ 0.00"}]
[null,2344,{"$nulls":7},{"v":0,"d":"€ 0.00"},{"v":0,"d":"€ 0.00"}]
[null,2345,{"$nulls":7},{"v":0,"d":"€ 0.00"},{"v":0,"d":"€ 0.00"}]
[null,2346,{"$nulls":7},{"v":0,"d":"€ 0.00"},{"v":0,"d":"€ 0.00"}]
[null,2347,{"$nulls":7},{"v":0,"d":"€ 0.00"},{"v":0,"d":"€ 0.00"}]
[null,2348,{"$nulls":7},{"v":0,"d":"€ 0.00"},{"v":0,"d":"€ 0.00"}]
[null,2349,{"$nulls":7},{"v":0,"d":"€ 0.00"},{"v":0,"d":"€ 0.00"}]
[null,2350,{"$nulls":7},{"v":0,"d":"€ 0.00"},{"v":0,"d":"€ 0.00"}]
[null,2351,{"$nulls":7},{"v":0,"d":"€ 0.00"},{"v":0,"d":"€ 0.00"}]
[null,2352,{"$nulls":7},{"v":0,"d":"€ 0.00"},{"v":0,"d":"€ 0.00"}]
[null,2353,{"$nulls":7},{"v":0,"d":"€ 0.00"},{"v":0,"d":"€ 0.00"}]
[null,2354,{"$nulls":7},{"v":0,"d":"€ 0.00"},{"v":0,"d":"€ 0.00"}]
[null,2355,{"$nulls":7},{"v":0,"d":"€ 0.00"},{"v":0,"d":"€ 0.00"}]
[null,2356,{"$nulls":7},{"v":0,"d":"€ 0.00"},{"v":0,"d":"€ 0.00"}]
[null,2357,{"$nulls":7},{"v":0,"d":"€ 0.00"},{"v":0,"d":"€ 0.00"}]
[null,2358,{"$nulls":7},{"v":0,"d":"€ 0.00"},{"v":0,"d":"€ 0.00"}]
[null,2359,{"$nulls":7},{"v":0,"d":"€ 0.00"},{"v":0,"d":"€ 0.00"}]
[null,2360,{"$nulls":7},{"v":0,"d":"€ 0.00"},{"v":0,"d":"€ 0.00"}]
[null,2361,{"$nulls":7},{"v":0,"d":"€ 0.00"},{"v":0,"d":"€ 0.00"}]
[null,2362,{"$nulls":7},{"v":0,"d":"€ 0.00"},{"v":0,"d":"€ 0.00"}]
[null,2363,{"$nulls":7},{"v":0,"d":"€ 0.00"},{"v":0,"d":"€ 0.00"}]
[null,2364,{"$nulls":7},{"v":0,"d":"€ 0.00"},{"v":0,"d":"€ 0.00"}]
[null,2365,{"$nulls":7},{"v":0,"d":"€ 0.00"},{"v":0,"d":"€ 0.00"}]
[null,2366,{"$nulls":7},{"v":0,"d":"€ 0.00"},{"v":0,"d":"€ 0.00"}]
[null,2367,{"$nulls":7},{"v":0,"d":"€ 0.00"},{"v":0,"d":"€ 0.00"}]
[null,2368,{"$nulls":7},{"v":0,"d":"€ 0.00"},{"v":0,"d":"€ 0.00"}]
[null,2369,{"$nulls":7},{"v":0,"d":"€ 0.00"},{"v":0,"d":"€ 0.00"}]
[null,2370,{"$nulls":7},{"v":0,"d":"€ 0.00"},{"v":0,"d":"€ 0.00"}]
[null,2371,{"$nulls":7},{"v":0,"d":"€ 0.00"},{"v":0,"d":"€ 0.00"}]
[null,2372,{"$nulls":7},{"v":0,"d":"€ 0.00"},{"v":0,"d":"€ 0.00"}]
[null,2373,{"$nulls":7},{"v":0,"d":"€ 0.00"},{"v":0,"d":"€ 0.00"}]
[null,2374,{"$nulls":7},{"v":0,"d":"€ 0.00"},{"v":0,"d":"€ 0.00"}]
[null,2375,{"$nulls":7},{"v":0,"d":"€ 0.00"},{"v":0,"d":"€ 0.00"}]
[null,2376,{"$nulls":7},{"v":0,"d":"€ 0.00"},{"v":0,"d":"€ 0.00"}]
[null,2377,{"$nulls":7},{"v":0,"d":"€ 0.00"},{"v":0,"d":"€ 0.00"}]
[null,2378,{"$nulls":7},{"v":0,"d":"€ 0.00"},{"v":0,"d":"€ 0.00"}]
[null,2379,{"$nulls":7},{"v":0,"d":"€ 0.00"},{"v":0,"d":"€ 0.00"}]
[null,2380,{"$nulls":7},{"v":0,"d":"€ 0.00"},{"v":0,"d":"€ 0.00"}]
[null,2381,{"$nulls":7},{"v":0,"d":"€ 0.00"},{"v":0,"d":"€ 0.00"}]
[null,2382,{"$nulls":7},{"v":0,"d":"€ 0.00"},{"v":0,"d":"€ 0.00"}]
[null,2383,{"$nulls":7},{"v":0,"d":"€ 0.00"},{"v":0,"d":"€ 0.00"}]
[null,2384,{"$nulls":7},{"v":0,"d":"€ 0.00"},{"v":0,"d":"€ 0.00"}]
[null,2385,{"$nulls":7},{"v":0,"d":"€ 0.00"},{"v":0,"d":"€ 0.00"}]
[null,2386,{"$nulls":7},{"v":0,"d":"€ 0.00"},{"v":0,"d":"€ 0.00"}]
[null,2387,{"$nulls":7},{"$f":"IF(OR(ISBLANK(H2394)=TRUE,ISBLANK(I2394)=TRUE),,ROUND(H2394*I2394,2))","v":{"v":0,"d":"€ 0.00"}},{"$f":"G2394+J2394","v":{"v":0,"d":"€ 0.00"}}]
[null,2388,{"$nulls":7},{"v":0,"d":"€ 0.00"},{"v":0,"d":"€ 0.00"}]
[null,2389,{"$nulls":7},{"v":0,"d":"€ 0.00"},{"v":0,"d":"€ 0.00"}]
[null,2390,{"$nulls":7},{"v":0,"d":"€ 0.00"},{"v":0,"d":"€ 0.00"}]
[null,2391,{"$nulls":7},{"v":0,"d":"€ 0.00"},{"v":0,"d":"€ 0.00"}]
[null,2392,{"$nulls":7},{"v":0,"d":"€ 0.00"},{"v":0,"d":"€ 0.00"}]
[null,2393,{"$nulls":7},{"v":0,"d":"€ 0.00"},{"v":0,"d":"€ 0.00"}]
[null,2394,{"$nulls":7},{"v":0,"d":"€ 0.00"},{"v":0,"d":"€ 0.00"}]
[null,2395,{"$nulls":7},{"v":0,"d":"€ 0.00"},{"v":0,"d":"€ 0.00"}]
[null,2396,{"$nulls":7},{"v":0,"d":"€ 0.00"},{"v":0,"d":"€ 0.00"}]
[null,2397,{"$nulls":7},{"v":0,"d":"€ 0.00"},{"v":0,"d":"€ 0.00"}]
[null,2398,{"$nulls":7},{"v":0,"d":"€ 0.00"},{"v":0,"d":"€ 0.00"}]
[null,2399,{"$nulls":7},{"v":0,"d":"€ 0.00"},{"v":0,"d":"€ 0.00"}]
[null,2400,{"$nulls":7},{"v":0,"d":"€ 0.00"},{"v":0,"d":"€ 0.00"}]
[null,2401,{"$nulls":7},{"v":0,"d":"€ 0.00"},{"v":0,"d":"€ 0.00"}]
[null,2402,{"$nulls":7},{"v":0,"d":"€ 0.00"},{"v":0,"d":"€ 0.00"}]
[null,2403,{"$nulls":7},{"v":0,"d":"€ 0.00"},{"v":0,"d":"€ 0.00"}]
[null,2404,{"$nulls":7},{"v":0,"d":"€ 0.00"},{"v":0,"d":"€ 0.00"}]
[null,2405,{"$nulls":7},{"v":0,"d":"€ 0.00"},{"v":0,"d":"€ 0.00"}]
[null,2406,{"$nulls":7},{"v":0,"d":"€ 0.00"},{"v":0,"d":"€ 0.00"}]
[null,2407,{"$nulls":7},{"v":0,"d":"€ 0.00"},{"v":0,"d":"€ 0.00"}]
[null,2408,{"$nulls":7},{"v":0,"d":"€ 0.00"},{"v":0,"d":"€ 0.00"}]
[null,2409,{"$nulls":7},{"v":0,"d":"€ 0.00"},{"v":0,"d":"€ 0.00"}]
[null,2410,{"$nulls":7},{"v":0,"d":"€ 0.00"},{"v":0,"d":"€ 0.00"}]
[null,2411,{"$nulls":7},{"v":0,"d":"€ 0.00"},{"v":0,"d":"€ 0.00"}]
[null,2412,{"$nulls":7},{"v":0,"d":"€ 0.00"},{"v":0,"d":"€ 0.00"}]
[null,2413,{"$nulls":7},{"v":0,"d":"€ 0.00"},{"v":0,"d":"€ 0.00"}]
[null,2414,{"$nulls":7},{"v":0,"d":"€ 0.00"},{"v":0,"d":"€ 0.00"}]
[null,2415,{"$nulls":7},{"v":0,"d":"€ 0.00"},{"v":0,"d":"€ 0.00"}]
[null,2416,{"$nulls":7},{"v":0,"d":"€ 0.00"},{"v":0,"d":"€ 0.00"}]
[null,2417,{"$nulls":7},{"v":0,"d":"€ 0.00"},{"v":0,"d":"€ 0.00"}]
[null,2418,{"$nulls":7},{"v":0,"d":"€ 0.00"},{"v":0,"d":"€ 0.00"}]
[null,2419,{"$nulls":7},{"v":0,"d":"€ 0.00"},{"v":0,"d":"€ 0.00"}]
[null,2420,{"$nulls":7},{"v":0,"d":"€ 0.00"},{"v":0,"d":"€ 0.00"}]
[null,2421,{"$nulls":7},{"v":0,"d":"€ 0.00"},{"v":0,"d":"€ 0.00"}]
[null,2422,{"$nulls":7},{"v":0,"d":"€ 0.00"},{"v":0,"d":"€ 0.00"}]
[null,2423,{"$nulls":7},{"v":0,"d":"€ 0.00"},{"v":0,"d":"€ 0.00"}]
[null,2424,{"$nulls":7},{"v":0,"d":"€ 0.00"},{"v":0,"d":"€ 0.00"}]
[null,2425,{"$nulls":7},{"v":0,"d":"€ 0.00"},{"v":0,"d":"€ 0.00"}]
[null,2426,{"$nulls":7},{"v":0,"d":"€ 0.00"},{"v":0,"d":"€ 0.00"}]
[null,2427,{"$nulls":7},{"v":0,"d":"€ 0.00"},{"v":0,"d":"€ 0.00"}]
[null,2428,{"$nulls":7},{"v":0,"d":"€ 0.00"},{"v":0,"d":"€ 0.00"}]
[null,2429,{"$nulls":7},{"v":0,"d":"€ 0.00"},{"v":0,"d":"€ 0.00"}]
[null,2430,{"$nulls":7},{"v":0,"d":"€ 0.00"},{"v":0,"d":"€ 0.00"}]
[null,2431,{"$nulls":7},{"v":0,"d":"€ 0.00"},{"v":0,"d":"€ 0.00"}]
[null,2432,{"$nulls":7},{"v":0,"d":"€ 0.00"},{"v":0,"d":"€ 0.00"}]
[null,2433,{"$nulls":7},{"v":0,"d":"€ 0.00"},{"v":0,"d":"€ 0.00"}]
[null,2434,{"$nulls":7},{"v":0,"d":"€ 0.00"},{"v":0,"d":"€ 0.00"}]
[null,2435,{"$nulls":7},{"v":0,"d":"€ 0.00"},{"v":0,"d":"€ 0.00"}]
[null,2436,{"$nulls":7},{"v":0,"d":"€ 0.00"},{"v":0,"d":"€ 0.00"}]
[null,2437,{"$nulls":7},{"v":0,"d":"€ 0.00"},{"v":0,"d":"€ 0.00"}]
[null,2438,{"$nulls":7},{"v":0,"d":"€ 0.00"},{"v":0,"d":"€ 0.00"}]
[null,2439,{"$nulls":7},{"v":0,"d":"€ 0.00"},{"v":0,"d":"€ 0.00"}]
[null,2440,{"$nulls":7},{"v":0,"d":"€ 0.00"},{"v":0,"d":"€ 0.00"}]
[null,2441,{"$nulls":7},{"v":0,"d":"€ 0.00"},{"v":0,"d":"€ 0.00"}]
[null,2442,{"$nulls":7},{"v":0,"d":"€ 0.00"},{"v":0,"d":"€ 0.00"}]
[null,2443,{"$nulls":7},{"v":0,"d":"€ 0.00"},{"v":0,"d":"€ 0.00"}]
[null,2444,{"$nulls":7},{"v":0,"d":"€ 0.00"},{"v":0,"d":"€ 0.00"}]
[null,2445,{"$nulls":7},{"v":0,"d":"€ 0.00"},{"v":0,"d":"€ 0.00"}]
[null,2446,{"$nulls":7},{"v":0,"d":"€ 0.00"},{"v":0,"d":"€ 0.00"}]
[null,2447,{"$nulls":7},{"v":0,"d":"€ 0.00"},{"v":0,"d":"€ 0.00"}]
[null,2448,{"$nulls":7},{"v":0,"d":"€ 0.00"},{"v":0,"d":"€ 0.00"}]
[null,2449,{"$nulls":7},{"v":0,"d":"€ 0.00"},{"v":0,"d":"€ 0.00"}]
[null,2450,{"$nulls":7},{"v":0,"d":"€ 0.00"},{"v":0,"d":"€ 0.00"}]
[null,2451,{"$nulls":7},{"$f":"IF(OR(ISBLANK(H2458)=TRUE,ISBLANK(I2458)=TRUE),,ROUND(H2458*I2458,2))","v":{"v":0,"d":"€ 0.00"}},{"$f":"G2458+J2458","v":{"v":0,"d":"€ 0.00"}}]
[null,2452,{"$nulls":7},{"v":0,"d":"€ 0.00"},{"v":0,"d":"€ 0.00"}]
[null,2453,{"$nulls":7},{"v":0,"d":"€ 0.00"},{"v":0,"d":"€ 0.00"}]
[null,2454,{"$nulls":7},{"v":0,"d":"€ 0.00"},{"v":0,"d":"€ 0.00"}]
[null,2455,{"$nulls":7},{"v":0,"d":"€ 0.00"},{"v":0,"d":"€ 0.00"}]
[null,2456,{"$nulls":7},{"v":0,"d":"€ 0.00"},{"v":0,"d":"€ 0.00"}]
[null,2457,{"$nulls":7},{"v":0,"d":"€ 0.00"},{"v":0,"d":"€ 0.00"}]
[null,2458,{"$nulls":7},{"v":0,"d":"€ 0.00"},{"v":0,"d":"€ 0.00"}]
[null,2459,{"$nulls":7},{"v":0,"d":"€ 0.00"},{"v":0,"d":"€ 0.00"}]
[null,2460,{"$nulls":7},{"v":0,"d":"€ 0.00"},{"v":0,"d":"€ 0.00"}]
[null,2461,{"$nulls":7},{"v":0,"d":"€ 0.00"},{"v":0,"d":"€ 0.00"}]
[null,2462,{"$nulls":7},{"v":0,"d":"€ 0.00"},{"v":0,"d":"€ 0.00"}]
[null,2463,{"$nulls":7},{"v":0,"d":"€ 0.00"},{"v":0,"d":"€ 0.00"}]
[null,2464,{"$nulls":7},{"v":0,"d":"€ 0.00"},{"v":0,"d":"€ 0.00"}]
[null,2465,{"$nulls":7},{"v":0,"d":"€ 0.00"},{"v":0,"d":"€ 0.00"}]
[null,2466,{"$nulls":7},{"v":0,"d":"€ 0.00"},{"v":0,"d":"€ 0.00"}]
[null,2467,{"$nulls":7},{"v":0,"d":"€ 0.00"},{"v":0,"d":"€ 0.00"}]
[null,2468,{"$nulls":7},{"v":0,"d":"€ 0.00"},{"v":0,"d":"€ 0.00"}]
[null,2469,{"$nulls":7},{"v":0,"d":"€ 0.00"},{"v":0,"d":"€ 0.00"}]
[null,2470,{"$nulls":7},{"v":0,"d":"€ 0.00"},{"v":0,"d":"€ 0.00"}]
[null,2471,{"$nulls":7},{"v":0,"d":"€ 0.00"},{"v":0,"d":"€ 0.00"}]
[null,2472,{"$nulls":7},{"v":0,"d":"€ 0.00"},{"v":0,"d":"€ 0.00"}]
[null,2473,{"$nulls":7},{"v":0,"d":"€ 0.00"},{"v":0,"d":"€ 0.00"}]
[null,2474,{"$nulls":7},{"v":0,"d":"€ 0.00"},{"v":0,"d":"€ 0.00"}]
[null,2475,{"$nulls":7},{"v":0,"d":"€ 0.00"},{"v":0,"d":"€ 0.00"}]
[null,2476,{"$nulls":7},{"v":0,"d":"€ 0.00"},{"v":0,"d":"€ 0.00"}]
[null,2477,{"$nulls":7},{"v":0,"d":"€ 0.00"},{"v":0,"d":"€ 0.00"}]
[null,2478,{"$nulls":7},{"v":0,"d":"€ 0.00"},{"v":0,"d":"€ 0.00"}]
[null,2479,{"$nulls":7},{"v":0,"d":"€ 0.00"},{"v":0,"d":"€ 0.00"}]
[null,2480,{"$nulls":7},{"v":0,"d":"€ 0.00"},{"v":0,"d":"€ 0.00"}]
[null,2481,{"$nulls":7},{"v":0,"d":"€ 0.00"},{"v":0,"d":"€ 0.00"}]
[null,2482,{"$nulls":7},{"v":0,"d":"€ 0.00"},{"v":0,"d":"€ 0.00"}]
[null,2483,{"$nulls":7},{"v":0,"d":"€ 0.00"},{"v":0,"d":"€ 0.00"}]
[null,2484,{"$nulls":7},{"v":0,"d":"€ 0.00"},{"v":0,"d":"€ 0.00"}]
[null,2485,{"$nulls":7},{"v":0,"d":"€ 0.00"},{"v":0,"d":"€ 0.00"}]
[null,2486,{"$nulls":7},{"v":0,"d":"€ 0.00"},{"v":0,"d":"€ 0.00"}]
[null,2487,{"$nulls":7},{"v":0,"d":"€ 0.00"},{"v":0,"d":"€ 0.00"}]
[null,2488,{"$nulls":7},{"v":0,"d":"€ 0.00"},{"v":0,"d":"€ 0.00"}]
[null,2489,{"$nulls":7},{"v":0,"d":"€ 0.00"},{"v":0,"d":"€ 0.00"}]
[null,2490,{"$nulls":7},{"v":0,"d":"€ 0.00"},{"v":0,"d":"€ 0.00"}]
[null,2491,{"$nulls":7},{"v":0,"d":"€ 0.00"},{"v":0,"d":"€ 0.00"}]
[null,2492,{"$nulls":7},{"v":0,"d":"€ 0.00"},{"v":0,"d":"€ 0.00"}]
[null,2493,{"$nulls":7},{"v":0,"d":"€ 0.00"},{"v":0,"d":"€ 0.00"}]
[null,2494,{"$nulls":7},{"v":0,"d":"€ 0.00"},{"v":0,"d":"€ 0.00"}]
[null,2495,{"$nulls":7},{"v":0,"d":"€ 0.00"},{"v":0,"d":"€ 0.00"}]
[null,2496,{"$nulls":7},{"v":0,"d":"€ 0.00"},{"v":0,"d":"€ 0.00"}]
[null,2497,{"$nulls":7},{"v":0,"d":"€ 0.00"},{"v":0,"d":"€ 0.00"}]
[null,2498,{"$nulls":7},{"v":0,"d":"€ 0.00"},{"v":0,"d":"€ 0.00"}]
[null,2499,{"$nulls":7},{"v":0,"d":"€ 0.00"},{"v":0,"d":"€ 0.00"}]
[null,2500,{"$nulls":7},{"v":0,"d":"€ 0.00"},{"v":0,"d":"€ 0.00"}]
[null,2501,{"$nulls":7},{"v":0,"d":"€ 0.00"},{"v":0,"d":"€ 0.00"}]
[null,2502,{"$nulls":7},{"v":0,"d":"€ 0.00"},{"v":0,"d":"€ 0.00"}]
[null,2503,{"$nulls":7},{"v":0,"d":"€ 0.00"},{"v":0,"d":"€ 0.00"}]
[null,2504,{"$nulls":7},{"v":0,"d":"€ 0.00"},{"v":0,"d":"€ 0.00"}]
[null,2505,{"$nulls":7},{"v":0,"d":"€ 0.00"},{"v":0,"d":"€ 0.00"}]
[null,2506,{"$nulls":7},{"v":0,"d":"€ 0.00"},{"v":0,"d":"€ 0.00"}]
[null,2507,{"$nulls":7},{"v":0,"d":"€ 0.00"},{"v":0,"d":"€ 0.00"}]
[null,2508,{"$nulls":7},{"v":0,"d":"€ 0.00"},{"v":0,"d":"€ 0.00"}]
[null,2509,{"$nulls":7},{"v":0,"d":"€ 0.00"},{"v":0,"d":"€ 0.00"}]
[null,2510,{"$nulls":7},{"v":0,"d":"€ 0.00"},{"v":0,"d":"€ 0.00"}]
[null,2511,{"$nulls":7},{"v":0,"d":"€ 0.00"},{"v":0,"d":"€ 0.00"}]
[null,2512,{"$nulls":7},{"v":0,"d":"€ 0.00"},{"v":0,"d":"€ 0.00"}]
[null,2513,{"$nulls":7},{"v":0,"d":"€ 0.00"},{"v":0,"d":"€ 0.00"}]
[null,2514,{"$nulls":7},{"v":0,"d":"€ 0.00"},{"v":0,"d":"€ 0.00"}]
[null,2515,{"$nulls":7},{"$f":"IF(OR(ISBLANK(H2522)=TRUE,ISBLANK(I2522)=TRUE),,ROUND(H2522*I2522,2))","v":{"v":0,"d":"€ 0.00"}},{"$f":"G2522+J2522","v":{"v":0,"d":"€ 0.00"}}]
[null,2516,{"$nulls":7},{"v":0,"d":"€ 0.00"},{"v":0,"d":"€ 0.00"}]
[null,2517,{"$nulls":7},{"v":0,"d":"€ 0.00"},{"v":0,"d":"€ 0.00"}]
[null,2518,{"$nulls":7},{"v":0,"d":"€ 0.00"},{"v":0,"d":"€ 0.00"}]
[null,2519,{"$nulls":7},{"v":0,"d":"€ 0.00"},{"v":0,"d":"€ 0.00"}]
[null,2520,{"$nulls":7},{"v":0,"d":"€ 0.00"},{"v":0,"d":"€ 0.00"}]
[null,2521,{"$nulls":7},{"v":0,"d":"€ 0.00"},{"v":0,"d":"€ 0.00"}]
[null,2522,{"$nulls":7},{"v":0,"d":"€ 0.00"},{"v":0,"d":"€ 0.00"}]
[null,2523,{"$nulls":7},{"v":0,"d":"€ 0.00"},{"v":0,"d":"€ 0.00"}]
[null,2524,{"$nulls":7},{"v":0,"d":"€ 0.00"},{"v":0,"d":"€ 0.00"}]
[null,2525,{"$nulls":7},{"v":0,"d":"€ 0.00"},{"v":0,"d":"€ 0.00"}]
[null,2526,{"$nulls":7},{"v":0,"d":"€ 0.00"},{"v":0,"d":"€ 0.00"}]
[null,2527,{"$nulls":7},{"v":0,"d":"€ 0.00"},{"v":0,"d":"€ 0.00"}]
[null,2528,{"$nulls":7},{"v":0,"d":"€ 0.00"},{"v":0,"d":"€ 0.00"}]
[null,2529,{"$nulls":7},{"v":0,"d":"€ 0.00"},{"v":0,"d":"€ 0.00"}]
[null,2530,{"$nulls":7},{"v":0,"d":"€ 0.00"},{"v":0,"d":"€ 0.00"}]
[null,2531,{"$nulls":7},{"v":0,"d":"€ 0.00"},{"v":0,"d":"€ 0.00"}]
[null,2532,{"$nulls":7},{"v":0,"d":"€ 0.00"},{"v":0,"d":"€ 0.00"}]
[null,2533,{"$nulls":7},{"v":0,"d":"€ 0.00"},{"v":0,"d":"€ 0.00"}]
[null,2534,{"$nulls":7},{"v":0,"d":"€ 0.00"},{"v":0,"d":"€ 0.00"}]
[null,2535,{"$nulls":7},{"v":0,"d":"€ 0.00"},{"v":0,"d":"€ 0.00"}]
[null,2536,{"$nulls":7},{"v":0,"d":"€ 0.00"},{"v":0,"d":"€ 0.00"}]
[null,2537,{"$nulls":7},{"v":0,"d":"€ 0.00"},{"v":0,"d":"€ 0.00"}]
[null,2538,{"$nulls":7},{"v":0,"d":"€ 0.00"},{"v":0,"d":"€ 0.00"}]
[null,2539,{"$nulls":7},{"v":0,"d":"€ 0.00"},{"v":0,"d":"€ 0.00"}]
[null,2540,{"$nulls":7},{"v":0,"d":"€ 0.00"},{"v":0,"d":"€ 0.00"}]
[null,2541,{"$nulls":7},{"v":0,"d":"€ 0.00"},{"v":0,"d":"€ 0.00"}]
[null,2542,{"$nulls":7},{"v":0,"d":"€ 0.00"},{"v":0,"d":"€ 0.00"}]
[null,2543,{"$nulls":7},{"v":0,"d":"€ 0.00"},{"v":0,"d":"€ 0.00"}]
[null,2544,{"$nulls":7},{"v":0,"d":"€ 0.00"},{"v":0,"d":"€ 0.00"}]
[null,2545,{"$nulls":7},{"v":0,"d":"€ 0.00"},{"v":0,"d":"€ 0.00"}]
[null,2546,{"$nulls":7},{"v":0,"d":"€ 0.00"},{"v":0,"d":"€ 0.00"}]
[null,2547,{"$nulls":7},{"v":0,"d":"€ 0.00"},{"v":0,"d":"€ 0.00"}]
[null,2548,{"$nulls":7},{"v":0,"d":"€ 0.00"},{"v":0,"d":"€ 0.00"}]
[null,2549,{"$nulls":7},{"v":0,"d":"€ 0.00"},{"v":0,"d":"€ 0.00"}]
[null,2550,{"$nulls":7},{"v":0,"d":"€ 0.00"},{"v":0,"d":"€ 0.00"}]
[null,2551,{"$nulls":7},{"v":0,"d":"€ 0.00"},{"v":0,"d":"€ 0.00"}]
[null,2552,{"$nulls":7},{"v":0,"d":"€ 0.00"},{"v":0,"d":"€ 0.00"}]
[null,2553,{"$nulls":7},{"v":0,"d":"€ 0.00"},{"v":0,"d":"€ 0.00"}]
[null,2554,{"$nulls":7},{"v":0,"d":"€ 0.00"},{"v":0,"d":"€ 0.00"}]
[null,2555,{"$nulls":7},{"v":0,"d":"€ 0.00"},{"v":0,"d":"€ 0.00"}]
[null,2556,{"$nulls":7},{"v":0,"d":"€ 0.00"},{"v":0,"d":"€ 0.00"}]
[null,2557,{"$nulls":7},{"v":0,"d":"€ 0.00"},{"v":0,"d":"€ 0.00"}]
[null,2558,{"$nulls":7},{"v":0,"d":"€ 0.00"},{"v":0,"d":"€ 0.00"}]
[null,2559,{"$nulls":7},{"v":0,"d":"€ 0.00"},{"v":0,"d":"€ 0.00"}]
[null,2560,{"$nulls":7},{"v":0,"d":"€ 0.00"},{"v":0,"d":"€ 0.00"}]
[null,2561,{"$nulls":7},{"v":0,"d":"€ 0.00"},{"v":0,"d":"€ 0.00"}]
[null,2562,{"$nulls":7},{"v":0,"d":"€ 0.00"},{"v":0,"d":"€ 0.00"}]
[null,2563,{"$nulls":7},{"v":0,"d":"€ 0.00"},{"v":0,"d":"€ 0.00"}]
[null,2564,{"$nulls":7},{"v":0,"d":"€ 0.00"},{"v":0,"d":"€ 0.00"}]
[null,2565,{"$nulls":7},{"v":0,"d":"€ 0.00"},{"v":0,"d":"€ 0.00"}]
[null,2566,{"$nulls":7},{"v":0,"d":"€ 0.00"},{"v":0,"d":"€ 0.00"}]
[null,2567,{"$nulls":7},{"v":0,"d":"€ 0.00"},{"v":0,"d":"€ 0.00"}]
[null,2568,{"$nulls":7},{"v":0,"d":"€ 0.00"},{"v":0,"d":"€ 0.00"}]
[null,2569,{"$nulls":7},{"v":0,"d":"€ 0.00"},{"v":0,"d":"€ 0.00"}]
[null,2570,{"$nulls":7},{"v":0,"d":"€ 0.00"},{"v":0,"d":"€ 0.00"}]
[null,2571,{"$nulls":7},{"v":0,"d":"€ 0.00"},{"v":0,"d":"€ 0.00"}]
[null,2572,{"$nulls":7},{"v":0,"d":"€ 0.00"},{"v":0,"d":"€ 0.00"}]
[null,2573,{"$nulls":7},{"v":0,"d":"€ 0.00"},{"v":0,"d":"€ 0.00"}]
[null,2574,{"$nulls":7},{"v":0,"d":"€ 0.00"},{"v":0,"d":"€ 0.00"}]
[null,2575,{"$nulls":7},{"v":0,"d":"€ 0.00"},{"v":0,"d":"€ 0.00"}]
[null,2576,{"$nulls":7},{"v":0,"d":"€ 0.00"},{"v":0,"d":"€ 0.00"}]
[null,2577,{"$nulls":7},{"v":0,"d":"€ 0.00"},{"v":0,"d":"€ 0.00"}]
[null,2578,{"$nulls":7},{"v":0,"d":"€ 0.00"},{"v":0,"d":"€ 0.00"}]
[null,2579,{"$nulls":7},{"$f":"IF(OR(ISBLANK(H2586)=TRUE,ISBLANK(I2586)=TRUE),,ROUND(H2586*I2586,2))","v":{"v":0,"d":"€ 0.00"}},{"$f":"G2586+J2586","v":{"v":0,"d":"€ 0.00"}}]
[null,2580,{"$nulls":7},{"v":0,"d":"€ 0.00"},{"v":0,"d":"€ 0.00"}]
[null,2581,{"$nulls":7},{"v":0,"d":"€ 0.00"},{"v":0,"d":"€ 0.00"}]
[null,2582,{"$nulls":7},{"v":0,"d":"€ 0.00"},{"v":0,"d":"€ 0.00"}]
[null,2583,{"$nulls":7},{"v":0,"d":"€ 0.00"},{"v":0,"d":"€ 0.00"}]
[null,2584,{"$nulls":7},{"v":0,"d":"€ 0.00"},{"v":0,"d":"€ 0.00"}]
[null,2585,{"$nulls":7},{"v":0,"d":"€ 0.00"},{"v":0,"d":"€ 0.00"}]
[null,2586,{"$nulls":7},{"v":0,"d":"€ 0.00"},{"v":0,"d":"€ 0.00"}]
[null,2587,{"$nulls":7},{"v":0,"d":"€ 0.00"},{"v":0,"d":"€ 0.00"}]
[null,2588,{"$nulls":7},{"v":0,"d":"€ 0.00"},{"v":0,"d":"€ 0.00"}]
[null,2589,{"$nulls":7},{"v":0,"d":"€ 0.00"},{"v":0,"d":"€ 0.00"}]
[null,2590,{"$nulls":7},{"v":0,"d":"€ 0.00"},{"v":0,"d":"€ 0.00"}]
[null,2591,{"$nulls":7},{"v":0,"d":"€ 0.00"},{"v":0,"d":"€ 0.00"}]
[null,2592,{"$nulls":7},{"v":0,"d":"€ 0.00"},{"v":0,"d":"€ 0.00"}]
[null,2593,{"$nulls":7},{"v":0,"d":"€ 0.00"},{"v":0,"d":"€ 0.00"}]
[null,2594,{"$nulls":7},{"v":0,"d":"€ 0.00"},{"v":0,"d":"€ 0.00"}]
[null,2595,{"$nulls":7},{"v":0,"d":"€ 0.00"},{"v":0,"d":"€ 0.00"}]
[null,2596,{"$nulls":7},{"v":0,"d":"€ 0.00"},{"v":0,"d":"€ 0.00"}]
[null,2597,{"$nulls":7},{"v":0,"d":"€ 0.00"},{"v":0,"d":"€ 0.00"}]
[null,2598,{"$nulls":7},{"v":0,"d":"€ 0.00"},{"v":0,"d":"€ 0.00"}]
[null,2599,{"$nulls":7},{"v":0,"d":"€ 0.00"},{"v":0,"d":"€ 0.00"}]
[null,2600,{"$nulls":7},{"v":0,"d":"€ 0.00"},{"v":0,"d":"€ 0.00"}]
[null,2601,{"$nulls":7},{"v":0,"d":"€ 0.00"},{"v":0,"d":"€ 0.00"}]
[null,2602,{"$nulls":7},{"v":0,"d":"€ 0.00"},{"v":0,"d":"€ 0.00"}]
[null,2603,{"$nulls":7},{"v":0,"d":"€ 0.00"},{"v":0,"d":"€ 0.00"}]
[null,2604,{"$nulls":7},{"v":0,"d":"€ 0.00"},{"v":0,"d":"€ 0.00"}]
[null,2605,{"$nulls":7},{"v":0,"d":"€ 0.00"},{"v":0,"d":"€ 0.00"}]
[null,2606,{"$nulls":7},{"v":0,"d":"€ 0.00"},{"v":0,"d":"€ 0.00"}]
[null,2607,{"$nulls":7},{"v":0,"d":"€ 0.00"},{"v":0,"d":"€ 0.00"}]
[null,2608,{"$nulls":7},{"v":0,"d":"€ 0.00"},{"v":0,"d":"€ 0.00"}]
[null,2609,{"$nulls":7},{"v":0,"d":"€ 0.00"},{"v":0,"d":"€ 0.00"}]
[null,2610,{"$nulls":7},{"v":0,"d":"€ 0.00"},{"v":0,"d":"€ 0.00"}]
[null,2611,{"$nulls":7},{"v":0,"d":"€ 0.00"},{"v":0,"d":"€ 0.00"}]
[null,2612,{"$nulls":7},{"v":0,"d":"€ 0.00"},{"v":0,"d":"€ 0.00"}]
[null,2613,{"$nulls":7},{"v":0,"d":"€ 0.00"},{"v":0,"d":"€ 0.00"}]
[null,2614,{"$nulls":7},{"v":0,"d":"€ 0.00"},{"v":0,"d":"€ 0.00"}]
[null,2615,{"$nulls":7},{"v":0,"d":"€ 0.00"},{"v":0,"d":"€ 0.00"}]
[null,2616,{"$nulls":7},{"v":0,"d":"€ 0.00"},{"v":0,"d":"€ 0.00"}]
[null,2617,{"$nulls":7},{"v":0,"d":"€ 0.00"},{"v":0,"d":"€ 0.00"}]
[null,2618,{"$nulls":7},{"v":0,"d":"€ 0.00"},{"v":0,"d":"€ 0.00"}]
[null,2619,{"$nulls":7},{"v":0,"d":"€ 0.00"},{"v":0,"d":"€ 0.00"}]
[null,2620,{"$nulls":7},{"v":0,"d":"€ 0.00"},{"v":0,"d":"€ 0.00"}]
[null,2621,{"$nulls":7},{"v":0,"d":"€ 0.00"},{"v":0,"d":"€ 0.00"}]
[null,2622,{"$nulls":7},{"v":0,"d":"€ 0.00"},{"v":0,"d":"€ 0.00"}]
[null,2623,{"$nulls":7},{"v":0,"d":"€ 0.00"},{"v":0,"d":"€ 0.00"}]
[null,2624,{"$nulls":7},{"v":0,"d":"€ 0.00"},{"v":0,"d":"€ 0.00"}]
[null,2625,{"$nulls":7},{"v":0,"d":"€ 0.00"},{"v":0,"d":"€ 0.00"}]
[null,2626,{"$nulls":7},{"v":0,"d":"€ 0.00"},{"v":0,"d":"€ 0.00"}]
[null,2627,{"$nulls":7},{"v":0,"d":"€ 0.00"},{"v":0,"d":"€ 0.00"}]
[null,2628,{"$nulls":7},{"v":0,"d":"€ 0.00"},{"v":0,"d":"€ 0.00"}]
[null,2629,{"$nulls":7},{"v":0,"d":"€ 0.00"},{"v":0,"d":"€ 0.00"}]
[null,2630,{"$nulls":7},{"v":0,"d":"€ 0.00"},{"v":0,"d":"€ 0.00"}]
[null,2631,{"$nulls":7},{"v":0,"d":"€ 0.00"},{"v":0,"d":"€ 0.00"}]
[null,2632,{"$nulls":7},{"v":0,"d":"€ 0.00"},{"v":0,"d":"€ 0.00"}]
[null,2633,{"$nulls":7},{"v":0,"d":"€ 0.00"},{"v":0,"d":"€ 0.00"}]
[null,2634,{"$nulls":7},{"v":0,"d":"€ 0.00"},{"v":0,"d":"€ 0.00"}]
[null,2635,{"$nulls":7},{"v":0,"d":"€ 0.00"},{"v":0,"d":"€ 0.00"}]
[null,2636,{"$nulls":7},{"v":0,"d":"€ 0.00"},{"v":0,"d":"€ 0.00"}]
[null,2637,{"$nulls":7},{"v":0,"d":"€ 0.00"},{"v":0,"d":"€ 0.00"}]
[null,2638,{"$nulls":7},{"v":0,"d":"€ 0.00"},{"v":0,"d":"€ 0.00"}]
[null,2639,{"$nulls":7},{"v":0,"d":"€ 0.00"},{"v":0,"d":"€ 0.00"}]
[null,2640,{"$nulls":7},{"v":0,"d":"€ 0.00"},{"v":0,"d":"€ 0.00"}]
[null,2641,{"$nulls":7},{"v":0,"d":"€ 0.00"},{"v":0,"d":"€ 0.00"}]
[null,2642,{"$nulls":7},{"v":0,"d":"€ 0.00"},{"v":0,"d":"€ 0.00"}]
[null,2643,{"$nulls":7},{"$f":"IF(OR(ISBLANK(H2650)=TRUE,ISBLANK(I2650)=TRUE),,ROUND(H2650*I2650,2))","v":{"v":0,"d":"€ 0.00"}},{"$f":"G2650+J2650","v":{"v":0,"d":"€ 0.00"}}]
[null,2644,{"$nulls":7},{"v":0,"d":"€ 0.00"},{"v":0,"d":"€ 0.00"}]
[null,2645,{"$nulls":7},{"v":0,"d":"€ 0.00"},{"v":0,"d":"€ 0.00"}]
[null,2646,{"$nulls":7},{"v":0,"d":"€ 0.00"},{"v":0,"d":"€ 0.00"}]
[null,2647,{"$nulls":7},{"v":0,"d":"€ 0.00"},{"v":0,"d":"€ 0.00"}]
[null,2648,{"$nulls":7},{"v":0,"d":"€ 0.00"},{"v":0,"d":"€ 0.00"}]
[null,2649,{"$nulls":7},{"v":0,"d":"€ 0.00"},{"v":0,"d":"€ 0.00"}]
[null,2650,{"$nulls":7},{"v":0,"d":"€ 0.00"},{"v":0,"d":"€ 0.00"}]
[null,2651,{"$nulls":7},{"v":0,"d":"€ 0.00"},{"v":0,"d":"€ 0.00"}]
[null,2652,{"$nulls":7},{"v":0,"d":"€ 0.00"},{"v":0,"d":"€ 0.00"}]
[null,2653,{"$nulls":7},{"v":0,"d":"€ 0.00"},{"v":0,"d":"€ 0.00"}]
[null,2654,{"$nulls":7},{"v":0,"d":"€ 0.00"},{"v":0,"d":"€ 0.00"}]
[null,2655,{"$nulls":7},{"v":0,"d":"€ 0.00"},{"v":0,"d":"€ 0.00"}]
[null,2656,{"$nulls":7},{"v":0,"d":"€ 0.00"},{"v":0,"d":"€ 0.00"}]
[null,2657,{"$nulls":7},{"v":0,"d":"€ 0.00"},{"v":0,"d":"€ 0.00"}]
[null,2658,{"$nulls":7},{"v":0,"d":"€ 0.00"},{"v":0,"d":"€ 0.00"}]
[null,2659,{"$nulls":7},{"v":0,"d":"€ 0.00"},{"v":0,"d":"€ 0.00"}]
[null,2660,{"$nulls":7},{"v":0,"d":"€ 0.00"},{"v":0,"d":"€ 0.00"}]
[null,2661,{"$nulls":7},{"v":0,"d":"€ 0.00"},{"v":0,"d":"€ 0.00"}]
[null,2662,{"$nulls":7},{"v":0,"d":"€ 0.00"},{"v":0,"d":"€ 0.00"}]
[null,2663,{"$nulls":7},{"v":0,"d":"€ 0.00"},{"v":0,"d":"€ 0.00"}]
[null,2664,{"$nulls":7},{"v":0,"d":"€ 0.00"},{"v":0,"d":"€ 0.00"}]
[null,2665,{"$nulls":7},{"v":0,"d":"€ 0.00"},{"v":0,"d":"€ 0.00"}]
[null,2666,{"$nulls":7},{"v":0,"d":"€ 0.00"},{"v":0,"d":"€ 0.00"}]
[null,2667,{"$nulls":7},{"v":0,"d":"€ 0.00"},{"v":0,"d":"€ 0.00"}]
[null,2668,{"$nulls":7},{"v":0,"d":"€ 0.00"},{"v":0,"d":"€ 0.00"}]
[null,2669,{"$nulls":7},{"v":0,"d":"€ 0.00"},{"v":0,"d":"€ 0.00"}]
[null,2670,{"$nulls":7},{"v":0,"d":"€ 0.00"},{"v":0,"d":"€ 0.00"}]
[null,2671,{"$nulls":7},{"v":0,"d":"€ 0.00"},{"v":0,"d":"€ 0.00"}]
[null,2672,{"$nulls":7},{"v":0,"d":"€ 0.00"},{"v":0,"d":"€ 0.00"}]
[null,2673,{"$nulls":7},{"v":0,"d":"€ 0.00"},{"v":0,"d":"€ 0.00"}]
[null,2674,{"$nulls":7},{"v":0,"d":"€ 0.00"},{"v":0,"d":"€ 0.00"}]
[null,2675,{"$nulls":7},{"v":0,"d":"€ 0.00"},{"v":0,"d":"€ 0.00"}]
[null,2676,{"$nulls":7},{"v":0,"d":"€ 0.00"},{"v":0,"d":"€ 0.00"}]
[null,2677,{"$nulls":7},{"v":0,"d":"€ 0.00"},{"v":0,"d":"€ 0.00"}]
[null,2678,{"$nulls":7},{"v":0,"d":"€ 0.00"},{"v":0,"d":"€ 0.00"}]
[null,2679,{"$nulls":7},{"v":0,"d":"€ 0.00"},{"v":0,"d":"€ 0.00"}]
[null,2680,{"$nulls":7},{"v":0,"d":"€ 0.00"},{"v":0,"d":"€ 0.00"}]
[null,2681,{"$nulls":7},{"v":0,"d":"€ 0.00"},{"v":0,"d":"€ 0.00"}]
[null,2682,{"$nulls":7},{"v":0,"d":"€ 0.00"},{"v":0,"d":"€ 0.00"}]
[null,2683,{"$nulls":7},{"v":0,"d":"€ 0.00"},{"v":0,"d":"€ 0.00"}]
[null,2684,{"$nulls":7},{"v":0,"d":"€ 0.00"},{"v":0,"d":"€ 0.00"}]
[null,2685,{"$nulls":7},{"v":0,"d":"€ 0.00"},{"v":0,"d":"€ 0.00"}]
[null,2686,{"$nulls":7},{"v":0,"d":"€ 0.00"},{"v":0,"d":"€ 0.00"}]
[null,2687,{"$nulls":7},{"v":0,"d":"€ 0.00"},{"v":0,"d":"€ 0.00"}]
[null,2688,{"$nulls":7},{"v":0,"d":"€ 0.00"},{"v":0,"d":"€ 0.00"}]
[null,2689,{"$nulls":7},{"v":0,"d":"€ 0.00"},{"v":0,"d":"€ 0.00"}]
[null,2690,{"$nulls":7},{"v":0,"d":"€ 0.00"},{"v":0,"d":"€ 0.00"}]
[null,2691,{"$nulls":7},{"v":0,"d":"€ 0.00"},{"v":0,"d":"€ 0.00"}]
[null,2692,{"$nulls":7},{"v":0,"d":"€ 0.00"},{"v":0,"d":"€ 0.00"}]
[null,2693,{"$nulls":7},{"v":0,"d":"€ 0.00"},{"v":0,"d":"€ 0.00"}]
[null,2694,{"$nulls":7},{"v":0,"d":"€ 0.00"},{"v":0,"d":"€ 0.00"}]
[null,2695,{"$nulls":7},{"v":0,"d":"€ 0.00"},{"v":0,"d":"€ 0.00"}]
[null,2696,{"$nulls":7},{"v":0,"d":"€ 0.00"},{"v":0,"d":"€ 0.00"}]
[null,2697,{"$nulls":7},{"v":0,"d":"€ 0.00"},{"v":0,"d":"€ 0.00"}]
[null,2698,{"$nulls":7},{"v":0,"d":"€ 0.00"},{"v":0,"d":"€ 0.00"}]
[null,2699,{"$nulls":7},{"v":0,"d":"€ 0.00"},{"v":0,"d":"€ 0.00"}]
[null,2700,{"$nulls":7},{"v":0,"d":"€ 0.00"},{"v":0,"d":"€ 0.00"}]
[null,2701,{"$nulls":7},{"v":0,"d":"€ 0.00"},{"v":0,"d":"€ 0.00"}]
[null,2702,{"$nulls":7},{"v":0,"d":"€ 0.00"},{"v":0,"d":"€ 0.00"}]
[null,2703,{"$nulls":7},{"v":0,"d":"€ 0.00"},{"v":0,"d":"€ 0.00"}]
[null,2704,{"$nulls":7},{"v":0,"d":"€ 0.00"},{"v":0,"d":"€ 0.00"}]
[null,2705,{"$nulls":7},{"v":0,"d":"€ 0.00"},{"v":0,"d":"€ 0.00"}]
[null,2706,{"$nulls":7},{"v":0,"d":"€ 0.00"},{"v":0,"d":"€ 0.00"}]
[null,2707,{"$nulls":7},{"$f":"IF(OR(ISBLANK(H2714)=TRUE,ISBLANK(I2714)=TRUE),,ROUND(H2714*I2714,2))","v":{"v":0,"d":"€ 0.00"}},{"$f":"G2714+J2714","v":{"v":0,"d":"€ 0.00"}}]
[null,2708,{"$nulls":7},{"v":0,"d":"€ 0.00"},{"v":0,"d":"€ 0.00"}]
[null,2709,{"$nulls":7},{"v":0,"d":"€ 0.00"},{"v":0,"d":"€ 0.00"}]
[null,2710,{"$nulls":7},{"v":0,"d":"€ 0.00"},{"v":0,"d":"€ 0.00"}]
[null,2711,{"$nulls":7},{"v":0,"d":"€ 0.00"},{"v":0,"d":"€ 0.00"}]
[null,2712,{"$nulls":7},{"v":0,"d":"€ 0.00"},{"v":0,"d":"€ 0.00"}]
[null,2713,{"$nulls":7},{"v":0,"d":"€ 0.00"},{"v":0,"d":"€ 0.00"}]
[null,2714,{"$nulls":7},{"v":0,"d":"€ 0.00"},{"v":0,"d":"€ 0.00"}]
[null,2715,{"$nulls":7},{"v":0,"d":"€ 0.00"},{"v":0,"d":"€ 0.00"}]
[null,2716,{"$nulls":7},{"v":0,"d":"€ 0.00"},{"v":0,"d":"€ 0.00"}]
[null,2717,{"$nulls":7},{"v":0,"d":"€ 0.00"},{"v":0,"d":"€ 0.00"}]
[null,2718,{"$nulls":7},{"v":0,"d":"€ 0.00"},{"v":0,"d":"€ 0.00"}]
[null,2719,{"$nulls":7},{"v":0,"d":"€ 0.00"},{"v":0,"d":"€ 0.00"}]
[null,2720,{"$nulls":7},{"v":0,"d":"€ 0.00"},{"v":0,"d":"€ 0.00"}]
[null,2721,{"$nulls":7},{"v":0,"d":"€ 0.00"},{"v":0,"d":"€ 0.00"}]
[null,2722,{"$nulls":7},{"v":0,"d":"€ 0.00"},{"v":0,"d":"€ 0.00"}]
[null,2723,{"$nulls":7},{"v":0,"d":"€ 0.00"},{"v":0,"d":"€ 0.00"}]
[null,2724,{"$nulls":7},{"v":0,"d":"€ 0.00"},{"v":0,"d":"€ 0.00"}]
[null,2725,{"$nulls":7},{"v":0,"d":"€ 0.00"},{"v":0,"d":"€ 0.00"}]
[null,2726,{"$nulls":7},{"v":0,"d":"€ 0.00"},{"v":0,"d":"€ 0.00"}]
[null,2727,{"$nulls":7},{"v":0,"d":"€ 0.00"},{"v":0,"d":"€ 0.00"}]
[null,2728,{"$nulls":7},{"v":0,"d":"€ 0.00"},{"v":0,"d":"€ 0.00"}]
[null,2729,{"$nulls":7},{"v":0,"d":"€ 0.00"},{"v":0,"d":"€ 0.00"}]
[null,2730,{"$nulls":7},{"v":0,"d":"€ 0.00"},{"v":0,"d":"€ 0.00"}]
[null,2731,{"$nulls":7},{"v":0,"d":"€ 0.00"},{"v":0,"d":"€ 0.00"}]
[null,2732,{"$nulls":7},{"v":0,"d":"€ 0.00"},{"v":0,"d":"€ 0.00"}]
[null,2733,{"$nulls":7},{"v":0,"d":"€ 0.00"},{"v":0,"d":"€ 0.00"}]
[null,2734,{"$nulls":7},{"v":0,"d":"€ 0.00"},{"v":0,"d":"€ 0.00"}]
[null,2735,{"$nulls":7},{"v":0,"d":"€ 0.00"},{"v":0,"d":"€ 0.00"}]
[null,2736,{"$nulls":7},{"v":0,"d":"€ 0.00"},{"v":0,"d":"€ 0.00"}]
[null,2737,{"$nulls":7},{"v":0,"d":"€ 0.00"},{"v":0,"d":"€ 0.00"}]
[null,2738,{"$nulls":7},{"v":0,"d":"€ 0.00"},{"v":0,"d":"€ 0.00"}]
[null,2739,{"$nulls":7},{"v":0,"d":"€ 0.00"},{"v":0,"d":"€ 0.00"}]
[null,2740,{"$nulls":7},{"v":0,"d":"€ 0.00"},{"v":0,"d":"€ 0.00"}]
[null,2741,{"$nulls":7},{"v":0,"d":"€ 0.00"},{"v":0,"d":"€ 0.00"}]
[null,2742,{"$nulls":7},{"v":0,"d":"€ 0.00"},{"v":0,"d":"€ 0.00"}]
[null,2743,{"$nulls":7},{"v":0,"d":"€ 0.00"},{"v":0,"d":"€ 0.00"}]
[null,2744,{"$nulls":7},{"v":0,"d":"€ 0.00"},{"v":0,"d":"€ 0.00"}]
[null,2745,{"$nulls":7},{"v":0,"d":"€ 0.00"},{"v":0,"d":"€ 0.00"}]
[null,2746,{"$nulls":7},{"v":0,"d":"€ 0.00"},{"v":0,"d":"€ 0.00"}]
[null,2747,{"$nulls":7},{"v":0,"d":"€ 0.00"},{"v":0,"d":"€ 0.00"}]
[null,2748,{"$nulls":7},{"v":0,"d":"€ 0.00"},{"v":0,"d":"€ 0.00"}]
[null,2749,{"$nulls":7},{"v":0,"d":"€ 0.00"},{"v":0,"d":"€ 0.00"}]
[null,2750,{"$nulls":7},{"v":0,"d":"€ 0.00"},{"v":0,"d":"€ 0.00"}]
[null,2751,{"$nulls":7},{"v":0,"d":"€ 0.00"},{"v":0,"d":"€ 0.00"}]
[null,2752,{"$nulls":7},{"v":0,"d":"€ 0.00"},{"v":0,"d":"€ 0.00"}]
[null,2753,{"$nulls":7},{"v":0,"d":"€ 0.00"},{"v":0,"d":"€ 0.00"}]
[null,2754,{"$nulls":7},{"v":0,"d":"€ 0.00"},{"v":0,"d":"€ 0.00"}]
[null,2755,{"$nulls":7},{"v":0,"d":"€ 0.00"},{"v":0,"d":"€ 0.00"}]
[null,2756,{"$nulls":7},{"v":0,"d":"€ 0.00"},{"v":0,"d":"€ 0.00"}]
[null,2757,{"$nulls":7},{"v":0,"d":"€ 0.00"},{"v":0,"d":"€ 0.00"}]
[null,2758,{"$nulls":7},{"v":0,"d":"€ 0.00"},{"v":0,"d":"€ 0.00"}]
[null,2759,{"$nulls":7},{"v":0,"d":"€ 0.00"},{"v":0,"d":"€ 0.00"}]
[null,2760,{"$nulls":7},{"v":0,"d":"€ 0.00"},{"v":0,"d":"€ 0.00"}]
[null,2761,{"$nulls":7},{"v":0,"d":"€ 0.00"},{"v":0,"d":"€ 0.00"}]
[null,2762,{"$nulls":7},{"v":0,"d":"€ 0.00"},{"v":0,"d":"€ 0.00"}]
[null,2763,{"$nulls":7},{"v":0,"d":"€ 0.00"},{"v":0,"d":"€ 0.00"}]
[null,2764,{"$nulls":7},{"v":0,"d":"€ 0.00"},{"v":0,"d":"€ 0.00"}]
[null,2765,{"$nulls":7},{"v":0,"d":"€ 0.00"},{"v":0,"d":"€ 0.00"}]
[null,2766,{"$nulls":7},{"v":0,"d":"€ 0.00"},{"v":0,"d":"€ 0.00"}]
[null,2767,{"$nulls":7},{"v":0,"d":"€ 0.00"},{"v":0,"d":"€ 0.00"}]
[null,2768,{"$nulls":7},{"v":0,"d":"€ 0.00"},{"v":0,"d":"€ 0.00"}]
[null,2769,{"$nulls":7},{"v":0,"d":"€ 0.00"},{"v":0,"d":"€ 0.00"}]
[null,2770,{"$nulls":7},{"v":0,"d":"€ 0.00"},{"v":0,"d":"€ 0.00"}]
[null,2771,{"$nulls":7},{"$f":"IF(OR(ISBLANK(H2778)=TRUE,ISBLANK(I2778)=TRUE),,ROUND(H2778*I2778,2))","v":{"v":0,"d":"€ 0.00"}},{"$f":"G2778+J2778","v":{"v":0,"d":"€ 0.00"}}]
[null,2772,{"$nulls":7},{"v":0,"d":"€ 0.00"},{"v":0,"d":"€ 0.00"}]
[null,2773,{"$nulls":7},{"v":0,"d":"€ 0.00"},{"v":0,"d":"€ 0.00"}]
[null,2774,{"$nulls":7},{"v":0,"d":"€ 0.00"},{"v":0,"d":"€ 0.00"}]
[null,2775,{"$nulls":7},{"v":0,"d":"€ 0.00"},{"v":0,"d":"€ 0.00"}]
[null,2776,{"$nulls":7},{"v":0,"d":"€ 0.00"},{"v":0,"d":"€ 0.00"}]
[null,2777,{"$nulls":7},{"v":0,"d":"€ 0.00"},{"v":0,"d":"€ 0.00"}]
[null,2778,{"$nulls":7},{"v":0,"d":"€ 0.00"},{"v":0,"d":"€ 0.00"}]
[null,2779,{"$nulls":7},{"v":0,"d":"€ 0.00"},{"v":0,"d":"€ 0.00"}]
[null,2780,{"$nulls":7},{"v":0,"d":"€ 0.00"},{"v":0,"d":"€ 0.00"}]
[null,2781,{"$nulls":7},{"v":0,"d":"€ 0.00"},{"v":0,"d":"€ 0.00"}]
[null,2782,{"$nulls":7},{"v":0,"d":"€ 0.00"},{"v":0,"d":"€ 0.00"}]
[null,2783,{"$nulls":7},{"v":0,"d":"€ 0.00"},{"v":0,"d":"€ 0.00"}]
[null,2784,{"$nulls":7},{"v":0,"d":"€ 0.00"},{"v":0,"d":"€ 0.00"}]
[null,2785,{"$nulls":7},{"v":0,"d":"€ 0.00"},{"v":0,"d":"€ 0.00"}]
[null,2786,{"$nulls":7},{"v":0,"d":"€ 0.00"},{"v":0,"d":"€ 0.00"}]
[null,2787,{"$nulls":7},{"v":0,"d":"€ 0.00"},{"v":0,"d":"€ 0.00"}]
[null,2788,{"$nulls":7},{"v":0,"d":"€ 0.00"},{"v":0,"d":"€ 0.00"}]
[null,2789,{"$nulls":7},{"v":0,"d":"€ 0.00"},{"v":0,"d":"€ 0.00"}]
[null,2790,{"$nulls":7},{"v":0,"d":"€ 0.00"},{"v":0,"d":"€ 0.00"}]
[null,2791,{"$nulls":7},{"v":0,"d":"€ 0.00"},{"v":0,"d":"€ 0.00"}]
[null,2792,{"$nulls":7},{"v":0,"d":"€ 0.00"},{"v":0,"d":"€ 0.00"}]
[null,2793,{"$nulls":7},{"v":0,"d":"€ 0.00"},{"v":0,"d":"€ 0.00"}]
[null,2794,{"$nulls":7},{"v":0,"d":"€ 0.00"},{"v":0,"d":"€ 0.00"}]
[null,2795,{"$nulls":7},{"v":0,"d":"€ 0.00"},{"v":0,"d":"€ 0.00"}]
[null,2796,{"$nulls":7},{"v":0,"d":"€ 0.00"},{"v":0,"d":"€ 0.00"}]
[null,2797,{"$nulls":7},{"v":0,"d":"€ 0.00"},{"v":0,"d":"€ 0.00"}]
[null,2798,{"$nulls":7},{"v":0,"d":"€ 0.00"},{"v":0,"d":"€ 0.00"}]
[null,2799,{"$nulls":7},{"v":0,"d":"€ 0.00"},{"v":0,"d":"€ 0.00"}]
[null,2800,{"$nulls":7},{"v":0,"d":"€ 0.00"},{"v":0,"d":"€ 0.00"}]
[null,2801,{"$nulls":7},{"v":0,"d":"€ 0.00"},{"v":0,"d":"€ 0.00"}]
[null,2802,{"$nulls":7},{"v":0,"d":"€ 0.00"},{"v":0,"d":"€ 0.00"}]
[null,2803,{"$nulls":7},{"v":0,"d":"€ 0.00"},{"v":0,"d":"€ 0.00"}]
[null,2804,{"$nulls":7},{"v":0,"d":"€ 0.00"},{"v":0,"d":"€ 0.00"}]
[null,2805,{"$nulls":7},{"v":0,"d":"€ 0.00"},{"v":0,"d":"€ 0.00"}]
[null,2806,{"$nulls":7},{"v":0,"d":"€ 0.00"},{"v":0,"d":"€ 0.00"}]
[null,2807,{"$nulls":7},{"v":0,"d":"€ 0.00"},{"v":0,"d":"€ 0.00"}]
[null,2808,{"$nulls":7},{"v":0,"d":"€ 0.00"},{"v":0,"d":"€ 0.00"}]
[null,2809,{"$nulls":7},{"v":0,"d":"€ 0.00"},{"v":0,"d":"€ 0.00"}]
[null,2810,{"$nulls":7},{"v":0,"d":"€ 0.00"},{"v":0,"d":"€ 0.00"}]
[null,2811,{"$nulls":7},{"v":0,"d":"€ 0.00"},{"v":0,"d":"€ 0.00"}]
[null,2812,{"$nulls":7},{"v":0,"d":"€ 0.00"},{"v":0,"d":"€ 0.00"}]
[null,2813,{"$nulls":7},{"v":0,"d":"€ 0.00"},{"v":0,"d":"€ 0.00"}]
[null,2814,{"$nulls":7},{"v":0,"d":"€ 0.00"},{"v":0,"d":"€ 0.00"}]
[null,2815,{"$nulls":7},{"v":0,"d":"€ 0.00"},{"v":0,"d":"€ 0.00"}]
[null,2816,{"$nulls":7},{"v":0,"d":"€ 0.00"},{"v":0,"d":"€ 0.00"}]
[null,2817,{"$nulls":7},{"v":0,"d":"€ 0.00"},{"v":0,"d":"€ 0.00"}]
[null,2818,{"$nulls":7},{"v":0,"d":"€ 0.00"},{"v":0,"d":"€ 0.00"}]
[null,2819,{"$nulls":7},{"v":0,"d":"€ 0.00"},{"v":0,"d":"€ 0.00"}]
[null,2820,{"$nulls":7},{"v":0,"d":"€ 0.00"},{"v":0,"d":"€ 0.00"}]
[null,2821,{"$nulls":7},{"v":0,"d":"€ 0.00"},{"v":0,"d":"€ 0.00"}]
[null,2822,{"$nulls":7},{"v":0,"d":"€ 0.00"},{"v":0,"d":"€ 0.00"}]
[null,2823,{"$nulls":7},{"v":0,"d":"€ 0.00"},{"v":0,"d":"€ 0.00"}]
[null,2824,{"$nulls":7},{"v":0,"d":"€ 0.00"},{"v":0,"d":"€ 0.00"}]
[null,2825,{"$nulls":7},{"v":0,"d":"€ 0.00"},{"v":0,"d":"€ 0.00"}]
[null,2826,{"$nulls":7},{"v":0,"d":"€ 0.00"},{"v":0,"d":"€ 0.00"}]
[null,2827,{"$nulls":7},{"v":0,"d":"€ 0.00"},{"v":0,"d":"€ 0.00"}]
[null,2828,{"$nulls":7},{"v":0,"d":"€ 0.00"},{"v":0,"d":"€ 0.00"}]
[null,2829,{"$nulls":7},{"v":0,"d":"€ 0.00"},{"v":0,"d":"€ 0.00"}]
[null,2830,{"$nulls":7},{"v":0,"d":"€ 0.00"},{"v":0,"d":"€ 0.00"}]
[null,2831,{"$nulls":7},{"v":0,"d":"€ 0.00"},{"v":0,"d":"€ 0.00"}]
[null,2832,{"$nulls":7},{"v":0,"d":"€ 0.00"},{"v":0,"d":"€ 0.00"}]
[null,2833,{"$nulls":7},{"v":0,"d":"€ 0.00"},{"v":0,"d":"€ 0.00"}]
[null,2834,{"$nulls":7},{"v":0,"d":"€ 0.00"},{"v":0,"d":"€ 0.00"}]
[null,2835,{"$nulls":7},{"$f":"IF(OR(ISBLANK(H2842)=TRUE,ISBLANK(I2842)=TRUE),,ROUND(H2842*I2842,2))","v":{"v":0,"d":"€ 0.00"}},{"$f":"G2842+J2842","v":{"v":0,"d":"€ 0.00"}}]
[null,2836,{"$nulls":7},{"v":0,"d":"€ 0.00"},{"v":0,"d":"€ 0.00"}]
[null,2837,{"$nulls":7},{"v":0,"d":"€ 0.00"},{"v":0,"d":"€ 0.00"}]
[null,2838,{"$nulls":7},{"v":0,"d":"€ 0.00"},{"v":0,"d":"€ 0.00"}]
[null,2839,{"$nulls":7},{"v":0,"d":"€ 0.00"},{"v":0,"d":"€ 0.00"}]
[null,2840,{"$nulls":7},{"v":0,"d":"€ 0.00"},{"v":0,"d":"€ 0.00"}]
[null,2841,{"$nulls":7},{"v":0,"d":"€ 0.00"},{"v":0,"d":"€ 0.00"}]
[null,2842,{"$nulls":7},{"v":0,"d":"€ 0.00"},{"v":0,"d":"€ 0.00"}]
[null,2843,{"$nulls":7},{"v":0,"d":"€ 0.00"},{"v":0,"d":"€ 0.00"}]
[null,2844,{"$nulls":7},{"v":0,"d":"€ 0.00"},{"v":0,"d":"€ 0.00"}]
[null,2845,{"$nulls":7},{"v":0,"d":"€ 0.00"},{"v":0,"d":"€ 0.00"}]
[null,2846,{"$nulls":7},{"v":0,"d":"€ 0.00"},{"v":0,"d":"€ 0.00"}]
[null,2847,{"$nulls":7},{"v":0,"d":"€ 0.00"},{"v":0,"d":"€ 0.00"}]
[null,2848,{"$nulls":7},{"v":0,"d":"€ 0.00"},{"v":0,"d":"€ 0.00"}]
[null,2849,{"$nulls":7},{"v":0,"d":"€ 0.00"},{"v":0,"d":"€ 0.00"}]
[null,2850,{"$nulls":7},{"v":0,"d":"€ 0.00"},{"v":0,"d":"€ 0.00"}]
[null,2851,{"$nulls":7},{"v":0,"d":"€ 0.00"},{"v":0,"d":"€ 0.00"}]
[null,2852,{"$nulls":7},{"v":0,"d":"€ 0.00"},{"v":0,"d":"€ 0.00"}]
[null,2853,{"$nulls":7},{"v":0,"d":"€ 0.00"},{"v":0,"d":"€ 0.00"}]
[null,2854,{"$nulls":7},{"v":0,"d":"€ 0.00"},{"v":0,"d":"€ 0.00"}]
[null,2855,{"$nulls":7},{"v":0,"d":"€ 0.00"},{"v":0,"d":"€ 0.00"}]
[null,2856,{"$nulls":7},{"v":0,"d":"€ 0.00"},{"v":0,"d":"€ 0.00"}]
[null,2857,{"$nulls":7},{"v":0,"d":"€ 0.00"},{"v":0,"d":"€ 0.00"}]
[null,2858,{"$nulls":7},{"v":0,"d":"€ 0.00"},{"v":0,"d":"€ 0.00"}]
[null,2859,{"$nulls":7},{"v":0,"d":"€ 0.00"},{"v":0,"d":"€ 0.00"}]
[null,2860,{"$nulls":7},{"v":0,"d":"€ 0.00"},{"v":0,"d":"€ 0.00"}]
[null,2861,{"$nulls":7},{"v":0,"d":"€ 0.00"},{"v":0,"d":"€ 0.00"}]
[null,2862,{"$nulls":7},{"v":0,"d":"€ 0.00"},{"v":0,"d":"€ 0.00"}]
[null,2863,{"$nulls":7},{"v":0,"d":"€ 0.00"},{"v":0,"d":"€ 0.00"}]
[null,2864,{"$nulls":7},{"v":0,"d":"€ 0.00"},{"v":0,"d":"€ 0.00"}]
[null,2865,{"$nulls":7},{"v":0,"d":"€ 0.00"},{"v":0,"d":"€ 0.00"}]
[null,2866,{"$nulls":7},{"v":0,"d":"€ 0.00"},{"v":0,"d":"€ 0.00"}]
[null,2867,{"$nulls":7},{"v":0,"d":"€ 0.00"},{"v":0,"d":"€ 0.00"}]
[null,2868,{"$nulls":7},{"v":0,"d":"€ 0.00"},{"v":0,"d":"€ 0.00"}]
[null,2869,{"$nulls":7},{"v":0,"d":"€ 0.00"},{"v":0,"d":"€ 0.00"}]
[null,2870,{"$nulls":7},{"v":0,"d":"€ 0.00"},{"v":0,"d":"€ 0.00"}]
[null,2871,{"$nulls":7},{"v":0,"d":"€ 0.00"},{"v":0,"d":"€ 0.00"}]
[null,2872,{"$nulls":7},{"v":0,"d":"€ 0.00"},{"v":0,"d":"€ 0.00"}]
[null,2873,{"$nulls":7},{"v":0,"d":"€ 0.00"},{"v":0,"d":"€ 0.00"}]
[null,2874,{"$nulls":7},{"v":0,"d":"€ 0.00"},{"v":0,"d":"€ 0.00"}]
[null,2875,{"$nulls":7},{"v":0,"d":"€ 0.00"},{"v":0,"d":"€ 0.00"}]
[null,2876,{"$nulls":7},{"v":0,"d":"€ 0.00"},{"v":0,"d":"€ 0.00"}]
[null,2877,{"$nulls":7},{"v":0,"d":"€ 0.00"},{"v":0,"d":"€ 0.00"}]
[null,2878,{"$nulls":7},{"v":0,"d":"€ 0.00"},{"v":0,"d":"€ 0.00"}]
[null,2879,{"$nulls":7},{"v":0,"d":"€ 0.00"},{"v":0,"d":"€ 0.00"}]
[null,2880,{"$nulls":7},{"v":0,"d":"€ 0.00"},{"v":0,"d":"€ 0.00"}]
[null,2881,{"$nulls":7},{"v":0,"d":"€ 0.00"},{"v":0,"d":"€ 0.00"}]
[null,2882,{"$nulls":7},{"v":0,"d":"€ 0.00"},{"v":0,"d":"€ 0.00"}]
[null,2883,{"$nulls":7},{"v":0,"d":"€ 0.00"},{"v":0,"d":"€ 0.00"}]
[null,2884,{"$nulls":7},{"v":0,"d":"€ 0.00"},{"v":0,"d":"€ 0.00"}]
[null,2885,{"$nulls":7},{"v":0,"d":"€ 0.00"},{"v":0,"d":"€ 0.00"}]
[null,2886,{"$nulls":7},{"v":0,"d":"€ 0.00"},{"v":0,"d":"€ 0.00"}]
[null,2887,{"$nulls":7},{"v":0,"d":"€ 0.00"},{"v":0,"d":"€ 0.00"}]
[null,2888,{"$nulls":7},{"v":0,"d":"€ 0.00"},{"v":0,"d":"€ 0.00"}]
[null,2889,{"$nulls":7},{"v":0,"d":"€ 0.00"},{"v":0,"d":"€ 0.00"}]
[null,2890,{"$nulls":7},{"v":0,"d":"€ 0.00"},{"v":0,"d":"€ 0.00"}]
[null,2891,{"$nulls":7},{"v":0,"d":"€ 0.00"},{"v":0,"d":"€ 0.00"}]
[null,2892,{"$nulls":7},{"v":0,"d":"€ 0.00"},{"v":0,"d":"€ 0.00"}]
[null,2893,{"$nulls":7},{"v":0,"d":"€ 0.00"},{"v":0,"d":"€ 0.00"}]
[null,2894,{"$nulls":7},{"v":0,"d":"€ 0.00"},{"v":0,"d":"€ 0.00"}]
[null,2895,{"$nulls":7},{"v":0,"d":"€ 0.00"},{"v":0,"d":"€ 0.00"}]
[null,2896,{"$nulls":7},{"v":0,"d":"€ 0.00"},{"v":0,"d":"€ 0.00"}]
[null,2897,{"$nulls":7},{"v":0,"d":"€ 0.00"},{"v":0,"d":"€ 0.00"}]
[null,2898,{"$nulls":7},{"v":0,"d":"€ 0.00"},{"v":0,"d":"€ 0.00"}]
[null,2899,{"$nulls":7},{"$f":"IF(OR(ISBLANK(H2906)=TRUE,ISBLANK(I2906)=TRUE),,ROUND(H2906*I2906,2))","v":{"v":0,"d":"€ 0.00"}},{"$f":"G2906+J2906","v":{"v":0,"d":"€ 0.00"}}]
[null,2900,{"$nulls":7},{"v":0,"d":"€ 0.00"},{"v":0,"d":"€ 0.00"}]
[null,2901,{"$nulls":7},{"v":0,"d":"€ 0.00"},{"v":0,"d":"€ 0.00"}]
[null,2902,{"$nulls":7},{"v":0,"d":"€ 0.00"},{"v":0,"d":"€ 0.00"}]
[null,2903,{"$nulls":7},{"v":0,"d":"€ 0.00"},{"v":0,"d":"€ 0.00"}]
[null,2904,{"$nulls":7},{"v":0,"d":"€ 0.00"},{"v":0,"d":"€ 0.00"}]
[null,2905,{"$nulls":7},{"v":0,"d":"€ 0.00"},{"v":0,"d":"€ 0.00"}]
[null,2906,{"$nulls":7},{"v":0,"d":"€ 0.00"},{"v":0,"d":"€ 0.00"}]
[null,2907,{"$nulls":7},{"v":0,"d":"€ 0.00"},{"v":0,"d":"€ 0.00"}]
[null,2908,{"$nulls":7},{"v":0,"d":"€ 0.00"},{"v":0,"d":"€ 0.00"}]
[null,2909,{"$nulls":7},{"v":0,"d":"€ 0.00"},{"v":0,"d":"€ 0.00"}]
[null,2910,{"$nulls":7},{"v":0,"d":"€ 0.00"},{"v":0,"d":"€ 0.00"}]
[null,2911,{"$nulls":7},{"v":0,"d":"€ 0.00"},{"v":0,"d":"€ 0.00"}]
[null,2912,{"$nulls":7},{"v":0,"d":"€ 0.00"},{"v":0,"d":"€ 0.00"}]
[null,2913,{"$nulls":7},{"v":0,"d":"€ 0.00"},{"v":0,"d":"€ 0.00"}]
[null,2914,{"$nulls":7},{"v":0,"d":"€ 0.00"},{"v":0,"d":"€ 0.00"}]
[null,2915,{"$nulls":7},{"v":0,"d":"€ 0.00"},{"v":0,"d":"€ 0.00"}]
[null,2916,{"$nulls":7},{"v":0,"d":"€ 0.00"},{"v":0,"d":"€ 0.00"}]
[null,2917,{"$nulls":7},{"v":0,"d":"€ 0.00"},{"v":0,"d":"€ 0.00"}]
[null,2918,{"$nulls":7},{"v":0,"d":"€ 0.00"},{"v":0,"d":"€ 0.00"}]
[null,2919,{"$nulls":7},{"v":0,"d":"€ 0.00"},{"v":0,"d":"€ 0.00"}]
[null,2920,{"$nulls":7},{"v":0,"d":"€ 0.00"},{"v":0,"d":"€ 0.00"}]
[null,2921,{"$nulls":7},{"v":0,"d":"€ 0.00"},{"v":0,"d":"€ 0.00"}]
[null,2922,{"$nulls":7},{"v":0,"d":"€ 0.00"},{"v":0,"d":"€ 0.00"}]
[null,2923,{"$nulls":7},{"v":0,"d":"€ 0.00"},{"v":0,"d":"€ 0.00"}]
[null,2924,{"$nulls":7},{"v":0,"d":"€ 0.00"},{"v":0,"d":"€ 0.00"}]
[null,2925,{"$nulls":7},{"v":0,"d":"€ 0.00"},{"v":0,"d":"€ 0.00"}]
[null,2926,{"$nulls":7},{"v":0,"d":"€ 0.00"},{"v":0,"d":"€ 0.00"}]
[null,2927,{"$nulls":7},{"v":0,"d":"€ 0.00"},{"v":0,"d":"€ 0.00"}]
[null,2928,{"$nulls":7},{"v":0,"d":"€ 0.00"},{"v":0,"d":"€ 0.00"}]
[null,2929,{"$nulls":7},{"v":0,"d":"€ 0.00"},{"v":0,"d":"€ 0.00"}]
[null,2930,{"$nulls":7},{"v":0,"d":"€ 0.00"},{"v":0,"d":"€ 0.00"}]
[null,2931,{"$nulls":7},{"v":0,"d":"€ 0.00"},{"v":0,"d":"€ 0.00"}]
[null,2932,{"$nulls":7},{"v":0,"d":"€ 0.00"},{"v":0,"d":"€ 0.00"}]
[null,2933,{"$nulls":7},{"v":0,"d":"€ 0.00"},{"v":0,"d":"€ 0.00"}]
[null,2934,{"$nulls":7},{"v":0,"d":"€ 0.00"},{"v":0,"d":"€ 0.00"}]
[null,2935,{"$nulls":7},{"v":0,"d":"€ 0.00"},{"v":0,"d":"€ 0.00"}]
[null,2936,{"$nulls":7},{"v":0,"d":"€ 0.00"},{"v":0,"d":"€ 0.00"}]
[null,2937,{"$nulls":7},{"v":0,"d":"€ 0.00"},{"v":0,"d":"€ 0.00"}]
[null,2938,{"$nulls":7},{"v":0,"d":"€ 0.00"},{"v":0,"d":"€ 0.00"}]
[null,2939,{"$nulls":7},{"v":0,"d":"€ 0.00"},{"v":0,"d":"€ 0.00"}]
[null,2940,{"$nulls":7},{"v":0,"d":"€ 0.00"},{"v":0,"d":"€ 0.00"}]
[null,2941,{"$nulls":7},{"v":0,"d":"€ 0.00"},{"v":0,"d":"€ 0.00"}]
[null,2942,{"$nulls":7},{"v":0,"d":"€ 0.00"},{"v":0,"d":"€ 0.00"}]
[null,2943,{"$nulls":7},{"v":0,"d":"€ 0.00"},{"v":0,"d":"€ 0.00"}]
[null,2944,{"$nulls":7},{"v":0,"d":"€ 0.00"},{"v":0,"d":"€ 0.00"}]
[null,2945,{"$nulls":7},{"v":0,"d":"€ 0.00"},{"v":0,"d":"€ 0.00"}]
[null,2946,{"$nulls":7},{"v":0,"d":"€ 0.00"},{"v":0,"d":"€ 0.00"}]
[null,2947,{"$nulls":7},{"v":0,"d":"€ 0.00"},{"v":0,"d":"€ 0.00"}]
[null,2948,{"$nulls":7},{"v":0,"d":"€ 0.00"},{"v":0,"d":"€ 0.00"}]
[null,2949,{"$nulls":7},{"v":0,"d":"€ 0.00"},{"v":0,"d":"€ 0.00"}]
[null,2950,{"$nulls":7},{"v":0,"d":"€ 0.00"},{"v":0,"d":"€ 0.00"}]
[null,2951,{"$nulls":7},{"v":0,"d":"€ 0.00"},{"v":0,"d":"€ 0.00"}]
[null,2952,{"$nulls":7},{"v":0,"d":"€ 0.00"},{"v":0,"d":"€ 0.00"}]
[null,2953,{"$nulls":7},{"v":0,"d":"€ 0.00"},{"v":0,"d":"€ 0.00"}]
[null,2954,{"$nulls":7},{"v":0,"d":"€ 0.00"},{"v":0,"d":"€ 0.00"}]
[null,2955,{"$nulls":7},{"v":0,"d":"€ 0.00"},{"v":0,"d":"€ 0.00"}]
[null,2956,{"$nulls":7},{"v":0,"d":"€ 0.00"},{"v":0,"d":"€ 0.00"}]
[null,2957,{"$nulls":7},{"v":0,"d":"€ 0.00"},{"v":0,"d":"€ 0.00"}]
[null,2958,{"$nulls":7},{"v":0,"d":"€ 0.00"},{"v":0,"d":"€ 0.00"}]
[null,2959,{"$nulls":7},{"v":0,"d":"€ 0.00"},{"v":0,"d":"€ 0.00"}]
[null,2960,{"$nulls":7},{"v":0,"d":"€ 0.00"},{"v":0,"d":"€ 0.00"}]
[null,2961,{"$nulls":7},{"v":0,"d":"€ 0.00"},{"v":0,"d":"€ 0.00"}]
[null,2962,{"$nulls":7},{"v":0,"d":"€ 0.00"},{"v":0,"d":"€ 0.00"}]
[null,2963,{"$nulls":7},{"$f":"IF(OR(ISBLANK(H2970)=TRUE,ISBLANK(I2970)=TRUE),,ROUND(H2970*I2970,2))","v":{"v":0,"d":"€ 0.00"}},{"$f":"G2970+J2970","v":{"v":0,"d":"€ 0.00"}}]
[null,2964,{"$nulls":7},{"v":0,"d":"€ 0.00"},{"v":0,"d":"€ 0.00"}]
[null,2965,{"$nulls":7},{"v":0,"d":"€ 0.00"},{"v":0,"d":"€ 0.00"}]
[null,2966,{"$nulls":7},{"v":0,"d":"€ 0.00"},{"v":0,"d":"€ 0.00"}]
[null,2967,{"$nulls":7},{"v":0,"d":"€ 0.00"},{"v":0,"d":"€ 0.00"}]
[null,2968,{"$nulls":7},{"v":0,"d":"€ 0.00"},{"v":0,"d":"€ 0.00"}]
[null,2969,{"$nulls":7},{"v":0,"d":"€ 0.00"},{"v":0,"d":"€ 0.00"}]
[null,2970,{"$nulls":7},{"v":0,"d":"€ 0.00"},{"v":0,"d":"€ 0.00"}]
[null,2971,{"$nulls":7},{"v":0,"d":"€ 0.00"},{"v":0,"d":"€ 0.00"}]
[null,2972,{"$nulls":7},{"v":0,"d":"€ 0.00"},{"v":0,"d":"€ 0.00"}]
[null,2973,{"$nulls":7},{"v":0,"d":"€ 0.00"},{"v":0,"d":"€ 0.00"}]
[null,2974,{"$nulls":7},{"v":0,"d":"€ 0.00"},{"v":0,"d":"€ 0.00"}]
[null,2975,{"$nulls":7},{"v":0,"d":"€ 0.00"},{"v":0,"d":"€ 0.00"}]
[null,2976,{"$nulls":7},{"v":0,"d":"€ 0.00"},{"v":0,"d":"€ 0.00"}]
[null,2977,{"$nulls":7},{"v":0,"d":"€ 0.00"},{"v":0,"d":"€ 0.00"}]
[null,2978,{"$nulls":7},{"v":0,"d":"€ 0.00"},{"v":0,"d":"€ 0.00"}]
[null,2979,{"$nulls":7},{"v":0,"d":"€ 0.00"},{"v":0,"d":"€ 0.00"}]
[null,2980,{"$nulls":7},{"v":0,"d":"€ 0.00"},{"v":0,"d":"€ 0.00"}]
[null,2981,{"$nulls":7},{"v":0,"d":"€ 0.00"},{"v":0,"d":"€ 0.00"}]
[null,2982,{"$nulls":7},{"v":0,"d":"€ 0.00"},{"v":0,"d":"€ 0.00"}]
[null,2983,{"$nulls":7},{"v":0,"d":"€ 0.00"},{"v":0,"d":"€ 0.00"}]
[null,2984,{"$nulls":7},{"v":0,"d":"€ 0.00"},{"v":0,"d":"€ 0.00"}]
[null,2985,{"$nulls":7},{"v":0,"d":"€ 0.00"},{"v":0,"d":"€ 0.00"}]
[null,2986,{"$nulls":7},{"v":0,"d":"€ 0.00"},{"v":0,"d":"€ 0.00"}]
[null,2987,{"$nulls":7},{"v":0,"d":"€ 0.00"},{"v":0,"d":"€ 0.00"}]
[null,2988,{"$nulls":7},{"v":0,"d":"€ 0.00"},{"v":0,"d":"€ 0.00"}]
[null,2989,{"$nulls":7},{"v":0,"d":"€ 0.00"},{"v":0,"d":"€ 0.00"}]
[null,2990,{"$nulls":7},{"v":0,"d":"€ 0.00"},{"v":0,"d":"€ 0.00"}]
[null,2991,{"$nulls":7},{"v":0,"d":"€ 0.00"},{"v":0,"d":"€ 0.00"}]
[null,2992,{"$nulls":7},{"v":0,"d":"€ 0.00"},{"v":0,"d":"€ 0.00"}]
[null,2993,{"$nulls":7},{"v":0,"d":"€ 0.00"},{"v":0,"d":"€ 0.00"}]
[null,2994,{"$nulls":7},{"v":0,"d":"€ 0.00"},{"v":0,"d":"€ 0.00"}]
[null,2995,{"$nulls":7},{"v":0,"d":"€ 0.00"},{"v":0,"d":"€ 0.00"}]
[null,2996,{"$nulls":7},{"v":0,"d":"€ 0.00"},{"v":0,"d":"€ 0.00"}]
[null,2997,{"$nulls":7},{"v":0,"d":"€ 0.00"},{"v":0,"d":"€ 0.00"}]
[null,2998,{"$nulls":7},{"v":0,"d":"€ 0.00"},{"v":0,"d":"€ 0.00"}]
[null,2999,{"$nulls":7},{"v":0,"d":"€ 0.00"},{"v":0,"d":"€ 0.00"}]
[null,3000,{"$nulls":7},{"v":0,"d":"€ 0.00"},{"v":0,"d":"€ 0.00"}]
[null,3001,{"$nulls":7},{"v":0,"d":"€ 0.00"},{"v":0,"d":"€ 0.00"}]
[null,3002,{"$nulls":7},{"v":0,"d":"€ 0.00"},{"v":0,"d":"€ 0.00"}]
[null,3003,{"$nulls":7},{"v":0,"d":"€ 0.00"},{"v":0,"d":"€ 0.00"}]
[null,3004,{"$nulls":7},{"v":0,"d":"€ 0.00"},{"v":0,"d":"€ 0.00"}]
[null,3005,{"$nulls":7},{"v":0,"d":"€ 0.00"},{"v":0,"d":"€ 0.00"}]
[null,3006,{"$nulls":7},{"v":0,"d":"€ 0.00"},{"v":0,"d":"€ 0.00"}]
[null,3007,{"$nulls":7},{"v":0,"d":"€ 0.00"},{"v":0,"d":"€ 0.00"}]
[null,3008,{"$nulls":7},{"v":0,"d":"€ 0.00"},{"v":0,"d":"€ 0.00"}]
[null,3009,{"$nulls":7},{"v":0,"d":"€ 0.00"},{"v":0,"d":"€ 0.00"}]
[null,3010,{"$nulls":7},{"v":0,"d":"€ 0.00"},{"v":0,"d":"€ 0.00"}]
[null,3011,{"$nulls":7},{"v":0,"d":"€ 0.00"},{"v":0,"d":"€ 0.00"}]
[null,3012,{"$nulls":7},{"v":0,"d":"€ 0.00"},{"v":0,"d":"€ 0.00"}]
[null,3013,{"$nulls":7},{"v":0,"d":"€ 0.00"},{"v":0,"d":"€ 0.00"}]
[null,3014,{"$nulls":7},{"v":0,"d":"€ 0.00"},{"v":0,"d":"€ 0.00"}]
[null,3015,{"$nulls":7},{"v":0,"d":"€ 0.00"},{"v":0,"d":"€ 0.00"}]
[null,3016,{"$nulls":7},{"v":0,"d":"€ 0.00"},{"v":0,"d":"€ 0.00"}]
[null,3017,{"$nulls":7},{"v":0,"d":"€ 0.00"},{"v":0,"d":"€ 0.00"}]
[null,3018,{"$nulls":7},{"v":0,"d":"€ 0.00"},{"v":0,"d":"€ 0.00"}]
[null,3019,{"$nulls":7},{"v":0,"d":"€ 0.00"},{"v":0,"d":"€ 0.00"}]
[null,3020,{"$nulls":7},{"v":0,"d":"€ 0.00"},{"v":0,"d":"€ 0.00"}]
[null,3021,{"$nulls":7},{"v":0,"d":"€ 0.00"},{"v":0,"d":"€ 0.00"}]
[null,3022,{"$nulls":7},{"v":0,"d":"€ 0.00"},{"v":0,"d":"€ 0.00"}]
[null,3023,{"$nulls":7},{"v":0,"d":"€ 0.00"},{"v":0,"d":"€ 0.00"}]
[null,3024,{"$nulls":7},{"v":0,"d":"€ 0.00"},{"v":0,"d":"€ 0.00"}]
[null,3025,{"$nulls":7},{"v":0,"d":"€ 0.00"},{"v":0,"d":"€ 0.00"}]
[null,3026,{"$nulls":7},{"v":0,"d":"€ 0.00"},{"v":0,"d":"€ 0.00"}]
[null,3027,{"$nulls":7},{"$f":"IF(OR(ISBLANK(H3034)=TRUE,ISBLANK(I3034)=TRUE),,ROUND(H3034*I3034,2))","v":{"v":0,"d":"€ 0.00"}},{"$f":"G3034+J3034","v":{"v":0,"d":"€ 0.00"}}]
[null,3028,{"$nulls":7},{"v":0,"d":"€ 0.00"},{"v":0,"d":"€ 0.00"}]
[null,3029,{"$nulls":7},{"v":0,"d":"€ 0.00"},{"v":0,"d":"€ 0.00"}]
[null,3030,{"$nulls":7},{"v":0,"d":"€ 0.00"},{"v":0,"d":"€ 0.00"}]
[null,3031,{"$nulls":7},{"v":0,"d":"€ 0.00"},{"v":0,"d":"€ 0.00"}]
[null,3032,{"$nulls":7},{"v":0,"d":"€ 0.00"},{"v":0,"d":"€ 0.00"}]
[null,3033,{"$nulls":7},{"v":0,"d":"€ 0.00"},{"v":0,"d":"€ 0.00"}]
[null,3034,{"$nulls":7},{"v":0,"d":"€ 0.00"},{"v":0,"d":"€ 0.00"}]
[null,3035,{"$nulls":7},{"v":0,"d":"€ 0.00"},{"v":0,"d":"€ 0.00"}]
[null,3036,{"$nulls":7},{"v":0,"d":"€ 0.00"},{"v":0,"d":"€ 0.00"}]
[null,3037,{"$nulls":7},{"v":0,"d":"€ 0.00"},{"v":0,"d":"€ 0.00"}]
[null,3038,{"$nulls":7},{"v":0,"d":"€ 0.00"},{"v":0,"d":"€ 0.00"}]
[null,3039,{"$nulls":7},{"v":0,"d":"€ 0.00"},{"v":0,"d":"€ 0.00"}]
[null,3040,{"$nulls":7},{"v":0,"d":"€ 0.00"},{"v":0,"d":"€ 0.00"}]
[null,3041,{"$nulls":7},{"v":0,"d":"€ 0.00"},{"v":0,"d":"€ 0.00"}]
[null,3042,{"$nulls":7},{"v":0,"d":"€ 0.00"},{"v":0,"d":"€ 0.00"}]
[null,3043,{"$nulls":7},{"v":0,"d":"€ 0.00"},{"v":0,"d":"€ 0.00"}]
[null,3044,{"$nulls":7},{"v":0,"d":"€ 0.00"},{"v":0,"d":"€ 0.00"}]
[null,3045,{"$nulls":7},{"v":0,"d":"€ 0.00"},{"v":0,"d":"€ 0.00"}]
[null,3046,{"$nulls":7},{"v":0,"d":"€ 0.00"},{"v":0,"d":"€ 0.00"}]
[null,3047,{"$nulls":7},{"v":0,"d":"€ 0.00"},{"v":0,"d":"€ 0.00"}]
[null,3048,{"$nulls":7},{"v":0,"d":"€ 0.00"},{"v":0,"d":"€ 0.00"}]
[null,3049,{"$nulls":7},{"v":0,"d":"€ 0.00"},{"v":0,"d":"€ 0.00"}]
[null,3050,{"$nulls":7},{"v":0,"d":"€ 0.00"},{"v":0,"d":"€ 0.00"}]
[null,3051,{"$nulls":7},{"v":0,"d":"€ 0.00"},{"v":0,"d":"€ 0.00"}]
[null,3052,{"$nulls":7},{"v":0,"d":"€ 0.00"},{"v":0,"d":"€ 0.00"}]
[null,3053,{"$nulls":7},{"v":0,"d":"€ 0.00"},{"v":0,"d":"€ 0.00"}]
[null,3054,{"$nulls":7},{"v":0,"d":"€ 0.00"},{"v":0,"d":"€ 0.00"}]
[null,3055,{"$nulls":7},{"v":0,"d":"€ 0.00"},{"v":0,"d":"€ 0.00"}]
[null,3056,{"$nulls":7},{"v":0,"d":"€ 0.00"},{"v":0,"d":"€ 0.00"}]
[null,3057,{"$nulls":7},{"v":0,"d":"€ 0.00"},{"v":0,"d":"€ 0.00"}]
[null,3058,{"$nulls":7},{"v":0,"d":"€ 0.00"},{"v":0,"d":"€ 0.00"}]
[null,3059,{"$nulls":7},{"v":0,"d":"€ 0.00"},{"v":0,"d":"€ 0.00"}]
[null,3060,{"$nulls":7},{"v":0,"d":"€ 0.00"},{"v":0,"d":"€ 0.00"}]
[null,3061,{"$nulls":7},{"v":0,"d":"€ 0.00"},{"v":0,"d":"€ 0.00"}]
[null,3062,{"$nulls":7},{"v":0,"d":"€ 0.00"},{"v":0,"d":"€ 0.00"}]
[null,3063,{"$nulls":7},{"v":0,"d":"€ 0.00"},{"v":0,"d":"€ 0.00"}]
[null,3064,{"$nulls":7},{"v":0,"d":"€ 0.00"},{"v":0,"d":"€ 0.00"}]
[null,3065,{"$nulls":7},{"v":0,"d":"€ 0.00"},{"v":0,"d":"€ 0.00"}]
[null,3066,{"$nulls":7},{"v":0,"d":"€ 0.00"},{"v":0,"d":"€ 0.00"}]
[null,3067,{"$nulls":7},{"v":0,"d":"€ 0.00"},{"v":0,"d":"€ 0.00"}]
[null,3068,{"$nulls":7},{"v":0,"d":"€ 0.00"},{"v":0,"d":"€ 0.00"}]
[null,3069,{"$nulls":7},{"v":0,"d":"€ 0.00"},{"v":0,"d":"€ 0.00"}]
[null,3070,{"$nulls":7},{"v":0,"d":"€ 0.00"},{"v":0,"d":"€ 0.00"}]
[null,3071,{"$nulls":7},{"v":0,"d":"€ 0.00"},{"v":0,"d":"€ 0.00"}]
[null,3072,{"$nulls":7},{"v":0,"d":"€ 0.00"},{"v":0,"d":"€ 0.00"}]
[null,3073,{"$nulls":7},{"v":0,"d":"€ 0.00"},{"v":0,"d":"€ 0.00"}]
[null,3074,{"$nulls":7},{"v":0,"d":"€ 0.00"},{"v":0,"d":"€ 0.00"}]
[null,3075,{"$nulls":7},{"v":0,"d":"€ 0.00"},{"v":0,"d":"€ 0.00"}]
[null,3076,{"$nulls":7},{"v":0,"d":"€ 0.00"},{"v":0,"d":"€ 0.00"}]
[null,3077,{"$nulls":7},{"v":0,"d":"€ 0.00"},{"v":0,"d":"€ 0.00"}]
[null,3078,{"$nulls":7},{"v":0,"d":"€ 0.00"},{"v":0,"d":"€ 0.00"}]
[null,3079,{"$nulls":7},{"v":0,"d":"€ 0.00"},{"v":0,"d":"€ 0.00"}]
[null,3080,{"$nulls":7},{"v":0,"d":"€ 0.00"},{"v":0,"d":"€ 0.00"}]
[null,3081,{"$nulls":7},{"v":0,"d":"€ 0.00"},{"v":0,"d":"€ 0.00"}]
[null,3082,{"$nulls":7},{"v":0,"d":"€ 0.00"},{"v":0,"d":"€ 0.00"}]
[null,3083,{"$nulls":7},{"v":0,"d":"€ 0.00"},{"v":0,"d":"€ 0.00"}]
[null,3084,{"$nulls":7},{"v":0,"d":"€ 0.00"},{"v":0,"d":"€ 0.00"}]
[null,3085,{"$nulls":7},{"v":0,"d":"€ 0.00"},{"v":0,"d":"€ 0.00"}]
[null,3086,{"$nulls":7},{"v":0,"d":"€ 0.00"},{"v":0,"d":"€ 0.00"}]
[null,3087,{"$nulls":7},{"v":0,"d":"€ 0.00"},{"v":0,"d":"€ 0.00"}]
[null,3088,{"$nulls":7},{"v":0,"d":"€ 0.00"},{"v":0,"d":"€ 0.00"}]
[null,3089,{"$nulls":7},{"v":0,"d":"€ 0.00"},{"v":0,"d":"€ 0.00"}]
[null,3090,{"$nulls":7},{"v":0,"d":"€ 0.00"},{"v":0,"d":"€ 0.00"}]
[null,3091,{"$nulls":7},{"$f":"IF(OR(ISBLANK(H3098)=TRUE,ISBLANK(I3098)=TRUE),,ROUND(H3098*I3098,2))","v":{"v":0,"d":"€ 0.00"}},{"$f":"G3098+J3098","v":{"v":0,"d":"€ 0.00"}}]
[null,3092,{"$nulls":7},{"v":0,"d":"€ 0.00"},{"v":0,"d":"€ 0.00"}]
[null,3093,{"$nulls":7},{"v":0,"d":"€ 0.00"},{"v":0,"d":"€ 0.00"}]
[null,3094,{"$nulls":7},{"v":0,"d":"€ 0.00"},{"v":0,"d":"€ 0.00"}]
[null,3095,{"$nulls":7},{"v":0,"d":"€ 0.00"},{"v":0,"d":"€ 0.00"}]
[null,3096,{"$nulls":7},{"v":0,"d":"€ 0.00"},{"v":0,"d":"€ 0.00"}]
[null,3097,{"$nulls":7},{"v":0,"d":"€ 0.00"},{"v":0,"d":"€ 0.00"}]
[null,3098,{"$nulls":7},{"v":0,"d":"€ 0.00"},{"v":0,"d":"€ 0.00"}]
[null,3099,{"$nulls":7},{"v":0,"d":"€ 0.00"},{"v":0,"d":"€ 0.00"}]
[null,3100,{"$nulls":7},{"v":0,"d":"€ 0.00"},{"v":0,"d":"€ 0.00"}]
[null,3101,{"$nulls":7},{"v":0,"d":"€ 0.00"},{"v":0,"d":"€ 0.00"}]
[null,3102,{"$nulls":7},{"v":0,"d":"€ 0.00"},{"v":0,"d":"€ 0.00"}]
[null,3103,{"$nulls":7},{"v":0,"d":"€ 0.00"},{"v":0,"d":"€ 0.00"}]
[null,3104,{"$nulls":7},{"v":0,"d":"€ 0.00"},{"v":0,"d":"€ 0.00"}]
[null,3105,{"$nulls":7},{"v":0,"d":"€ 0.00"},{"v":0,"d":"€ 0.00"}]
[null,3106,{"$nulls":7},{"v":0,"d":"€ 0.00"},{"v":0,"d":"€ 0.00"}]
[null,3107,{"$nulls":7},{"v":0,"d":"€ 0.00"},{"v":0,"d":"€ 0.00"}]
[null,3108,{"$nulls":7},{"v":0,"d":"€ 0.00"},{"v":0,"d":"€ 0.00"}]
[null,3109,{"$nulls":7},{"v":0,"d":"€ 0.00"},{"v":0,"d":"€ 0.00"}]
[null,3110,{"$nulls":7},{"v":0,"d":"€ 0.00"},{"v":0,"d":"€ 0.00"}]
[null,3111,{"$nulls":7},{"v":0,"d":"€ 0.00"},{"v":0,"d":"€ 0.00"}]
[null,3112,{"$nulls":7},{"v":0,"d":"€ 0.00"},{"v":0,"d":"€ 0.00"}]
[null,3113,{"$nulls":7},{"v":0,"d":"€ 0.00"},{"v":0,"d":"€ 0.00"}]
[null,3114,{"$nulls":7},{"v":0,"d":"€ 0.00"},{"v":0,"d":"€ 0.00"}]
[null,3115,{"$nulls":7},{"v":0,"d":"€ 0.00"},{"v":0,"d":"€ 0.00"}]
[null,3116,{"$nulls":7},{"v":0,"d":"€ 0.00"},{"v":0,"d":"€ 0.00"}]
[null,3117,{"$nulls":7},{"v":0,"d":"€ 0.00"},{"v":0,"d":"€ 0.00"}]
[null,3118,{"$nulls":7},{"v":0,"d":"€ 0.00"},{"v":0,"d":"€ 0.00"}]
[null,3119,{"$nulls":7},{"v":0,"d":"€ 0.00"},{"v":0,"d":"€ 0.00"}]
[null,3120,{"$nulls":7},{"v":0,"d":"€ 0.00"},{"v":0,"d":"€ 0.00"}]
[null,3121,{"$nulls":7},{"v":0,"d":"€ 0.00"},{"v":0,"d":"€ 0.00"}]
[null,3122,{"$nulls":7},{"v":0,"d":"€ 0.00"},{"v":0,"d":"€ 0.00"}]
[null,3123,{"$nulls":7},{"v":0,"d":"€ 0.00"},{"v":0,"d":"€ 0.00"}]
[null,3124,{"$nulls":7},{"v":0,"d":"€ 0.00"},{"v":0,"d":"€ 0.00"}]
[null,3125,{"$nulls":7},{"v":0,"d":"€ 0.00"},{"v":0,"d":"€ 0.00"}]
[null,3126,{"$nulls":7},{"v":0,"d":"€ 0.00"},{"v":0,"d":"€ 0.00"}]
[null,3127,{"$nulls":7},{"v":0,"d":"€ 0.00"},{"v":0,"d":"€ 0.00"}]
[null,3128,{"$nulls":7},{"v":0,"d":"€ 0.00"},{"v":0,"d":"€ 0.00"}]
[null,3129,{"$nulls":7},{"v":0,"d":"€ 0.00"},{"v":0,"d":"€ 0.00"}]
[null,3130,{"$nulls":7},{"v":0,"d":"€ 0.00"},{"v":0,"d":"€ 0.00"}]
[null,3131,{"$nulls":7},{"v":0,"d":"€ 0.00"},{"v":0,"d":"€ 0.00"}]
[null,3132,{"$nulls":7},{"v":0,"d":"€ 0.00"},{"v":0,"d":"€ 0.00"}]
[null,3133,{"$nulls":7},{"v":0,"d":"€ 0.00"},{"v":0,"d":"€ 0.00"}]
[null,3134,{"$nulls":7},{"v":0,"d":"€ 0.00"},{"v":0,"d":"€ 0.00"}]
[null,3135,{"$nulls":7},{"v":0,"d":"€ 0.00"},{"v":0,"d":"€ 0.00"}]
[null,3136,{"$nulls":7},{"v":0,"d":"€ 0.00"},{"v":0,"d":"€ 0.00"}]
[null,3137,{"$nulls":7},{"v":0,"d":"€ 0.00"},{"v":0,"d":"€ 0.00"}]
[null,3138,{"$nulls":7},{"v":0,"d":"€ 0.00"},{"v":0,"d":"€ 0.00"}]
[null,3139,{"$nulls":7},{"v":0,"d":"€ 0.00"},{"v":0,"d":"€ 0.00"}]
[null,3140,{"$nulls":7},{"v":0,"d":"€ 0.00"},{"v":0,"d":"€ 0.00"}]
[null,3141,{"$nulls":7},{"v":0,"d":"€ 0.00"},{"v":0,"d":"€ 0.00"}]
[null,3142,{"$nulls":7},{"v":0,"d":"€ 0.00"},{"v":0,"d":"€ 0.00"}]
[null,3143,{"$nulls":7},{"v":0,"d":"€ 0.00"},{"v":0,"d":"€ 0.00"}]
[null,3144,{"$nulls":7},{"v":0,"d":"€ 0.00"},{"v":0,"d":"€ 0.00"}]
[null,3145,{"$nulls":7},{"v":0,"d":"€ 0.00"},{"v":0,"d":"€ 0.00"}]
[null,3146,{"$nulls":7},{"v":0,"d":"€ 0.00"},{"v":0,"d":"€ 0.00"}]
[null,3147,{"$nulls":7},{"v":0,"d":"€ 0.00"},{"v":0,"d":"€ 0.00"}]
[null,3148,{"$nulls":7},{"v":0,"d":"€ 0.00"},{"v":0,"d":"€ 0.00"}]
[null,3149,{"$nulls":7},{"v":0,"d":"€ 0.00"},{"v":0,"d":"€ 0.00"}]
[null,3150,{"$nulls":7},{"v":0,"d":"€ 0.00"},{"v":0,"d":"€ 0.00"}]
[null,3151,{"$nulls":7},{"v":0,"d":"€ 0.00"},{"v":0,"d":"€ 0.00"}]
[null,3152,{"$nulls":7},{"v":0,"d":"€ 0.00"},{"v":0,"d":"€ 0.00"}]
[null,3153,{"$nulls":7},{"v":0,"d":"€ 0.00"},{"v":0,"d":"€ 0.00"}]
[null,3154,{"$nulls":7},{"v":0,"d":"€ 0.00"},{"v":0,"d":"€ 0.00"}]
[null,3155,{"$nulls":7},{"$f":"IF(OR(ISBLANK(H3162)=TRUE,ISBLANK(I3162)=TRUE),,ROUND(H3162*I3162,2))","v":{"v":0,"d":"€ 0.00"}},{"$f":"G3162+J3162","v":{"v":0,"d":"€ 0.00"}}]
[null,3156,{"$nulls":7},{"v":0,"d":"€ 0.00"},{"v":0,"d":"€ 0.00"}]
[null,3157,{"$nulls":7},{"v":0,"d":"€ 0.00"},{"v":0,"d":"€ 0.00"}]
[null,3158,{"$nulls":7},{"v":0,"d":"€ 0.00"},{"v":0,"d":"€ 0.00"}]
[null,3159,{"$nulls":7},{"v":0,"d":"€ 0.00"},{"v":0,"d":"€ 0.00"}]
[null,3160,{"$nulls":7},{"v":0,"d":"€ 0.00"},{"v":0,"d":"€ 0.00"}]
[null,3161,{"$nulls":7},{"v":0,"d":"€ 0.00"},{"v":0,"d":"€ 0.00"}]
[null,3162,{"$nulls":7},{"v":0,"d":"€ 0.00"},{"v":0,"d":"€ 0.00"}]
[null,3163,{"$nulls":7},{"v":0,"d":"€ 0.00"},{"v":0,"d":"€ 0.00"}]
[null,3164,{"$nulls":7},{"v":0,"d":"€ 0.00"},{"v":0,"d":"€ 0.00"}]
[null,3165,{"$nulls":7},{"v":0,"d":"€ 0.00"},{"v":0,"d":"€ 0.00"}]
[null,3166,{"$nulls":7},{"v":0,"d":"€ 0.00"},{"v":0,"d":"€ 0.00"}]
[null,3167,{"$nulls":7},{"v":0,"d":"€ 0.00"},{"v":0,"d":"€ 0.00"}]
[null,3168,{"$nulls":7},{"v":0,"d":"€ 0.00"},{"v":0,"d":"€ 0.00"}]
[null,3169,{"$nulls":7},{"v":0,"d":"€ 0.00"},{"v":0,"d":"€ 0.00"}]
[null,3170,{"$nulls":7},{"v":0,"d":"€ 0.00"},{"v":0,"d":"€ 0.00"}]
[null,3171,{"$nulls":7},{"v":0,"d":"€ 0.00"},{"v":0,"d":"€ 0.00"}]
[null,3172,{"$nulls":7},{"v":0,"d":"€ 0.00"},{"v":0,"d":"€ 0.00"}]
[null,3173,{"$nulls":7},{"v":0,"d":"€ 0.00"},{"v":0,"d":"€ 0.00"}]
[null,3174,{"$nulls":7},{"v":0,"d":"€ 0.00"},{"v":0,"d":"€ 0.00"}]
[null,3175,{"$nulls":7},{"v":0,"d":"€ 0.00"},{"v":0,"d":"€ 0.00"}]
[null,3176,{"$nulls":7},{"v":0,"d":"€ 0.00"},{"v":0,"d":"€ 0.00"}]
[null,3177,{"$nulls":7},{"v":0,"d":"€ 0.00"},{"v":0,"d":"€ 0.00"}]
[null,3178,{"$nulls":7},{"v":0,"d":"€ 0.00"},{"v":0,"d":"€ 0.00"}]
[null,3179,{"$nulls":7},{"v":0,"d":"€ 0.00"},{"v":0,"d":"€ 0.00"}]
[null,3180,{"$nulls":7},{"v":0,"d":"€ 0.00"},{"v":0,"d":"€ 0.00"}]
[null,3181,{"$nulls":7},{"v":0,"d":"€ 0.00"},{"v":0,"d":"€ 0.00"}]
[null,3182,{"$nulls":7},{"v":0,"d":"€ 0.00"},{"v":0,"d":"€ 0.00"}]
[null,3183,{"$nulls":7},{"v":0,"d":"€ 0.00"},{"v":0,"d":"€ 0.00"}]
[null,3184,{"$nulls":7},{"v":0,"d":"€ 0.00"},{"v":0,"d":"€ 0.00"}]
[null,3185,{"$nulls":7},{"v":0,"d":"€ 0.00"},{"v":0,"d":"€ 0.00"}]
[null,3186,{"$nulls":7},{"v":0,"d":"€ 0.00"},{"v":0,"d":"€ 0.00"}]
[null,3187,{"$nulls":7},{"v":0,"d":"€ 0.00"},{"v":0,"d":"€ 0.00"}]
[null,3188,{"$nulls":7},{"v":0,"d":"€ 0.00"},{"v":0,"d":"€ 0.00"}]
[null,3189,{"$nulls":7},{"v":0,"d":"€ 0.00"},{"v":0,"d":"€ 0.00"}]
[null,3190,{"$nulls":7},{"v":0,"d":"€ 0.00"},{"v":0,"d":"€ 0.00"}]
[null,3191,{"$nulls":7},{"v":0,"d":"€ 0.00"},{"v":0,"d":"€ 0.00"}]
[null,3192,{"$nulls":7},{"v":0,"d":"€ 0.00"},{"v":0,"d":"€ 0.00"}]
[null,3193,{"$nulls":7},{"v":0,"d":"€ 0.00"},{"v":0,"d":"€ 0.00"}]
[null,3194,{"$nulls":7},{"v":0,"d":"€ 0.00"},{"v":0,"d":"€ 0.00"}]
[null,3195,{"$nulls":7},{"v":0,"d":"€ 0.00"},{"v":0,"d":"€ 0.00"}]
[null,3196,{"$nulls":7},{"v":0,"d":"€ 0.00"},{"v":0,"d":"€ 0.00"}]
[null,3197,{"$nulls":7},{"v":0,"d":"€ 0.00"},{"v":0,"d":"€ 0.00"}]
[null,3198,{"$nulls":7},{"v":0,"d":"€ 0.00"},{"v":0,"d":"€ 0.00"}]
[null,3199,{"$nulls":7},{"v":0,"d":"€ 0.00"},{"v":0,"d":"€ 0.00"}]
[null,3200,{"$nulls":7},{"v":0,"d":"€ 0.00"},{"v":0,"d":"€ 0.00"}]
[null,3201,{"$nulls":7},{"v":0,"d":"€ 0.00"},{"v":0,"d":"€ 0.00"}]
[null,3202,{"$nulls":7},{"v":0,"d":"€ 0.00"},{"v":0,"d":"€ 0.00"}]
[null,3203,{"$nulls":7},{"v":0,"d":"€ 0.00"},{"v":0,"d":"€ 0.00"}]
[null,3204,{"$nulls":7},{"v":0,"d":"€ 0.00"},{"v":0,"d":"€ 0.00"}]
[null,3205,{"$nulls":7},{"v":0,"d":"€ 0.00"},{"v":0,"d":"€ 0.00"}]
[null,3206,{"$nulls":7},{"v":0,"d":"€ 0.00"},{"v":0,"d":"€ 0.00"}]
[null,3207,{"$nulls":7},{"v":0,"d":"€ 0.00"},{"v":0,"d":"€ 0.00"}]
[null,3208,{"$nulls":7},{"v":0,"d":"€ 0.00"},{"v":0,"d":"€ 0.00"}]
[null,3209,{"$nulls":7},{"v":0,"d":"€ 0.00"},{"v":0,"d":"€ 0.00"}]
[null,3210,{"$nulls":7},{"v":0,"d":"€ 0.00"},{"v":0,"d":"€ 0.00"}]
[null,3211,{"$nulls":7},{"v":0,"d":"€ 0.00"},{"v":0,"d":"€ 0.00"}]
[null,3212,{"$nulls":7},{"v":0,"d":"€ 0.00"},{"v":0,"d":"€ 0.00"}]
[null,3213,{"$nulls":7},{"v":0,"d":"€ 0.00"},{"v":0,"d":"€ 0.00"}]
[null,3214,{"$nulls":7},{"v":0,"d":"€ 0.00"},{"v":0,"d":"€ 0.00"}]
[null,3215,{"$nulls":7},{"v":0,"d":"€ 0.00"},{"v":0,"d":"€ 0.00"}]
[null,3216,{"$nulls":7},{"v":0,"d":"€ 0.00"},{"v":0,"d":"€ 0.00"}]
[null,3217,{"$nulls":7},{"v":0,"d":"€ 0.00"},{"v":0,"d":"€ 0.00"}]
[null,3218,{"$nulls":7},{"v":0,"d":"€ 0.00"},{"v":0,"d":"€ 0.00"}]
[null,3219,{"$nulls":7},{"$f":"IF(OR(ISBLANK(H3226)=TRUE,ISBLANK(I3226)=TRUE),,ROUND(H3226*I3226,2))","v":{"v":0,"d":"€ 0.00"}},{"$f":"G3226+J3226","v":{"v":0,"d":"€ 0.00"}}]
[null,3220,{"$nulls":7},{"v":0,"d":"€ 0.00"},{"v":0,"d":"€ 0.00"}]
[null,3221,{"$nulls":7},{"v":0,"d":"€ 0.00"},{"v":0,"d":"€ 0.00"}]
[null,3222,{"$nulls":7},{"v":0,"d":"€ 0.00"},{"v":0,"d":"€ 0.00"}]
[null,3223,{"$nulls":7},{"v":0,"d":"€ 0.00"},{"v":0,"d":"€ 0.00"}]
[null,3224,{"$nulls":7},{"v":0,"d":"€ 0.00"},{"v":0,"d":"€ 0.00"}]
[null,3225,{"$nulls":7},{"v":0,"d":"€ 0.00"},{"v":0,"d":"€ 0.00"}]
[null,3226,{"$nulls":7},{"v":0,"d":"€ 0.00"},{"v":0,"d":"€ 0.00"}]
[null,3227,{"$nulls":7},{"v":0,"d":"€ 0.00"},{"v":0,"d":"€ 0.00"}]
[null,3228,{"$nulls":7},{"v":0,"d":"€ 0.00"},{"v":0,"d":"€ 0.00"}]
[null,3229,{"$nulls":7},{"v":0,"d":"€ 0.00"},{"v":0,"d":"€ 0.00"}]
[null,3230,{"$nulls":7},{"v":0,"d":"€ 0.00"},{"v":0,"d":"€ 0.00"}]
[null,3231,{"$nulls":7},{"v":0,"d":"€ 0.00"},{"v":0,"d":"€ 0.00"}]
[null,3232,{"$nulls":7},{"v":0,"d":"€ 0.00"},{"v":0,"d":"€ 0.00"}]
[null,3233,{"$nulls":7},{"v":0,"d":"€ 0.00"},{"v":0,"d":"€ 0.00"}]
[null,3234,{"$nulls":7},{"v":0,"d":"€ 0.00"},{"v":0,"d":"€ 0.00"}]
[null,3235,{"$nulls":7},{"v":0,"d":"€ 0.00"},{"v":0,"d":"€ 0.00"}]
[null,3236,{"$nulls":7},{"v":0,"d":"€ 0.00"},{"v":0,"d":"€ 0.00"}]
[null,3237,{"$nulls":7},{"v":0,"d":"€ 0.00"},{"v":0,"d":"€ 0.00"}]
[null,3238,{"$nulls":7},{"v":0,"d":"€ 0.00"},{"v":0,"d":"€ 0.00"}]
[null,3239,{"$nulls":7},{"v":0,"d":"€ 0.00"},{"v":0,"d":"€ 0.00"}]
[null,3240,{"$nulls":7},{"v":0,"d":"€ 0.00"},{"v":0,"d":"€ 0.00"}]
[null,3241,{"$nulls":7},{"v":0,"d":"€ 0.00"},{"v":0,"d":"€ 0.00"}]
[null,3242,{"$nulls":7},{"v":0,"d":"€ 0.00"},{"v":0,"d":"€ 0.00"}]
[null,3243,{"$nulls":7},{"v":0,"d":"€ 0.00"},{"v":0,"d":"€ 0.00"}]
[null,3244,{"$nulls":7},{"v":0,"d":"€ 0.00"},{"v":0,"d":"€ 0.00"}]
[null,3245,{"$nulls":7},{"v":0,"d":"€ 0.00"},{"v":0,"d":"€ 0.00"}]
[null,3246,{"$nulls":7},{"v":0,"d":"€ 0.00"},{"v":0,"d":"€ 0.00"}]
[null,3247,{"$nulls":7},{"v":0,"d":"€ 0.00"},{"v":0,"d":"€ 0.00"}]
[null,3248,{"$nulls":7},{"v":0,"d":"€ 0.00"},{"v":0,"d":"€ 0.00"}]
[null,3249,{"$nulls":7},{"v":0,"d":"€ 0.00"},{"v":0,"d":"€ 0.00"}]
[null,3250,{"$nulls":7},{"v":0,"d":"€ 0.00"},{"v":0,"d":"€ 0.00"}]
[null,3251,{"$nulls":7},{"v":0,"d":"€ 0.00"},{"v":0,"d":"€ 0.00"}]
[null,3252,{"$nulls":7},{"v":0,"d":"€ 0.00"},{"v":0,"d":"€ 0.00"}]
[null,3253,{"$nulls":7},{"v":0,"d":"€ 0.00"},{"v":0,"d":"€ 0.00"}]
[null,3254,{"$nulls":7},{"v":0,"d":"€ 0.00"},{"v":0,"d":"€ 0.00"}]
[null,3255,{"$nulls":7},{"v":0,"d":"€ 0.00"},{"v":0,"d":"€ 0.00"}]
[null,3256,{"$nulls":7},{"v":0,"d":"€ 0.00"},{"v":0,"d":"€ 0.00"}]
[null,3257,{"$nulls":7},{"v":0,"d":"€ 0.00"},{"v":0,"d":"€ 0.00"}]
[null,3258,{"$nulls":7},{"v":0,"d":"€ 0.00"},{"v":0,"d":"€ 0.00"}]
[null,3259,{"$nulls":7},{"v":0,"d":"€ 0.00"},{"v":0,"d":"€ 0.00"}]
[null,3260,{"$nulls":7},{"v":0,"d":"€ 0.00"},{"v":0,"d":"€ 0.00"}]
[null,3261,{"$nulls":7},{"v":0,"d":"€ 0.00"},{"v":0,"d":"€ 0.00"}]
[null,3262,{"$nulls":7},{"v":0,"d":"€ 0.00"},{"v":0,"d":"€ 0.00"}]
[null,3263,{"$nulls":7},{"v":0,"d":"€ 0.00"},{"v":0,"d":"€ 0.00"}]
[null,3264,{"$nulls":7},{"v":0,"d":"€ 0.00"},{"v":0,"d":"€ 0.00"}]
[null,3265,{"$nulls":7},{"v":0,"d":"€ 0.00"},{"v":0,"d":"€ 0.00"}]
[null,3266,{"$nulls":7},{"v":0,"d":"€ 0.00"},{"v":0,"d":"€ 0.00"}]
[null,3267,{"$nulls":7},{"v":0,"d":"€ 0.00"},{"v":0,"d":"€ 0.00"}]
[null,3268,{"$nulls":7},{"v":0,"d":"€ 0.00"},{"v":0,"d":"€ 0.00"}]
[null,3269,{"$nulls":7},{"v":0,"d":"€ 0.00"},{"v":0,"d":"€ 0.00"}]
[null,3270,{"$nulls":7},{"v":0,"d":"€ 0.00"},{"v":0,"d":"€ 0.00"}]
[null,3271,{"$nulls":7},{"v":0,"d":"€ 0.00"},{"v":0,"d":"€ 0.00"}]
[null,3272,{"$nulls":7},{"v":0,"d":"€ 0.00"},{"v":0,"d":"€ 0.00"}]
[null,3273,{"$nulls":7},{"v":0,"d":"€ 0.00"},{"v":0,"d":"€ 0.00"}]
[null,3274,{"$nulls":7},{"v":0,"d":"€ 0.00"},{"v":0,"d":"€ 0.00"}]
[null,3275,{"$nulls":7},{"v":0,"d":"€ 0.00"},{"v":0,"d":"€ 0.00"}]
[null,3276,{"$nulls":7},{"v":0,"d":"€ 0.00"},{"v":0,"d":"€ 0.00"}]
[null,3277,{"$nulls":7},{"v":0,"d":"€ 0.00"},{"v":0,"d":"€ 0.00"}]
[null,3278,{"$nulls":7},{"v":0,"d":"€ 0.00"},{"v":0,"d":"€ 0.00"}]
[null,3279,{"$nulls":7},{"v":0,"d":"€ 0.00"},{"v":0,"d":"€ 0.00"}]
[null,3280,{"$nulls":7},{"v":0,"d":"€ 0.00"},{"v":0,"d":"€ 0.00"}]
[null,3281,{"$nulls":7},{"v":0,"d":"€ 0.00"},{"v":0,"d":"€ 0.00"}]
[null,3282,{"$nulls":7},{"v":0,"d":"€ 0.00"},{"v":0,"d":"€ 0.00"}]
[null,3283,{"$nulls":7},{"$f":"IF(OR(ISBLANK(H3290)=TRUE,ISBLANK(I3290)=TRUE),,ROUND(H3290*I3290,2))","v":{"v":0,"d":"€ 0.00"}},{"$f":"G3290+J3290","v":{"v":0,"d":"€ 0.00"}}]
[null,3284,{"$nulls":7},{"v":0,"d":"€ 0.00"},{"v":0,"d":"€ 0.00"}]
[null,3285,{"$nulls":7},{"v":0,"d":"€ 0.00"},{"v":0,"d":"€ 0.00"}]
[null,3286,{"$nulls":7},{"v":0,"d":"€ 0.00"},{"v":0,"d":"€ 0.00"}]
[null,3287,{"$nulls":7},{"v":0,"d":"€ 0.00"},{"v":0,"d":"€ 0.00"}]
[null,3288,{"$nulls":7},{"v":0,"d":"€ 0.00"},{"v":0,"d":"€ 0.00"}]
[null,3289,{"$nulls":7},{"v":0,"d":"€ 0.00"},{"v":0,"d":"€ 0.00"}]
[null,3290,{"$nulls":7},{"v":0,"d":"€ 0.00"},{"v":0,"d":"€ 0.00"}]
[null,3291,{"$nulls":7},{"v":0,"d":"€ 0.00"},{"v":0,"d":"€ 0.00"}]
[null,3292,{"$nulls":7},{"v":0,"d":"€ 0.00"},{"v":0,"d":"€ 0.00"}]
[null,3293,{"$nulls":7},{"v":0,"d":"€ 0.00"},{"v":0,"d":"€ 0.00"}]
[null,3294,{"$nulls":7},{"v":0,"d":"€ 0.00"},{"v":0,"d":"€ 0.00"}]
[null,3295,{"$nulls":7},{"v":0,"d":"€ 0.00"},{"v":0,"d":"€ 0.00"}]
[null,3296,{"$nulls":7},{"v":0,"d":"€ 0.00"},{"v":0,"d":"€ 0.00"}]
[null,3297,{"$nulls":7},{"v":0,"d":"€ 0.00"},{"v":0,"d":"€ 0.00"}]
[null,3298,{"$nulls":7},{"v":0,"d":"€ 0.00"},{"v":0,"d":"€ 0.00"}]
[null,3299,{"$nulls":7},{"v":0,"d":"€ 0.00"},{"v":0,"d":"€ 0.00"}]
[null,3300,{"$nulls":7},{"v":0,"d":"€ 0.00"},{"v":0,"d":"€ 0.00"}]
[null,3301,{"$nulls":7},{"v":0,"d":"€ 0.00"},{"v":0,"d":"€ 0.00"}]
[null,3302,{"$nulls":7},{"v":0,"d":"€ 0.00"},{"v":0,"d":"€ 0.00"}]
[null,3303,{"$nulls":7},{"v":0,"d":"€ 0.00"},{"v":0,"d":"€ 0.00"}]
[null,3304,{"$nulls":7},{"v":0,"d":"€ 0.00"},{"v":0,"d":"€ 0.00"}]
[null,3305,{"$nulls":7},{"v":0,"d":"€ 0.00"},{"v":0,"d":"€ 0.00"}]
[null,3306,{"$nulls":7},{"v":0,"d":"€ 0.00"},{"v":0,"d":"€ 0.00"}]
[null,3307,{"$nulls":7},{"v":0,"d":"€ 0.00"},{"v":0,"d":"€ 0.00"}]
[null,3308,{"$nulls":7},{"v":0,"d":"€ 0.00"},{"v":0,"d":"€ 0.00"}]
[null,3309,{"$nulls":7},{"v":0,"d":"€ 0.00"},{"v":0,"d":"€ 0.00"}]
[null,3310,{"$nulls":7},{"v":0,"d":"€ 0.00"},{"v":0,"d":"€ 0.00"}]
[null,3311,{"$nulls":7},{"v":0,"d":"€ 0.00"},{"v":0,"d":"€ 0.00"}]
[null,3312,{"$nulls":7},{"v":0,"d":"€ 0.00"},{"v":0,"d":"€ 0.00"}]
[null,3313,{"$nulls":7},{"v":0,"d":"€ 0.00"},{"v":0,"d":"€ 0.00"}]
[null,3314,{"$nulls":7},{"v":0,"d":"€ 0.00"},{"v":0,"d":"€ 0.00"}]
[null,3315,{"$nulls":7},{"v":0,"d":"€ 0.00"},{"v":0,"d":"€ 0.00"}]
[null,3316,{"$nulls":7},{"v":0,"d":"€ 0.00"},{"v":0,"d":"€ 0.00"}]
[null,3317,{"$nulls":7},{"v":0,"d":"€ 0.00"},{"v":0,"d":"€ 0.00"}]
[null,3318,{"$nulls":7},{"v":0,"d":"€ 0.00"},{"v":0,"d":"€ 0.00"}]
[null,3319,{"$nulls":7},{"v":0,"d":"€ 0.00"},{"v":0,"d":"€ 0.00"}]
[null,3320,{"$nulls":7},{"v":0,"d":"€ 0.00"},{"v":0,"d":"€ 0.00"}]
[null,3321,{"$nulls":7},{"v":0,"d":"€ 0.00"},{"v":0,"d":"€ 0.00"}]
[null,3322,{"$nulls":7},{"v":0,"d":"€ 0.00"},{"v":0,"d":"€ 0.00"}]
[null,3323,{"$nulls":7},{"v":0,"d":"€ 0.00"},{"v":0,"d":"€ 0.00"}]
[null,3324,{"$nulls":7},{"v":0,"d":"€ 0.00"},{"v":0,"d":"€ 0.00"}]
[null,3325,{"$nulls":7},{"v":0,"d":"€ 0.00"},{"v":0,"d":"€ 0.00"}]
[null,3326,{"$nulls":7},{"v":0,"d":"€ 0.00"},{"v":0,"d":"€ 0.00"}]
[null,3327,{"$nulls":7},{"v":0,"d":"€ 0.00"},{"v":0,"d":"€ 0.00"}]
[null,3328,{"$nulls":7},{"v":0,"d":"€ 0.00"},{"v":0,"d":"€ 0.00"}]
[null,3329,{"$nulls":7},{"v":0,"d":"€ 0.00"},{"v":0,"d":"€ 0.00"}]
[null,3330,{"$nulls":7},{"v":0,"d":"€ 0.00"},{"v":0,"d":"€ 0.00"}]
[null,3331,{"$nulls":7},{"v":0,"d":"€ 0.00"},{"v":0,"d":"€ 0.00"}]
[null,3332,{"$nulls":7},{"v":0,"d":"€ 0.00"},{"v":0,"d":"€ 0.00"}]
[null,3333,{"$nulls":7},{"v":0,"d":"€ 0.00"},{"v":0,"d":"€ 0.00"}]
[null,3334,{"$nulls":7},{"v":0,"d":"€ 0.00"},{"v":0,"d":"€ 0.00"}]
[null,3335,{"$nulls":7},{"v":0,"d":"€ 0.00"},{"v":0,"d":"€ 0.00"}]
[null,3336,{"$nulls":7},{"v":0,"d":"€ 0.00"},{"v":0,"d":"€ 0.00"}]
[null,3337,{"$nulls":7},{"v":0,"d":"€ 0.00"},{"v":0,"d":"€ 0.00"}]
[null,3338,{"$nulls":7},{"v":0,"d":"€ 0.00"},{"v":0,"d":"€ 0.00"}]
[null,3339,{"$nulls":7},{"v":0,"d":"€ 0.00"},{"v":0,"d":"€ 0.00"}]
[null,3340,{"$nulls":7},{"v":0,"d":"€ 0.00"},{"v":0,"d":"€ 0.00"}]
[null,3341,{"$nulls":7},{"v":0,"d":"€ 0.00"},{"v":0,"d":"€ 0.00"}]
[null,3342,{"$nulls":7},{"v":0,"d":"€ 0.00"},{"v":0,"d":"€ 0.00"}]
[null,3343,{"$nulls":7},{"v":0,"d":"€ 0.00"},{"v":0,"d":"€ 0.00"}]
[null,3344,{"$nulls":7},{"v":0,"d":"€ 0.00"},{"v":0,"d":"€ 0.00"}]
[null,3345,{"$nulls":7},{"v":0,"d":"€ 0.00"},{"v":0,"d":"€ 0.00"}]
[null,3346,{"$nulls":7},{"v":0,"d":"€ 0.00"},{"v":0,"d":"€ 0.00"}]
[null,3347,{"$nulls":7},{"$f":"IF(OR(ISBLANK(H3354)=TRUE,ISBLANK(I3354)=TRUE),,ROUND(H3354*I3354,2))","v":{"v":0,"d":"€ 0.00"}},{"$f":"G3354+J3354","v":{"v":0,"d":"€ 0.00"}}]
[null,3348,{"$nulls":7},{"v":0,"d":"€ 0.00"},{"v":0,"d":"€ 0.00"}]
[null,3349,{"$nulls":7},{"v":0,"d":"€ 0.00"},{"v":0,"d":"€ 0.00"}]
[null,3350,{"$nulls":7},{"v":0,"d":"€ 0.00"},{"v":0,"d":"€ 0.00"}]
[null,3351,{"$nulls":7},{"v":0,"d":"€ 0.00"},{"v":0,"d":"€ 0.00"}]
[null,3352,{"$nulls":7},{"v":0,"d":"€ 0.00"},{"v":0,"d":"€ 0.00"}]
[null,3353,{"$nulls":7},{"v":0,"d":"€ 0.00"},{"v":0,"d":"€ 0.00"}]
[null,3354,{"$nulls":7},{"v":0,"d":"€ 0.00"},{"v":0,"d":"€ 0.00"}]
[null,3355,{"$nulls":7},{"v":0,"d":"€ 0.00"},{"v":0,"d":"€ 0.00"}]
[null,3356,{"$nulls":7},{"v":0,"d":"€ 0.00"},{"v":0,"d":"€ 0.00"}]
[null,3357,{"$nulls":7},{"v":0,"d":"€ 0.00"},{"v":0,"d":"€ 0.00"}]
[null,3358,{"$nulls":7},{"v":0,"d":"€ 0.00"},{"v":0,"d":"€ 0.00"}]
[null,3359,{"$nulls":7},{"v":0,"d":"€ 0.00"},{"v":0,"d":"€ 0.00"}]
[null,3360,{"$nulls":7},{"v":0,"d":"€ 0.00"},{"v":0,"d":"€ 0.00"}]
[null,3361,{"$nulls":7},{"v":0,"d":"€ 0.00"},{"v":0,"d":"€ 0.00"}]
[null,3362,{"$nulls":7},{"v":0,"d":"€ 0.00"},{"v":0,"d":"€ 0.00"}]
[null,3363,{"$nulls":7},{"v":0,"d":"€ 0.00"},{"v":0,"d":"€ 0.00"}]
[null,3364,{"$nulls":7},{"v":0,"d":"€ 0.00"},{"v":0,"d":"€ 0.00"}]
[null,3365,{"$nulls":7},{"v":0,"d":"€ 0.00"},{"v":0,"d":"€ 0.00"}]
[null,3366,{"$nulls":7},{"v":0,"d":"€ 0.00"},{"v":0,"d":"€ 0.00"}]
[null,3367,{"$nulls":7},{"v":0,"d":"€ 0.00"},{"v":0,"d":"€ 0.00"}]
[null,3368,{"$nulls":7},{"v":0,"d":"€ 0.00"},{"v":0,"d":"€ 0.00"}]
[null,3369,{"$nulls":7},{"v":0,"d":"€ 0.00"},{"v":0,"d":"€ 0.00"}]
[null,3370,{"$nulls":7},{"v":0,"d":"€ 0.00"},{"v":0,"d":"€ 0.00"}]
[null,3371,{"$nulls":7},{"v":0,"d":"€ 0.00"},{"v":0,"d":"€ 0.00"}]
[null,3372,{"$nulls":7},{"v":0,"d":"€ 0.00"},{"v":0,"d":"€ 0.00"}]
[null,3373,{"$nulls":7},{"v":0,"d":"€ 0.00"},{"v":0,"d":"€ 0.00"}]
[null,3374,{"$nulls":7},{"v":0,"d":"€ 0.00"},{"v":0,"d":"€ 0.00"}]
[null,3375,{"$nulls":7},{"v":0,"d":"€ 0.00"},{"v":0,"d":"€ 0.00"}]
[null,3376,{"$nulls":7},{"v":0,"d":"€ 0.00"},{"v":0,"d":"€ 0.00"}]
[null,3377,{"$nulls":7},{"v":0,"d":"€ 0.00"},{"v":0,"d":"€ 0.00"}]
[null,3378,{"$nulls":7},{"v":0,"d":"€ 0.00"},{"v":0,"d":"€ 0.00"}]
[null,3379,{"$nulls":7},{"v":0,"d":"€ 0.00"},{"v":0,"d":"€ 0.00"}]
[null,3380,{"$nulls":7},{"v":0,"d":"€ 0.00"},{"v":0,"d":"€ 0.00"}]
[null,3381,{"$nulls":7},{"v":0,"d":"€ 0.00"},{"v":0,"d":"€ 0.00"}]
[null,3382,{"$nulls":7},{"v":0,"d":"€ 0.00"},{"v":0,"d":"€ 0.00"}]
[null,3383,{"$nulls":7},{"v":0,"d":"€ 0.00"},{"v":0,"d":"€ 0.00"}]
[null,3384,{"$nulls":7},{"v":0,"d":"€ 0.00"},{"v":0,"d":"€ 0.00"}]
[null,3385,{"$nulls":7},{"v":0,"d":"€ 0.00"},{"v":0,"d":"€ 0.00"}]
[null,3386,{"$nulls":7},{"v":0,"d":"€ 0.00"},{"v":0,"d":"€ 0.00"}]
[null,3387,{"$nulls":7},{"v":0,"d":"€ 0.00"},{"v":0,"d":"€ 0.00"}]
[null,3388,{"$nulls":7},{"v":0,"d":"€ 0.00"},{"v":0,"d":"€ 0.00"}]
[null,3389,{"$nulls":7},{"v":0,"d":"€ 0.00"},{"v":0,"d":"€ 0.00"}]
[null,3390,{"$nulls":7},{"v":0,"d":"€ 0.00"},{"v":0,"d":"€ 0.00"}]
[null,3391,{"$nulls":7},{"v":0,"d":"€ 0.00"},{"v":0,"d":"€ 0.00"}]
[null,3392,{"$nulls":7},{"v":0,"d":"€ 0.00"},{"v":0,"d":"€ 0.00"}]
[null,3393,{"$nulls":7},{"v":0,"d":"€ 0.00"},{"v":0,"d":"€ 0.00"}]
[null,3394,{"$nulls":7},{"v":0,"d":"€ 0.00"},{"v":0,"d":"€ 0.00"}]
[null,3395,{"$nulls":7},{"v":0,"d":"€ 0.00"},{"v":0,"d":"€ 0.00"}]
[null,3396,{"$nulls":7},{"v":0,"d":"€ 0.00"},{"v":0,"d":"€ 0.00"}]
[null,3397,{"$nulls":7},{"v":0,"d":"€ 0.00"},{"v":0,"d":"€ 0.00"}]
[null,3398,{"$nulls":7},{"v":0,"d":"€ 0.00"},{"v":0,"d":"€ 0.00"}]
[null,3399,{"$nulls":7},{"v":0,"d":"€ 0.00"},{"v":0,"d":"€ 0.00"}]
[null,3400,{"$nulls":7},{"v":0,"d":"€ 0.00"},{"v":0,"d":"€ 0.00"}]
[null,3401,{"$nulls":7},{"v":0,"d":"€ 0.00"},{"v":0,"d":"€ 0.00"}]
[null,3402,{"$nulls":7},{"v":0,"d":"€ 0.00"},{"v":0,"d":"€ 0.00"}]
[null,3403,{"$nulls":7},{"v":0,"d":"€ 0.00"},{"v":0,"d":"€ 0.00"}]
[null,3404,{"$nulls":7},{"v":0,"d":"€ 0.00"},{"v":0,"d":"€ 0.00"}]
[null,3405,{"$nulls":7},{"v":0,"d":"€ 0.00"},{"v":0,"d":"€ 0.00"}]
[null,3406,{"$nulls":7},{"v":0,"d":"€ 0.00"},{"v":0,"d":"€ 0.00"}]
[null,3407,{"$nulls":7},{"v":0,"d":"€ 0.00"},{"v":0,"d":"€ 0.00"}]
[null,3408,{"$nulls":7},{"v":0,"d":"€ 0.00"},{"v":0,"d":"€ 0.00"}]
[null,3409,{"$nulls":7},{"v":0,"d":"€ 0.00"},{"v":0,"d":"€ 0.00"}]
[null,3410,{"$nulls":7},{"v":0,"d":"€ 0.00"},{"v":0,"d":"€ 0.00"}]
[null,3411,{"$nulls":7},{"$f":"IF(OR(ISBLANK(H3418)=TRUE,ISBLANK(I3418)=TRUE),,ROUND(H3418*I3418,2))","v":{"v":0,"d":"€ 0.00"}},{"$f":"G3418+J3418","v":{"v":0,"d":"€ 0.00"}}]
[null,3412,{"$nulls":7},{"v":0,"d":"€ 0.00"},{"v":0,"d":"€ 0.00"}]
[null,3413,{"$nulls":7},{"v":0,"d":"€ 0.00"},{"v":0,"d":"€ 0.00"}]
[null,3414,{"$nulls":7},{"v":0,"d":"€ 0.00"},{"v":0,"d":"€ 0.00"}]
[null,3415,{"$nulls":7},{"v":0,"d":"€ 0.00"},{"v":0,"d":"€ 0.00"}]
[null,3416,{"$nulls":7},{"v":0,"d":"€ 0.00"},{"v":0,"d":"€ 0.00"}]
[null,3417,{"$nulls":7},{"v":0,"d":"€ 0.00"},{"v":0,"d":"€ 0.00"}]
[null,3418,{"$nulls":7},{"v":0,"d":"€ 0.00"},{"v":0,"d":"€ 0.00"}]
[null,3419,{"$nulls":7},{"v":0,"d":"€ 0.00"},{"v":0,"d":"€ 0.00"}]
[null,3420,{"$nulls":7},{"v":0,"d":"€ 0.00"},{"v":0,"d":"€ 0.00"}]
[null,3421,{"$nulls":7},{"v":0,"d":"€ 0.00"},{"v":0,"d":"€ 0.00"}]
[null,3422,{"$nulls":7},{"v":0,"d":"€ 0.00"},{"v":0,"d":"€ 0.00"}]
[null,3423,{"$nulls":7},{"v":0,"d":"€ 0.00"},{"v":0,"d":"€ 0.00"}]
[null,3424,{"$nulls":7},{"v":0,"d":"€ 0.00"},{"v":0,"d":"€ 0.00"}]
[null,3425,{"$nulls":7},{"v":0,"d":"€ 0.00"},{"v":0,"d":"€ 0.00"}]
[null,3426,{"$nulls":7},{"v":0,"d":"€ 0.00"},{"v":0,"d":"€ 0.00"}]
[null,3427,{"$nulls":7},{"v":0,"d":"€ 0.00"},{"v":0,"d":"€ 0.00"}]
[null,3428,{"$nulls":7},{"v":0,"d":"€ 0.00"},{"v":0,"d":"€ 0.00"}]
[null,3429,{"$nulls":7},{"v":0,"d":"€ 0.00"},{"v":0,"d":"€ 0.00"}]
[null,3430,{"$nulls":7},{"v":0,"d":"€ 0.00"},{"v":0,"d":"€ 0.00"}]
[null,3431,{"$nulls":7},{"v":0,"d":"€ 0.00"},{"v":0,"d":"€ 0.00"}]
[null,3432,{"$nulls":7},{"v":0,"d":"€ 0.00"},{"v":0,"d":"€ 0.00"}]
[null,3433,{"$nulls":7},{"v":0,"d":"€ 0.00"},{"v":0,"d":"€ 0.00"}]
[null,3434,{"$nulls":7},{"v":0,"d":"€ 0.00"},{"v":0,"d":"€ 0.00"}]
[null,3435,{"$nulls":7},{"v":0,"d":"€ 0.00"},{"v":0,"d":"€ 0.00"}]
[null,3436,{"$nulls":7},{"v":0,"d":"€ 0.00"},{"v":0,"d":"€ 0.00"}]
[null,3437,{"$nulls":7},{"v":0,"d":"€ 0.00"},{"v":0,"d":"€ 0.00"}]
[null,3438,{"$nulls":7},{"v":0,"d":"€ 0.00"},{"v":0,"d":"€ 0.00"}]
[null,3439,{"$nulls":7},{"v":0,"d":"€ 0.00"},{"v":0,"d":"€ 0.00"}]
[null,3440,{"$nulls":7},{"v":0,"d":"€ 0.00"},{"v":0,"d":"€ 0.00"}]
[null,3441,{"$nulls":7},{"v":0,"d":"€ 0.00"},{"v":0,"d":"€ 0.00"}]
[null,3442,{"$nulls":7},{"v":0,"d":"€ 0.00"},{"v":0,"d":"€ 0.00"}]
[null,3443,{"$nulls":7},{"v":0,"d":"€ 0.00"},{"v":0,"d":"€ 0.00"}]
[null,3444,{"$nulls":7},{"v":0,"d":"€ 0.00"},{"v":0,"d":"€ 0.00"}]
[null,3445,{"$nulls":7},{"v":0,"d":"€ 0.00"},{"v":0,"d":"€ 0.00"}]
[null,3446,{"$nulls":7},{"v":0,"d":"€ 0.00"},{"v":0,"d":"€ 0.00"}]
[null,3447,{"$nulls":7},{"v":0,"d":"€ 0.00"},{"v":0,"d":"€ 0.00"}]
[null,3448,{"$nulls":7},{"v":0,"d":"€ 0.00"},{"v":0,"d":"€ 0.00"}]
[null,3449,{"$nulls":7},{"v":0,"d":"€ 0.00"},{"v":0,"d":"€ 0.00"}]
[null,3450,{"$nulls":7},{"v":0,"d":"€ 0.00"},{"v":0,"d":"€ 0.00"}]
[null,3451,{"$nulls":7},{"v":0,"d":"€ 0.00"},{"v":0,"d":"€ 0.00"}]
[null,3452,{"$nulls":7},{"v":0,"d":"€ 0.00"},{"v":0,"d":"€ 0.00"}]
[null,3453,{"$nulls":7},{"v":0,"d":"€ 0.00"},{"v":0,"d":"€ 0.00"}]
[null,3454,{"$nulls":7},{"v":0,"d":"€ 0.00"},{"v":0,"d":"€ 0.00"}]
[null,3455,{"$nulls":7},{"v":0,"d":"€ 0.00"},{"v":0,"d":"€ 0.00"}]
[null,3456,{"$nulls":7},{"v":0,"d":"€ 0.00"},{"v":0,"d":"€ 0.00"}]
[null,3457,{"$nulls":7},{"v":0,"d":"€ 0.00"},{"v":0,"d":"€ 0.00"}]
[null,3458,{"$nulls":7},{"v":0,"d":"€ 0.00"},{"v":0,"d":"€ 0.00"}]
[null,3459,{"$nulls":7},{"v":0,"d":"€ 0.00"},{"v":0,"d":"€ 0.00"}]
[null,3460,{"$nulls":7},{"v":0,"d":"€ 0.00"},{"v":0,"d":"€ 0.00"}]
[null,3461,{"$nulls":7},{"v":0,"d":"€ 0.00"},{"v":0,"d":"€ 0.00"}]
[null,3462,{"$nulls":7},{"v":0,"d":"€ 0.00"},{"v":0,"d":"€ 0.00"}]
[null,3463,{"$nulls":7},{"v":0,"d":"€ 0.00"},{"v":0,"d":"€ 0.00"}]
[null,3464,{"$nulls":7},{"v":0,"d":"€ 0.00"},{"v":0,"d":"€ 0.00"}]
[null,3465,{"$nulls":7},{"v":0,"d":"€ 0.00"},{"v":0,"d":"€ 0.00"}]
[null,3466,{"$nulls":7},{"v":0,"d":"€ 0.00"},{"v":0,"d":"€ 0.00"}]
[null,3467,{"$nulls":7},{"v":0,"d":"€ 0.00"},{"v":0,"d":"€ 0.00"}]
[null,3468,{"$nulls":7},{"v":0,"d":"€ 0.00"},{"v":0,"d":"€ 0.00"}]
[null,3469,{"$nulls":7},{"v":0,"d":"€ 0.00"},{"v":0,"d":"€ 0.00"}]
[null,3470,{"$nulls":7},{"v":0,"d":"€ 0.00"},{"v":0,"d":"€ 0.00"}]
[null,3471,{"$nulls":7},{"v":0,"d":"€ 0.00"},{"v":0,"d":"€ 0.00"}]
[null,3472,{"$nulls":7},{"v":0,"d":"€ 0.00"},{"v":0,"d":"€ 0.00"}]
[null,3473,{"$nulls":7},{"v":0,"d":"€ 0.00"},{"v":0,"d":"€ 0.00"}]
[null,3474,{"$nulls":7},{"v":0,"d":"€ 0.00"},{"v":0,"d":"€ 0.00"}]
[null,3475,{"$nulls":7},{"$f":"IF(OR(ISBLANK(H3482)=TRUE,ISBLANK(I3482)=TRUE),,ROUND(H3482*I3482,2))","v":{"v":0,"d":"€ 0.00"}},{"$f":"G3482+J3482","v":{"v":0,"d":"€ 0.00"}}]
[null,3476,{"$nulls":7},{"v":0,"d":"€ 0.00"},{"v":0,"d":"€ 0.00"}]
[null,3477,{"$nulls":7},{"v":0,"d":"€ 0.00"},{"v":0,"d":"€ 0.00"}]
[null,3478,{"$nulls":7},{"v":0,"d":"€ 0.00"},{"v":0,"d":"€ 0.00"}]
[null,3479,{"$nulls":7},{"v":0,"d":"€ 0.00"},{"v":0,"d":"€ 0.00"}]
[null,3480,{"$nulls":7},{"v":0,"d":"€ 0.00"},{"v":0,"d":"€ 0.00"}]
[null,3481,{"$nulls":7},{"v":0,"d":"€ 0.00"},{"v":0,"d":"€ 0.00"}]
[null,3482,{"$nulls":7},{"v":0,"d":"€ 0.00"},{"v":0,"d":"€ 0.00"}]
[null,3483,{"$nulls":7},{"v":0,"d":"€ 0.00"},{"v":0,"d":"€ 0.00"}]
[null,3484,{"$nulls":7},{"v":0,"d":"€ 0.00"},{"v":0,"d":"€ 0.00"}]
[null,3485,{"$nulls":7},{"v":0,"d":"€ 0.00"},{"v":0,"d":"€ 0.00"}]
[null,3486,{"$nulls":7},{"v":0,"d":"€ 0.00"},{"v":0,"d":"€ 0.00"}]
[null,3487,{"$nulls":7},{"v":0,"d":"€ 0.00"},{"v":0,"d":"€ 0.00"}]
[null,3488,{"$nulls":7},{"v":0,"d":"€ 0.00"},{"v":0,"d":"€ 0.00"}]
[null,3489,{"$nulls":7},{"v":0,"d":"€ 0.00"},{"v":0,"d":"€ 0.00"}]
[null,3490,{"$nulls":7},{"v":0,"d":"€ 0.00"},{"v":0,"d":"€ 0.00"}]
[null,3491,{"$nulls":7},{"v":0,"d":"€ 0.00"},{"v":0,"d":"€ 0.00"}]
[null,3492,{"$nulls":7},{"v":0,"d":"€ 0.00"},{"v":0,"d":"€ 0.00"}]
[null,3493,{"$nulls":7},{"v":0,"d":"€ 0.00"},{"v":0,"d":"€ 0.00"}]
[null,3494,{"$nulls":7},{"v":0,"d":"€ 0.00"},{"v":0,"d":"€ 0.00"}]
[null,3495,{"$nulls":7},{"v":0,"d":"€ 0.00"},{"v":0,"d":"€ 0.00"}]
[null,3496,{"$nulls":7},{"v":0,"d":"€ 0.00"},{"v":0,"d":"€ 0.00"}]
[null,3497,{"$nulls":7},{"v":0,"d":"€ 0.00"},{"v":0,"d":"€ 0.00"}]
[null,3498,{"$nulls":7},{"v":0,"d":"€ 0.00"},{"v":0,"d":"€ 0.00"}]
[null,3499,{"$nulls":7},{"v":0,"d":"€ 0.00"},{"v":0,"d":"€ 0.00"}]
[null,3500,{"$nulls":7},{"v":0,"d":"€ 0.00"},{"v":0,"d":"€ 0.00"}]
[null,3501,{"$nulls":7},{"v":0,"d":"€ 0.00"},{"v":0,"d":"€ 0.00"}]
[null,3502,{"$nulls":7},{"v":0,"d":"€ 0.00"},{"v":0,"d":"€ 0.00"}]
[null,3503,{"$nulls":7},{"v":0,"d":"€ 0.00"},{"v":0,"d":"€ 0.00"}]
[null,3504,{"$nulls":7},{"v":0,"d":"€ 0.00"},{"v":0,"d":"€ 0.00"}]
[null,3505,{"$nulls":7},{"v":0,"d":"€ 0.00"},{"v":0,"d":"€ 0.00"}]
[null,3506,{"$nulls":7},{"v":0,"d":"€ 0.00"},{"v":0,"d":"€ 0.00"}]
[null,3507,{"$nulls":7},{"v":0,"d":"€ 0.00"},{"v":0,"d":"€ 0.00"}]
[null,3508,{"$nulls":7},{"v":0,"d":"€ 0.00"},{"v":0,"d":"€ 0.00"}]
[null,3509,{"$nulls":7},{"v":0,"d":"€ 0.00"},{"v":0,"d":"€ 0.00"}]
[null,3510,{"$nulls":7},{"v":0,"d":"€ 0.00"},{"v":0,"d":"€ 0.00"}]
[null,3511,{"$nulls":7},{"v":0,"d":"€ 0.00"},{"v":0,"d":"€ 0.00"}]
[null,3512,{"$nulls":7},{"v":0,"d":"€ 0.00"},{"v":0,"d":"€ 0.00"}]
[null,3513,{"$nulls":7},{"v":0,"d":"€ 0.00"},{"v":0,"d":"€ 0.00"}]
[null,3514,{"$nulls":7},{"v":0,"d":"€ 0.00"},{"v":0,"d":"€ 0.00"}]
[null,3515,{"$nulls":7},{"v":0,"d":"€ 0.00"},{"v":0,"d":"€ 0.00"}]
[null,3516,{"$nulls":7},{"v":0,"d":"€ 0.00"},{"v":0,"d":"€ 0.00"}]
[null,3517,{"$nulls":7},{"v":0,"d":"€ 0.00"},{"v":0,"d":"€ 0.00"}]
[null,3518,{"$nulls":7},{"v":0,"d":"€ 0.00"},{"v":0,"d":"€ 0.00"}]
[null,3519,{"$nulls":7},{"v":0,"d":"€ 0.00"},{"v":0,"d":"€ 0.00"}]
[null,3520,{"$nulls":7},{"v":0,"d":"€ 0.00"},{"v":0,"d":"€ 0.00"}]
[null,3521,{"$nulls":7},{"v":0,"d":"€ 0.00"},{"v":0,"d":"€ 0.00"}]
[null,3522,{"$nulls":7},{"v":0,"d":"€ 0.00"},{"v":0,"d":"€ 0.00"}]
[null,3523,{"$nulls":7},{"v":0,"d":"€ 0.00"},{"v":0,"d":"€ 0.00"}]
[null,3524,{"$nulls":7},{"v":0,"d":"€ 0.00"},{"v":0,"d":"€ 0.00"}]
[null,3525,{"$nulls":7},{"v":0,"d":"€ 0.00"},{"v":0,"d":"€ 0.00"}]
[null,3526,{"$nulls":7},{"v":0,"d":"€ 0.00"},{"v":0,"d":"€ 0.00"}]
[null,3527,{"$nulls":7},{"v":0,"d":"€ 0.00"},{"v":0,"d":"€ 0.00"}]
[null,3528,{"$nulls":7},{"v":0,"d":"€ 0.00"},{"v":0,"d":"€ 0.00"}]
[null,3529,{"$nulls":7},{"v":0,"d":"€ 0.00"},{"v":0,"d":"€ 0.00"}]
[null,3530,{"$nulls":7},{"v":0,"d":"€ 0.00"},{"v":0,"d":"€ 0.00"}]
[null,3531,{"$nulls":7},{"v":0,"d":"€ 0.00"},{"v":0,"d":"€ 0.00"}]
[null,3532,{"$nulls":7},{"v":0,"d":"€ 0.00"},{"v":0,"d":"€ 0.00"}]
[null,3533,{"$nulls":7},{"v":0,"d":"€ 0.00"},{"v":0,"d":"€ 0.00"}]
[null,3534,{"$nulls":7},{"v":0,"d":"€ 0.00"},{"v":0,"d":"€ 0.00"}]
[null,3535,{"$nulls":7},{"v":0,"d":"€ 0.00"},{"v":0,"d":"€ 0.00"}]
[null,3536,{"$nulls":7},{"v":0,"d":"€ 0.00"},{"v":0,"d":"€ 0.00"}]
[null,3537,{"$nulls":7},{"v":0,"d":"€ 0.00"},{"v":0,"d":"€ 0.00"}]
[null,3538,{"$nulls":7},{"v":0,"d":"€ 0.00"},{"v":0,"d":"€ 0.00"}]
[null,3539,{"$nulls":7},{"$f":"IF(OR(ISBLANK(H3546)=TRUE,ISBLANK(I3546)=TRUE),,ROUND(H3546*I3546,2))","v":{"v":0,"d":"€ 0.00"}},{"$f":"G3546+J3546","v":{"v":0,"d":"€ 0.00"}}]
[null,3540,{"$nulls":7},{"v":0,"d":"€ 0.00"},{"v":0,"d":"€ 0.00"}]
[null,3541,{"$nulls":7},{"v":0,"d":"€ 0.00"},{"v":0,"d":"€ 0.00"}]
[null,3542,{"$nulls":7},{"v":0,"d":"€ 0.00"},{"v":0,"d":"€ 0.00"}]
[null,3543,{"$nulls":7},{"v":0,"d":"€ 0.00"},{"v":0,"d":"€ 0.00"}]
[null,3544,{"$nulls":7},{"v":0,"d":"€ 0.00"},{"v":0,"d":"€ 0.00"}]
[null,3545,{"$nulls":7},{"v":0,"d":"€ 0.00"},{"v":0,"d":"€ 0.00"}]
[null,3546,{"$nulls":7},{"v":0,"d":"€ 0.00"},{"v":0,"d":"€ 0.00"}]
[null,3547,{"$nulls":7},{"v":0,"d":"€ 0.00"},{"v":0,"d":"€ 0.00"}]
[null,3548,{"$nulls":7},{"v":0,"d":"€ 0.00"},{"v":0,"d":"€ 0.00"}]
[null,3549,{"$nulls":7},{"v":0,"d":"€ 0.00"},{"v":0,"d":"€ 0.00"}]
[null,3550,{"$nulls":7},{"v":0,"d":"€ 0.00"},{"v":0,"d":"€ 0.00"}]
[null,3551,{"$nulls":7},{"v":0,"d":"€ 0.00"},{"v":0,"d":"€ 0.00"}]
[null,3552,{"$nulls":7},{"v":0,"d":"€ 0.00"},{"v":0,"d":"€ 0.00"}]
[null,3553,{"$nulls":7},{"v":0,"d":"€ 0.00"},{"v":0,"d":"€ 0.00"}]
[null,3554,{"$nulls":7},{"v":0,"d":"€ 0.00"},{"v":0,"d":"€ 0.00"}]
[null,3555,{"$nulls":7},{"v":0,"d":"€ 0.00"},{"v":0,"d":"€ 0.00"}]
[null,3556,{"$nulls":7},{"v":0,"d":"€ 0.00"},{"v":0,"d":"€ 0.00"}]
[null,3557,{"$nulls":7},{"v":0,"d":"€ 0.00"},{"v":0,"d":"€ 0.00"}]
[null,3558,{"$nulls":7},{"v":0,"d":"€ 0.00"},{"v":0,"d":"€ 0.00"}]
[null,3559,{"$nulls":7},{"v":0,"d":"€ 0.00"},{"v":0,"d":"€ 0.00"}]
[null,3560,{"$nulls":7},{"v":0,"d":"€ 0.00"},{"v":0,"d":"€ 0.00"}]
[null,3561,{"$nulls":7},{"v":0,"d":"€ 0.00"},{"v":0,"d":"€ 0.00"}]
[null,3562,{"$nulls":7},{"v":0,"d":"€ 0.00"},{"v":0,"d":"€ 0.00"}]
[null,3563,{"$nulls":7},{"v":0,"d":"€ 0.00"},{"v":0,"d":"€ 0.00"}]
[null,3564,{"$nulls":7},{"v":0,"d":"€ 0.00"},{"v":0,"d":"€ 0.00"}]
[null,3565,{"$nulls":7},{"v":0,"d":"€ 0.00"},{"v":0,"d":"€ 0.00"}]
[null,3566,{"$nulls":7},{"v":0,"d":"€ 0.00"},{"v":0,"d":"€ 0.00"}]
[null,3567,{"$nulls":7},{"v":0,"d":"€ 0.00"},{"v":0,"d":"€ 0.00"}]
[null,3568,{"$nulls":7},{"v":0,"d":"€ 0.00"},{"v":0,"d":"€ 0.00"}]
[null,3569,{"$nulls":7},{"v":0,"d":"€ 0.00"},{"v":0,"d":"€ 0.00"}]
[null,3570,{"$nulls":7},{"v":0,"d":"€ 0.00"},{"v":0,"d":"€ 0.00"}]
[null,3571,{"$nulls":7},{"v":0,"d":"€ 0.00"},{"v":0,"d":"€ 0.00"}]
[null,3572,{"$nulls":7},{"v":0,"d":"€ 0.00"},{"v":0,"d":"€ 0.00"}]
[null,3573,{"$nulls":7},{"v":0,"d":"€ 0.00"},{"v":0,"d":"€ 0.00"}]
[null,3574,{"$nulls":7},{"v":0,"d":"€ 0.00"},{"v":0,"d":"€ 0.00"}]
[null,3575,{"$nulls":7},{"v":0,"d":"€ 0.00"},{"v":0,"d":"€ 0.00"}]
[null,3576,{"$nulls":7},{"v":0,"d":"€ 0.00"},{"v":0,"d":"€ 0.00"}]
[null,3577,{"$nulls":7},{"v":0,"d":"€ 0.00"},{"v":0,"d":"€ 0.00"}]
[null,3578,{"$nulls":7},{"v":0,"d":"€ 0.00"},{"v":0,"d":"€ 0.00"}]
[null,3579,{"$nulls":7},{"v":0,"d":"€ 0.00"},{"v":0,"d":"€ 0.00"}]
[null,3580,{"$nulls":7},{"v":0,"d":"€ 0.00"},{"v":0,"d":"€ 0.00"}]
[null,3581,{"$nulls":7},{"v":0,"d":"€ 0.00"},{"v":0,"d":"€ 0.00"}]
[null,3582,{"$nulls":7},{"v":0,"d":"€ 0.00"},{"v":0,"d":"€ 0.00"}]
[null,3583,{"$nulls":7},{"v":0,"d":"€ 0.00"},{"v":0,"d":"€ 0.00"}]
[null,3584,{"$nulls":7},{"v":0,"d":"€ 0.00"},{"v":0,"d":"€ 0.00"}]
[null,3585,{"$nulls":7},{"v":0,"d":"€ 0.00"},{"v":0,"d":"€ 0.00"}]
[null,3586,{"$nulls":7},{"v":0,"d":"€ 0.00"},{"v":0,"d":"€ 0.00"}]
[null,3587,{"$nulls":7},{"v":0,"d":"€ 0.00"},{"v":0,"d":"€ 0.00"}]
[null,3588,{"$nulls":7},{"v":0,"d":"€ 0.00"},{"v":0,"d":"€ 0.00"}]
[null,3589,{"$nulls":7},{"v":0,"d":"€ 0.00"},{"v":0,"d":"€ 0.00"}]
[null,3590,{"$nulls":7},{"v":0,"d":"€ 0.00"},{"v":0,"d":"€ 0.00"}]
[null,3591,{"$nulls":7},{"v":0,"d":"€ 0.00"},{"v":0,"d":"€ 0.00"}]
[null,3592,{"$nulls":7},{"v":0,"d":"€ 0.00"},{"v":0,"d":"€ 0.00"}]
[null,3593,{"$nulls":7},{"v":0,"d":"€ 0.00"},{"v":0,"d":"€ 0.00"}]
[null,3594,{"$nulls":7},{"v":0,"d":"€ 0.00"},{"v":0,"d":"€ 0.00"}]
[null,3595,{"$nulls":7},{"v":0,"d":"€ 0.00"},{"v":0,"d":"€ 0.00"}]
[null,3596,{"$nulls":7},{"v":0,"d":"€ 0.00"},{"v":0,"d":"€ 0.00"}]
[null,3597,{"$nulls":7},{"v":0,"d":"€ 0.00"},{"v":0,"d":"€ 0.00"}]
[null,3598,{"$nulls":7},{"v":0,"d":"€ 0.00"},{"v":0,"d":"€ 0.00"}]
[null,3599,{"$nulls":7},{"v":0,"d":"€ 0.00"},{"v":0,"d":"€ 0.00"}]
[null,3600,{"$nulls":7},{"v":0,"d":"€ 0.00"},{"v":0,"d":"€ 0.00"}]
[null,3601,{"$nulls":7},{"v":0,"d":"€ 0.00"},{"v":0,"d":"€ 0.00"}]
[null,3602,{"$nulls":7},{"v":0,"d":"€ 0.00"},{"v":0,"d":"€ 0.00"}]
[null,3603,{"$nulls":7},{"$f":"IF(OR(ISBLANK(H3610)=TRUE,ISBLANK(I3610)=TRUE),,ROUND(H3610*I3610,2))","v":{"v":0,"d":"€ 0.00"}},{"$f":"G3610+J3610","v":{"v":0,"d":"€ 0.00"}}]
[null,3604,{"$nulls":7},{"v":0,"d":"€ 0.00"},{"v":0,"d":"€ 0.00"}]
[null,3605,{"$nulls":7},{"v":0,"d":"€ 0.00"},{"v":0,"d":"€ 0.00"}]
[null,3606,{"$nulls":7},{"v":0,"d":"€ 0.00"},{"v":0,"d":"€ 0.00"}]
[null,3607,{"$nulls":7},{"v":0,"d":"€ 0.00"},{"v":0,"d":"€ 0.00"}]
[null,3608,{"$nulls":7},{"v":0,"d":"€ 0.00"},{"v":0,"d":"€ 0.00"}]
[null,3609,{"$nulls":7},{"v":0,"d":"€ 0.00"},{"v":0,"d":"€ 0.00"}]
[null,3610,{"$nulls":7},{"v":0,"d":"€ 0.00"},{"v":0,"d":"€ 0.00"}]
[null,3611,{"$nulls":7},{"v":0,"d":"€ 0.00"},{"v":0,"d":"€ 0.00"}]
[null,3612,{"$nulls":7},{"v":0,"d":"€ 0.00"},{"v":0,"d":"€ 0.00"}]
[null,3613,{"$nulls":7},{"v":0,"d":"€ 0.00"},{"v":0,"d":"€ 0.00"}]
[null,3614,{"$nulls":7},{"v":0,"d":"€ 0.00"},{"v":0,"d":"€ 0.00"}]
[null,3615,{"$nulls":7},{"v":0,"d":"€ 0.00"},{"v":0,"d":"€ 0.00"}]
[null,3616,{"$nulls":7},{"v":0,"d":"€ 0.00"},{"v":0,"d":"€ 0.00"}]
[null,3617,{"$nulls":7},{"v":0,"d":"€ 0.00"},{"v":0,"d":"€ 0.00"}]
[null,3618,{"$nulls":7},{"v":0,"d":"€ 0.00"},{"v":0,"d":"€ 0.00"}]
[null,3619,{"$nulls":7},{"v":0,"d":"€ 0.00"},{"v":0,"d":"€ 0.00"}]
[null,3620,{"$nulls":7},{"v":0,"d":"€ 0.00"},{"v":0,"d":"€ 0.00"}]
[null,3621,{"$nulls":7},{"v":0,"d":"€ 0.00"},{"v":0,"d":"€ 0.00"}]
[null,3622,{"$nulls":7},{"v":0,"d":"€ 0.00"},{"v":0,"d":"€ 0.00"}]
[null,3623,{"$nulls":7},{"v":0,"d":"€ 0.00"},{"v":0,"d":"€ 0.00"}]
[null,3624,{"$nulls":7},{"v":0,"d":"€ 0.00"},{"v":0,"d":"€ 0.00"}]
[null,3625,{"$nulls":7},{"v":0,"d":"€ 0.00"},{"v":0,"d":"€ 0.00"}]
[null,3626,{"$nulls":7},{"v":0,"d":"€ 0.00"},{"v":0,"d":"€ 0.00"}]
[null,3627,{"$nulls":7},{"v":0,"d":"€ 0.00"},{"v":0,"d":"€ 0.00"}]
[null,3628,{"$nulls":7},{"v":0,"d":"€ 0.00"},{"v":0,"d":"€ 0.00"}]
[null,3629,{"$nulls":7},{"v":0,"d":"€ 0.00"},{"v":0,"d":"€ 0.00"}]
[null,3630,{"$nulls":7},{"v":0,"d":"€ 0.00"},{"v":0,"d":"€ 0.00"}]
[null,3631,{"$nulls":7},{"v":0,"d":"€ 0.00"},{"v":0,"d":"€ 0.00"}]
[null,3632,{"$nulls":7},{"v":0,"d":"€ 0.00"},{"v":0,"d":"€ 0.00"}]
[null,3633,{"$nulls":7},{"v":0,"d":"€ 0.00"},{"v":0,"d":"€ 0.00"}]
[null,3634,{"$nulls":7},{"v":0,"d":"€ 0.00"},{"v":0,"d":"€ 0.00"}]
[null,3635,{"$nulls":7},{"v":0,"d":"€ 0.00"},{"v":0,"d":"€ 0.00"}]
[null,3636,{"$nulls":7},{"v":0,"d":"€ 0.00"},{"v":0,"d":"€ 0.00"}]
[null,3637,{"$nulls":7},{"v":0,"d":"€ 0.00"},{"v":0,"d":"€ 0.00"}]
[null,3638,{"$nulls":7},{"v":0,"d":"€ 0.00"},{"v":0,"d":"€ 0.00"}]
[null,3639,{"$nulls":7},{"v":0,"d":"€ 0.00"},{"v":0,"d":"€ 0.00"}]
[null,3640,{"$nulls":7},{"v":0,"d":"€ 0.00"},{"v":0,"d":"€ 0.00"}]
[null,3641,{"$nulls":7},{"v":0,"d":"€ 0.00"},{"v":0,"d":"€ 0.00"}]
[null,3642,{"$nulls":7},{"v":0,"d":"€ 0.00"},{"v":0,"d":"€ 0.00"}]
[null,3643,{"$nulls":7},{"v":0,"d":"€ 0.00"},{"v":0,"d":"€ 0.00"}]
[null,3644,{"$nulls":7},{"v":0,"d":"€ 0.00"},{"v":0,"d":"€ 0.00"}]
[null,3645,{"$nulls":7},{"v":0,"d":"€ 0.00"},{"v":0,"d":"€ 0.00"}]
[null,3646,{"$nulls":7},{"v":0,"d":"€ 0.00"},{"v":0,"d":"€ 0.00"}]
[null,3647,{"$nulls":7},{"v":0,"d":"€ 0.00"},{"v":0,"d":"€ 0.00"}]
[null,3648,{"$nulls":7},{"v":0,"d":"€ 0.00"},{"v":0,"d":"€ 0.00"}]
[null,3649,{"$nulls":7},{"v":0,"d":"€ 0.00"},{"v":0,"d":"€ 0.00"}]
[null,3650,{"$nulls":7},{"v":0,"d":"€ 0.00"},{"v":0,"d":"€ 0.00"}]
[null,3651,{"$nulls":7},{"v":0,"d":"€ 0.00"},{"v":0,"d":"€ 0.00"}]
[null,3652,{"$nulls":7},{"v":0,"d":"€ 0.00"},{"v":0,"d":"€ 0.00"}]
[null,3653,{"$nulls":7},{"v":0,"d":"€ 0.00"},{"v":0,"d":"€ 0.00"}]
[null,3654,{"$nulls":7},{"v":0,"d":"€ 0.00"},{"v":0,"d":"€ 0.00"}]
[null,3655,{"$nulls":7},{"v":0,"d":"€ 0.00"},{"v":0,"d":"€ 0.00"}]
[null,3656,{"$nulls":7},{"v":0,"d":"€ 0.00"},{"v":0,"d":"€ 0.00"}]
[null,3657,{"$nulls":7},{"v":0,"d":"€ 0.00"},{"v":0,"d":"€ 0.00"}]
[null,3658,{"$nulls":7},{"v":0,"d":"€ 0.00"},{"v":0,"d":"€ 0.00"}]
[null,3659,{"$nulls":7},{"v":0,"d":"€ 0.00"},{"v":0,"d":"€ 0.00"}]
[null,3660,{"$nulls":7},{"v":0,"d":"€ 0.00"},{"v":0,"d":"€ 0.00"}]
[null,3661,{"$nulls":7},{"v":0,"d":"€ 0.00"},{"v":0,"d":"€ 0.00"}]
[null,3662,{"$nulls":7},{"v":0,"d":"€ 0.00"},{"v":0,"d":"€ 0.00"}]
[null,3663,{"$nulls":7},{"v":0,"d":"€ 0.00"},{"v":0,"d":"€ 0.00"}]
[null,3664,{"$nulls":7},{"v":0,"d":"€ 0.00"},{"v":0,"d":"€ 0.00"}]
[null,3665,{"$nulls":7},{"v":0,"d":"€ 0.00"},{"v":0,"d":"€ 0.00"}]
[null,3666,{"$nulls":7},{"v":0,"d":"€ 0.00"},{"v":0,"d":"€ 0.00"}]
[null,3667,{"$nulls":7},{"$f":"IF(OR(ISBLANK(H3674)=TRUE,ISBLANK(I3674)=TRUE),,ROUND(H3674*I3674,2))","v":{"v":0,"d":"€ 0.00"}},{"$f":"G3674+J3674","v":{"v":0,"d":"€ 0.00"}}]
[null,3668,{"$nulls":7},{"v":0,"d":"€ 0.00"},{"v":0,"d":"€ 0.00"}]
[null,3669,{"$nulls":7},{"v":0,"d":"€ 0.00"},{"v":0,"d":"€ 0.00"}]
[null,3670,{"$nulls":7},{"v":0,"d":"€ 0.00"},{"v":0,"d":"€ 0.00"}]
[null,3671,{"$nulls":7},{"v":0,"d":"€ 0.00"},{"v":0,"d":"€ 0.00"}]
[null,3672,{"$nulls":7},{"v":0,"d":"€ 0.00"},{"v":0,"d":"€ 0.00"}]
[null,3673,{"$nulls":7},{"v":0,"d":"€ 0.00"},{"v":0,"d":"€ 0.00"}]
[null,3674,{"$nulls":7},{"v":0,"d":"€ 0.00"},{"v":0,"d":"€ 0.00"}]
[null,3675,{"$nulls":7},{"v":0,"d":"€ 0.00"},{"v":0,"d":"€ 0.00"}]
[null,3676,{"$nulls":7},{"v":0,"d":"€ 0.00"},{"v":0,"d":"€ 0.00"}]
[null,3677,{"$nulls":7},{"v":0,"d":"€ 0.00"},{"v":0,"d":"€ 0.00"}]
[null,3678,{"$nulls":7},{"v":0,"d":"€ 0.00"},{"v":0,"d":"€ 0.00"}]
[null,3679,{"$nulls":7},{"v":0,"d":"€ 0.00"},{"v":0,"d":"€ 0.00"}]
[null,3680,{"$nulls":7},{"v":0,"d":"€ 0.00"},{"v":0,"d":"€ 0.00"}]
[null,3681,{"$nulls":7},{"v":0,"d":"€ 0.00"},{"v":0,"d":"€ 0.00"}]
[null,3682,{"$nulls":7},{"v":0,"d":"€ 0.00"},{"v":0,"d":"€ 0.00"}]
[null,3683,{"$nulls":7},{"v":0,"d":"€ 0.00"},{"v":0,"d":"€ 0.00"}]
[null,3684,{"$nulls":7},{"v":0,"d":"€ 0.00"},{"v":0,"d":"€ 0.00"}]
[null,3685,{"$nulls":7},{"v":0,"d":"€ 0.00"},{"v":0,"d":"€ 0.00"}]
[null,3686,{"$nulls":7},{"v":0,"d":"€ 0.00"},{"v":0,"d":"€ 0.00"}]
[null,3687,{"$nulls":7},{"v":0,"d":"€ 0.00"},{"v":0,"d":"€ 0.00"}]
[null,3688,{"$nulls":7},{"v":0,"d":"€ 0.00"},{"v":0,"d":"€ 0.00"}]
[null,3689,{"$nulls":7},{"v":0,"d":"€ 0.00"},{"v":0,"d":"€ 0.00"}]
[null,3690,{"$nulls":7},{"v":0,"d":"€ 0.00"},{"v":0,"d":"€ 0.00"}]
[null,3691,{"$nulls":7},{"v":0,"d":"€ 0.00"},{"v":0,"d":"€ 0.00"}]
[null,3692,{"$nulls":7},{"v":0,"d":"€ 0.00"},{"v":0,"d":"€ 0.00"}]
[null,3693,{"$nulls":7},{"v":0,"d":"€ 0.00"},{"v":0,"d":"€ 0.00"}]
[null,3694,{"$nulls":7},{"v":0,"d":"€ 0.00"},{"v":0,"d":"€ 0.00"}]
[null,3695,{"$nulls":7},{"v":0,"d":"€ 0.00"},{"v":0,"d":"€ 0.00"}]
[null,3696,{"$nulls":7},{"v":0,"d":"€ 0.00"},{"v":0,"d":"€ 0.00"}]
[null,3697,{"$nulls":7},{"v":0,"d":"€ 0.00"},{"v":0,"d":"€ 0.00"}]
[null,3698,{"$nulls":7},{"v":0,"d":"€ 0.00"},{"v":0,"d":"€ 0.00"}]
[null,3699,{"$nulls":7},{"v":0,"d":"€ 0.00"},{"v":0,"d":"€ 0.00"}]
[null,3700,{"$nulls":7},{"v":0,"d":"€ 0.00"},{"v":0,"d":"€ 0.00"}]
[null,3701,{"$nulls":7},{"v":0,"d":"€ 0.00"},{"v":0,"d":"€ 0.00"}]
[null,3702,{"$nulls":7},{"v":0,"d":"€ 0.00"},{"v":0,"d":"€ 0.00"}]
[null,3703,{"$nulls":7},{"v":0,"d":"€ 0.00"},{"v":0,"d":"€ 0.00"}]
[null,3704,{"$nulls":7},{"v":0,"d":"€ 0.00"},{"v":0,"d":"€ 0.00"}]
[null,3705,{"$nulls":7},{"v":0,"d":"€ 0.00"},{"v":0,"d":"€ 0.00"}]
[null,3706,{"$nulls":7},{"v":0,"d":"€ 0.00"},{"v":0,"d":"€ 0.00"}]
[null,3707,{"$nulls":7},{"v":0,"d":"€ 0.00"},{"v":0,"d":"€ 0.00"}]
[null,3708,{"$nulls":7},{"v":0,"d":"€ 0.00"},{"v":0,"d":"€ 0.00"}]
[null,3709,{"$nulls":7},{"v":0,"d":"€ 0.00"},{"v":0,"d":"€ 0.00"}]
[null,3710,{"$nulls":7},{"v":0,"d":"€ 0.00"},{"v":0,"d":"€ 0.00"}]
[null,3711,{"$nulls":7},{"v":0,"d":"€ 0.00"},{"v":0,"d":"€ 0.00"}]
[null,3712,{"$nulls":7},{"v":0,"d":"€ 0.00"},{"v":0,"d":"€ 0.00"}]
[null,3713,{"$nulls":7},{"v":0,"d":"€ 0.00"},{"v":0,"d":"€ 0.00"}]
[null,3714,{"$nulls":7},{"v":0,"d":"€ 0.00"},{"v":0,"d":"€ 0.00"}]
[null,3715,{"$nulls":7},{"v":0,"d":"€ 0.00"},{"v":0,"d":"€ 0.00"}]
[null,3716,{"$nulls":7},{"v":0,"d":"€ 0.00"},{"v":0,"d":"€ 0.00"}]
[null,3717,{"$nulls":7},{"v":0,"d":"€ 0.00"},{"v":0,"d":"€ 0.00"}]
[null,3718,{"$nulls":7},{"v":0,"d":"€ 0.00"},{"v":0,"d":"€ 0.00"}]
[null,3719,{"$nulls":7},{"v":0,"d":"€ 0.00"},{"v":0,"d":"€ 0.00"}]
[null,3720,{"$nulls":7},{"v":0,"d":"€ 0.00"},{"v":0,"d":"€ 0.00"}]
[null,3721,{"$nulls":7},{"v":0,"d":"€ 0.00"},{"v":0,"d":"€ 0.00"}]
[null,3722,{"$nulls":7},{"v":0,"d":"€ 0.00"},{"v":0,"d":"€ 0.00"}]
[null,3723,{"$nulls":7},{"v":0,"d":"€ 0.00"},{"v":0,"d":"€ 0.00"}]
[null,3724,{"$nulls":7},{"v":0,"d":"€ 0.00"},{"v":0,"d":"€ 0.00"}]
[null,3725,{"$nulls":7},{"v":0,"d":"€ 0.00"},{"v":0,"d":"€ 0.00"}]
[null,3726,{"$nulls":7},{"v":0,"d":"€ 0.00"},{"v":0,"d":"€ 0.00"}]
[null,3727,{"$nulls":7},{"v":0,"d":"€ 0.00"},{"v":0,"d":"€ 0.00"}]
[null,3728,{"$nulls":7},{"v":0,"d":"€ 0.00"},{"v":0,"d":"€ 0.00"}]
[null,3729,{"$nulls":7},{"v":0,"d":"€ 0.00"},{"v":0,"d":"€ 0.00"}]
[null,3730,{"$nulls":7},{"v":0,"d":"€ 0.00"},{"v":0,"d":"€ 0.00"}]
[null,3731,{"$nulls":7},{"$f":"IF(OR(ISBLANK(H3738)=TRUE,ISBLANK(I3738)=TRUE),,ROUND(H3738*I3738,2))","v":{"v":0,"d":"€ 0.00"}},{"$f":"G3738+J3738","v":{"v":0,"d":"€ 0.00"}}]
[null,3732,{"$nulls":7},{"v":0,"d":"€ 0.00"},{"v":0,"d":"€ 0.00"}]
[null,3733,{"$nulls":7},{"v":0,"d":"€ 0.00"},{"v":0,"d":"€ 0.00"}]
[null,3734,{"$nulls":7},{"v":0,"d":"€ 0.00"},{"v":0,"d":"€ 0.00"}]
[null,3735,{"$nulls":7},{"v":0,"d":"€ 0.00"},{"v":0,"d":"€ 0.00"}]
[null,3736,{"$nulls":7},{"v":0,"d":"€ 0.00"},{"v":0,"d":"€ 0.00"}]
[null,3737,{"$nulls":7},{"v":0,"d":"€ 0.00"},{"v":0,"d":"€ 0.00"}]
[null,3738,{"$nulls":7},{"v":0,"d":"€ 0.00"},{"v":0,"d":"€ 0.00"}]
[null,3739,{"$nulls":7},{"v":0,"d":"€ 0.00"},{"v":0,"d":"€ 0.00"}]
[null,3740,{"$nulls":7},{"v":0,"d":"€ 0.00"},{"v":0,"d":"€ 0.00"}]
[null,3741,{"$nulls":7},{"v":0,"d":"€ 0.00"},{"v":0,"d":"€ 0.00"}]
[null,3742,{"$nulls":7},{"v":0,"d":"€ 0.00"},{"v":0,"d":"€ 0.00"}]
[null,3743,{"$nulls":7},{"v":0,"d":"€ 0.00"},{"v":0,"d":"€ 0.00"}]
[null,3744,{"$nulls":7},{"v":0,"d":"€ 0.00"},{"v":0,"d":"€ 0.00"}]
[null,3745,{"$nulls":7},{"v":0,"d":"€ 0.00"},{"v":0,"d":"€ 0.00"}]
[null,3746,{"$nulls":7},{"v":0,"d":"€ 0.00"},{"v":0,"d":"€ 0.00"}]
[null,3747,{"$nulls":7},{"v":0,"d":"€ 0.00"},{"v":0,"d":"€ 0.00"}]
[null,3748,{"$nulls":7},{"v":0,"d":"€ 0.00"},{"v":0,"d":"€ 0.00"}]
[null,3749,{"$nulls":7},{"v":0,"d":"€ 0.00"},{"v":0,"d":"€ 0.00"}]
[null,3750,{"$nulls":7},{"v":0,"d":"€ 0.00"},{"v":0,"d":"€ 0.00"}]
[null,3751,{"$nulls":7},{"v":0,"d":"€ 0.00"},{"v":0,"d":"€ 0.00"}]
[null,3752,{"$nulls":7},{"v":0,"d":"€ 0.00"},{"v":0,"d":"€ 0.00"}]
[null,3753,{"$nulls":7},{"v":0,"d":"€ 0.00"},{"v":0,"d":"€ 0.00"}]
[null,3754,{"$nulls":7},{"v":0,"d":"€ 0.00"},{"v":0,"d":"€ 0.00"}]
[null,3755,{"$nulls":7},{"v":0,"d":"€ 0.00"},{"v":0,"d":"€ 0.00"}]
[null,3756,{"$nulls":7},{"v":0,"d":"€ 0.00"},{"v":0,"d":"€ 0.00"}]
[null,3757,{"$nulls":7},{"v":0,"d":"€ 0.00"},{"v":0,"d":"€ 0.00"}]
[null,3758,{"$nulls":7},{"v":0,"d":"€ 0.00"},{"v":0,"d":"€ 0.00"}]
[null,3759,{"$nulls":7},{"v":0,"d":"€ 0.00"},{"v":0,"d":"€ 0.00"}]
[null,3760,{"$nulls":7},{"v":0,"d":"€ 0.00"},{"v":0,"d":"€ 0.00"}]
[null,3761,{"$nulls":7},{"v":0,"d":"€ 0.00"},{"v":0,"d":"€ 0.00"}]
[null,3762,{"$nulls":7},{"v":0,"d":"€ 0.00"},{"v":0,"d":"€ 0.00"}]
[null,3763,{"$nulls":7},{"v":0,"d":"€ 0.00"},{"v":0,"d":"€ 0.00"}]
[null,3764,{"$nulls":7},{"v":0,"d":"€ 0.00"},{"v":0,"d":"€ 0.00"}]
[null,3765,{"$nulls":7},{"v":0,"d":"€ 0.00"},{"v":0,"d":"€ 0.00"}]
[null,3766,{"$nulls":7},{"v":0,"d":"€ 0.00"},{"v":0,"d":"€ 0.00"}]
[null,3767,{"$nulls":7},{"v":0,"d":"€ 0.00"},{"v":0,"d":"€ 0.00"}]
[null,3768,{"$nulls":7},{"v":0,"d":"€ 0.00"},{"v":0,"d":"€ 0.00"}]
[null,3769,{"$nulls":7},{"v":0,"d":"€ 0.00"},{"v":0,"d":"€ 0.00"}]
[null,3770,{"$nulls":7},{"v":0,"d":"€ 0.00"},{"v":0,"d":"€ 0.00"}]
[null,3771,{"$nulls":7},{"v":0,"d":"€ 0.00"},{"v":0,"d":"€ 0.00"}]
[null,3772,{"$nulls":7},{"v":0,"d":"€ 0.00"},{"v":0,"d":"€ 0.00"}]
[null,3773,{"$nulls":7},{"v":0,"d":"€ 0.00"},{"v":0,"d":"€ 0.00"}]
[null,3774,{"$nulls":7},{"v":0,"d":"€ 0.00"},{"v":0,"d":"€ 0.00"}]
[null,3775,{"$nulls":7},{"v":0,"d":"€ 0.00"},{"v":0,"d":"€ 0.00"}]
[null,3776,{"$nulls":7},{"v":0,"d":"€ 0.00"},{"v":0,"d":"€ 0.00"}]
[null,3777,{"$nulls":7},{"v":0,"d":"€ 0.00"},{"v":0,"d":"€ 0.00"}]
[null,3778,{"$nulls":7},{"v":0,"d":"€ 0.00"},{"v":0,"d":"€ 0.00"}]
[null,3779,{"$nulls":7},{"v":0,"d":"€ 0.00"},{"v":0,"d":"€ 0.00"}]
[null,3780,{"$nulls":7},{"v":0,"d":"€ 0.00"},{"v":0,"d":"€ 0.00"}]
[null,3781,{"$nulls":7},{"v":0,"d":"€ 0.00"},{"v":0,"d":"€ 0.00"}]
[null,3782,{"$nulls":7},{"v":0,"d":"€ 0.00"},{"v":0,"d":"€ 0.00"}]
[null,3783,{"$nulls":7},{"v":0,"d":"€ 0.00"},{"v":0,"d":"€ 0.00"}]
[null,3784,{"$nulls":7},{"v":0,"d":"€ 0.00"},{"v":0,"d":"€ 0.00"}]
[null,3785,{"$nulls":7},{"v":0,"d":"€ 0.00"},{"v":0,"d":"€ 0.00"}]
[null,3786,{"$nulls":7},{"v":0,"d":"€ 0.00"},{"v":0,"d":"€ 0.00"}]
[null,3787,{"$nulls":7},{"v":0,"d":"€ 0.00"},{"v":0,"d":"€ 0.00"}]
[null,3788,{"$nulls":7},{"v":0,"d":"€ 0.00"},{"v":0,"d":"€ 0.00"}]
[null,3789,{"$nulls":7},{"v":0,"d":"€ 0.00"},{"v":0,"d":"€ 0.00"}]
[null,3790,{"$nulls":7},{"v":0,"d":"€ 0.00"},{"v":0,"d":"€ 0.00"}]
[null,3791,{"$nulls":7},{"v":0,"d":"€ 0.00"},{"v":0,"d":"€ 0.00"}]
[null,3792,{"$nulls":7},{"v":0,"d":"€ 0.00"},{"v":0,"d":"€ 0.00"}]
[null,3793,{"$nulls":7},{"v":0,"d":"€ 0.00"},{"v":0,"d":"€ 0.00"}]
[null,3794,{"$nulls":7},{"v":0,"d":"€ 0.00"},{"v":0,"d":"€ 0.00"}]
[null,3795,{"$nulls":7},{"$f":"IF(OR(ISBLANK(H3802)=TRUE,ISBLANK(I3802)=TRUE),,ROUND(H3802*I3802,2))","v":{"v":0,"d":"€ 0.00"}},{"$f":"G3802+J3802","v":{"v":0,"d":"€ 0.00"}}]
[null,3796,{"$nulls":7},{"v":0,"d":"€ 0.00"},{"v":0,"d":"€ 0.00"}]
[null,3797,{"$nulls":7},{"v":0,"d":"€ 0.00"},{"v":0,"d":"€ 0.00"}]
[null,3798,{"$nulls":7},{"v":0,"d":"€ 0.00"},{"v":0,"d":"€ 0.00"}]
[null,3799,{"$nulls":7},{"v":0,"d":"€ 0.00"},{"v":0,"d":"€ 0.00"}]
[null,3800,{"$nulls":7},{"v":0,"d":"€ 0.00"},{"v":0,"d":"€ 0.00"}]
[null,3801,{"$nulls":7},{"v":0,"d":"€ 0.00"},{"v":0,"d":"€ 0.00"}]
[null,3802,{"$nulls":7},{"v":0,"d":"€ 0.00"},{"v":0,"d":"€ 0.00"}]
[null,3803,{"$nulls":7},{"v":0,"d":"€ 0.00"},{"v":0,"d":"€ 0.00"}]
[null,3804,{"$nulls":7},{"v":0,"d":"€ 0.00"},{"v":0,"d":"€ 0.00"}]
[null,3805,{"$nulls":7},{"v":0,"d":"€ 0.00"},{"v":0,"d":"€ 0.00"}]
[null,3806,{"$nulls":7},{"v":0,"d":"€ 0.00"},{"v":0,"d":"€ 0.00"}]
[null,3807,{"$nulls":7},{"v":0,"d":"€ 0.00"},{"v":0,"d":"€ 0.00"}]
[null,3808,{"$nulls":7},{"v":0,"d":"€ 0.00"},{"v":0,"d":"€ 0.00"}]
[null,3809,{"$nulls":7},{"v":0,"d":"€ 0.00"},{"v":0,"d":"€ 0.00"}]
[null,3810,{"$nulls":7},{"v":0,"d":"€ 0.00"},{"v":0,"d":"€ 0.00"}]
[null,3811,{"$nulls":7},{"v":0,"d":"€ 0.00"},{"v":0,"d":"€ 0.00"}]
[null,3812,{"$nulls":7},{"v":0,"d":"€ 0.00"},{"v":0,"d":"€ 0.00"}]
[null,3813,{"$nulls":7},{"v":0,"d":"€ 0.00"},{"v":0,"d":"€ 0.00"}]
[null,3814,{"$nulls":7},{"v":0,"d":"€ 0.00"},{"v":0,"d":"€ 0.00"}]
[null,3815,{"$nulls":7},{"v":0,"d":"€ 0.00"},{"v":0,"d":"€ 0.00"}]
[null,3816,{"$nulls":7},{"v":0,"d":"€ 0.00"},{"v":0,"d":"€ 0.00"}]
[null,3817,{"$nulls":7},{"v":0,"d":"€ 0.00"},{"v":0,"d":"€ 0.00"}]
[null,3818,{"$nulls":7},{"v":0,"d":"€ 0.00"},{"v":0,"d":"€ 0.00"}]
[null,3819,{"$nulls":7},{"v":0,"d":"€ 0.00"},{"v":0,"d":"€ 0.00"}]
[null,3820,{"$nulls":7},{"v":0,"d":"€ 0.00"},{"v":0,"d":"€ 0.00"}]
[null,3821,{"$nulls":7},{"v":0,"d":"€ 0.00"},{"v":0,"d":"€ 0.00"}]
[null,3822,{"$nulls":7},{"v":0,"d":"€ 0.00"},{"v":0,"d":"€ 0.00"}]
[null,3823,{"$nulls":7},{"v":0,"d":"€ 0.00"},{"v":0,"d":"€ 0.00"}]
[null,3824,{"$nulls":7},{"v":0,"d":"€ 0.00"},{"v":0,"d":"€ 0.00"}]
[null,3825,{"$nulls":7},{"v":0,"d":"€ 0.00"},{"v":0,"d":"€ 0.00"}]
[null,3826,{"$nulls":7},{"v":0,"d":"€ 0.00"},{"v":0,"d":"€ 0.00"}]
[null,3827,{"$nulls":7},{"v":0,"d":"€ 0.00"},{"v":0,"d":"€ 0.00"}]
[null,3828,{"$nulls":7},{"v":0,"d":"€ 0.00"},{"v":0,"d":"€ 0.00"}]
[null,3829,{"$nulls":7},{"v":0,"d":"€ 0.00"},{"v":0,"d":"€ 0.00"}]
[null,3830,{"$nulls":7},{"v":0,"d":"€ 0.00"},{"v":0,"d":"€ 0.00"}]
[null,3831,{"$nulls":7},{"v":0,"d":"€ 0.00"},{"v":0,"d":"€ 0.00"}]
[null,3832,{"$nulls":7},{"v":0,"d":"€ 0.00"},{"v":0,"d":"€ 0.00"}]
[null,3833,{"$nulls":7},{"v":0,"d":"€ 0.00"},{"v":0,"d":"€ 0.00"}]
[null,3834,{"$nulls":7},{"v":0,"d":"€ 0.00"},{"v":0,"d":"€ 0.00"}]
[null,3835,{"$nulls":7},{"v":0,"d":"€ 0.00"},{"v":0,"d":"€ 0.00"}]
[null,3836,{"$nulls":7},{"v":0,"d":"€ 0.00"},{"v":0,"d":"€ 0.00"}]
[null,3837,{"$nulls":7},{"v":0,"d":"€ 0.00"},{"v":0,"d":"€ 0.00"}]
[null,3838,{"$nulls":7},{"v":0,"d":"€ 0.00"},{"v":0,"d":"€ 0.00"}]
[null,3839,{"$nulls":7},{"v":0,"d":"€ 0.00"},{"v":0,"d":"€ 0.00"}]
[null,3840,{"$nulls":7},{"v":0,"d":"€ 0.00"},{"v":0,"d":"€ 0.00"}]
[null,3841,{"$nulls":7},{"v":0,"d":"€ 0.00"},{"v":0,"d":"€ 0.00"}]
[null,3842,{"$nulls":7},{"v":0,"d":"€ 0.00"},{"v":0,"d":"€ 0.00"}]
[null,3843,{"$nulls":7},{"v":0,"d":"€ 0.00"},{"v":0,"d":"€ 0.00"}]
[null,3844,{"$nulls":7},{"v":0,"d":"€ 0.00"},{"v":0,"d":"€ 0.00"}]
[null,3845,{"$nulls":7},{"v":0,"d":"€ 0.00"},{"v":0,"d":"€ 0.00"}]
[null,3846,{"$nulls":7},{"v":0,"d":"€ 0.00"},{"v":0,"d":"€ 0.00"}]
[null,3847,{"$nulls":7},{"v":0,"d":"€ 0.00"},{"v":0,"d":"€ 0.00"}]
[null,3848,{"$nulls":7},{"v":0,"d":"€ 0.00"},{"v":0,"d":"€ 0.00"}]
[null,3849,{"$nulls":7},{"v":0,"d":"€ 0.00"},{"v":0,"d":"€ 0.00"}]
[null,3850,{"$nulls":7},{"v":0,"d":"€ 0.00"},{"v":0,"d":"€ 0.00"}]
[null,3851,{"$nulls":7},{"v":0,"d":"€ 0.00"},{"v":0,"d":"€ 0.00"}]
[null,3852,{"$nulls":7},{"v":0,"d":"€ 0.00"},{"v":0,"d":"€ 0.00"}]
[null,3853,{"$nulls":7},{"v":0,"d":"€ 0.00"},{"v":0,"d":"€ 0.00"}]
[null,3854,{"$nulls":7},{"v":0,"d":"€ 0.00"},{"v":0,"d":"€ 0.00"}]
[null,3855,{"$nulls":7},{"v":0,"d":"€ 0.00"},{"v":0,"d":"€ 0.00"}]
[null,3856,{"$nulls":7},{"v":0,"d":"€ 0.00"},{"v":0,"d":"€ 0.00"}]
[null,3857,{"$nulls":7},{"v":0,"d":"€ 0.00"},{"v":0,"d":"€ 0.00"}]
[null,3858,{"$nulls":7},{"v":0,"d":"€ 0.00"},{"v":0,"d":"€ 0.00"}]
[null,3859,{"$nulls":7},{"$f":"IF(OR(ISBLANK(H3866)=TRUE,ISBLANK(I3866)=TRUE),,ROUND(H3866*I3866,2))","v":{"v":0,"d":"€ 0.00"}},{"$f":"G3866+J3866","v":{"v":0,"d":"€ 0.00"}}]
[null,3860,{"$nulls":7},{"v":0,"d":"€ 0.00"},{"v":0,"d":"€ 0.00"}]
[null,3861,{"$nulls":7},{"v":0,"d":"€ 0.00"},{"v":0,"d":"€ 0.00"}]
[null,3862,{"$nulls":7},{"v":0,"d":"€ 0.00"},{"v":0,"d":"€ 0.00"}]
[null,3863,{"$nulls":7},{"v":0,"d":"€ 0.00"},{"v":0,"d":"€ 0.00"}]
[null,3864,{"$nulls":7},{"v":0,"d":"€ 0.00"},{"v":0,"d":"€ 0.00"}]
[null,3865,{"$nulls":7},{"v":0,"d":"€ 0.00"},{"v":0,"d":"€ 0.00"}]
[null,3866,{"$nulls":7},{"v":0,"d":"€ 0.00"},{"v":0,"d":"€ 0.00"}]
[null,3867,{"$nulls":7},{"v":0,"d":"€ 0.00"},{"v":0,"d":"€ 0.00"}]
[null,3868,{"$nulls":7},{"v":0,"d":"€ 0.00"},{"v":0,"d":"€ 0.00"}]
[null,3869,{"$nulls":7},{"v":0,"d":"€ 0.00"},{"v":0,"d":"€ 0.00"}]
[null,3870,{"$nulls":7},{"v":0,"d":"€ 0.00"},{"v":0,"d":"€ 0.00"}]
[null,3871,{"$nulls":7},{"v":0,"d":"€ 0.00"},{"v":0,"d":"€ 0.00"}]
[null,3872,{"$nulls":7},{"v":0,"d":"€ 0.00"},{"v":0,"d":"€ 0.00"}]
[null,3873,{"$nulls":7},{"v":0,"d":"€ 0.00"},{"v":0,"d":"€ 0.00"}]
[null,3874,{"$nulls":7},{"v":0,"d":"€ 0.00"},{"v":0,"d":"€ 0.00"}]
[null,3875,{"$nulls":7},{"v":0,"d":"€ 0.00"},{"v":0,"d":"€ 0.00"}]
[null,3876,{"$nulls":7},{"v":0,"d":"€ 0.00"},{"v":0,"d":"€ 0.00"}]
[null,3877,{"$nulls":7},{"v":0,"d":"€ 0.00"},{"v":0,"d":"€ 0.00"}]
[null,3878,{"$nulls":7},{"v":0,"d":"€ 0.00"},{"v":0,"d":"€ 0.00"}]
[null,3879,{"$nulls":7},{"v":0,"d":"€ 0.00"},{"v":0,"d":"€ 0.00"}]
[null,3880,{"$nulls":7},{"v":0,"d":"€ 0.00"},{"v":0,"d":"€ 0.00"}]
[null,3881,{"$nulls":7},{"v":0,"d":"€ 0.00"},{"v":0,"d":"€ 0.00"}]
[null,3882,{"$nulls":7},{"v":0,"d":"€ 0.00"},{"v":0,"d":"€ 0.00"}]
[null,3883,{"$nulls":7},{"v":0,"d":"€ 0.00"},{"v":0,"d":"€ 0.00"}]
[null,3884,{"$nulls":7},{"v":0,"d":"€ 0.00"},{"v":0,"d":"€ 0.00"}]
[null,3885,{"$nulls":7},{"v":0,"d":"€ 0.00"},{"v":0,"d":"€ 0.00"}]
[null,3886,{"$nulls":7},{"v":0,"d":"€ 0.00"},{"v":0,"d":"€ 0.00"}]
[null,3887,{"$nulls":7},{"v":0,"d":"€ 0.00"},{"v":0,"d":"€ 0.00"}]
[null,3888,{"$nulls":7},{"v":0,"d":"€ 0.00"},{"v":0,"d":"€ 0.00"}]
[null,3889,{"$nulls":7},{"v":0,"d":"€ 0.00"},{"v":0,"d":"€ 0.00"}]
[null,3890,{"$nulls":7},{"v":0,"d":"€ 0.00"},{"v":0,"d":"€ 0.00"}]
[null,3891,{"$nulls":7},{"v":0,"d":"€ 0.00"},{"v":0,"d":"€ 0.00"}]
[null,3892,{"$nulls":7},{"v":0,"d":"€ 0.00"},{"v":0,"d":"€ 0.00"}]
[null,3893,{"$nulls":7},{"v":0,"d":"€ 0.00"},{"v":0,"d":"€ 0.00"}]
[null,3894,{"$nulls":7},{"v":0,"d":"€ 0.00"},{"v":0,"d":"€ 0.00"}]
[null,3895,{"$nulls":7},{"v":0,"d":"€ 0.00"},{"v":0,"d":"€ 0.00"}]
[null,3896,{"$nulls":7},{"v":0,"d":"€ 0.00"},{"v":0,"d":"€ 0.00"}]
[null,3897,{"$nulls":7},{"v":0,"d":"€ 0.00"},{"v":0,"d":"€ 0.00"}]
[null,3898,{"$nulls":7},{"v":0,"d":"€ 0.00"},{"v":0,"d":"€ 0.00"}]
[null,3899,{"$nulls":7},{"v":0,"d":"€ 0.00"},{"v":0,"d":"€ 0.00"}]
[null,3900,{"$nulls":7},{"v":0,"d":"€ 0.00"},{"v":0,"d":"€ 0.00"}]
[null,3901,{"$nulls":7},{"v":0,"d":"€ 0.00"},{"v":0,"d":"€ 0.00"}]
[null,3902,{"$nulls":7},{"v":0,"d":"€ 0.00"},{"v":0,"d":"€ 0.00"}]
[null,3903,{"$nulls":7},{"v":0,"d":"€ 0.00"},{"v":0,"d":"€ 0.00"}]
[null,3904,{"$nulls":7},{"v":0,"d":"€ 0.00"},{"v":0,"d":"€ 0.00"}]
[null,3905,{"$nulls":7},{"v":0,"d":"€ 0.00"},{"v":0,"d":"€ 0.00"}]
[null,3906,{"$nulls":7},{"v":0,"d":"€ 0.00"},{"v":0,"d":"€ 0.00"}]
[null,3907,{"$nulls":7},{"v":0,"d":"€ 0.00"},{"v":0,"d":"€ 0.00"}]
[null,3908,{"$nulls":7},{"v":0,"d":"€ 0.00"},{"v":0,"d":"€ 0.00"}]
[null,3909,{"$nulls":7},{"v":0,"d":"€ 0.00"},{"v":0,"d":"€ 0.00"}]
[null,3910,{"$nulls":7},{"v":0,"d":"€ 0.00"},{"v":0,"d":"€ 0.00"}]
[null,3911,{"$nulls":7},{"v":0,"d":"€ 0.00"},{"v":0,"d":"€ 0.00"}]
[null,3912,{"$nulls":7},{"v":0,"d":"€ 0.00"},{"v":0,"d":"€ 0.00"}]
[null,3913,{"$nulls":7},{"v":0,"d":"€ 0.00"},{"v":0,"d":"€ 0.00"}]
[null,3914,{"$nulls":7},{"v":0,"d":"€ 0.00"},{"v":0,"d":"€ 0.00"}]
[null,3915,{"$nulls":7},{"v":0,"d":"€ 0.00"},{"v":0,"d":"€ 0.00"}]
[null,3916,{"$nulls":7},{"v":0,"d":"€ 0.00"},{"v":0,"d":"€ 0.00"}]
[null,3917,{"$nulls":7},{"v":0,"d":"€ 0.00"},{"v":0,"d":"€ 0.00"}]
[null,3918,{"$nulls":7},{"v":0,"d":"€ 0.00"},{"v":0,"d":"€ 0.00"}]
[null,3919,{"$nulls":7},{"v":0,"d":"€ 0.00"},{"v":0,"d":"€ 0.00"}]
[null,3920,{"$nulls":7},{"v":0,"d":"€ 0.00"},{"v":0,"d":"€ 0.00"}]
[null,3921,{"$nulls":7},{"v":0,"d":"€ 0.00"},{"v":0,"d":"€ 0.00"}]
[null,3922,{"$nulls":7},{"v":0,"d":"€ 0.00"},{"v":0,"d":"€ 0.00"}]
[null,3923,{"$nulls":7},{"$f":"IF(OR(ISBLANK(H3930)=TRUE,ISBLANK(I3930)=TRUE),,ROUND(H3930*I3930,2))","v":{"v":0,"d":"€ 0.00"}},{"$f":"G3930+J3930","v":{"v":0,"d":"€ 0.00"}}]
[null,3924,{"$nulls":7},{"v":0,"d":"€ 0.00"},{"v":0,"d":"€ 0.00"}]
[null,3925,{"$nulls":7},{"v":0,"d":"€ 0.00"},{"v":0,"d":"€ 0.00"}]
[null,3926,{"$nulls":7},{"v":0,"d":"€ 0.00"},{"v":0,"d":"€ 0.00"}]
[null,3927,{"$nulls":7},{"v":0,"d":"€ 0.00"},{"v":0,"d":"€ 0.00"}]
[null,3928,{"$nulls":7},{"v":0,"d":"€ 0.00"},{"v":0,"d":"€ 0.00"}]
[null,3929,{"$nulls":7},{"v":0,"d":"€ 0.00"},{"v":0,"d":"€ 0.00"}]
[null,3930,{"$nulls":7},{"v":0,"d":"€ 0.00"},{"v":0,"d":"€ 0.00"}]
[null,3931,{"$nulls":7},{"v":0,"d":"€ 0.00"},{"v":0,"d":"€ 0.00"}]
[null,3932,{"$nulls":7},{"v":0,"d":"€ 0.00"},{"v":0,"d":"€ 0.00"}]
[null,3933,{"$nulls":7},{"v":0,"d":"€ 0.00"},{"v":0,"d":"€ 0.00"}]
[null,3934,{"$nulls":7},{"v":0,"d":"€ 0.00"},{"v":0,"d":"€ 0.00"}]
[null,3935,{"$nulls":7},{"v":0,"d":"€ 0.00"},{"v":0,"d":"€ 0.00"}]
[null,3936,{"$nulls":7},{"v":0,"d":"€ 0.00"},{"v":0,"d":"€ 0.00"}]
[null,3937,{"$nulls":7},{"v":0,"d":"€ 0.00"},{"v":0,"d":"€ 0.00"}]
[null,3938,{"$nulls":7},{"v":0,"d":"€ 0.00"},{"v":0,"d":"€ 0.00"}]
[null,3939,{"$nulls":7},{"v":0,"d":"€ 0.00"},{"v":0,"d":"€ 0.00"}]
[null,3940,{"$nulls":7},{"v":0,"d":"€ 0.00"},{"v":0,"d":"€ 0.00"}]
[null,3941,{"$nulls":7},{"v":0,"d":"€ 0.00"},{"v":0,"d":"€ 0.00"}]
[null,3942,{"$nulls":7},{"v":0,"d":"€ 0.00"},{"v":0,"d":"€ 0.00"}]
[null,3943,{"$nulls":7},{"v":0,"d":"€ 0.00"},{"v":0,"d":"€ 0.00"}]
[null,3944,{"$nulls":7},{"v":0,"d":"€ 0.00"},{"v":0,"d":"€ 0.00"}]
[null,3945,{"$nulls":7},{"v":0,"d":"€ 0.00"},{"v":0,"d":"€ 0.00"}]
[null,3946,{"$nulls":7},{"v":0,"d":"€ 0.00"},{"v":0,"d":"€ 0.00"}]
[null,3947,{"$nulls":7},{"v":0,"d":"€ 0.00"},{"v":0,"d":"€ 0.00"}]
[null,3948,{"$nulls":7},{"v":0,"d":"€ 0.00"},{"v":0,"d":"€ 0.00"}]
[null,3949,{"$nulls":7},{"v":0,"d":"€ 0.00"},{"v":0,"d":"€ 0.00"}]
[null,3950,{"$nulls":7},{"v":0,"d":"€ 0.00"},{"v":0,"d":"€ 0.00"}]
[null,3951,{"$nulls":7},{"v":0,"d":"€ 0.00"},{"v":0,"d":"€ 0.00"}]
[null,3952,{"$nulls":7},{"v":0,"d":"€ 0.00"},{"v":0,"d":"€ 0.00"}]
[null,3953,{"$nulls":7},{"v":0,"d":"€ 0.00"},{"v":0,"d":"€ 0.00"}]
[null,3954,{"$nulls":7},{"v":0,"d":"€ 0.00"},{"v":0,"d":"€ 0.00"}]
[null,3955,{"$nulls":7},{"v":0,"d":"€ 0.00"},{"v":0,"d":"€ 0.00"}]
[null,3956,{"$nulls":7},{"v":0,"d":"€ 0.00"},{"v":0,"d":"€ 0.00"}]
[null,3957,{"$nulls":7},{"v":0,"d":"€ 0.00"},{"v":0,"d":"€ 0.00"}]
[null,3958,{"$nulls":7},{"v":0,"d":"€ 0.00"},{"v":0,"d":"€ 0.00"}]
[null,3959,{"$nulls":7},{"v":0,"d":"€ 0.00"},{"v":0,"d":"€ 0.00"}]
[null,3960,{"$nulls":7},{"v":0,"d":"€ 0.00"},{"v":0,"d":"€ 0.00"}]
[null,3961,{"$nulls":7},{"v":0,"d":"€ 0.00"},{"v":0,"d":"€ 0.00"}]
[null,3962,{"$nulls":7},{"v":0,"d":"€ 0.00"},{"v":0,"d":"€ 0.00"}]
[null,3963,{"$nulls":7},{"v":0,"d":"€ 0.00"},{"v":0,"d":"€ 0.00"}]
[null,3964,{"$nulls":7},{"v":0,"d":"€ 0.00"},{"v":0,"d":"€ 0.00"}]
[null,3965,{"$nulls":7},{"v":0,"d":"€ 0.00"},{"v":0,"d":"€ 0.00"}]
[null,3966,{"$nulls":7},{"v":0,"d":"€ 0.00"},{"v":0,"d":"€ 0.00"}]
[null,3967,{"$nulls":7},{"v":0,"d":"€ 0.00"},{"v":0,"d":"€ 0.00"}]
[null,3968,{"$nulls":7},{"v":0,"d":"€ 0.00"},{"v":0,"d":"€ 0.00"}]
[null,3969,{"$nulls":7},{"v":0,"d":"€ 0.00"},{"v":0,"d":"€ 0.00"}]
[null,3970,{"$nulls":7},{"v":0,"d":"€ 0.00"},{"v":0,"d":"€ 0.00"}]
[null,3971,{"$nulls":7},{"v":0,"d":"€ 0.00"},{"v":0,"d":"€ 0.00"}]
[null,3972,{"$nulls":7},{"v":0,"d":"€ 0.00"},{"v":0,"d":"€ 0.00"}]
[null,3973,{"$nulls":7},{"v":0,"d":"€ 0.00"},{"v":0,"d":"€ 0.00"}]
[null,3974,{"$nulls":7},{"v":0,"d":"€ 0.00"},{"v":0,"d":"€ 0.00"}]
[null,3975,{"$nulls":7},{"v":0,"d":"€ 0.00"},{"v":0,"d":"€ 0.00"}]
[null,3976,{"$nulls":7},{"v":0,"d":"€ 0.00"},{"v":0,"d":"€ 0.00"}]
[null,3977,{"$nulls":7},{"v":0,"d":"€ 0.00"},{"v":0,"d":"€ 0.00"}]
[null,3978,{"$nulls":7},{"v":0,"d":"€ 0.00"},{"v":0,"d":"€ 0.00"}]
[null,3979,{"$nulls":7},{"v":0,"d":"€ 0.00"},{"v":0,"d":"€ 0.00"}]
[null,3980,{"$nulls":7},{"v":0,"d":"€ 0.00"},{"v":0,"d":"€ 0.00"}]
[null,3981,{"$nulls":7},{"v":0,"d":"€ 0.00"},{"v":0,"d":"€ 0.00"}]
[null,3982,{"$nulls":7},{"v":0,"d":"€ 0.00"},{"v":0,"d":"€ 0.00"}]
[null,3983,{"$nulls":7},{"v":0,"d":"€ 0.00"},{"v":0,"d":"€ 0.00"}]
[null,3984,{"$nulls":7},{"v":0,"d":"€ 0.00"},{"v":0,"d":"€ 0.00"}]
[null,3985,{"$nulls":7},{"v":0,"d":"€ 0.00"},{"v":0,"d":"€ 0.00"}]
[null,3986,{"$nulls":7},{"v":0,"d":"€ 0.00"},{"v":0,"d":"€ 0.00"}]
[null,3987,{"$nulls":7},{"$f":"IF(OR(ISBLANK(H3994)=TRUE,ISBLANK(I3994)=TRUE),,ROUND(H3994*I3994,2))","v":{"v":0,"d":"€ 0.00"}},{"$f":"G3994+J3994","v":{"v":0,"d":"€ 0.00"}}]
[null,3988,{"$nulls":7},{"v":0,"d":"€ 0.00"},{"v":0,"d":"€ 0.00"}]
[null,3989,{"$nulls":7},{"v":0,"d":"€ 0.00"},{"v":0,"d":"€ 0.00"}]
[null,3990,{"$nulls":7},{"v":0,"d":"€ 0.00"},{"v":0,"d":"€ 0.00"}]
[null,3991,{"$nulls":7},{"v":0,"d":"€ 0.00"},{"v":0,"d":"€ 0.00"}]
[null,3992,{"$nulls":7},{"v":0,"d":"€ 0.00"},{"v":0,"d":"€ 0.00"}]
[null,3993,{"$nulls":7},{"v":0,"d":"€ 0.00"},{"v":0,"d":"€ 0.00"}]
[null,3994,{"$nulls":7},{"v":0,"d":"€ 0.00"},{"v":0,"d":"€ 0.00"}]
[null,3995,{"$nulls":7},{"v":0,"d":"€ 0.00"},{"v":0,"d":"€ 0.00"}]
[null,3996,{"$nulls":7},{"v":0,"d":"€ 0.00"},{"v":0,"d":"€ 0.00"}]
[null,3997,{"$nulls":7},{"v":0,"d":"€ 0.00"},{"v":0,"d":"€ 0.00"}]
[null,3998,{"$nulls":7},{"v":0,"d":"€ 0.00"},{"v":0,"d":"€ 0.00"}]
[null,3999,{"$nulls":7},{"v":0,"d":"€ 0.00"},{"v":0,"d":"€ 0.00"}]
[null,4000,{"$nulls":7},{"v":0,"d":"€ 0.00"},{"v":0,"d":"€ 0.00"}]
[null,4001,{"$nulls":7},{"v":0,"d":"€ 0.00"},{"v":0,"d":"€ 0.00"}]
[null,4002,{"$nulls":7},{"v":0,"d":"€ 0.00"},{"v":0,"d":"€ 0.00"}]
[null,4003,{"$nulls":7},{"v":0,"d":"€ 0.00"},{"v":0,"d":"€ 0.00"}]
[null,4004,{"$nulls":7},{"v":0,"d":"€ 0.00"},{"v":0,"d":"€ 0.00"}]
[null,4005,{"$nulls":7},{"v":0,"d":"€ 0.00"},{"v":0,"d":"€ 0.00"}]
[null,4006,{"$nulls":7},{"v":0,"d":"€ 0.00"},{"v":0,"d":"€ 0.00"}]
[null,4007,{"$nulls":7},{"v":0,"d":"€ 0.00"},{"v":0,"d":"€ 0.00"}]
[null,4008,{"$nulls":7},{"v":0,"d":"€ 0.00"},{"v":0,"d":"€ 0.00"}]
[null,4009,{"$nulls":7},{"v":0,"d":"€ 0.00"},{"v":0,"d":"€ 0.00"}]
[null,4010,{"$nulls":7},{"v":0,"d":"€ 0.00"},{"v":0,"d":"€ 0.00"}]
[null,4011,{"$nulls":7},{"v":0,"d":"€ 0.00"},{"v":0,"d":"€ 0.00"}]
[null,4012,{"$nulls":7},{"v":0,"d":"€ 0.00"},{"v":0,"d":"€ 0.00"}]
[null,4013,{"$nulls":7},{"v":0,"d":"€ 0.00"},{"v":0,"d":"€ 0.00"}]
[null,4014,{"$nulls":7},{"v":0,"d":"€ 0.00"},{"v":0,"d":"€ 0.00"}]
[null,4015,{"$nulls":7},{"v":0,"d":"€ 0.00"},{"v":0,"d":"€ 0.00"}]
[null,4016,{"$nulls":7},{"v":0,"d":"€ 0.00"},{"v":0,"d":"€ 0.00"}]
[null,4017,{"$nulls":7},{"v":0,"d":"€ 0.00"},{"v":0,"d":"€ 0.00"}]
[null,4018,{"$nulls":7},{"v":0,"d":"€ 0.00"},{"v":0,"d":"€ 0.00"}]
[null,4019,{"$nulls":7},{"v":0,"d":"€ 0.00"},{"v":0,"d":"€ 0.00"}]
[null,4020,{"$nulls":7},{"v":0,"d":"€ 0.00"},{"v":0,"d":"€ 0.00"}]
[null,4021,{"$nulls":7},{"v":0,"d":"€ 0.00"},{"v":0,"d":"€ 0.00"}]
[null,4022,{"$nulls":7},{"v":0,"d":"€ 0.00"},{"v":0,"d":"€ 0.00"}]
[null,4023,{"$nulls":7},{"v":0,"d":"€ 0.00"},{"v":0,"d":"€ 0.00"}]
[null,4024,{"$nulls":7},{"v":0,"d":"€ 0.00"},{"v":0,"d":"€ 0.00"}]
[null,4025,{"$nulls":7},{"v":0,"d":"€ 0.00"},{"v":0,"d":"€ 0.00"}]
[null,4026,{"$nulls":7},{"v":0,"d":"€ 0.00"},{"v":0,"d":"€ 0.00"}]
[null,4027,{"$nulls":7},{"v":0,"d":"€ 0.00"},{"v":0,"d":"€ 0.00"}]
[null,4028,{"$nulls":7},{"v":0,"d":"€ 0.00"},{"v":0,"d":"€ 0.00"}]
[null,4029,{"$nulls":7},{"v":0,"d":"€ 0.00"},{"v":0,"d":"€ 0.00"}]
[null,4030,{"$nulls":7},{"v":0,"d":"€ 0.00"},{"v":0,"d":"€ 0.00"}]
[null,4031,{"$nulls":7},{"v":0,"d":"€ 0.00"},{"v":0,"d":"€ 0.00"}]
[null,4032,{"$nulls":7},{"v":0,"d":"€ 0.00"},{"v":0,"d":"€ 0.00"}]
[null,4033,{"$nulls":7},{"v":0,"d":"€ 0.00"},{"v":0,"d":"€ 0.00"}]
[null,4034,{"$nulls":7},{"v":0,"d":"€ 0.00"},{"v":0,"d":"€ 0.00"}]
[null,4035,{"$nulls":7},{"v":0,"d":"€ 0.00"},{"v":0,"d":"€ 0.00"}]
[null,4036,{"$nulls":7},{"v":0,"d":"€ 0.00"},{"v":0,"d":"€ 0.00"}]
[null,4037,{"$nulls":7},{"v":0,"d":"€ 0.00"},{"v":0,"d":"€ 0.00"}]
[null,4038,{"$nulls":7},{"v":0,"d":"€ 0.00"},{"v":0,"d":"€ 0.00"}]
[null,4039,{"$nulls":7},{"v":0,"d":"€ 0.00"},{"v":0,"d":"€ 0.00"}]
[null,4040,{"$nulls":7},{"v":0,"d":"€ 0.00"},{"v":0,"d":"€ 0.00"}]
[null,4041,{"$nulls":7},{"v":0,"d":"€ 0.00"},{"v":0,"d":"€ 0.00"}]
[null,4042,{"$nulls":7},{"v":0,"d":"€ 0.00"},{"v":0,"d":"€ 0.00"}]
[null,4043,{"$nulls":7},{"v":0,"d":"€ 0.00"},{"v":0,"d":"€ 0.00"}]
[null,4044,{"$nulls":7},{"v":0,"d":"€ 0.00"},{"v":0,"d":"€ 0.00"}]
[null,4045,{"$nulls":7},{"v":0,"d":"€ 0.00"},{"v":0,"d":"€ 0.00"}]
[null,4046,{"$nulls":7},{"v":0,"d":"€ 0.00"},{"v":0,"d":"€ 0.00"}]
[null,4047,{"$nulls":7},{"v":0,"d":"€ 0.00"},{"v":0,"d":"€ 0.00"}]
[null,4048,{"$nulls":7},{"v":0,"d":"€ 0.00"},{"v":0,"d":"€ 0.00"}]
[null,4049,{"$nulls":7},{"v":0,"d":"€ 0.00"},{"v":0,"d":"€ 0.00"}]
[null,4050,{"$nulls":7},{"v":0,"d":"€ 0.00"},{"v":0,"d":"€ 0.00"}]
[null,4051,{"$nulls":7},{"$f":"IF(OR(ISBLANK(H4058)=TRUE,ISBLANK(I4058)=TRUE),,ROUND(H4058*I4058,2))","v":{"v":0,"d":"€ 0.00"}},{"$f":"G4058+J4058","v":{"v":0,"d":"€ 0.00"}}]
[null,4052,{"$nulls":7},{"v":0,"d":"€ 0.00"},{"v":0,"d":"€ 0.00"}]
[null,4053,{"$nulls":7},{"v":0,"d":"€ 0.00"},{"v":0,"d":"€ 0.00"}]
[null,4054,{"$nulls":7},{"v":0,"d":"€ 0.00"},{"v":0,"d":"€ 0.00"}]
[null,4055,{"$nulls":7},{"v":0,"d":"€ 0.00"},{"v":0,"d":"€ 0.00"}]
[null,4056,{"$nulls":7},{"v":0,"d":"€ 0.00"},{"v":0,"d":"€ 0.00"}]
[null,4057,{"$nulls":7},{"v":0,"d":"€ 0.00"},{"v":0,"d":"€ 0.00"}]
[null,4058,{"$nulls":7},{"v":0,"d":"€ 0.00"},{"v":0,"d":"€ 0.00"}]
[null,4059,{"$nulls":7},{"v":0,"d":"€ 0.00"},{"v":0,"d":"€ 0.00"}]
[null,4060,{"$nulls":7},{"v":0,"d":"€ 0.00"},{"v":0,"d":"€ 0.00"}]
[null,4061,{"$nulls":7},{"v":0,"d":"€ 0.00"},{"v":0,"d":"€ 0.00"}]
[null,4062,{"$nulls":7},{"v":0,"d":"€ 0.00"},{"v":0,"d":"€ 0.00"}]
[null,4063,{"$nulls":7},{"v":0,"d":"€ 0.00"},{"v":0,"d":"€ 0.00"}]
[null,4064,{"$nulls":7},{"v":0,"d":"€ 0.00"},{"v":0,"d":"€ 0.00"}]
[null,4065,{"$nulls":7},{"v":0,"d":"€ 0.00"},{"v":0,"d":"€ 0.00"}]
[null,4066,{"$nulls":7},{"v":0,"d":"€ 0.00"},{"v":0,"d":"€ 0.00"}]
[null,4067,{"$nulls":7},{"v":0,"d":"€ 0.00"},{"v":0,"d":"€ 0.00"}]
[null,4068,{"$nulls":7},{"v":0,"d":"€ 0.00"},{"v":0,"d":"€ 0.00"}]
[null,4069,{"$nulls":7},{"v":0,"d":"€ 0.00"},{"v":0,"d":"€ 0.00"}]
[null,4070,{"$nulls":7},{"v":0,"d":"€ 0.00"},{"v":0,"d":"€ 0.00"}]
[null,4071,{"$nulls":7},{"v":0,"d":"€ 0.00"},{"v":0,"d":"€ 0.00"}]
[null,4072,{"$nulls":7},{"v":0,"d":"€ 0.00"},{"v":0,"d":"€ 0.00"}]
[null,4073,{"$nulls":7},{"v":0,"d":"€ 0.00"},{"v":0,"d":"€ 0.00"}]
[null,4074,{"$nulls":7},{"v":0,"d":"€ 0.00"},{"v":0,"d":"€ 0.00"}]
[null,4075,{"$nulls":7},{"v":0,"d":"€ 0.00"},{"v":0,"d":"€ 0.00"}]
[null,4076,{"$nulls":7},{"v":0,"d":"€ 0.00"},{"v":0,"d":"€ 0.00"}]
[null,4077,{"$nulls":7},{"v":0,"d":"€ 0.00"},{"v":0,"d":"€ 0.00"}]
[null,4078,{"$nulls":7},{"v":0,"d":"€ 0.00"},{"v":0,"d":"€ 0.00"}]
[null,4079,{"$nulls":7},{"v":0,"d":"€ 0.00"},{"v":0,"d":"€ 0.00"}]
[null,4080,{"$nulls":7},{"v":0,"d":"€ 0.00"},{"v":0,"d":"€ 0.00"}]
[null,4081,{"$nulls":7},{"v":0,"d":"€ 0.00"},{"v":0,"d":"€ 0.00"}]
[null,4082,{"$nulls":7},{"v":0,"d":"€ 0.00"},{"v":0,"d":"€ 0.00"}]
[null,4083,{"$nulls":7},{"v":0,"d":"€ 0.00"},{"v":0,"d":"€ 0.00"}]
[null,4084,{"$nulls":7},{"v":0,"d":"€ 0.00"},{"v":0,"d":"€ 0.00"}]
[null,4085,{"$nulls":7},{"v":0,"d":"€ 0.00"},{"v":0,"d":"€ 0.00"}]
[null,4086,{"$nulls":7},{"v":0,"d":"€ 0.00"},{"v":0,"d":"€ 0.00"}]
[null,4087,{"$nulls":7},{"v":0,"d":"€ 0.00"},{"v":0,"d":"€ 0.00"}]
[null,4088,{"$nulls":7},{"v":0,"d":"€ 0.00"},{"v":0,"d":"€ 0.00"}]
[null,4089,{"$nulls":7},{"v":0,"d":"€ 0.00"},{"v":0,"d":"€ 0.00"}]
[null,4090,{"$nulls":7},{"v":0,"d":"€ 0.00"},{"v":0,"d":"€ 0.00"}]
[null,4091,{"$nulls":7},{"v":0,"d":"€ 0.00"},{"v":0,"d":"€ 0.00"}]
[null,4092,{"$nulls":7},{"v":0,"d":"€ 0.00"},{"v":0,"d":"€ 0.00"}]
[null,4093,{"$nulls":7},{"v":0,"d":"€ 0.00"},{"v":0,"d":"€ 0.00"}]
[null,4094,{"$nulls":7},{"v":0,"d":"€ 0.00"},{"v":0,"d":"€ 0.00"}]
[null,4095,{"$nulls":7},{"v":0,"d":"€ 0.00"},{"v":0,"d":"€ 0.00"}]
[null,4096,{"$nulls":7},{"v":0,"d":"€ 0.00"},{"v":0,"d":"€ 0.00"}]
[null,4097,{"$nulls":7},{"v":0,"d":"€ 0.00"},{"v":0,"d":"€ 0.00"}]
[null,4098,{"$nulls":7},{"v":0,"d":"€ 0.00"},{"v":0,"d":"€ 0.00"}]
[null,4099,{"$nulls":7},{"v":0,"d":"€ 0.00"},{"v":0,"d":"€ 0.00"}]
[null,4100,{"$nulls":7},{"v":0,"d":"€ 0.00"},{"v":0,"d":"€ 0.00"}]
[null,4101,{"$nulls":7},{"v":0,"d":"€ 0.00"},{"v":0,"d":"€ 0.00"}]
[null,4102,{"$nulls":7},{"v":0,"d":"€ 0.00"},{"v":0,"d":"€ 0.00"}]
[null,4103,{"$nulls":7},{"v":0,"d":"€ 0.00"},{"v":0,"d":"€ 0.00"}]
[null,4104,{"$nulls":7},{"v":0,"d":"€ 0.00"},{"v":0,"d":"€ 0.00"}]
[null,4105,{"$nulls":7},{"v":0,"d":"€ 0.00"},{"v":0,"d":"€ 0.00"}]
[null,4106,{"$nulls":7},{"v":0,"d":"€ 0.00"},{"v":0,"d":"€ 0.00"}]
[null,4107,{"$nulls":7},{"v":0,"d":"€ 0.00"},{"v":0,"d":"€ 0.00"}]
[null,4108,{"$nulls":7},{"v":0,"d":"€ 0.00"},{"v":0,"d":"€ 0.00"}]
[null,4109,{"$nulls":7},{"v":0,"d":"€ 0.00"},{"v":0,"d":"€ 0.00"}]
[null,4110,{"$nulls":7},{"v":0,"d":"€ 0.00"},{"v":0,"d":"€ 0.00"}]
[null,4111,{"$nulls":7},{"v":0,"d":"€ 0.00"},{"v":0,"d":"€ 0.00"}]
[null,4112,{"$nulls":7},{"v":0,"d":"€ 0.00"},{"v":0,"d":"€ 0.00"}]
[null,4113,{"$nulls":7},{"v":0,"d":"€ 0.00"},{"v":0,"d":"€ 0.00"}]
[null,4114,{"$nulls":7},{"v":0,"d":"€ 0.00"},{"v":0,"d":"€ 0.00"}]
[null,4115,{"$nulls":7},{"$f":"IF(OR(ISBLANK(H4122)=TRUE,ISBLANK(I4122)=TRUE),,ROUND(H4122*I4122,2))","v":{"v":0,"d":"€ 0.00"}},{"$f":"G4122+J4122","v":{"v":0,"d":"€ 0.00"}}]
[null,4116,{"$nulls":7},{"v":0,"d":"€ 0.00"},{"v":0,"d":"€ 0.00"}]
[null,4117,{"$nulls":7},{"v":0,"d":"€ 0.00"},{"v":0,"d":"€ 0.00"}]
[null,4118,{"$nulls":7},{"v":0,"d":"€ 0.00"},{"v":0,"d":"€ 0.00"}]
[null,4119,{"$nulls":7},{"v":0,"d":"€ 0.00"},{"v":0,"d":"€ 0.00"}]
[null,4120,{"$nulls":7},{"v":0,"d":"€ 0.00"},{"v":0,"d":"€ 0.00"}]
[null,4121,{"$nulls":7},{"v":0,"d":"€ 0.00"},{"v":0,"d":"€ 0.00"}]
[null,4122,{"$nulls":7},{"v":0,"d":"€ 0.00"},{"v":0,"d":"€ 0.00"}]
[null,4123,{"$nulls":7},{"v":0,"d":"€ 0.00"},{"v":0,"d":"€ 0.00"}]
[null,4124,{"$nulls":7},{"v":0,"d":"€ 0.00"},{"v":0,"d":"€ 0.00"}]
[null,4125,{"$nulls":7},{"v":0,"d":"€ 0.00"},{"v":0,"d":"€ 0.00"}]
[null,4126,{"$nulls":7},{"v":0,"d":"€ 0.00"},{"v":0,"d":"€ 0.00"}]
[null,4127,{"$nulls":7},{"v":0,"d":"€ 0.00"},{"v":0,"d":"€ 0.00"}]
[null,4128,{"$nulls":7},{"v":0,"d":"€ 0.00"},{"v":0,"d":"€ 0.00"}]
[null,4129,{"$nulls":7},{"v":0,"d":"€ 0.00"},{"v":0,"d":"€ 0.00"}]
[null,4130,{"$nulls":7},{"v":0,"d":"€ 0.00"},{"v":0,"d":"€ 0.00"}]
[null,4131,{"$nulls":7},{"v":0,"d":"€ 0.00"},{"v":0,"d":"€ 0.00"}]
[null,4132,{"$nulls":7},{"v":0,"d":"€ 0.00"},{"v":0,"d":"€ 0.00"}]
[null,4133,{"$nulls":7},{"v":0,"d":"€ 0.00"},{"v":0,"d":"€ 0.00"}]
[null,4134,{"$nulls":7},{"v":0,"d":"€ 0.00"},{"v":0,"d":"€ 0.00"}]
[null,4135,{"$nulls":7},{"v":0,"d":"€ 0.00"},{"v":0,"d":"€ 0.00"}]
[null,4136,{"$nulls":7},{"v":0,"d":"€ 0.00"},{"v":0,"d":"€ 0.00"}]
[null,4137,{"$nulls":7},{"v":0,"d":"€ 0.00"},{"v":0,"d":"€ 0.00"}]
[null,4138,{"$nulls":7},{"v":0,"d":"€ 0.00"},{"v":0,"d":"€ 0.00"}]
[null,4139,{"$nulls":7},{"v":0,"d":"€ 0.00"},{"v":0,"d":"€ 0.00"}]
[null,4140,{"$nulls":7},{"v":0,"d":"€ 0.00"},{"v":0,"d":"€ 0.00"}]
[null,4141,{"$nulls":7},{"v":0,"d":"€ 0.00"},{"v":0,"d":"€ 0.00"}]
[null,4142,{"$nulls":7},{"v":0,"d":"€ 0.00"},{"v":0,"d":"€ 0.00"}]
[null,4143,{"$nulls":7},{"v":0,"d":"€ 0.00"},{"v":0,"d":"€ 0.00"}]
[null,4144,{"$nulls":7},{"v":0,"d":"€ 0.00"},{"v":0,"d":"€ 0.00"}]
[null,4145,{"$nulls":7},{"v":0,"d":"€ 0.00"},{"v":0,"d":"€ 0.00"}]
[null,4146,{"$nulls":7},{"v":0,"d":"€ 0.00"},{"v":0,"d":"€ 0.00"}]
[null,4147,{"$nulls":7},{"v":0,"d":"€ 0.00"},{"v":0,"d":"€ 0.00"}]
[null,4148,{"$nulls":7},{"v":0,"d":"€ 0.00"},{"v":0,"d":"€ 0.00"}]
[null,4149,{"$nulls":7},{"v":0,"d":"€ 0.00"},{"v":0,"d":"€ 0.00"}]
[null,4150,{"$nulls":7},{"v":0,"d":"€ 0.00"},{"v":0,"d":"€ 0.00"}]
[null,4151,{"$nulls":7},{"v":0,"d":"€ 0.00"},{"v":0,"d":"€ 0.00"}]
[null,4152,{"$nulls":7},{"v":0,"d":"€ 0.00"},{"v":0,"d":"€ 0.00"}]
[null,4153,{"$nulls":7},{"v":0,"d":"€ 0.00"},{"v":0,"d":"€ 0.00"}]
[null,4154,{"$nulls":7},{"v":0,"d":"€ 0.00"},{"v":0,"d":"€ 0.00"}]
[null,4155,{"$nulls":7},{"v":0,"d":"€ 0.00"},{"v":0,"d":"€ 0.00"}]
[null,4156,{"$nulls":7},{"v":0,"d":"€ 0.00"},{"v":0,"d":"€ 0.00"}]
[null,4157,{"$nulls":7},{"v":0,"d":"€ 0.00"},{"v":0,"d":"€ 0.00"}]
[null,4158,{"$nulls":7},{"v":0,"d":"€ 0.00"},{"v":0,"d":"€ 0.00"}]
[null,4159,{"$nulls":7},{"v":0,"d":"€ 0.00"},{"v":0,"d":"€ 0.00"}]
[null,4160,{"$nulls":7},{"v":0,"d":"€ 0.00"},{"v":0,"d":"€ 0.00"}]
[null,4161,{"$nulls":7},{"v":0,"d":"€ 0.00"},{"v":0,"d":"€ 0.00"}]
[null,4162,{"$nulls":7},{"v":0,"d":"€ 0.00"},{"v":0,"d":"€ 0.00"}]
[null,4163,{"$nulls":7},{"v":0,"d":"€ 0.00"},{"v":0,"d":"€ 0.00"}]
[null,4164,{"$nulls":7},{"v":0,"d":"€ 0.00"},{"v":0,"d":"€ 0.00"}]
[null,4165,{"$nulls":7},{"v":0,"d":"€ 0.00"},{"v":0,"d":"€ 0.00"}]
[null,4166,{"$nulls":7},{"v":0,"d":"€ 0.00"},{"v":0,"d":"€ 0.00"}]
[null,4167,{"$nulls":7},{"v":0,"d":"€ 0.00"},{"v":0,"d":"€ 0.00"}]
[null,4168,{"$nulls":7},{"v":0,"d":"€ 0.00"},{"v":0,"d":"€ 0.00"}]
[null,4169,{"$nulls":7},{"v":0,"d":"€ 0.00"},{"v":0,"d":"€ 0.00"}]
[null,4170,{"$nulls":7},{"v":0,"d":"€ 0.00"},{"v":0,"d":"€ 0.00"}]
[null,4171,{"$nulls":7},{"v":0,"d":"€ 0.00"},{"v":0,"d":"€ 0.00"}]
[null,4172,{"$nulls":7},{"v":0,"d":"€ 0.00"},{"v":0,"d":"€ 0.00"}]
[null,4173,{"$nulls":7},{"v":0,"d":"€ 0.00"},{"v":0,"d":"€ 0.00"}]
[null,4174,{"$nulls":7},{"v":0,"d":"€ 0.00"},{"v":0,"d":"€ 0.00"}]
[null,4175,{"$nulls":7},{"v":0,"d":"€ 0.00"},{"v":0,"d":"€ 0.00"}]
[null,4176,{"$nulls":7},{"v":0,"d":"€ 0.00"},{"v":0,"d":"€ 0.00"}]
[null,4177,{"$nulls":7},{"v":0,"d":"€ 0.00"},{"v":0,"d":"€ 0.00"}]
[null,4178,{"$nulls":7},{"v":0,"d":"€ 0.00"},{"v":0,"d":"€ 0.00"}]
[null,4179,{"$nulls":7},{"$f":"IF(OR(ISBLANK(H4186)=TRUE,ISBLANK(I4186)=TRUE),,ROUND(H4186*I4186,2))","v":{"v":0,"d":"€ 0.00"}},{"$f":"G4186+J4186","v":{"v":0,"d":"€ 0.00"}}]
[null,4180,{"$nulls":7},{"v":0,"d":"€ 0.00"},{"v":0,"d":"€ 0.00"}]
[null,4181,{"$nulls":7},{"v":0,"d":"€ 0.00"},{"v":0,"d":"€ 0.00"}]
[null,4182,{"$nulls":7},{"v":0,"d":"€ 0.00"},{"v":0,"d":"€ 0.00"}]
[null,4183,{"$nulls":7},{"v":0,"d":"€ 0.00"},{"v":0,"d":"€ 0.00"}]
[null,4184,{"$nulls":7},{"v":0,"d":"€ 0.00"},{"v":0,"d":"€ 0.00"}]
[null,4185,{"$nulls":7},{"v":0,"d":"€ 0.00"},{"v":0,"d":"€ 0.00"}]
[null,4186,{"$nulls":7},{"v":0,"d":"€ 0.00"},{"v":0,"d":"€ 0.00"}]
[null,4187,{"$nulls":7},{"v":0,"d":"€ 0.00"},{"v":0,"d":"€ 0.00"}]
[null,4188,{"$nulls":7},{"v":0,"d":"€ 0.00"},{"v":0,"d":"€ 0.00"}]
[null,4189,{"$nulls":7},{"v":0,"d":"€ 0.00"},{"v":0,"d":"€ 0.00"}]
[null,4190,{"$nulls":7},{"v":0,"d":"€ 0.00"},{"v":0,"d":"€ 0.00"}]
[null,4191,{"$nulls":7},{"v":0,"d":"€ 0.00"},{"v":0,"d":"€ 0.00"}]
[null,4192,{"$nulls":7},{"v":0,"d":"€ 0.00"},{"v":0,"d":"€ 0.00"}]
[null,4193,{"$nulls":7},{"v":0,"d":"€ 0.00"},{"v":0,"d":"€ 0.00"}]
[null,4194,{"$nulls":7},{"v":0,"d":"€ 0.00"},{"v":0,"d":"€ 0.00"}]
[null,4195,{"$nulls":7},{"v":0,"d":"€ 0.00"},{"v":0,"d":"€ 0.00"}]
[null,4196,{"$nulls":7},{"v":0,"d":"€ 0.00"},{"v":0,"d":"€ 0.00"}]
[null,4197,{"$nulls":7},{"v":0,"d":"€ 0.00"},{"v":0,"d":"€ 0.00"}]
[null,4198,{"$nulls":7},{"v":0,"d":"€ 0.00"},{"v":0,"d":"€ 0.00"}]
[null,4199,{"$nulls":7},{"v":0,"d":"€ 0.00"},{"v":0,"d":"€ 0.00"}]
[null,4200,{"$nulls":7},{"v":0,"d":"€ 0.00"},{"v":0,"d":"€ 0.00"}]
[null,4201,{"$nulls":7},{"v":0,"d":"€ 0.00"},{"v":0,"d":"€ 0.00"}]
[null,4202,{"$nulls":7},{"v":0,"d":"€ 0.00"},{"v":0,"d":"€ 0.00"}]
[null,4203,{"$nulls":7},{"v":0,"d":"€ 0.00"},{"v":0,"d":"€ 0.00"}]
[null,4204,{"$nulls":7},{"v":0,"d":"€ 0.00"},{"v":0,"d":"€ 0.00"}]
[null,4205,{"$nulls":7},{"v":0,"d":"€ 0.00"},{"v":0,"d":"€ 0.00"}]
[null,4206,{"$nulls":7},{"v":0,"d":"€ 0.00"},{"v":0,"d":"€ 0.00"}]
[null,4207,{"$nulls":7},{"v":0,"d":"€ 0.00"},{"v":0,"d":"€ 0.00"}]
[null,4208,{"$nulls":7},{"v":0,"d":"€ 0.00"},{"v":0,"d":"€ 0.00"}]
[null,4209,{"$nulls":7},{"v":0,"d":"€ 0.00"},{"v":0,"d":"€ 0.00"}]
[null,4210,{"$nulls":7},{"v":0,"d":"€ 0.00"},{"v":0,"d":"€ 0.00"}]
[null,4211,{"$nulls":7},{"v":0,"d":"€ 0.00"},{"v":0,"d":"€ 0.00"}]
[null,4212,{"$nulls":7},{"v":0,"d":"€ 0.00"},{"v":0,"d":"€ 0.00"}]
[null,4213,{"$nulls":7},{"v":0,"d":"€ 0.00"},{"v":0,"d":"€ 0.00"}]
[null,4214,{"$nulls":7},{"v":0,"d":"€ 0.00"},{"v":0,"d":"€ 0.00"}]
[null,4215,{"$nulls":7},{"v":0,"d":"€ 0.00"},{"v":0,"d":"€ 0.00"}]
[null,4216,{"$nulls":7},{"v":0,"d":"€ 0.00"},{"v":0,"d":"€ 0.00"}]
[null,4217,{"$nulls":7},{"v":0,"d":"€ 0.00"},{"v":0,"d":"€ 0.00"}]
[null,4218,{"$nulls":7},{"v":0,"d":"€ 0.00"},{"v":0,"d":"€ 0.00"}]
[null,4219,{"$nulls":7},{"v":0,"d":"€ 0.00"},{"v":0,"d":"€ 0.00"}]
[null,4220,{"$nulls":7},{"v":0,"d":"€ 0.00"},{"v":0,"d":"€ 0.00"}]
[null,4221,{"$nulls":7},{"v":0,"d":"€ 0.00"},{"v":0,"d":"€ 0.00"}]
[null,4222,{"$nulls":7},{"v":0,"d":"€ 0.00"},{"v":0,"d":"€ 0.00"}]
[null,4223,{"$nulls":7},{"v":0,"d":"€ 0.00"},{"v":0,"d":"€ 0.00"}]
[null,4224,{"$nulls":7},{"v":0,"d":"€ 0.00"},{"v":0,"d":"€ 0.00"}]
[null,4225,{"$nulls":7},{"v":0,"d":"€ 0.00"},{"v":0,"d":"€ 0.00"}]
[null,4226,{"$nulls":7},{"v":0,"d":"€ 0.00"},{"v":0,"d":"€ 0.00"}]
[null,4227,{"$nulls":7},{"v":0,"d":"€ 0.00"},{"v":0,"d":"€ 0.00"}]
[null,4228,{"$nulls":7},{"v":0,"d":"€ 0.00"},{"v":0,"d":"€ 0.00"}]
[null,4229,{"$nulls":7},{"v":0,"d":"€ 0.00"},{"v":0,"d":"€ 0.00"}]
[null,4230,{"$nulls":7},{"v":0,"d":"€ 0.00"},{"v":0,"d":"€ 0.00"}]
[null,4231,{"$nulls":7},{"v":0,"d":"€ 0.00"},{"v":0,"d":"€ 0.00"}]
[null,4232,{"$nulls":7},{"v":0,"d":"€ 0.00"},{"v":0,"d":"€ 0.00"}]
[null,4233,{"$nulls":7},{"v":0,"d":"€ 0.00"},{"v":0,"d":"€ 0.00"}]
[null,4234,{"$nulls":7},{"v":0,"d":"€ 0.00"},{"v":0,"d":"€ 0.00"}]
[null,4235,{"$nulls":7},{"v":0,"d":"€ 0.00"},{"v":0,"d":"€ 0.00"}]
[null,4236,{"$nulls":7},{"v":0,"d":"€ 0.00"},{"v":0,"d":"€ 0.00"}]
[null,4237,{"$nulls":7},{"v":0,"d":"€ 0.00"},{"v":0,"d":"€ 0.00"}]
[null,4238,{"$nulls":7},{"v":0,"d":"€ 0.00"},{"v":0,"d":"€ 0.00"}]
[null,4239,{"$nulls":7},{"v":0,"d":"€ 0.00"},{"v":0,"d":"€ 0.00"}]
[null,4240,{"$nulls":7},{"v":0,"d":"€ 0.00"},{"v":0,"d":"€ 0.00"}]
[null,4241,{"$nulls":7},{"v":0,"d":"€ 0.00"},{"v":0,"d":"€ 0.00"}]
[null,4242,{"$nulls":7},{"v":0,"d":"€ 0.00"},{"v":0,"d":"€ 0.00"}]
[null,4243,{"$nulls":7},{"$f":"IF(OR(ISBLANK(H4250)=TRUE,ISBLANK(I4250)=TRUE),,ROUND(H4250*I4250,2))","v":{"v":0,"d":"€ 0.00"}},{"$f":"G4250+J4250","v":{"v":0,"d":"€ 0.00"}}]
[null,4244,{"$nulls":7},{"v":0,"d":"€ 0.00"},{"v":0,"d":"€ 0.00"}]
[null,4245,{"$nulls":7},{"v":0,"d":"€ 0.00"},{"v":0,"d":"€ 0.00"}]
[null,4246,{"$nulls":7},{"v":0,"d":"€ 0.00"},{"v":0,"d":"€ 0.00"}]
[null,4247,{"$nulls":7},{"v":0,"d":"€ 0.00"},{"v":0,"d":"€ 0.00"}]
[null,4248,{"$nulls":7},{"v":0,"d":"€ 0.00"},{"v":0,"d":"€ 0.00"}]
[null,4249,{"$nulls":7},{"v":0,"d":"€ 0.00"},{"v":0,"d":"€ 0.00"}]
[null,4250,{"$nulls":7},{"v":0,"d":"€ 0.00"},{"v":0,"d":"€ 0.00"}]
[null,4251,{"$nulls":7},{"v":0,"d":"€ 0.00"},{"v":0,"d":"€ 0.00"}]
[null,4252,{"$nulls":7},{"v":0,"d":"€ 0.00"},{"v":0,"d":"€ 0.00"}]
[null,4253,{"$nulls":7},{"v":0,"d":"€ 0.00"},{"v":0,"d":"€ 0.00"}]
[null,4254,{"$nulls":7},{"v":0,"d":"€ 0.00"},{"v":0,"d":"€ 0.00"}]
[null,4255,{"$nulls":7},{"v":0,"d":"€ 0.00"},{"v":0,"d":"€ 0.00"}]
[null,4256,{"$nulls":7},{"v":0,"d":"€ 0.00"},{"v":0,"d":"€ 0.00"}]
[null,4257,{"$nulls":7},{"v":0,"d":"€ 0.00"},{"v":0,"d":"€ 0.00"}]
[null,4258,{"$nulls":7},{"v":0,"d":"€ 0.00"},{"v":0,"d":"€ 0.00"}]
[null,4259,{"$nulls":7},{"v":0,"d":"€ 0.00"},{"v":0,"d":"€ 0.00"}]
[null,4260,{"$nulls":7},{"v":0,"d":"€ 0.00"},{"v":0,"d":"€ 0.00"}]
[null,4261,{"$nulls":7},{"v":0,"d":"€ 0.00"},{"v":0,"d":"€ 0.00"}]
[null,4262,{"$nulls":7},{"v":0,"d":"€ 0.00"},{"v":0,"d":"€ 0.00"}]
[null,4263,{"$nulls":7},{"v":0,"d":"€ 0.00"},{"v":0,"d":"€ 0.00"}]
[null,4264,{"$nulls":7},{"v":0,"d":"€ 0.00"},{"v":0,"d":"€ 0.00"}]
[null,4265,{"$nulls":7},{"v":0,"d":"€ 0.00"},{"v":0,"d":"€ 0.00"}]
[null,4266,{"$nulls":7},{"v":0,"d":"€ 0.00"},{"v":0,"d":"€ 0.00"}]
[null,4267,{"$nulls":7},{"v":0,"d":"€ 0.00"},{"v":0,"d":"€ 0.00"}]
[null,4268,{"$nulls":7},{"v":0,"d":"€ 0.00"},{"v":0,"d":"€ 0.00"}]
[null,4269,{"$nulls":7},{"v":0,"d":"€ 0.00"},{"v":0,"d":"€ 0.00"}]
[null,4270,{"$nulls":7},{"v":0,"d":"€ 0.00"},{"v":0,"d":"€ 0.00"}]
[null,4271,{"$nulls":7},{"v":0,"d":"€ 0.00"},{"v":0,"d":"€ 0.00"}]
[null,4272,{"$nulls":7},{"v":0,"d":"€ 0.00"},{"v":0,"d":"€ 0.00"}]
[null,4273,{"$nulls":7},{"v":0,"d":"€ 0.00"},{"v":0,"d":"€ 0.00"}]
[null,4274,{"$nulls":7},{"v":0,"d":"€ 0.00"},{"v":0,"d":"€ 0.00"}]
[null,4275,{"$nulls":7},{"v":0,"d":"€ 0.00"},{"v":0,"d":"€ 0.00"}]
[null,4276,{"$nulls":7},{"v":0,"d":"€ 0.00"},{"v":0,"d":"€ 0.00"}]
[null,4277,{"$nulls":7},{"v":0,"d":"€ 0.00"},{"v":0,"d":"€ 0.00"}]
[null,4278,{"$nulls":7},{"v":0,"d":"€ 0.00"},{"v":0,"d":"€ 0.00"}]
[null,4279,{"$nulls":7},{"v":0,"d":"€ 0.00"},{"v":0,"d":"€ 0.00"}]
[null,4280,{"$nulls":7},{"v":0,"d":"€ 0.00"},{"v":0,"d":"€ 0.00"}]
[null,4281,{"$nulls":7},{"v":0,"d":"€ 0.00"},{"v":0,"d":"€ 0.00"}]
[null,4282,{"$nulls":7},{"v":0,"d":"€ 0.00"},{"v":0,"d":"€ 0.00"}]
[null,4283,{"$nulls":7},{"v":0,"d":"€ 0.00"},{"v":0,"d":"€ 0.00"}]
[null,4284,{"$nulls":7},{"v":0,"d":"€ 0.00"},{"v":0,"d":"€ 0.00"}]
[null,4285,{"$nulls":7},{"v":0,"d":"€ 0.00"},{"v":0,"d":"€ 0.00"}]
[null,4286,{"$nulls":7},{"v":0,"d":"€ 0.00"},{"v":0,"d":"€ 0.00"}]
[null,4287,{"$nulls":7},{"v":0,"d":"€ 0.00"},{"v":0,"d":"€ 0.00"}]
[null,4288,{"$nulls":7},{"v":0,"d":"€ 0.00"},{"v":0,"d":"€ 0.00"}]
[null,4289,{"$nulls":7},{"v":0,"d":"€ 0.00"},{"v":0,"d":"€ 0.00"}]
[null,4290,{"$nulls":7},{"v":0,"d":"€ 0.00"},{"v":0,"d":"€ 0.00"}]
[null,4291,{"$nulls":7},{"v":0,"d":"€ 0.00"},{"v":0,"d":"€ 0.00"}]
[null,4292,{"$nulls":7},{"v":0,"d":"€ 0.00"},{"v":0,"d":"€ 0.00"}]
[null,4293,{"$nulls":7},{"v":0,"d":"€ 0.00"},{"v":0,"d":"€ 0.00"}]
[null,4294,{"$nulls":7},{"v":0,"d":"€ 0.00"},{"v":0,"d":"€ 0.00"}]
[null,4295,{"$nulls":7},{"v":0,"d":"€ 0.00"},{"v":0,"d":"€ 0.00"}]
[null,4296,{"$nulls":7},{"v":0,"d":"€ 0.00"},{"v":0,"d":"€ 0.00"}]
[null,4297,{"$nulls":7},{"v":0,"d":"€ 0.00"},{"v":0,"d":"€ 0.00"}]
[null,4298,{"$nulls":7},{"v":0,"d":"€ 0.00"},{"v":0,"d":"€ 0.00"}]
[null,4299,{"$nulls":7},{"v":0,"d":"€ 0.00"},{"v":0,"d":"€ 0.00"}]
[null,4300,{"$nulls":7},{"v":0,"d":"€ 0.00"},{"v":0,"d":"€ 0.00"}]
[null,4301,{"$nulls":7},{"v":0,"d":"€ 0.00"},{"v":0,"d":"€ 0.00"}]
[null,4302,{"$nulls":7},{"v":0,"d":"€ 0.00"},{"v":0,"d":"€ 0.00"}]
[null,4303,{"$nulls":7},{"v":0,"d":"€ 0.00"},{"v":0,"d":"€ 0.00"}]
[null,4304,{"$nulls":7},{"v":0,"d":"€ 0.00"},{"v":0,"d":"€ 0.00"}]
[null,4305,{"$nulls":7},{"v":0,"d":"€ 0.00"},{"v":0,"d":"€ 0.00"}]
[null,4306,{"$nulls":7},{"v":0,"d":"€ 0.00"},{"v":0,"d":"€ 0.00"}]
[null,4307,{"$nulls":7},{"$f":"IF(OR(ISBLANK(H4314)=TRUE,ISBLANK(I4314)=TRUE),,ROUND(H4314*I4314,2))","v":{"v":0,"d":"€ 0.00"}},{"$f":"G4314+J4314","v":{"v":0,"d":"€ 0.00"}}]
[null,4308,{"$nulls":7},{"v":0,"d":"€ 0.00"},{"v":0,"d":"€ 0.00"}]
[null,4309,{"$nulls":7},{"v":0,"d":"€ 0.00"},{"v":0,"d":"€ 0.00"}]
[null,4310,{"$nulls":7},{"v":0,"d":"€ 0.00"},{"v":0,"d":"€ 0.00"}]
[null,4311,{"$nulls":7},{"v":0,"d":"€ 0.00"},{"v":0,"d":"€ 0.00"}]
[null,4312,{"$nulls":7},{"v":0,"d":"€ 0.00"},{"v":0,"d":"€ 0.00"}]
[null,4313,{"$nulls":7},{"v":0,"d":"€ 0.00"},{"v":0,"d":"€ 0.00"}]
[null,4314,{"$nulls":7},{"v":0,"d":"€ 0.00"},{"v":0,"d":"€ 0.00"}]
[null,4315,{"$nulls":7},{"v":0,"d":"€ 0.00"},{"v":0,"d":"€ 0.00"}]
[null,4316,{"$nulls":7},{"v":0,"d":"€ 0.00"},{"v":0,"d":"€ 0.00"}]
[null,4317,{"$nulls":7},{"v":0,"d":"€ 0.00"},{"v":0,"d":"€ 0.00"}]
[null,4318,{"$nulls":7},{"v":0,"d":"€ 0.00"},{"v":0,"d":"€ 0.00"}]
[null,4319,{"$nulls":7},{"v":0,"d":"€ 0.00"},{"v":0,"d":"€ 0.00"}]
[null,4320,{"$nulls":7},{"v":0,"d":"€ 0.00"},{"v":0,"d":"€ 0.00"}]
[null,4321,{"$nulls":7},{"v":0,"d":"€ 0.00"},{"v":0,"d":"€ 0.00"}]
[null,4322,{"$nulls":7},{"v":0,"d":"€ 0.00"},{"v":0,"d":"€ 0.00"}]
[null,4323,{"$nulls":7},{"v":0,"d":"€ 0.00"},{"v":0,"d":"€ 0.00"}]
[null,4324,{"$nulls":7},{"v":0,"d":"€ 0.00"},{"v":0,"d":"€ 0.00"}]
[null,4325,{"$nulls":7},{"v":0,"d":"€ 0.00"},{"v":0,"d":"€ 0.00"}]
[null,4326,{"$nulls":7},{"v":0,"d":"€ 0.00"},{"v":0,"d":"€ 0.00"}]
[null,4327,{"$nulls":7},{"v":0,"d":"€ 0.00"},{"v":0,"d":"€ 0.00"}]
[null,4328,{"$nulls":7},{"v":0,"d":"€ 0.00"},{"v":0,"d":"€ 0.00"}]
[null,4329,{"$nulls":7},{"v":0,"d":"€ 0.00"},{"v":0,"d":"€ 0.00"}]
[null,4330,{"$nulls":7},{"v":0,"d":"€ 0.00"},{"v":0,"d":"€ 0.00"}]
[null,4331,{"$nulls":7},{"v":0,"d":"€ 0.00"},{"v":0,"d":"€ 0.00"}]
[null,4332,{"$nulls":7},{"v":0,"d":"€ 0.00"},{"v":0,"d":"€ 0.00"}]
[null,4333,{"$nulls":7},{"v":0,"d":"€ 0.00"},{"v":0,"d":"€ 0.00"}]
[null,4334,{"$nulls":7},{"v":0,"d":"€ 0.00"},{"v":0,"d":"€ 0.00"}]
[null,4335,{"$nulls":7},{"v":0,"d":"€ 0.00"},{"v":0,"d":"€ 0.00"}]
[null,4336,{"$nulls":7},{"v":0,"d":"€ 0.00"},{"v":0,"d":"€ 0.00"}]
[null,4337,{"$nulls":7},{"v":0,"d":"€ 0.00"},{"v":0,"d":"€ 0.00"}]
[null,4338,{"$nulls":7},{"v":0,"d":"€ 0.00"},{"v":0,"d":"€ 0.00"}]
[null,4339,{"$nulls":7},{"v":0,"d":"€ 0.00"},{"v":0,"d":"€ 0.00"}]
[null,4340,{"$nulls":7},{"v":0,"d":"€ 0.00"},{"v":0,"d":"€ 0.00"}]
[null,4341,{"$nulls":7},{"v":0,"d":"€ 0.00"},{"v":0,"d":"€ 0.00"}]
[null,4342,{"$nulls":7},{"v":0,"d":"€ 0.00"},{"v":0,"d":"€ 0.00"}]
[null,4343,{"$nulls":7},{"v":0,"d":"€ 0.00"},{"v":0,"d":"€ 0.00"}]
[null,4344,{"$nulls":7},{"v":0,"d":"€ 0.00"},{"v":0,"d":"€ 0.00"}]
[null,4345,{"$nulls":7},{"v":0,"d":"€ 0.00"},{"v":0,"d":"€ 0.00"}]
[null,4346,{"$nulls":7},{"v":0,"d":"€ 0.00"},{"v":0,"d":"€ 0.00"}]
[null,4347,{"$nulls":7},{"v":0,"d":"€ 0.00"},{"v":0,"d":"€ 0.00"}]
[null,4348,{"$nulls":7},{"v":0,"d":"€ 0.00"},{"v":0,"d":"€ 0.00"}]
[null,4349,{"$nulls":7},{"v":0,"d":"€ 0.00"},{"v":0,"d":"€ 0.00"}]
[null,4350,{"$nulls":7},{"v":0,"d":"€ 0.00"},{"v":0,"d":"€ 0.00"}]
[null,4351,{"$nulls":7},{"v":0,"d":"€ 0.00"},{"v":0,"d":"€ 0.00"}]
[null,4352,{"$nulls":7},{"v":0,"d":"€ 0.00"},{"v":0,"d":"€ 0.00"}]
[null,4353,{"$nulls":7},{"v":0,"d":"€ 0.00"},{"v":0,"d":"€ 0.00"}]
[null,4354,{"$nulls":7},{"v":0,"d":"€ 0.00"},{"v":0,"d":"€ 0.00"}]
[null,4355,{"$nulls":7},{"v":0,"d":"€ 0.00"},{"v":0,"d":"€ 0.00"}]
[null,4356,{"$nulls":7},{"v":0,"d":"€ 0.00"},{"v":0,"d":"€ 0.00"}]
[null,4357,{"$nulls":7},{"v":0,"d":"€ 0.00"},{"v":0,"d":"€ 0.00"}]
[null,4358,{"$nulls":7},{"v":0,"d":"€ 0.00"},{"v":0,"d":"€ 0.00"}]
[null,4359,{"$nulls":7},{"v":0,"d":"€ 0.00"},{"v":0,"d":"€ 0.00"}]
[null,4360,{"$nulls":7},{"v":0,"d":"€ 0.00"},{"v":0,"d":"€ 0.00"}]
[null,4361,{"$nulls":7},{"v":0,"d":"€ 0.00"},{"v":0,"d":"€ 0.00"}]
[null,4362,{"$nulls":7},{"v":0,"d":"€ 0.00"},{"v":0,"d":"€ 0.00"}]
[null,4363,{"$nulls":7},{"v":0,"d":"€ 0.00"},{"v":0,"d":"€ 0.00"}]
[null,4364,{"$nulls":7},{"v":0,"d":"€ 0.00"},{"v":0,"d":"€ 0.00"}]
[null,4365,{"$nulls":7},{"v":0,"d":"€ 0.00"},{"v":0,"d":"€ 0.00"}]
[null,4366,{"$nulls":7},{"v":0,"d":"€ 0.00"},{"v":0,"d":"€ 0.00"}]
[null,4367,{"$nulls":7},{"v":0,"d":"€ 0.00"},{"v":0,"d":"€ 0.00"}]
[null,4368,{"$nulls":7},{"v":0,"d":"€ 0.00"},{"v":0,"d":"€ 0.00"}]
[null,4369,{"$nulls":7},{"v":0,"d":"€ 0.00"},{"v":0,"d":"€ 0.00"}]
[null,4370,{"$nulls":7},{"v":0,"d":"€ 0.00"},{"v":0,"d":"€ 0.00"}]
[null,4371,{"$nulls":7},{"$f":"IF(OR(ISBLANK(H4378)=TRUE,ISBLANK(I4378)=TRUE),,ROUND(H4378*I4378,2))","v":{"v":0,"d":"€ 0.00"}},{"$f":"G4378+J4378","v":{"v":0,"d":"€ 0.00"}}]
[null,4372,{"$nulls":7},{"v":0,"d":"€ 0.00"},{"v":0,"d":"€ 0.00"}]
[null,4373,{"$nulls":7},{"v":0,"d":"€ 0.00"},{"v":0,"d":"€ 0.00"}]
[null,4374,{"$nulls":7},{"v":0,"d":"€ 0.00"},{"v":0,"d":"€ 0.00"}]
[null,4375,{"$nulls":7},{"v":0,"d":"€ 0.00"},{"v":0,"d":"€ 0.00"}]
[null,4376,{"$nulls":7},{"v":0,"d":"€ 0.00"},{"v":0,"d":"€ 0.00"}]
[null,4377,{"$nulls":7},{"v":0,"d":"€ 0.00"},{"v":0,"d":"€ 0.00"}]
[null,4378,{"$nulls":7},{"v":0,"d":"€ 0.00"},{"v":0,"d":"€ 0.00"}]
[null,4379,{"$nulls":7},{"v":0,"d":"€ 0.00"},{"v":0,"d":"€ 0.00"}]
[null,4380,{"$nulls":7},{"v":0,"d":"€ 0.00"},{"v":0,"d":"€ 0.00"}]
[null,4381,{"$nulls":7},{"v":0,"d":"€ 0.00"},{"v":0,"d":"€ 0.00"}]
[null,4382,{"$nulls":7},{"v":0,"d":"€ 0.00"},{"v":0,"d":"€ 0.00"}]
[null,4383,{"$nulls":7},{"v":0,"d":"€ 0.00"},{"v":0,"d":"€ 0.00"}]
[null,4384,{"$nulls":7},{"v":0,"d":"€ 0.00"},{"v":0,"d":"€ 0.00"}]
[null,4385,{"$nulls":7},{"v":0,"d":"€ 0.00"},{"v":0,"d":"€ 0.00"}]
[null,4386,{"$nulls":7},{"v":0,"d":"€ 0.00"},{"v":0,"d":"€ 0.00"}]
[null,4387,{"$nulls":7},{"v":0,"d":"€ 0.00"},{"v":0,"d":"€ 0.00"}]
[null,4388,{"$nulls":7},{"v":0,"d":"€ 0.00"},{"v":0,"d":"€ 0.00"}]
[null,4389,{"$nulls":7},{"v":0,"d":"€ 0.00"},{"v":0,"d":"€ 0.00"}]
[null,4390,{"$nulls":7},{"v":0,"d":"€ 0.00"},{"v":0,"d":"€ 0.00"}]
[null,4391,{"$nulls":7},{"v":0,"d":"€ 0.00"},{"v":0,"d":"€ 0.00"}]
[null,4392,{"$nulls":7},{"v":0,"d":"€ 0.00"},{"v":0,"d":"€ 0.00"}]
[null,4393,{"$nulls":7},{"v":0,"d":"€ 0.00"},{"v":0,"d":"€ 0.00"}]
[null,4394,{"$nulls":7},{"v":0,"d":"€ 0.00"},{"v":0,"d":"€ 0.00"}]
[null,4395,{"$nulls":7},{"v":0,"d":"€ 0.00"},{"v":0,"d":"€ 0.00"}]
[null,4396,{"$nulls":7},{"v":0,"d":"€ 0.00"},{"v":0,"d":"€ 0.00"}]
[null,4397,{"$nulls":7},{"v":0,"d":"€ 0.00"},{"v":0,"d":"€ 0.00"}]
[null,4398,{"$nulls":7},{"v":0,"d":"€ 0.00"},{"v":0,"d":"€ 0.00"}]
[null,4399,{"$nulls":7},{"v":0,"d":"€ 0.00"},{"v":0,"d":"€ 0.00"}]
[null,4400,{"$nulls":7},{"v":0,"d":"€ 0.00"},{"v":0,"d":"€ 0.00"}]
[null,4401,{"$nulls":7},{"v":0,"d":"€ 0.00"},{"v":0,"d":"€ 0.00"}]
[null,4402,{"$nulls":7},{"v":0,"d":"€ 0.00"},{"v":0,"d":"€ 0.00"}]
[null,4403,{"$nulls":7},{"v":0,"d":"€ 0.00"},{"v":0,"d":"€ 0.00"}]
[null,4404,{"$nulls":7},{"v":0,"d":"€ 0.00"},{"v":0,"d":"€ 0.00"}]
[null,4405,{"$nulls":7},{"v":0,"d":"€ 0.00"},{"v":0,"d":"€ 0.00"}]
[null,4406,{"$nulls":7},{"v":0,"d":"€ 0.00"},{"v":0,"d":"€ 0.00"}]
[null,4407,{"$nulls":7},{"v":0,"d":"€ 0.00"},{"v":0,"d":"€ 0.00"}]
[null,4408,{"$nulls":7},{"v":0,"d":"€ 0.00"},{"v":0,"d":"€ 0.00"}]
[null,4409,{"$nulls":7},{"v":0,"d":"€ 0.00"},{"v":0,"d":"€ 0.00"}]
[null,4410,{"$nulls":7},{"v":0,"d":"€ 0.00"},{"v":0,"d":"€ 0.00"}]
[null,4411,{"$nulls":7},{"v":0,"d":"€ 0.00"},{"v":0,"d":"€ 0.00"}]
[null,4412,{"$nulls":7},{"v":0,"d":"€ 0.00"},{"v":0,"d":"€ 0.00"}]
[null,4413,{"$nulls":7},{"v":0,"d":"€ 0.00"},{"v":0,"d":"€ 0.00"}]
[null,4414,{"$nulls":7},{"v":0,"d":"€ 0.00"},{"v":0,"d":"€ 0.00"}]
[null,4415,{"$nulls":7},{"v":0,"d":"€ 0.00"},{"v":0,"d":"€ 0.00"}]
[null,4416,{"$nulls":7},{"v":0,"d":"€ 0.00"},{"v":0,"d":"€ 0.00"}]
[null,4417,{"$nulls":7},{"v":0,"d":"€ 0.00"},{"v":0,"d":"€ 0.00"}]
[null,4418,{"$nulls":7},{"v":0,"d":"€ 0.00"},{"v":0,"d":"€ 0.00"}]
[null,4419,{"$nulls":7},{"v":0,"d":"€ 0.00"},{"v":0,"d":"€ 0.00"}]
[null,4420,{"$nulls":7},{"v":0,"d":"€ 0.00"},{"v":0,"d":"€ 0.00"}]
[null,4421,{"$nulls":7},{"v":0,"d":"€ 0.00"},{"v":0,"d":"€ 0.00"}]
[null,4422,{"$nulls":7},{"v":0,"d":"€ 0.00"},{"v":0,"d":"€ 0.00"}]
[null,4423,{"$nulls":7},{"v":0,"d":"€ 0.00"},{"v":0,"d":"€ 0.00"}]
[null,4424,{"$nulls":7},{"v":0,"d":"€ 0.00"},{"v":0,"d":"€ 0.00"}]
[null,4425,{"$nulls":7},{"v":0,"d":"€ 0.00"},{"v":0,"d":"€ 0.00"}]
[null,4426,{"$nulls":7},{"v":0,"d":"€ 0.00"},{"v":0,"d":"€ 0.00"}]
[null,4427,{"$nulls":7},{"v":0,"d":"€ 0.00"},{"v":0,"d":"€ 0.00"}]
[null,4428,{"$nulls":7},{"v":0,"d":"€ 0.00"},{"v":0,"d":"€ 0.00"}]
[null,4429,{"$nulls":7},{"v":0,"d":"€ 0.00"},{"v":0,"d":"€ 0.00"}]
[null,4430,{"$nulls":7},{"v":0,"d":"€ 0.00"},{"v":0,"d":"€ 0.00"}]
[null,4431,{"$nulls":7},{"v":0,"d":"€ 0.00"},{"v":0,"d":"€ 0.00"}]
[null,4432,{"$nulls":7},{"v":0,"d":"€ 0.00"},{"v":0,"d":"€ 0.00"}]
[null,4433,{"$nulls":7},{"v":0,"d":"€ 0.00"},{"v":0,"d":"€ 0.00"}]
[null,4434,{"$nulls":7},{"v":0,"d":"€ 0.00"},{"v":0,"d":"€ 0.00"}]
[null,4435,{"$nulls":7},{"$f":"IF(OR(ISBLANK(H4442)=TRUE,ISBLANK(I4442)=TRUE),,ROUND(H4442*I4442,2))","v":{"v":0,"d":"€ 0.00"}},{"$f":"G4442+J4442","v":{"v":0,"d":"€ 0.00"}}]
[null,4436,{"$nulls":7},{"v":0,"d":"€ 0.00"},{"v":0,"d":"€ 0.00"}]
[null,4437,{"$nulls":7},{"v":0,"d":"€ 0.00"},{"v":0,"d":"€ 0.00"}]
[null,4438,{"$nulls":7},{"v":0,"d":"€ 0.00"},{"v":0,"d":"€ 0.00"}]
[null,4439,{"$nulls":7},{"v":0,"d":"€ 0.00"},{"v":0,"d":"€ 0.00"}]
[null,4440,{"$nulls":7},{"v":0,"d":"€ 0.00"},{"v":0,"d":"€ 0.00"}]
[null,4441,{"$nulls":7},{"v":0,"d":"€ 0.00"},{"v":0,"d":"€ 0.00"}]
[null,4442,{"$nulls":7},{"v":0,"d":"€ 0.00"},{"v":0,"d":"€ 0.00"}]
[null,4443,{"$nulls":7},{"v":0,"d":"€ 0.00"},{"v":0,"d":"€ 0.00"}]
[null,4444,{"$nulls":7},{"v":0,"d":"€ 0.00"},{"v":0,"d":"€ 0.00"}]
[null,4445,{"$nulls":7},{"v":0,"d":"€ 0.00"},{"v":0,"d":"€ 0.00"}]
[null,4446,{"$nulls":7},{"v":0,"d":"€ 0.00"},{"v":0,"d":"€ 0.00"}]
[null,4447,{"$nulls":7},{"v":0,"d":"€ 0.00"},{"v":0,"d":"€ 0.00"}]
[null,4448,{"$nulls":7},{"v":0,"d":"€ 0.00"},{"v":0,"d":"€ 0.00"}]
[null,4449,{"$nulls":7},{"v":0,"d":"€ 0.00"},{"v":0,"d":"€ 0.00"}]
[null,4450,{"$nulls":7},{"v":0,"d":"€ 0.00"},{"v":0,"d":"€ 0.00"}]
[null,4451,{"$nulls":7},{"v":0,"d":"€ 0.00"},{"v":0,"d":"€ 0.00"}]
[null,4452,{"$nulls":7},{"v":0,"d":"€ 0.00"},{"v":0,"d":"€ 0.00"}]
[null,4453,{"$nulls":7},{"v":0,"d":"€ 0.00"},{"v":0,"d":"€ 0.00"}]
[null,4454,{"$nulls":7},{"v":0,"d":"€ 0.00"},{"v":0,"d":"€ 0.00"}]
[null,4455,{"$nulls":7},{"v":0,"d":"€ 0.00"},{"v":0,"d":"€ 0.00"}]
[null,4456,{"$nulls":7},{"v":0,"d":"€ 0.00"},{"v":0,"d":"€ 0.00"}]
[null,4457,{"$nulls":7},{"v":0,"d":"€ 0.00"},{"v":0,"d":"€ 0.00"}]
[null,4458,{"$nulls":7},{"v":0,"d":"€ 0.00"},{"v":0,"d":"€ 0.00"}]
[null,4459,{"$nulls":7},{"v":0,"d":"€ 0.00"},{"v":0,"d":"€ 0.00"}]
[null,4460,{"$nulls":7},{"v":0,"d":"€ 0.00"},{"v":0,"d":"€ 0.00"}]
[null,4461,{"$nulls":7},{"v":0,"d":"€ 0.00"},{"v":0,"d":"€ 0.00"}]
[null,4462,{"$nulls":7},{"v":0,"d":"€ 0.00"},{"v":0,"d":"€ 0.00"}]
[null,4463,{"$nulls":7},{"v":0,"d":"€ 0.00"},{"v":0,"d":"€ 0.00"}]
[null,4464,{"$nulls":7},{"v":0,"d":"€ 0.00"},{"v":0,"d":"€ 0.00"}]
[null,4465,{"$nulls":7},{"v":0,"d":"€ 0.00"},{"v":0,"d":"€ 0.00"}]
[null,4466,{"$nulls":7},{"v":0,"d":"€ 0.00"},{"v":0,"d":"€ 0.00"}]
[null,4467,{"$nulls":7},{"v":0,"d":"€ 0.00"},{"v":0,"d":"€ 0.00"}]
[null,4468,{"$nulls":7},{"v":0,"d":"€ 0.00"},{"v":0,"d":"€ 0.00"}]
[null,4469,{"$nulls":7},{"v":0,"d":"€ 0.00"},{"v":0,"d":"€ 0.00"}]
[null,4470,{"$nulls":7},{"v":0,"d":"€ 0.00"},{"v":0,"d":"€ 0.00"}]
[null,4471,{"$nulls":7},{"v":0,"d":"€ 0.00"},{"v":0,"d":"€ 0.00"}]
[null,4472,{"$nulls":7},{"v":0,"d":"€ 0.00"},{"v":0,"d":"€ 0.00"}]
[null,4473,{"$nulls":7},{"v":0,"d":"€ 0.00"},{"v":0,"d":"€ 0.00"}]
[null,4474,{"$nulls":7},{"v":0,"d":"€ 0.00"},{"v":0,"d":"€ 0.00"}]
[null,4475,{"$nulls":7},{"v":0,"d":"€ 0.00"},{"v":0,"d":"€ 0.00"}]
[null,4476,{"$nulls":7},{"v":0,"d":"€ 0.00"},{"v":0,"d":"€ 0.00"}]
[null,4477,{"$nulls":7},{"v":0,"d":"€ 0.00"},{"v":0,"d":"€ 0.00"}]
[null,4478,{"$nulls":7},{"v":0,"d":"€ 0.00"},{"v":0,"d":"€ 0.00"}]
[null,4479,{"$nulls":7},{"v":0,"d":"€ 0.00"},{"v":0,"d":"€ 0.00"}]
[null,4480,{"$nulls":7},{"v":0,"d":"€ 0.00"},{"v":0,"d":"€ 0.00"}]
[null,4481,{"$nulls":7},{"v":0,"d":"€ 0.00"},{"v":0,"d":"€ 0.00"}]
[null,4482,{"$nulls":7},{"v":0,"d":"€ 0.00"},{"v":0,"d":"€ 0.00"}]
[null,4483,{"$nulls":7},{"v":0,"d":"€ 0.00"},{"v":0,"d":"€ 0.00"}]
[null,4484,{"$nulls":7},{"v":0,"d":"€ 0.00"},{"v":0,"d":"€ 0.00"}]
[null,4485,{"$nulls":7},{"v":0,"d":"€ 0.00"},{"v":0,"d":"€ 0.00"}]
[null,4486,{"$nulls":7},{"v":0,"d":"€ 0.00"},{"v":0,"d":"€ 0.00"}]
[null,4487,{"$nulls":7},{"v":0,"d":"€ 0.00"},{"v":0,"d":"€ 0.00"}]
[null,4488,{"$nulls":7},{"v":0,"d":"€ 0.00"},{"v":0,"d":"€ 0.00"}]
[null,4489,{"$nulls":7},{"v":0,"d":"€ 0.00"},{"v":0,"d":"€ 0.00"}]
[null,4490,{"$nulls":7},{"v":0,"d":"€ 0.00"},{"v":0,"d":"€ 0.00"}]
[null,4491,{"$nulls":7},{"v":0,"d":"€ 0.00"},{"v":0,"d":"€ 0.00"}]
[null,4492,{"$nulls":7},{"v":0,"d":"€ 0.00"},{"v":0,"d":"€ 0.00"}]
[null,4493,{"$nulls":7},{"v":0,"d":"€ 0.00"},{"v":0,"d":"€ 0.00"}]
[null,4494,{"$nulls":7},{"v":0,"d":"€ 0.00"},{"v":0,"d":"€ 0.00"}]
[null,4495,{"$nulls":7},{"v":0,"d":"€ 0.00"},{"v":0,"d":"€ 0.00"}]
[null,4496,{"$nulls":7},{"v":0,"d":"€ 0.00"},{"v":0,"d":"€ 0.00"}]
[null,4497,{"$nulls":7},{"v":0,"d":"€ 0.00"},{"v":0,"d":"€ 0.00"}]
[null,4498,{"$nulls":7},{"v":0,"d":"€ 0.00"},{"v":0,"d":"€ 0.00"}]
[null,4499,{"$nulls":7},{"$f":"IF(OR(ISBLANK(H4506)=TRUE,ISBLANK(I4506)=TRUE),,ROUND(H4506*I4506,2))","v":{"v":0,"d":"€ 0.00"}},{"$f":"G4506+J4506","v":{"v":0,"d":"€ 0.00"}}]
[null,4500,{"$nulls":7},{"v":0,"d":"€ 0.00"},{"v":0,"d":"€ 0.00"}]
[null,4501,{"$nulls":7},{"v":0,"d":"€ 0.00"},{"v":0,"d":"€ 0.00"}]
[null,4502,{"$nulls":7},{"v":0,"d":"€ 0.00"},{"v":0,"d":"€ 0.00"}]
[null,4503,{"$nulls":7},{"v":0,"d":"€ 0.00"},{"v":0,"d":"€ 0.00"}]
[null,4504,{"$nulls":7},{"v":0,"d":"€ 0.00"},{"v":0,"d":"€ 0.00"}]
[null,4505,{"$nulls":7},{"v":0,"d":"€ 0.00"},{"v":0,"d":"€ 0.00"}]
[null,4506,{"$nulls":7},{"v":0,"d":"€ 0.00"},{"v":0,"d":"€ 0.00"}]
[null,4507,{"$nulls":7},{"v":0,"d":"€ 0.00"},{"v":0,"d":"€ 0.00"}]
[null,4508,{"$nulls":7},{"v":0,"d":"€ 0.00"},{"v":0,"d":"€ 0.00"}]
[null,4509,{"$nulls":7},{"v":0,"d":"€ 0.00"},{"v":0,"d":"€ 0.00"}]
[null,4510,{"$nulls":7},{"v":0,"d":"€ 0.00"},{"v":0,"d":"€ 0.00"}]
[null,4511,{"$nulls":7},{"v":0,"d":"€ 0.00"},{"v":0,"d":"€ 0.00"}]
[null,4512,{"$nulls":7},{"v":0,"d":"€ 0.00"},{"v":0,"d":"€ 0.00"}]
[null,4513,{"$nulls":7},{"v":0,"d":"€ 0.00"},{"v":0,"d":"€ 0.00"}]
[null,4514,{"$nulls":7},{"v":0,"d":"€ 0.00"},{"v":0,"d":"€ 0.00"}]
[null,4515,{"$nulls":7},{"v":0,"d":"€ 0.00"},{"v":0,"d":"€ 0.00"}]
[null,4516,{"$nulls":7},{"v":0,"d":"€ 0.00"},{"v":0,"d":"€ 0.00"}]
[null,4517,{"$nulls":7},{"v":0,"d":"€ 0.00"},{"v":0,"d":"€ 0.00"}]
[null,4518,{"$nulls":7},{"v":0,"d":"€ 0.00"},{"v":0,"d":"€ 0.00"}]
[null,4519,{"$nulls":7},{"v":0,"d":"€ 0.00"},{"v":0,"d":"€ 0.00"}]
[null,4520,{"$nulls":7},{"v":0,"d":"€ 0.00"},{"v":0,"d":"€ 0.00"}]
[null,4521,{"$nulls":7},{"v":0,"d":"€ 0.00"},{"v":0,"d":"€ 0.00"}]
[null,4522,{"$nulls":7},{"v":0,"d":"€ 0.00"},{"v":0,"d":"€ 0.00"}]
[null,4523,{"$nulls":7},{"v":0,"d":"€ 0.00"},{"v":0,"d":"€ 0.00"}]
[null,4524,{"$nulls":7},{"v":0,"d":"€ 0.00"},{"v":0,"d":"€ 0.00"}]
[null,4525,{"$nulls":7},{"v":0,"d":"€ 0.00"},{"v":0,"d":"€ 0.00"}]
[null,4526,{"$nulls":7},{"v":0,"d":"€ 0.00"},{"v":0,"d":"€ 0.00"}]
[null,4527,{"$nulls":7},{"v":0,"d":"€ 0.00"},{"v":0,"d":"€ 0.00"}]
[null,4528,{"$nulls":7},{"v":0,"d":"€ 0.00"},{"v":0,"d":"€ 0.00"}]
[null,4529,{"$nulls":7},{"v":0,"d":"€ 0.00"},{"v":0,"d":"€ 0.00"}]
[null,4530,{"$nulls":7},{"v":0,"d":"€ 0.00"},{"v":0,"d":"€ 0.00"}]
[null,4531,{"$nulls":7},{"v":0,"d":"€ 0.00"},{"v":0,"d":"€ 0.00"}]
[null,4532,{"$nulls":7},{"v":0,"d":"€ 0.00"},{"v":0,"d":"€ 0.00"}]
[null,4533,{"$nulls":7},{"v":0,"d":"€ 0.00"},{"v":0,"d":"€ 0.00"}]
[null,4534,{"$nulls":7},{"v":0,"d":"€ 0.00"},{"v":0,"d":"€ 0.00"}]
[null,4535,{"$nulls":7},{"v":0,"d":"€ 0.00"},{"v":0,"d":"€ 0.00"}]
[null,4536,{"$nulls":7},{"v":0,"d":"€ 0.00"},{"v":0,"d":"€ 0.00"}]
[null,4537,{"$nulls":7},{"v":0,"d":"€ 0.00"},{"v":0,"d":"€ 0.00"}]
[null,4538,{"$nulls":7},{"v":0,"d":"€ 0.00"},{"v":0,"d":"€ 0.00"}]
[null,4539,{"$nulls":7},{"v":0,"d":"€ 0.00"},{"v":0,"d":"€ 0.00"}]
[null,4540,{"$nulls":7},{"v":0,"d":"€ 0.00"},{"v":0,"d":"€ 0.00"}]
[null,4541,{"$nulls":7},{"v":0,"d":"€ 0.00"},{"v":0,"d":"€ 0.00"}]
[null,4542,{"$nulls":7},{"v":0,"d":"€ 0.00"},{"v":0,"d":"€ 0.00"}]
[null,4543,{"$nulls":7},{"v":0,"d":"€ 0.00"},{"v":0,"d":"€ 0.00"}]
[null,4544,{"$nulls":7},{"v":0,"d":"€ 0.00"},{"v":0,"d":"€ 0.00"}]
[null,4545,{"$nulls":7},{"v":0,"d":"€ 0.00"},{"v":0,"d":"€ 0.00"}]
[null,4546,{"$nulls":7},{"v":0,"d":"€ 0.00"},{"v":0,"d":"€ 0.00"}]
[null,4547,{"$nulls":7},{"v":0,"d":"€ 0.00"},{"v":0,"d":"€ 0.00"}]
[null,4548,{"$nulls":7},{"v":0,"d":"€ 0.00"},{"v":0,"d":"€ 0.00"}]
[null,4549,{"$nulls":7},{"v":0,"d":"€ 0.00"},{"v":0,"d":"€ 0.00"}]
[null,4550,{"$nulls":7},{"v":0,"d":"€ 0.00"},{"v":0,"d":"€ 0.00"}]
[null,4551,{"$nulls":7},{"v":0,"d":"€ 0.00"},{"v":0,"d":"€ 0.00"}]
[null,4552,{"$nulls":7},{"v":0,"d":"€ 0.00"},{"v":0,"d":"€ 0.00"}]
[null,4553,{"$nulls":7},{"v":0,"d":"€ 0.00"},{"v":0,"d":"€ 0.00"}]
[null,4554,{"$nulls":7},{"v":0,"d":"€ 0.00"},{"v":0,"d":"€ 0.00"}]
[null,4555,{"$nulls":7},{"v":0,"d":"€ 0.00"},{"v":0,"d":"€ 0.00"}]
[null,4556,{"$nulls":7},{"v":0,"d":"€ 0.00"},{"v":0,"d":"€ 0.00"}]
[null,4557,{"$nulls":7},{"v":0,"d":"€ 0.00"},{"v":0,"d":"€ 0.00"}]
[null,4558,{"$nulls":7},{"v":0,"d":"€ 0.00"},{"v":0,"d":"€ 0.00"}]
[null,4559,{"$nulls":7},{"v":0,"d":"€ 0.00"},{"v":0,"d":"€ 0.00"}]
[null,4560,{"$nulls":7},{"v":0,"d":"€ 0.00"},{"v":0,"d":"€ 0.00"}]
[null,4561,{"$nulls":7},{"v":0,"d":"€ 0.00"},{"v":0,"d":"€ 0.00"}]
[null,4562,{"$nulls":7},{"v":0,"d":"€ 0.00"},{"v":0,"d":"€ 0.00"}]
[null,4563,{"$nulls":7},{"$f":"IF(OR(ISBLANK(H4570)=TRUE,ISBLANK(I4570)=TRUE),,ROUND(H4570*I4570,2))","v":{"v":0,"d":"€ 0.00"}},{"$f":"G4570+J4570","v":{"v":0,"d":"€ 0.00"}}]
[null,4564,{"$nulls":7},{"v":0,"d":"€ 0.00"},{"v":0,"d":"€ 0.00"}]
[null,4565,{"$nulls":7},{"v":0,"d":"€ 0.00"},{"v":0,"d":"€ 0.00"}]
[null,4566,{"$nulls":7},{"v":0,"d":"€ 0.00"},{"v":0,"d":"€ 0.00"}]
[null,4567,{"$nulls":7},{"v":0,"d":"€ 0.00"},{"v":0,"d":"€ 0.00"}]
[null,4568,{"$nulls":7},{"v":0,"d":"€ 0.00"},{"v":0,"d":"€ 0.00"}]
[null,4569,{"$nulls":7},{"v":0,"d":"€ 0.00"},{"v":0,"d":"€ 0.00"}]
[null,4570,{"$nulls":7},{"v":0,"d":"€ 0.00"},{"v":0,"d":"€ 0.00"}]
[null,4571,{"$nulls":7},{"v":0,"d":"€ 0.00"},{"v":0,"d":"€ 0.00"}]
[null,4572,{"$nulls":7},{"v":0,"d":"€ 0.00"},{"v":0,"d":"€ 0.00"}]
[null,4573,{"$nulls":7},{"v":0,"d":"€ 0.00"},{"v":0,"d":"€ 0.00"}]
[null,4574,{"$nulls":7},{"v":0,"d":"€ 0.00"},{"v":0,"d":"€ 0.00"}]
[null,4575,{"$nulls":7},{"v":0,"d":"€ 0.00"},{"v":0,"d":"€ 0.00"}]
[null,4576,{"$nulls":7},{"v":0,"d":"€ 0.00"},{"v":0,"d":"€ 0.00"}]
[null,4577,{"$nulls":7},{"v":0,"d":"€ 0.00"},{"v":0,"d":"€ 0.00"}]
[null,4578,{"$nulls":7},{"v":0,"d":"€ 0.00"},{"v":0,"d":"€ 0.00"}]
[null,4579,{"$nulls":7},{"v":0,"d":"€ 0.00"},{"v":0,"d":"€ 0.00"}]
[null,4580,{"$nulls":7},{"v":0,"d":"€ 0.00"},{"v":0,"d":"€ 0.00"}]
[null,4581,{"$nulls":7},{"v":0,"d":"€ 0.00"},{"v":0,"d":"€ 0.00"}]
[null,4582,{"$nulls":7},{"v":0,"d":"€ 0.00"},{"v":0,"d":"€ 0.00"}]
[null,4583,{"$nulls":7},{"v":0,"d":"€ 0.00"},{"v":0,"d":"€ 0.00"}]
[null,4584,{"$nulls":7},{"v":0,"d":"€ 0.00"},{"v":0,"d":"€ 0.00"}]
[null,4585,{"$nulls":7},{"v":0,"d":"€ 0.00"},{"v":0,"d":"€ 0.00"}]
[null,4586,{"$nulls":7},{"v":0,"d":"€ 0.00"},{"v":0,"d":"€ 0.00"}]
[null,4587,{"$nulls":7},{"v":0,"d":"€ 0.00"},{"v":0,"d":"€ 0.00"}]
[null,4588,{"$nulls":7},{"v":0,"d":"€ 0.00"},{"v":0,"d":"€ 0.00"}]
[null,4589,{"$nulls":7},{"v":0,"d":"€ 0.00"},{"v":0,"d":"€ 0.00"}]
[null,4590,{"$nulls":7},{"v":0,"d":"€ 0.00"},{"v":0,"d":"€ 0.00"}]
[null,4591,{"$nulls":7},{"v":0,"d":"€ 0.00"},{"v":0,"d":"€ 0.00"}]
[null,4592,{"$nulls":7},{"v":0,"d":"€ 0.00"},{"v":0,"d":"€ 0.00"}]
[null,4593,{"$nulls":7},{"v":0,"d":"€ 0.00"},{"v":0,"d":"€ 0.00"}]
[null,4594,{"$nulls":7},{"v":0,"d":"€ 0.00"},{"v":0,"d":"€ 0.00"}]
[null,4595,{"$nulls":7},{"v":0,"d":"€ 0.00"},{"v":0,"d":"€ 0.00"}]
[null,4596,{"$nulls":7},{"v":0,"d":"€ 0.00"},{"v":0,"d":"€ 0.00"}]
[null,4597,{"$nulls":7},{"v":0,"d":"€ 0.00"},{"v":0,"d":"€ 0.00"}]
[null,4598,{"$nulls":7},{"v":0,"d":"€ 0.00"},{"v":0,"d":"€ 0.00"}]
[null,4599,{"$nulls":7},{"v":0,"d":"€ 0.00"},{"v":0,"d":"€ 0.00"}]
[null,4600,{"$nulls":7},{"v":0,"d":"€ 0.00"},{"v":0,"d":"€ 0.00"}]
[null,4601,{"$nulls":7},{"v":0,"d":"€ 0.00"},{"v":0,"d":"€ 0.00"}]
[null,4602,{"$nulls":7},{"v":0,"d":"€ 0.00"},{"v":0,"d":"€ 0.00"}]
[null,4603,{"$nulls":7},{"v":0,"d":"€ 0.00"},{"v":0,"d":"€ 0.00"}]
[null,4604,{"$nulls":7},{"v":0,"d":"€ 0.00"},{"v":0,"d":"€ 0.00"}]
[null,4605,{"$nulls":7},{"v":0,"d":"€ 0.00"},{"v":0,"d":"€ 0.00"}]
[null,4606,{"$nulls":7},{"v":0,"d":"€ 0.00"},{"v":0,"d":"€ 0.00"}]
[null,4607,{"$nulls":7},{"v":0,"d":"€ 0.00"},{"v":0,"d":"€ 0.00"}]
[null,4608,{"$nulls":7},{"v":0,"d":"€ 0.00"},{"v":0,"d":"€ 0.00"}]
[null,4609,{"$nulls":7},{"v":0,"d":"€ 0.00"},{"v":0,"d":"€ 0.00"}]
[null,4610,{"$nulls":7},{"v":0,"d":"€ 0.00"},{"v":0,"d":"€ 0.00"}]
[null,4611,{"$nulls":7},{"v":0,"d":"€ 0.00"},{"v":0,"d":"€ 0.00"}]
[null,4612,{"$nulls":7},{"v":0,"d":"€ 0.00"},{"v":0,"d":"€ 0.00"}]
[null,4613,{"$nulls":7},{"v":0,"d":"€ 0.00"},{"v":0,"d":"€ 0.00"}]
[null,4614,{"$nulls":7},{"v":0,"d":"€ 0.00"},{"v":0,"d":"€ 0.00"}]
[null,4615,{"$nulls":7},{"v":0,"d":"€ 0.00"},{"v":0,"d":"€ 0.00"}]
[null,4616,{"$nulls":7},{"v":0,"d":"€ 0.00"},{"v":0,"d":"€ 0.00"}]
[null,4617,{"$nulls":7},{"v":0,"d":"€ 0.00"},{"v":0,"d":"€ 0.00"}]
[null,4618,{"$nulls":7},{"v":0,"d":"€ 0.00"},{"v":0,"d":"€ 0.00"}]
[null,4619,{"$nulls":7},{"v":0,"d":"€ 0.00"},{"v":0,"d":"€ 0.00"}]
[null,4620,{"$nulls":7},{"v":0,"d":"€ 0.00"},{"v":0,"d":"€ 0.00"}]
[null,4621,{"$nulls":7},{"v":0,"d":"€ 0.00"},{"v":0,"d":"€ 0.00"}]
[null,4622,{"$nulls":7},{"v":0,"d":"€ 0.00"},{"v":0,"d":"€ 0.00"}]
[null,4623,{"$nulls":7},{"v":0,"d":"€ 0.00"},{"v":0,"d":"€ 0.00"}]
[null,4624,{"$nulls":7},{"v":0,"d":"€ 0.00"},{"v":0,"d":"€ 0.00"}]
[null,4625,{"$nulls":7},{"v":0,"d":"€ 0.00"},{"v":0,"d":"€ 0.00"}]
[null,4626,{"$nulls":7},{"v":0,"d":"€ 0.00"},{"v":0,"d":"€ 0.00"}]
[null,4627,{"$nulls":7},{"$f":"IF(OR(ISBLANK(H4634)=TRUE,ISBLANK(I4634)=TRUE),,ROUND(H4634*I4634,2))","v":{"v":0,"d":"€ 0.00"}},{"$f":"G4634+J4634","v":{"v":0,"d":"€ 0.00"}}]
[null,4628,{"$nulls":7},{"v":0,"d":"€ 0.00"},{"v":0,"d":"€ 0.00"}]
[null,4629,{"$nulls":7},{"v":0,"d":"€ 0.00"},{"v":0,"d":"€ 0.00"}]
[null,4630,{"$nulls":7},{"v":0,"d":"€ 0.00"},{"v":0,"d":"€ 0.00"}]
[null,4631,{"$nulls":7},{"v":0,"d":"€ 0.00"},{"v":0,"d":"€ 0.00"}]
[null,4632,{"$nulls":7},{"v":0,"d":"€ 0.00"},{"v":0,"d":"€ 0.00"}]
[null,4633,{"$nulls":7},{"v":0,"d":"€ 0.00"},{"v":0,"d":"€ 0.00"}]
[null,4634,{"$nulls":7},{"v":0,"d":"€ 0.00"},{"v":0,"d":"€ 0.00"}]
[null,4635,{"$nulls":7},{"v":0,"d":"€ 0.00"},{"v":0,"d":"€ 0.00"}]
[null,4636,{"$nulls":7},{"v":0,"d":"€ 0.00"},{"v":0,"d":"€ 0.00"}]
[null,4637,{"$nulls":7},{"v":0,"d":"€ 0.00"},{"v":0,"d":"€ 0.00"}]
[null,4638,{"$nulls":7},{"v":0,"d":"€ 0.00"},{"v":0,"d":"€ 0.00"}]
[null,4639,{"$nulls":7},{"v":0,"d":"€ 0.00"},{"v":0,"d":"€ 0.00"}]
[null,4640,{"$nulls":7},{"v":0,"d":"€ 0.00"},{"v":0,"d":"€ 0.00"}]
[null,4641,{"$nulls":7},{"v":0,"d":"€ 0.00"},{"v":0,"d":"€ 0.00"}]
[null,4642,{"$nulls":7},{"v":0,"d":"€ 0.00"},{"v":0,"d":"€ 0.00"}]
[null,4643,{"$nulls":7},{"v":0,"d":"€ 0.00"},{"v":0,"d":"€ 0.00"}]
[null,4644,{"$nulls":7},{"v":0,"d":"€ 0.00"},{"v":0,"d":"€ 0.00"}]
[null,4645,{"$nulls":7},{"v":0,"d":"€ 0.00"},{"v":0,"d":"€ 0.00"}]
[null,4646,{"$nulls":7},{"v":0,"d":"€ 0.00"},{"v":0,"d":"€ 0.00"}]
[null,4647,{"$nulls":7},{"v":0,"d":"€ 0.00"},{"v":0,"d":"€ 0.00"}]
[null,4648,{"$nulls":7},{"v":0,"d":"€ 0.00"},{"v":0,"d":"€ 0.00"}]
[null,4649,{"$nulls":7},{"v":0,"d":"€ 0.00"},{"v":0,"d":"€ 0.00"}]
[null,4650,{"$nulls":7},{"v":0,"d":"€ 0.00"},{"v":0,"d":"€ 0.00"}]
[null,4651,{"$nulls":7},{"v":0,"d":"€ 0.00"},{"v":0,"d":"€ 0.00"}]
[null,4652,{"$nulls":7},{"v":0,"d":"€ 0.00"},{"v":0,"d":"€ 0.00"}]
[null,4653,{"$nulls":7},{"v":0,"d":"€ 0.00"},{"v":0,"d":"€ 0.00"}]
[null,4654,{"$nulls":7},{"v":0,"d":"€ 0.00"},{"v":0,"d":"€ 0.00"}]
[null,4655,{"$nulls":7},{"v":0,"d":"€ 0.00"},{"v":0,"d":"€ 0.00"}]
[null,4656,{"$nulls":7},{"v":0,"d":"€ 0.00"},{"v":0,"d":"€ 0.00"}]
[null,4657,{"$nulls":7},{"v":0,"d":"€ 0.00"},{"v":0,"d":"€ 0.00"}]
[null,4658,{"$nulls":7},{"v":0,"d":"€ 0.00"},{"v":0,"d":"€ 0.00"}]
[null,4659,{"$nulls":7},{"v":0,"d":"€ 0.00"},{"v":0,"d":"€ 0.00"}]
[null,4660,{"$nulls":7},{"v":0,"d":"€ 0.00"},{"v":0,"d":"€ 0.00"}]
[null,4661,{"$nulls":7},{"v":0,"d":"€ 0.00"},{"v":0,"d":"€ 0.00"}]
[null,4662,{"$nulls":7},{"v":0,"d":"€ 0.00"},{"v":0,"d":"€ 0.00"}]
[null,4663,{"$nulls":7},{"v":0,"d":"€ 0.00"},{"v":0,"d":"€ 0.00"}]
[null,4664,{"$nulls":7},{"v":0,"d":"€ 0.00"},{"v":0,"d":"€ 0.00"}]
[null,4665,{"$nulls":7},{"v":0,"d":"€ 0.00"},{"v":0,"d":"€ 0.00"}]
[null,4666,{"$nulls":7},{"v":0,"d":"€ 0.00"},{"v":0,"d":"€ 0.00"}]
[null,4667,{"$nulls":7},{"v":0,"d":"€ 0.00"},{"v":0,"d":"€ 0.00"}]
[null,4668,{"$nulls":7},{"v":0,"d":"€ 0.00"},{"v":0,"d":"€ 0.00"}]
[null,4669,{"$nulls":7},{"v":0,"d":"€ 0.00"},{"v":0,"d":"€ 0.00"}]
[null,4670,{"$nulls":7},{"v":0,"d":"€ 0.00"},{"v":0,"d":"€ 0.00"}]
[null,4671,{"$nulls":7},{"v":0,"d":"€ 0.00"},{"v":0,"d":"€ 0.00"}]
[null,4672,{"$nulls":7},{"v":0,"d":"€ 0.00"},{"v":0,"d":"€ 0.00"}]
[null,4673,{"$nulls":7},{"v":0,"d":"€ 0.00"},{"v":0,"d":"€ 0.00"}]
[null,4674,{"$nulls":7},{"v":0,"d":"€ 0.00"},{"v":0,"d":"€ 0.00"}]
[null,4675,{"$nulls":7},{"v":0,"d":"€ 0.00"},{"v":0,"d":"€ 0.00"}]
[null,4676,{"$nulls":7},{"v":0,"d":"€ 0.00"},{"v":0,"d":"€ 0.00"}]
[null,4677,{"$nulls":7},{"v":0,"d":"€ 0.00"},{"v":0,"d":"€ 0.00"}]
[null,4678,{"$nulls":7},{"v":0,"d":"€ 0.00"},{"v":0,"d":"€ 0.00"}]
[null,4679,{"$nulls":7},{"v":0,"d":"€ 0.00"},{"v":0,"d":"€ 0.00"}]
[null,4680,{"$nulls":7},{"v":0,"d":"€ 0.00"},{"v":0,"d":"€ 0.00"}]
[null,4681,{"$nulls":7},{"v":0,"d":"€ 0.00"},{"v":0,"d":"€ 0.00"}]
[null,4682,{"$nulls":7},{"v":0,"d":"€ 0.00"},{"v":0,"d":"€ 0.00"}]
[null,4683,{"$nulls":7},{"v":0,"d":"€ 0.00"},{"v":0,"d":"€ 0.00"}]
[null,4684,{"$nulls":7},{"v":0,"d":"€ 0.00"},{"v":0,"d":"€ 0.00"}]
[null,4685,{"$nulls":7},{"v":0,"d":"€ 0.00"},{"v":0,"d":"€ 0.00"}]
[null,4686,{"$nulls":7},{"v":0,"d":"€ 0.00"},{"v":0,"d":"€ 0.00"}]
[null,4687,{"$nulls":7},{"v":0,"d":"€ 0.00"},{"v":0,"d":"€ 0.00"}]
[null,4688,{"$nulls":7},{"v":0,"d":"€ 0.00"},{"v":0,"d":"€ 0.00"}]
[null,4689,{"$nulls":7},{"v":0,"d":"€ 0.00"},{"v":0,"d":"€ 0.00"}]
[null,4690,{"$nulls":7},{"v":0,"d":"€ 0.00"},{"v":0,"d":"€ 0.00"}]
[null,4691,{"$nulls":7},{"$f":"IF(OR(ISBLANK(H4698)=TRUE,ISBLANK(I4698)=TRUE),,ROUND(H4698*I4698,2))","v":{"v":0,"d":"€ 0.00"}},{"$f":"G4698+J4698","v":{"v":0,"d":"€ 0.00"}}]
[null,4692,{"$nulls":7},{"v":0,"d":"€ 0.00"},{"v":0,"d":"€ 0.00"}]
[null,4693,{"$nulls":7},{"v":0,"d":"€ 0.00"},{"v":0,"d":"€ 0.00"}]
[null,4694,{"$nulls":7},{"v":0,"d":"€ 0.00"},{"v":0,"d":"€ 0.00"}]
[null,4695,{"$nulls":7},{"v":0,"d":"€ 0.00"},{"v":0,"d":"€ 0.00"}]
[null,4696,{"$nulls":7},{"v":0,"d":"€ 0.00"},{"v":0,"d":"€ 0.00"}]
[null,4697,{"$nulls":7},{"v":0,"d":"€ 0.00"},{"v":0,"d":"€ 0.00"}]
[null,4698,{"$nulls":7},{"v":0,"d":"€ 0.00"},{"v":0,"d":"€ 0.00"}]
[null,4699,{"$nulls":7},{"v":0,"d":"€ 0.00"},{"v":0,"d":"€ 0.00"}]
[null,4700,{"$nulls":7},{"v":0,"d":"€ 0.00"},{"v":0,"d":"€ 0.00"}]
[null,4701,{"$nulls":7},{"v":0,"d":"€ 0.00"},{"v":0,"d":"€ 0.00"}]
[null,4702,{"$nulls":7},{"v":0,"d":"€ 0.00"},{"v":0,"d":"€ 0.00"}]
[null,4703,{"$nulls":7},{"v":0,"d":"€ 0.00"},{"v":0,"d":"€ 0.00"}]
[null,4704,{"$nulls":7},{"v":0,"d":"€ 0.00"},{"v":0,"d":"€ 0.00"}]
[null,4705,{"$nulls":7},{"v":0,"d":"€ 0.00"},{"v":0,"d":"€ 0.00"}]
[null,4706,{"$nulls":7},{"v":0,"d":"€ 0.00"},{"v":0,"d":"€ 0.00"}]
[null,4707,{"$nulls":7},{"v":0,"d":"€ 0.00"},{"v":0,"d":"€ 0.00"}]
[null,4708,{"$nulls":7},{"v":0,"d":"€ 0.00"},{"v":0,"d":"€ 0.00"}]
[null,4709,{"$nulls":7},{"v":0,"d":"€ 0.00"},{"v":0,"d":"€ 0.00"}]
[null,4710,{"$nulls":7},{"v":0,"d":"€ 0.00"},{"v":0,"d":"€ 0.00"}]
[null,4711,{"$nulls":7},{"v":0,"d":"€ 0.00"},{"v":0,"d":"€ 0.00"}]
[null,4712,{"$nulls":7},{"v":0,"d":"€ 0.00"},{"v":0,"d":"€ 0.00"}]
[null,4713,{"$nulls":7},{"v":0,"d":"€ 0.00"},{"v":0,"d":"€ 0.00"}]
[null,4714,{"$nulls":7},{"v":0,"d":"€ 0.00"},{"v":0,"d":"€ 0.00"}]
[null,4715,{"$nulls":7},{"v":0,"d":"€ 0.00"},{"v":0,"d":"€ 0.00"}]
[null,4716,{"$nulls":7},{"v":0,"d":"€ 0.00"},{"v":0,"d":"€ 0.00"}]
[null,4717,{"$nulls":7},{"v":0,"d":"€ 0.00"},{"v":0,"d":"€ 0.00"}]
[null,4718,{"$nulls":7},{"v":0,"d":"€ 0.00"},{"v":0,"d":"€ 0.00"}]
[null,4719,{"$nulls":7},{"v":0,"d":"€ 0.00"},{"v":0,"d":"€ 0.00"}]
[null,4720,{"$nulls":7},{"v":0,"d":"€ 0.00"},{"v":0,"d":"€ 0.00"}]
[null,4721,{"$nulls":7},{"v":0,"d":"€ 0.00"},{"v":0,"d":"€ 0.00"}]
[null,4722,{"$nulls":7},{"v":0,"d":"€ 0.00"},{"v":0,"d":"€ 0.00"}]
[null,4723,{"$nulls":7},{"v":0,"d":"€ 0.00"},{"v":0,"d":"€ 0.00"}]
[null,4724,{"$nulls":7},{"v":0,"d":"€ 0.00"},{"v":0,"d":"€ 0.00"}]
[null,4725,{"$nulls":7},{"v":0,"d":"€ 0.00"},{"v":0,"d":"€ 0.00"}]
[null,4726,{"$nulls":7},{"v":0,"d":"€ 0.00"},{"v":0,"d":"€ 0.00"}]
[null,4727,{"$nulls":7},{"v":0,"d":"€ 0.00"},{"v":0,"d":"€ 0.00"}]
[null,4728,{"$nulls":7},{"v":0,"d":"€ 0.00"},{"v":0,"d":"€ 0.00"}]
[null,4729,{"$nulls":7},{"v":0,"d":"€ 0.00"},{"v":0,"d":"€ 0.00"}]
[null,4730,{"$nulls":7},{"v":0,"d":"€ 0.00"},{"v":0,"d":"€ 0.00"}]
[null,4731,{"$nulls":7},{"v":0,"d":"€ 0.00"},{"v":0,"d":"€ 0.00"}]
[null,4732,{"$nulls":7},{"v":0,"d":"€ 0.00"},{"v":0,"d":"€ 0.00"}]
[null,4733,{"$nulls":7},{"v":0,"d":"€ 0.00"},{"v":0,"d":"€ 0.00"}]
[null,4734,{"$nulls":7},{"v":0,"d":"€ 0.00"},{"v":0,"d":"€ 0.00"}]
[null,4735,{"$nulls":7},{"v":0,"d":"€ 0.00"},{"v":0,"d":"€ 0.00"}]
[null,4736,{"$nulls":7},{"v":0,"d":"€ 0.00"},{"v":0,"d":"€ 0.00"}]
[null,4737,{"$nulls":7},{"v":0,"d":"€ 0.00"},{"v":0,"d":"€ 0.00"}]
[null,4738,{"$nulls":7},{"v":0,"d":"€ 0.00"},{"v":0,"d":"€ 0.00"}]
[null,4739,{"$nulls":7},{"v":0,"d":"€ 0.00"},{"v":0,"d":"€ 0.00"}]
[null,4740,{"$nulls":7},{"v":0,"d":"€ 0.00"},{"v":0,"d":"€ 0.00"}]
[null,4741,{"$nulls":7},{"v":0,"d":"€ 0.00"},{"v":0,"d":"€ 0.00"}]
[null,4742,{"$nulls":7},{"v":0,"d":"€ 0.00"},{"v":0,"d":"€ 0.00"}]
[null,4743,{"$nulls":7},{"v":0,"d":"€ 0.00"},{"v":0,"d":"€ 0.00"}]
[null,4744,{"$nulls":7},{"v":0,"d":"€ 0.00"},{"v":0,"d":"€ 0.00"}]
[null,4745,{"$nulls":7},{"v":0,"d":"€ 0.00"},{"v":0,"d":"€ 0.00"}]
[null,4746,{"$nulls":7},{"v":0,"d":"€ 0.00"},{"v":0,"d":"€ 0.00"}]
[null,4747,{"$nulls":7},{"v":0,"d":"€ 0.00"},{"v":0,"d":"€ 0.00"}]
[null,4748,{"$nulls":7},{"v":0,"d":"€ 0.00"},{"v":0,"d":"€ 0.00"}]
[null,4749,{"$nulls":7},{"v":0,"d":"€ 0.00"},{"v":0,"d":"€ 0.00"}]
[null,4750,{"$nulls":7},{"v":0,"d":"€ 0.00"},{"v":0,"d":"€ 0.00"}]
[null,4751,{"$nulls":7},{"v":0,"d":"€ 0.00"},{"v":0,"d":"€ 0.00"}]
[null,4752,{"$nulls":7},{"v":0,"d":"€ 0.00"},{"v":0,"d":"€ 0.00"}]
[null,4753,{"$nulls":7},{"v":0,"d":"€ 0.00"},{"v":0,"d":"€ 0.00"}]
[null,4754,{"$nulls":7},{"v":0,"d":"€ 0.00"},{"v":0,"d":"€ 0.00"}]
[null,4755,{"$nulls":7},{"$f":"IF(OR(ISBLANK(H4762)=TRUE,ISBLANK(I4762)=TRUE),,ROUND(H4762*I4762,2))","v":{"v":0,"d":"€ 0.00"}},{"$f":"G4762+J4762","v":{"v":0,"d":"€ 0.00"}}]
[null,4756,{"$nulls":7},{"v":0,"d":"€ 0.00"},{"v":0,"d":"€ 0.00"}]
[null,4757,{"$nulls":7},{"v":0,"d":"€ 0.00"},{"v":0,"d":"€ 0.00"}]
[null,4758,{"$nulls":7},{"v":0,"d":"€ 0.00"},{"v":0,"d":"€ 0.00"}]
[null,4759,{"$nulls":7},{"v":0,"d":"€ 0.00"},{"v":0,"d":"€ 0.00"}]
[null,4760,{"$nulls":7},{"v":0,"d":"€ 0.00"},{"v":0,"d":"€ 0.00"}]
[null,4761,{"$nulls":7},{"v":0,"d":"€ 0.00"},{"v":0,"d":"€ 0.00"}]
[null,4762,{"$nulls":7},{"v":0,"d":"€ 0.00"},{"v":0,"d":"€ 0.00"}]
[null,4763,{"$nulls":7},{"v":0,"d":"€ 0.00"},{"v":0,"d":"€ 0.00"}]
[null,4764,{"$nulls":7},{"v":0,"d":"€ 0.00"},{"v":0,"d":"€ 0.00"}]
[null,4765,{"$nulls":7},{"v":0,"d":"€ 0.00"},{"v":0,"d":"€ 0.00"}]
[null,4766,{"$nulls":7},{"v":0,"d":"€ 0.00"},{"v":0,"d":"€ 0.00"}]
[null,4767,{"$nulls":7},{"v":0,"d":"€ 0.00"},{"v":0,"d":"€ 0.00"}]
[null,4768,{"$nulls":7},{"v":0,"d":"€ 0.00"},{"v":0,"d":"€ 0.00"}]
[null,4769,{"$nulls":7},{"v":0,"d":"€ 0.00"},{"v":0,"d":"€ 0.00"}]
[null,4770,{"$nulls":7},{"v":0,"d":"€ 0.00"},{"v":0,"d":"€ 0.00"}]
[null,4771,{"$nulls":7},{"v":0,"d":"€ 0.00"},{"v":0,"d":"€ 0.00"}]
[null,4772,{"$nulls":7},{"v":0,"d":"€ 0.00"},{"v":0,"d":"€ 0.00"}]
[null,4773,{"$nulls":7},{"v":0,"d":"€ 0.00"},{"v":0,"d":"€ 0.00"}]
[null,4774,{"$nulls":7},{"v":0,"d":"€ 0.00"},{"v":0,"d":"€ 0.00"}]
[null,4775,{"$nulls":7},{"v":0,"d":"€ 0.00"},{"v":0,"d":"€ 0.00"}]
[null,4776,{"$nulls":7},{"v":0,"d":"€ 0.00"},{"v":0,"d":"€ 0.00"}]
[null,4777,{"$nulls":7},{"v":0,"d":"€ 0.00"},{"v":0,"d":"€ 0.00"}]
[null,4778,{"$nulls":7},{"v":0,"d":"€ 0.00"},{"v":0,"d":"€ 0.00"}]
[null,4779,{"$nulls":7},{"v":0,"d":"€ 0.00"},{"v":0,"d":"€ 0.00"}]
[null,4780,{"$nulls":7},{"v":0,"d":"€ 0.00"},{"v":0,"d":"€ 0.00"}]
[null,4781,{"$nulls":7},{"v":0,"d":"€ 0.00"},{"v":0,"d":"€ 0.00"}]
[null,4782,{"$nulls":7},{"v":0,"d":"€ 0.00"},{"v":0,"d":"€ 0.00"}]
[null,4783,{"$nulls":7},{"v":0,"d":"€ 0.00"},{"v":0,"d":"€ 0.00"}]
[null,4784,{"$nulls":7},{"v":0,"d":"€ 0.00"},{"v":0,"d":"€ 0.00"}]
[null,4785,{"$nulls":7},{"v":0,"d":"€ 0.00"},{"v":0,"d":"€ 0.00"}]
[null,4786,{"$nulls":7},{"v":0,"d":"€ 0.00"},{"v":0,"d":"€ 0.00"}]
[null,4787,{"$nulls":7},{"v":0,"d":"€ 0.00"},{"v":0,"d":"€ 0.00"}]
[null,4788,{"$nulls":7},{"v":0,"d":"€ 0.00"},{"v":0,"d":"€ 0.00"}]
[null,4789,{"$nulls":7},{"v":0,"d":"€ 0.00"},{"v":0,"d":"€ 0.00"}]
[null,4790,{"$nulls":7},{"v":0,"d":"€ 0.00"},{"v":0,"d":"€ 0.00"}]
[null,4791,{"$nulls":7},{"v":0,"d":"€ 0.00"},{"v":0,"d":"€ 0.00"}]
[null,4792,{"$nulls":7},{"v":0,"d":"€ 0.00"},{"v":0,"d":"€ 0.00"}]
[null,4793,{"$nulls":7},{"v":0,"d":"€ 0.00"},{"v":0,"d":"€ 0.00"}]
[null,4794,{"$nulls":7},{"v":0,"d":"€ 0.00"},{"v":0,"d":"€ 0.00"}]
[null,4795,{"$nulls":7},{"v":0,"d":"€ 0.00"},{"v":0,"d":"€ 0.00"}]
[null,4796,{"$nulls":7},{"v":0,"d":"€ 0.00"},{"v":0,"d":"€ 0.00"}]
[null,4797,{"$nulls":7},{"v":0,"d":"€ 0.00"},{"v":0,"d":"€ 0.00"}]
[null,4798,{"$nulls":7},{"v":0,"d":"€ 0.00"},{"v":0,"d":"€ 0.00"}]
[null,4799,{"$nulls":7},{"v":0,"d":"€ 0.00"},{"v":0,"d":"€ 0.00"}]
[null,4800,{"$nulls":7},{"v":0,"d":"€ 0.00"},{"v":0,"d":"€ 0.00"}]
[null,4801,{"$nulls":7},{"v":0,"d":"€ 0.00"},{"v":0,"d":"€ 0.00"}]
[null,4802,{"$nulls":7},{"v":0,"d":"€ 0.00"},{"v":0,"d":"€ 0.00"}]
[null,4803,{"$nulls":7},{"v":0,"d":"€ 0.00"},{"v":0,"d":"€ 0.00"}]
[null,4804,{"$nulls":7},{"v":0,"d":"€ 0.00"},{"v":0,"d":"€ 0.00"}]
[null,4805,{"$nulls":7},{"v":0,"d":"€ 0.00"},{"v":0,"d":"€ 0.00"}]
[null,4806,{"$nulls":7},{"v":0,"d":"€ 0.00"},{"v":0,"d":"€ 0.00"}]
[null,4807,{"$nulls":7},{"v":0,"d":"€ 0.00"},{"v":0,"d":"€ 0.00"}]
[null,4808,{"$nulls":7},{"v":0,"d":"€ 0.00"},{"v":0,"d":"€ 0.00"}]
[null,4809,{"$nulls":7},{"v":0,"d":"€ 0.00"},{"v":0,"d":"€ 0.00"}]
[null,4810,{"$nulls":7},{"v":0,"d":"€ 0.00"},{"v":0,"d":"€ 0.00"}]
[null,4811,{"$nulls":7},{"v":0,"d":"€ 0.00"},{"v":0,"d":"€ 0.00"}]
[null,4812,{"$nulls":7},{"v":0,"d":"€ 0.00"},{"v":0,"d":"€ 0.00"}]
[null,4813,{"$nulls":7},{"v":0,"d":"€ 0.00"},{"v":0,"d":"€ 0.00"}]
[null,4814,{"$nulls":7},{"v":0,"d":"€ 0.00"},{"v":0,"d":"€ 0.00"}]
[null,4815,{"$nulls":7},{"v":0,"d":"€ 0.00"},{"v":0,"d":"€ 0.00"}]
[null,4816,{"$nulls":7},{"v":0,"d":"€ 0.00"},{"v":0,"d":"€ 0.00"}]
[null,4817,{"$nulls":7},{"v":0,"d":"€ 0.00"},{"v":0,"d":"€ 0.00"}]
[null,4818,{"$nulls":7},{"v":0,"d":"€ 0.00"},{"v":0,"d":"€ 0.00"}]
[null,4819,{"$nulls":7},{"$f":"IF(OR(ISBLANK(H4826)=TRUE,ISBLANK(I4826)=TRUE),,ROUND(H4826*I4826,2))","v":{"v":0,"d":"€ 0.00"}},{"$f":"G4826+J4826","v":{"v":0,"d":"€ 0.00"}}]
[null,4820,{"$nulls":7},{"v":0,"d":"€ 0.00"},{"v":0,"d":"€ 0.00"}]
[null,4821,{"$nulls":7},{"v":0,"d":"€ 0.00"},{"v":0,"d":"€ 0.00"}]
[null,4822,{"$nulls":7},{"v":0,"d":"€ 0.00"},{"v":0,"d":"€ 0.00"}]
[null,4823,{"$nulls":7},{"v":0,"d":"€ 0.00"},{"v":0,"d":"€ 0.00"}]
[null,4824,{"$nulls":7},{"v":0,"d":"€ 0.00"},{"v":0,"d":"€ 0.00"}]
[null,4825,{"$nulls":7},{"v":0,"d":"€ 0.00"},{"v":0,"d":"€ 0.00"}]
[null,4826,{"$nulls":7},{"v":0,"d":"€ 0.00"},{"v":0,"d":"€ 0.00"}]
[null,4827,{"$nulls":7},{"v":0,"d":"€ 0.00"},{"v":0,"d":"€ 0.00"}]
[null,4828,{"$nulls":7},{"v":0,"d":"€ 0.00"},{"v":0,"d":"€ 0.00"}]
[null,4829,{"$nulls":7},{"v":0,"d":"€ 0.00"},{"v":0,"d":"€ 0.00"}]
[null,4830,{"$nulls":7},{"v":0,"d":"€ 0.00"},{"v":0,"d":"€ 0.00"}]
[null,4831,{"$nulls":7},{"v":0,"d":"€ 0.00"},{"v":0,"d":"€ 0.00"}]
[null,4832,{"$nulls":7},{"v":0,"d":"€ 0.00"},{"v":0,"d":"€ 0.00"}]
[null,4833,{"$nulls":7},{"v":0,"d":"€ 0.00"},{"v":0,"d":"€ 0.00"}]
[null,4834,{"$nulls":7},{"v":0,"d":"€ 0.00"},{"v":0,"d":"€ 0.00"}]
[null,4835,{"$nulls":7},{"v":0,"d":"€ 0.00"},{"v":0,"d":"€ 0.00"}]
[null,4836,{"$nulls":7},{"v":0,"d":"€ 0.00"},{"v":0,"d":"€ 0.00"}]
[null,4837,{"$nulls":7},{"v":0,"d":"€ 0.00"},{"v":0,"d":"€ 0.00"}]
[null,4838,{"$nulls":7},{"v":0,"d":"€ 0.00"},{"v":0,"d":"€ 0.00"}]
[null,4839,{"$nulls":7},{"v":0,"d":"€ 0.00"},{"v":0,"d":"€ 0.00"}]
[null,4840,{"$nulls":7},{"v":0,"d":"€ 0.00"},{"v":0,"d":"€ 0.00"}]
[null,4841,{"$nulls":7},{"v":0,"d":"€ 0.00"},{"v":0,"d":"€ 0.00"}]
[null,4842,{"$nulls":7},{"v":0,"d":"€ 0.00"},{"v":0,"d":"€ 0.00"}]
[null,4843,{"$nulls":7},{"v":0,"d":"€ 0.00"},{"v":0,"d":"€ 0.00"}]
[null,4844,{"$nulls":7},{"v":0,"d":"€ 0.00"},{"v":0,"d":"€ 0.00"}]
[null,4845,{"$nulls":7},{"v":0,"d":"€ 0.00"},{"v":0,"d":"€ 0.00"}]
[null,4846,{"$nulls":7},{"v":0,"d":"€ 0.00"},{"v":0,"d":"€ 0.00"}]
[null,4847,{"$nulls":7},{"v":0,"d":"€ 0.00"},{"v":0,"d":"€ 0.00"}]
[null,4848,{"$nulls":7},{"v":0,"d":"€ 0.00"},{"v":0,"d":"€ 0.00"}]
[null,4849,{"$nulls":7},{"v":0,"d":"€ 0.00"},{"v":0,"d":"€ 0.00"}]
[null,4850,{"$nulls":7},{"v":0,"d":"€ 0.00"},{"v":0,"d":"€ 0.00"}]
[null,4851,{"$nulls":7},{"v":0,"d":"€ 0.00"},{"v":0,"d":"€ 0.00"}]
[null,4852,{"$nulls":7},{"v":0,"d":"€ 0.00"},{"v":0,"d":"€ 0.00"}]
[null,4853,{"$nulls":7},{"v":0,"d":"€ 0.00"},{"v":0,"d":"€ 0.00"}]
[null,4854,{"$nulls":7},{"v":0,"d":"€ 0.00"},{"v":0,"d":"€ 0.00"}]
[null,4855,{"$nulls":7},{"v":0,"d":"€ 0.00"},{"v":0,"d":"€ 0.00"}]
[null,4856,{"$nulls":7},{"v":0,"d":"€ 0.00"},{"v":0,"d":"€ 0.00"}]
[null,4857,{"$nulls":7},{"v":0,"d":"€ 0.00"},{"v":0,"d":"€ 0.00"}]
[null,4858,{"$nulls":7},{"v":0,"d":"€ 0.00"},{"v":0,"d":"€ 0.00"}]
[null,4859,{"$nulls":7},{"v":0,"d":"€ 0.00"},{"v":0,"d":"€ 0.00"}]
[null,4860,{"$nulls":7},{"v":0,"d":"€ 0.00"},{"v":0,"d":"€ 0.00"}]
[null,4861,{"$nulls":7},{"v":0,"d":"€ 0.00"},{"v":0,"d":"€ 0.00"}]
[null,4862,{"$nulls":7},{"v":0,"d":"€ 0.00"},{"v":0,"d":"€ 0.00"}]
[null,4863,{"$nulls":7},{"v":0,"d":"€ 0.00"},{"v":0,"d":"€ 0.00"}]
[null,4864,{"$nulls":7},{"v":0,"d":"€ 0.00"},{"v":0,"d":"€ 0.00"}]
[null,4865,{"$nulls":7},{"v":0,"d":"€ 0.00"},{"v":0,"d":"€ 0.00"}]
[null,4866,{"$nulls":7},{"v":0,"d":"€ 0.00"},{"v":0,"d":"€ 0.00"}]
[null,4867,{"$nulls":7},{"v":0,"d":"€ 0.00"},{"v":0,"d":"€ 0.00"}]
[null,4868,{"$nulls":7},{"v":0,"d":"€ 0.00"},{"v":0,"d":"€ 0.00"}]
[null,4869,{"$nulls":7},{"v":0,"d":"€ 0.00"},{"v":0,"d":"€ 0.00"}]
[null,4870,{"$nulls":7},{"v":0,"d":"€ 0.00"},{"v":0,"d":"€ 0.00"}]
[null,4871,{"$nulls":7},{"v":0,"d":"€ 0.00"},{"v":0,"d":"€ 0.00"}]
[null,4872,{"$nulls":7},{"v":0,"d":"€ 0.00"},{"v":0,"d":"€ 0.00"}]
[null,4873,{"$nulls":7},{"v":0,"d":"€ 0.00"},{"v":0,"d":"€ 0.00"}]
[null,4874,{"$nulls":7},{"v":0,"d":"€ 0.00"},{"v":0,"d":"€ 0.00"}]
[null,4875,{"$nulls":7},{"v":0,"d":"€ 0.00"},{"v":0,"d":"€ 0.00"}]
[null,4876,{"$nulls":7},{"v":0,"d":"€ 0.00"},{"v":0,"d":"€ 0.00"}]
[null,4877,{"$nulls":7},{"v":0,"d":"€ 0.00"},{"v":0,"d":"€ 0.00"}]
[null,4878,{"$nulls":7},{"v":0,"d":"€ 0.00"},{"v":0,"d":"€ 0.00"}]
[null,4879,{"$nulls":7},{"v":0,"d":"€ 0.00"},{"v":0,"d":"€ 0.00"}]
[null,4880,{"$nulls":7},{"v":0,"d":"€ 0.00"},{"v":0,"d":"€ 0.00"}]
[null,4881,{"$nulls":7},{"v":0,"d":"€ 0.00"},{"v":0,"d":"€ 0.00"}]
[null,4882,{"$nulls":7},{"v":0,"d":"€ 0.00"},{"v":0,"d":"€ 0.00"}]
[null,4883,{"$nulls":7},{"$f":"IF(OR(ISBLANK(H4890)=TRUE,ISBLANK(I4890)=TRUE),,ROUND(H4890*I4890,2))","v":{"v":0,"d":"€ 0.00"}},{"$f":"G4890+J4890","v":{"v":0,"d":"€ 0.00"}}]
[null,4884,{"$nulls":7},{"v":0,"d":"€ 0.00"},{"v":0,"d":"€ 0.00"}]
[null,4885,{"$nulls":7},{"v":0,"d":"€ 0.00"},{"v":0,"d":"€ 0.00"}]
[null,4886,{"$nulls":7},{"v":0,"d":"€ 0.00"},{"v":0,"d":"€ 0.00"}]
[null,4887,{"$nulls":7},{"v":0,"d":"€ 0.00"},{"v":0,"d":"€ 0.00"}]
[null,4888,{"$nulls":7},{"v":0,"d":"€ 0.00"},{"v":0,"d":"€ 0.00"}]
[null,4889,{"$nulls":7},{"v":0,"d":"€ 0.00"},{"v":0,"d":"€ 0.00"}]
[null,4890,{"$nulls":7},{"v":0,"d":"€ 0.00"},{"v":0,"d":"€ 0.00"}]
[null,4891,{"$nulls":7},{"v":0,"d":"€ 0.00"},{"v":0,"d":"€ 0.00"}]
[null,4892,{"$nulls":7},{"v":0,"d":"€ 0.00"},{"v":0,"d":"€ 0.00"}]
[null,4893,{"$nulls":7},{"v":0,"d":"€ 0.00"},{"v":0,"d":"€ 0.00"}]
[null,4894,{"$nulls":7},{"v":0,"d":"€ 0.00"},{"v":0,"d":"€ 0.00"}]
[null,4895,{"$nulls":7},{"v":0,"d":"€ 0.00"},{"v":0,"d":"€ 0.00"}]
[null,4896,{"$nulls":7},{"v":0,"d":"€ 0.00"},{"v":0,"d":"€ 0.00"}]
[null,4897,{"$nulls":7},{"v":0,"d":"€ 0.00"},{"v":0,"d":"€ 0.00"}]
[null,4898,{"$nulls":7},{"v":0,"d":"€ 0.00"},{"v":0,"d":"€ 0.00"}]
[null,4899,{"$nulls":7},{"v":0,"d":"€ 0.00"},{"v":0,"d":"€ 0.00"}]
[null,4900,{"$nulls":7},{"v":0,"d":"€ 0.00"},{"v":0,"d":"€ 0.00"}]
[null,4901,{"$nulls":7},{"v":0,"d":"€ 0.00"},{"v":0,"d":"€ 0.00"}]
[null,4902,{"$nulls":7},{"v":0,"d":"€ 0.00"},{"v":0,"d":"€ 0.00"}]
[null,4903,{"$nulls":7},{"v":0,"d":"€ 0.00"},{"v":0,"d":"€ 0.00"}]
[null,4904,{"$nulls":7},{"v":0,"d":"€ 0.00"},{"v":0,"d":"€ 0.00"}]
[null,4905,{"$nulls":7},{"v":0,"d":"€ 0.00"},{"v":0,"d":"€ 0.00"}]
[null,4906,{"$nulls":7},{"v":0,"d":"€ 0.00"},{"v":0,"d":"€ 0.00"}]
[null,4907,{"$nulls":7},{"v":0,"d":"€ 0.00"},{"v":0,"d":"€ 0.00"}]
[null,4908,{"$nulls":7},{"v":0,"d":"€ 0.00"},{"v":0,"d":"€ 0.00"}]
[null,4909,{"$nulls":7},{"v":0,"d":"€ 0.00"},{"v":0,"d":"€ 0.00"}]
[null,4910,{"$nulls":7},{"v":0,"d":"€ 0.00"},{"v":0,"d":"€ 0.00"}]
[null,4911,{"$nulls":7},{"v":0,"d":"€ 0.00"},{"v":0,"d":"€ 0.00"}]
[null,4912,{"$nulls":7},{"v":0,"d":"€ 0.00"},{"v":0,"d":"€ 0.00"}]
[null,4913,{"$nulls":7},{"v":0,"d":"€ 0.00"},{"v":0,"d":"€ 0.00"}]
[null,4914,{"$nulls":7},{"v":0,"d":"€ 0.00"},{"v":0,"d":"€ 0.00"}]
[null,4915,{"$nulls":7},{"v":0,"d":"€ 0.00"},{"v":0,"d":"€ 0.00"}]
[null,4916,{"$nulls":7},{"v":0,"d":"€ 0.00"},{"v":0,"d":"€ 0.00"}]
[null,4917,{"$nulls":7},{"v":0,"d":"€ 0.00"},{"v":0,"d":"€ 0.00"}]
[null,4918,{"$nulls":7},{"v":0,"d":"€ 0.00"},{"v":0,"d":"€ 0.00"}]
[null,4919,{"$nulls":7},{"v":0,"d":"€ 0.00"},{"v":0,"d":"€ 0.00"}]
[null,4920,{"$nulls":7},{"v":0,"d":"€ 0.00"},{"v":0,"d":"€ 0.00"}]
[null,4921,{"$nulls":7},{"v":0,"d":"€ 0.00"},{"v":0,"d":"€ 0.00"}]
[null,4922,{"$nulls":7},{"v":0,"d":"€ 0.00"},{"v":0,"d":"€ 0.00"}]
[null,4923,{"$nulls":7},{"v":0,"d":"€ 0.00"},{"v":0,"d":"€ 0.00"}]
[null,4924,{"$nulls":7},{"v":0,"d":"€ 0.00"},{"v":0,"d":"€ 0.00"}]
[null,4925,{"$nulls":7},{"v":0,"d":"€ 0.00"},{"v":0,"d":"€ 0.00"}]
[null,4926,{"$nulls":7},{"v":0,"d":"€ 0.00"},{"v":0,"d":"€ 0.00"}]
[null,4927,{"$nulls":7},{"v":0,"d":"€ 0.00"},{"v":0,"d":"€ 0.00"}]
[null,4928,{"$nulls":7},{"v":0,"d":"€ 0.00"},{"v":0,"d":"€ 0.00"}]
[null,4929,{"$nulls":7},{"v":0,"d":"€ 0.00"},{"v":0,"d":"€ 0.00"}]
[null,4930,{"$nulls":7},{"v":0,"d":"€ 0.00"},{"v":0,"d":"€ 0.00"}]
[null,4931,{"$nulls":7},{"v":0,"d":"€ 0.00"},{"v":0,"d":"€ 0.00"}]
[null,4932,{"$nulls":7},{"v":0,"d":"€ 0.00"},{"v":0,"d":"€ 0.00"}]
[null,4933,{"$nulls":7},{"v":0,"d":"€ 0.00"},{"v":0,"d":"€ 0.00"}]
[null,4934,{"$nulls":7},{"v":0,"d":"€ 0.00"},{"v":0,"d":"€ 0.00"}]
[null,4935,{"$nulls":7},{"v":0,"d":"€ 0.00"},{"v":0,"d":"€ 0.00"}]
[null,4936,{"$nulls":7},{"v":0,"d":"€ 0.00"},{"v":0,"d":"€ 0.00"}]
[null,4937,{"$nulls":7},{"v":0,"d":"€ 0.00"},{"v":0,"d":"€ 0.00"}]
[null,4938,{"$nulls":7},{"v":0,"d":"€ 0.00"},{"v":0,"d":"€ 0.00"}]
[null,4939,{"$nulls":7},{"v":0,"d":"€ 0.00"},{"v":0,"d":"€ 0.00"}]
[null,4940,{"$nulls":7},{"v":0,"d":"€ 0.00"},{"v":0,"d":"€ 0.00"}]
[null,4941,{"$nulls":7},{"v":0,"d":"€ 0.00"},{"v":0,"d":"€ 0.00"}]
[null,4942,{"$nulls":7},{"v":0,"d":"€ 0.00"},{"v":0,"d":"€ 0.00"}]
[null,4943,{"$nulls":7},{"v":0,"d":"€ 0.00"},{"v":0,"d":"€ 0.00"}]
[null,4944,{"$nulls":7},{"v":0,"d":"€ 0.00"},{"v":0,"d":"€ 0.00"}]
[null,4945,{"$nulls":7},{"v":0,"d":"€ 0.00"},{"v":0,"d":"€ 0.00"}]
[null,4946,{"$nulls":7},{"v":0,"d":"€ 0.00"},{"v":0,"d":"€ 0.00"}]
[null,4947,{"$nulls":7},{"$f":"IF(OR(ISBLANK(H4954)=TRUE,ISBLANK(I4954)=TRUE),,ROUND(H4954*I4954,2))","v":{"v":0,"d":"€ 0.00"}},{"$f":"G4954+J4954","v":{"v":0,"d":"€ 0.00"}}]
[null,4948,{"$nulls":7},{"v":0,"d":"€ 0.00"},{"v":0,"d":"€ 0.00"}]
[null,4949,{"$nulls":7},{"v":0,"d":"€ 0.00"},{"v":0,"d":"€ 0.00"}]
[null,4950,{"$nulls":7},{"v":0,"d":"€ 0.00"},{"v":0,"d":"€ 0.00"}]
[null,4951,{"$nulls":7},{"v":0,"d":"€ 0.00"},{"v":0,"d":"€ 0.00"}]
[null,4952,{"$nulls":7},{"v":0,"d":"€ 0.00"},{"v":0,"d":"€ 0.00"}]
[null,4953,{"$nulls":7},{"v":0,"d":"€ 0.00"},{"v":0,"d":"€ 0.00"}]
[null,4954,{"$nulls":7},{"v":0,"d":"€ 0.00"},{"v":0,"d":"€ 0.00"}]
[null,4955,{"$nulls":7},{"v":0,"d":"€ 0.00"},{"v":0,"d":"€ 0.00"}]
[null,4956,{"$nulls":7},{"v":0,"d":"€ 0.00"},{"v":0,"d":"€ 0.00"}]
[null,4957,{"$nulls":7},{"v":0,"d":"€ 0.00"},{"v":0,"d":"€ 0.00"}]
[null,4958,{"$nulls":7},{"v":0,"d":"€ 0.00"},{"v":0,"d":"€ 0.00"}]
[null,4959,{"$nulls":7},{"v":0,"d":"€ 0.00"},{"v":0,"d":"€ 0.00"}]
[null,4960,{"$nulls":7},{"v":0,"d":"€ 0.00"},{"v":0,"d":"€ 0.00"}]
[null,4961,{"$nulls":7},{"v":0,"d":"€ 0.00"},{"v":0,"d":"€ 0.00"}]
[null,4962,{"$nulls":7},{"v":0,"d":"€ 0.00"},{"v":0,"d":"€ 0.00"}]
[null,4963,{"$nulls":7},{"v":0,"d":"€ 0.00"},{"v":0,"d":"€ 0.00"}]
[null,4964,{"$nulls":7},{"v":0,"d":"€ 0.00"},{"v":0,"d":"€ 0.00"}]
[null,4965,{"$nulls":7},{"v":0,"d":"€ 0.00"},{"v":0,"d":"€ 0.00"}]
[null,4966,{"$nulls":7},{"v":0,"d":"€ 0.00"},{"v":0,"d":"€ 0.00"}]
[null,4967,{"$nulls":7},{"v":0,"d":"€ 0.00"},{"v":0,"d":"€ 0.00"}]
[null,4968,{"$nulls":7},{"v":0,"d":"€ 0.00"},{"v":0,"d":"€ 0.00"}]
[null,4969,{"$nulls":7},{"v":0,"d":"€ 0.00"},{"v":0,"d":"€ 0.00"}]
[null,4970,{"$nulls":7},{"v":0,"d":"€ 0.00"},{"v":0,"d":"€ 0.00"}]
[null,4971,{"$nulls":7},{"v":0,"d":"€ 0.00"},{"v":0,"d":"€ 0.00"}]
[null,4972,{"$nulls":7},{"v":0,"d":"€ 0.00"},{"v":0,"d":"€ 0.00"}]
[null,4973,{"$nulls":7},{"v":0,"d":"€ 0.00"},{"v":0,"d":"€ 0.00"}]
[null,4974,{"$nulls":7},{"v":0,"d":"€ 0.00"},{"v":0,"d":"€ 0.00"}]
[null,4975,{"$nulls":7},{"v":0,"d":"€ 0.00"},{"v":0,"d":"€ 0.00"}]
[null,4976,{"$nulls":7},{"v":0,"d":"€ 0.00"},{"v":0,"d":"€ 0.00"}]
[null,4977,{"$nulls":7},{"v":0,"d":"€ 0.00"},{"v":0,"d":"€ 0.00"}]
[null,4978,{"$nulls":7},{"v":0,"d":"€ 0.00"},{"v":0,"d":"€ 0.00"}]
[null,4979,{"$nulls":7},{"v":0,"d":"€ 0.00"},{"v":0,"d":"€ 0.00"}]
[null,4980,{"$nulls":7},{"v":0,"d":"€ 0.00"},{"v":0,"d":"€ 0.00"}]
[null,4981,{"$nulls":7},{"v":0,"d":"€ 0.00"},{"v":0,"d":"€ 0.00"}]
[null,4982,{"$nulls":7},{"v":0,"d":"€ 0.00"},{"v":0,"d":"€ 0.00"}]
[null,4983,{"$nulls":7},{"v":0,"d":"€ 0.00"},{"v":0,"d":"€ 0.00"}]
[null,4984,{"$nulls":7},{"v":0,"d":"€ 0.00"},{"v":0,"d":"€ 0.00"}]
[null,4985,{"$nulls":7},{"v":0,"d":"€ 0.00"},{"v":0,"d":"€ 0.00"}]
[null,4986,{"$nulls":7},{"v":0,"d":"€ 0.00"},{"v":0,"d":"€ 0.00"}]
[null,4987,{"$nulls":7},{"v":0,"d":"€ 0.00"},{"v":0,"d":"€ 0.00"}]
[null,4988,{"$nulls":7},{"v":0,"d":"€ 0.00"},{"v":0,"d":"€ 0.00"}]
[null,4989,{"$nulls":7},{"v":0,"d":"€ 0.00"},{"v":0,"d":"€ 0.00"}]
[null,4990,{"$nulls":7},{"v":0,"d":"€ 0.00"},{"v":0,"d":"€ 0.00"}]
[null,4991,{"$nulls":7},{"v":0,"d":"€ 0.00"},{"v":0,"d":"€ 0.00"}]
[null,4992,{"$nulls":7},{"v":0,"d":"€ 0.00"},{"v":0,"d":"€ 0.00"}]
[null,4993,{"$nulls":7},{"v":0,"d":"€ 0.00"},{"v":0,"d":"€ 0.00"}]
[null,4994,{"$nulls":7},{"v":0,"d":"€ 0.00"},{"v":0,"d":"€ 0.00"}]
[null,4995,{"$nulls":7},{"v":0,"d":"€ 0.00"},{"v":0,"d":"€ 0.00"}]
[null,4996,{"$nulls":7},{"v":0,"d":"€ 0.00"},{"v":0,"d":"€ 0.00"}]
[null,4997,{"$nulls":7},{"v":0,"d":"€ 0.00"},{"v":0,"d":"€ 0.00"}]
[null,4998,{"$nulls":7},{"v":0,"d":"€ 0.00"},{"v":0,"d":"€ 0.00"}]
[null,4999,{"$nulls":7},{"v":0,"d":"€ 0.00"},{"v":0,"d":"€ 0.00"}]
[null,5000,{"$nulls":7},{"v":0,"d":"€ 0.00"},{"v":0,"d":"€ 0.00"}]
[null,5001,{"$nulls":7},{"v":0,"d":"€ 0.00"},{"v":0,"d":"€ 0.00"}]
[null,5002,{"$nulls":7},{"v":0,"d":"€ 0.00"},{"v":0,"d":"€ 0.00"}]
[null,5003,{"$nulls":7},{"v":0,"d":"€ 0.00"},{"v":0,"d":"€ 0.00"}]
[null,5004,{"$nulls":7},{"v":0,"d":"€ 0.00"},{"v":0,"d":"€ 0.00"}]
[null,5005,{"$nulls":7},{"v":0,"d":"€ 0.00"},{"v":0,"d":"€ 0.00"}]
[null,5006,{"$nulls":7},{"v":0,"d":"€ 0.00"},{"v":0,"d":"€ 0.00"}]
[null,5007,{"$nulls":7},{"v":0,"d":"€ 0.00"},{"v":0,"d":"€ 0.00"}]
[null,5008,{"$nulls":7},{"v":0,"d":"€ 0.00"},{"v":0,"d":"€ 0.00"}]
[null,5009,{"$nulls":7},{"v":0,"d":"€ 0.00"},{"v":0,"d":"€ 0.00"}]
[null,5010,{"$nulls":7},{"v":0,"d":"€ 0.00"},{"v":0,"d":"€ 0.00"}]
[null,5011,{"$nulls":7},{"$f":"IF(OR(ISBLANK(H5018)=TRUE,ISBLANK(I5018)=TRUE),,ROUND(H5018*I5018,2))","v":{"v":0,"d":"€ 0.00"}},{"$f":"G5018+J5018","v":{"v":0,"d":"€ 0.00"}}]
[null,5012,{"$nulls":7},{"v":0,"d":"€ 0.00"},{"v":0,"d":"€ 0.00"}]
[null,5013,{"$nulls":7},{"v":0,"d":"€ 0.00"},{"v":0,"d":"€ 0.00"}]
[null,5014,{"$nulls":7},{"v":0,"d":"€ 0.00"},{"v":0,"d":"€ 0.00"}]
[null,5015,{"$nulls":7},{"v":0,"d":"€ 0.00"},{"v":0,"d":"€ 0.00"}]
[null,5016,{"$nulls":7},{"v":0,"d":"€ 0.00"},{"v":0,"d":"€ 0.00"}]
[null,5017,{"$nulls":7},{"v":0,"d":"€ 0.00"},{"v":0,"d":"€ 0.00"}]
[null,5018,{"$nulls":7},{"v":0,"d":"€ 0.00"},{"v":0,"d":"€ 0.00"}]
[null,5019,{"$nulls":7},{"v":0,"d":"€ 0.00"},{"v":0,"d":"€ 0.00"}]
[null,5020,{"$nulls":7},{"v":0,"d":"€ 0.00"},{"v":0,"d":"€ 0.00"}]
[null,5021,{"$nulls":7},{"v":0,"d":"€ 0.00"},{"v":0,"d":"€ 0.00"}]
[null,5022,{"$nulls":7},{"v":0,"d":"€ 0.00"},{"v":0,"d":"€ 0.00"}]
[null,5023,{"$nulls":7},{"v":0,"d":"€ 0.00"},{"v":0,"d":"€ 0.00"}]
[null,5024,{"$nulls":7},{"v":0,"d":"€ 0.00"},{"v":0,"d":"€ 0.00"}]
[null,5025,{"$nulls":7},{"v":0,"d":"€ 0.00"},{"v":0,"d":"€ 0.00"}]
[null,5026,{"$nulls":7},{"v":0,"d":"€ 0.00"},{"v":0,"d":"€ 0.00"}]
[null,5027,{"$nulls":7},{"v":0,"d":"€ 0.00"},{"v":0,"d":"€ 0.00"}]
[null,5028,{"$nulls":7},{"v":0,"d":"€ 0.00"},{"v":0,"d":"€ 0.00"}]
[null,5029,{"$nulls":7},{"v":0,"d":"€ 0.00"},{"v":0,"d":"€ 0.00"}]
[null,5030,{"$nulls":7},{"v":0,"d":"€ 0.00"},{"v":0,"d":"€ 0.00"}]
[null,5031,{"$nulls":7},{"v":0,"d":"€ 0.00"},{"v":0,"d":"€ 0.00"}]
[null,5032,{"$nulls":7},{"v":0,"d":"€ 0.00"},{"v":0,"d":"€ 0.00"}]
[null,5033,{"$nulls":7},{"v":0,"d":"€ 0.00"},{"v":0,"d":"€ 0.00"}]
[null,5034,{"$nulls":7},{"v":0,"d":"€ 0.00"},{"v":0,"d":"€ 0.00"}]
[null,5035,{"$nulls":7},{"v":0,"d":"€ 0.00"},{"v":0,"d":"€ 0.00"}]
[null,5036,{"$nulls":7},{"v":0,"d":"€ 0.00"},{"v":0,"d":"€ 0.00"}]
[null,5037,{"$nulls":7},{"v":0,"d":"€ 0.00"},{"v":0,"d":"€ 0.00"}]
[null,5038,{"$nulls":7},{"v":0,"d":"€ 0.00"},{"v":0,"d":"€ 0.00"}]
[null,5039,{"$nulls":7},{"v":0,"d":"€ 0.00"},{"v":0,"d":"€ 0.00"}]
[null,5040,{"$nulls":7},{"v":0,"d":"€ 0.00"},{"v":0,"d":"€ 0.00"}]
[null,5041,{"$nulls":7},{"v":0,"d":"€ 0.00"},{"v":0,"d":"€ 0.00"}]
[null,5042,{"$nulls":7},{"v":0,"d":"€ 0.00"},{"v":0,"d":"€ 0.00"}]
[null,5043,{"$nulls":7},{"v":0,"d":"€ 0.00"},{"v":0,"d":"€ 0.00"}]
[null,5044,{"$nulls":7},{"v":0,"d":"€ 0.00"},{"v":0,"d":"€ 0.00"}]
[null,5045,{"$nulls":7},{"v":0,"d":"€ 0.00"},{"v":0,"d":"€ 0.00"}]
[null,5046,{"$nulls":7},{"v":0,"d":"€ 0.00"},{"v":0,"d":"€ 0.00"}]
[null,5047,{"$nulls":7},{"v":0,"d":"€ 0.00"},{"v":0,"d":"€ 0.00"}]
[null,5048,{"$nulls":7},{"v":0,"d":"€ 0.00"},{"v":0,"d":"€ 0.00"}]
[null,5049,{"$nulls":7},{"v":0,"d":"€ 0.00"},{"v":0,"d":"€ 0.00"}]
[null,5050,{"$nulls":7},{"v":0,"d":"€ 0.00"},{"v":0,"d":"€ 0.00"}]
[null,5051,{"$nulls":7},{"v":0,"d":"€ 0.00"},{"v":0,"d":"€ 0.00"}]
[null,5052,{"$nulls":7},{"v":0,"d":"€ 0.00"},{"v":0,"d":"€ 0.00"}]
[null,5053,{"$nulls":7},{"v":0,"d":"€ 0.00"},{"v":0,"d":"€ 0.00"}]
[null,5054,{"$nulls":7},{"v":0,"d":"€ 0.00"},{"v":0,"d":"€ 0.00"}]
[null,5055,{"$nulls":7},{"v":0,"d":"€ 0.00"},{"v":0,"d":"€ 0.00"}]
[null,5056,{"$nulls":7},{"v":0,"d":"€ 0.00"},{"v":0,"d":"€ 0.00"}]
[null,5057,{"$nulls":7},{"v":0,"d":"€ 0.00"},{"v":0,"d":"€ 0.00"}]
[null,5058,{"$nulls":7},{"v":0,"d":"€ 0.00"},{"v":0,"d":"€ 0.00"}]
[null,5059,{"$nulls":7},{"v":0,"d":"€ 0.00"},{"v":0,"d":"€ 0.00"}]
[null,5060,{"$nulls":7},{"v":0,"d":"€ 0.00"},{"v":0,"d":"€ 0.00"}]
[null,5061,{"$nulls":7},{"v":0,"d":"€ 0.00"},{"v":0,"d":"€ 0.00"}]
[null,5062,{"$nulls":7},{"v":0,"d":"€ 0.00"},{"v":0,"d":"€ 0.00"}]
[null,5063,{"$nulls":7},{"v":0,"d":"€ 0.00"},{"v":0,"d":"€ 0.00"}]
[null,5064,{"$nulls":7},{"v":0,"d":"€ 0.00"},{"v":0,"d":"€ 0.00"}]
[null,5065,{"$nulls":7},{"v":0,"d":"€ 0.00"},{"v":0,"d":"€ 0.00"}]
[null,5066,{"$nulls":7},{"v":0,"d":"€ 0.00"},{"v":0,"d":"€ 0.00"}]
[null,5067,{"$nulls":7},{"v":0,"d":"€ 0.00"},{"v":0,"d":"€ 0.00"}]
[null,5068,{"$nulls":7},{"v":0,"d":"€ 0.00"},{"v":0,"d":"€ 0.00"}]
[null,5069,{"$nulls":7},{"v":0,"d":"€ 0.00"},{"v":0,"d":"€ 0.00"}]
[null,5070,{"$nulls":7},{"v":0,"d":"€ 0.00"},{"v":0,"d":"€ 0.00"}]
[null,5071,{"$nulls":7},{"v":0,"d":"€ 0.00"},{"v":0,"d":"€ 0.00"}]
[null,5072,{"$nulls":7},{"v":0,"d":"€ 0.00"},{"v":0,"d":"€ 0.00"}]
[null,5073,{"$nulls":7},{"v":0,"d":"€ 0.00"},{"v":0,"d":"€ 0.00"}]
[null,5074,{"$nulls":7},{"v":0,"d":"€ 0.00"},{"v":0,"d":"€ 0.00"}]
[null,5075,{"$nulls":7},{"$f":"IF(OR(ISBLANK(H5082)=TRUE,ISBLANK(I5082)=TRUE),,ROUND(H5082*I5082,2))","v":{"v":0,"d":"€ 0.00"}},{"$f":"G5082+J5082","v":{"v":0,"d":"€ 0.00"}}]
[null,5076,{"$nulls":7},{"v":0,"d":"€ 0.00"},{"v":0,"d":"€ 0.00"}]
[null,5077,{"$nulls":7},{"v":0,"d":"€ 0.00"},{"v":0,"d":"€ 0.00"}]
[null,5078,{"$nulls":7},{"v":0,"d":"€ 0.00"},{"v":0,"d":"€ 0.00"}]
[null,5079,{"$nulls":7},{"v":0,"d":"€ 0.00"},{"v":0,"d":"€ 0.00"}]
[null,5080,{"$nulls":7},{"v":0,"d":"€ 0.00"},{"v":0,"d":"€ 0.00"}]
[null,5081,{"$nulls":7},{"v":0,"d":"€ 0.00"},{"v":0,"d":"€ 0.00"}]
[null,5082,{"$nulls":7},{"v":0,"d":"€ 0.00"},{"v":0,"d":"€ 0.00"}]
[null,5083,{"$nulls":7},{"v":0,"d":"€ 0.00"},{"v":0,"d":"€ 0.00"}]
[null,5084,{"$nulls":7},{"v":0,"d":"€ 0.00"},{"v":0,"d":"€ 0.00"}]
[null,5085,{"$nulls":7},{"v":0,"d":"€ 0.00"},{"v":0,"d":"€ 0.00"}]
[null,5086,{"$nulls":7},{"v":0,"d":"€ 0.00"},{"v":0,"d":"€ 0.00"}]
[null,5087,{"$nulls":7},{"v":0,"d":"€ 0.00"},{"v":0,"d":"€ 0.00"}]
[null,5088,{"$nulls":7},{"v":0,"d":"€ 0.00"},{"v":0,"d":"€ 0.00"}]
[null,5089,{"$nulls":7},{"v":0,"d":"€ 0.00"},{"v":0,"d":"€ 0.00"}]
[null,5090,{"$nulls":7},{"v":0,"d":"€ 0.00"},{"v":0,"d":"€ 0.00"}]
[null,5091,{"$nulls":7},{"v":0,"d":"€ 0.00"},{"v":0,"d":"€ 0.00"}]
[null,5092,{"$nulls":7},{"v":0,"d":"€ 0.00"},{"v":0,"d":"€ 0.00"}]
[null,5093,{"$nulls":7},{"v":0,"d":"€ 0.00"},{"v":0,"d":"€ 0.00"}]
[null,5094,{"$nulls":7},{"v":0,"d":"€ 0.00"},{"v":0,"d":"€ 0.00"}]
[null,5095,{"$nulls":7},{"v":0,"d":"€ 0.00"},{"v":0,"d":"€ 0.00"}]
[null,5096,{"$nulls":7},{"v":0,"d":"€ 0.00"},{"v":0,"d":"€ 0.00"}]
[null,5097,{"$nulls":7},{"v":0,"d":"€ 0.00"},{"v":0,"d":"€ 0.00"}]
[null,5098,{"$nulls":7},{"v":0,"d":"€ 0.00"},{"v":0,"d":"€ 0.00"}]
[null,5099,{"$nulls":7},{"v":0,"d":"€ 0.00"},{"v":0,"d":"€ 0.00"}]
[null,5100,{"$nulls":7},{"v":0,"d":"€ 0.00"},{"v":0,"d":"€ 0.00"}]
[null,5101,{"$nulls":7},{"v":0,"d":"€ 0.00"},{"v":0,"d":"€ 0.00"}]
[null,5102,{"$nulls":7},{"v":0,"d":"€ 0.00"},{"v":0,"d":"€ 0.00"}]
[null,5103,{"$nulls":7},{"v":0,"d":"€ 0.00"},{"v":0,"d":"€ 0.00"}]
[null,5104,{"$nulls":7},{"v":0,"d":"€ 0.00"},{"v":0,"d":"€ 0.00"}]
[null,5105,{"$nulls":7},{"v":0,"d":"€ 0.00"},{"v":0,"d":"€ 0.00"}]
[null,5106,{"$nulls":7},{"v":0,"d":"€ 0.00"},{"v":0,"d":"€ 0.00"}]
[null,5107,{"$nulls":7},{"v":0,"d":"€ 0.00"},{"v":0,"d":"€ 0.00"}]
[null,5108,{"$nulls":7},{"v":0,"d":"€ 0.00"},{"v":0,"d":"€ 0.00"}]
[null,5109,{"$nulls":7},{"v":0,"d":"€ 0.00"},{"v":0,"d":"€ 0.00"}]
[null,5110,{"$nulls":7},{"v":0,"d":"€ 0.00"},{"v":0,"d":"€ 0.00"}]
[null,5111,{"$nulls":7},{"v":0,"d":"€ 0.00"},{"v":0,"d":"€ 0.00"}]
[null,5112,{"$nulls":7},{"v":0,"d":"€ 0.00"},{"v":0,"d":"€ 0.00"}]
[null,5113,{"$nulls":7},{"v":0,"d":"€ 0.00"},{"v":0,"d":"€ 0.00"}]
[null,5114,{"$nulls":7},{"v":0,"d":"€ 0.00"},{"v":0,"d":"€ 0.00"}]
[null,5115,{"$nulls":7},{"v":0,"d":"€ 0.00"},{"v":0,"d":"€ 0.00"}]
[null,5116,{"$nulls":7},{"v":0,"d":"€ 0.00"},{"v":0,"d":"€ 0.00"}]
[null,5117,{"$nulls":7},{"v":0,"d":"€ 0.00"},{"v":0,"d":"€ 0.00"}]
[null,5118,{"$nulls":7},{"v":0,"d":"€ 0.00"},{"v":0,"d":"€ 0.00"}]
[null,5119,{"$nulls":7},{"v":0,"d":"€ 0.00"},{"v":0,"d":"€ 0.00"}]
[null,5120,{"$nulls":7},{"v":0,"d":"€ 0.00"},{"v":0,"d":"€ 0.00"}]
[null,5121,{"$nulls":7},{"v":0,"d":"€ 0.00"},{"v":0,"d":"€ 0.00"}]
[null,5122,{"$nulls":7},{"v":0,"d":"€ 0.00"},{"v":0,"d":"€ 0.00"}]
[null,5123,{"$nulls":7},{"v":0,"d":"€ 0.00"},{"v":0,"d":"€ 0.00"}]
[null,5124,{"$nulls":7},{"v":0,"d":"€ 0.00"},{"v":0,"d":"€ 0.00"}]
[null,5125,{"$nulls":7},{"v":0,"d":"€ 0.00"},{"v":0,"d":"€ 0.00"}]
[null,5126,{"$nulls":7},{"v":0,"d":"€ 0.00"},{"v":0,"d":"€ 0.00"}]
[null,5127,{"$nulls":7},{"v":0,"d":"€ 0.00"},{"v":0,"d":"€ 0.00"}]
[null,5128,{"$nulls":7},{"v":0,"d":"€ 0.00"},{"v":0,"d":"€ 0.00"}]
[null,5129,{"$nulls":7},{"v":0,"d":"€ 0.00"},{"v":0,"d":"€ 0.00"}]
[null,5130,{"$nulls":7},{"v":0,"d":"€ 0.00"},{"v":0,"d":"€ 0.00"}]
[null,5131,{"$nulls":7},{"v":0,"d":"€ 0.00"},{"v":0,"d":"€ 0.00"}]
[null,5132,{"$nulls":7},{"v":0,"d":"€ 0.00"},{"v":0,"d":"€ 0.00"}]
[null,5133,{"$nulls":7},{"v":0,"d":"€ 0.00"},{"v":0,"d":"€ 0.00"}]
[null,5134,{"$nulls":7},{"v":0,"d":"€ 0.00"},{"v":0,"d":"€ 0.00"}]
[null,5135,{"$nulls":7},{"v":0,"d":"€ 0.00"},{"v":0,"d":"€ 0.00"}]
[null,5136,{"$nulls":7},{"v":0,"d":"€ 0.00"},{"v":0,"d":"€ 0.00"}]
[null,5137,{"$nulls":7},{"v":0,"d":"€ 0.00"},{"v":0,"d":"€ 0.00"}]
[null,5138,{"$nulls":7},{"v":0,"d":"€ 0.00"},{"v":0,"d":"€ 0.00"}]
[null,5139,{"$nulls":7},{"$f":"IF(OR(ISBLANK(H5146)=TRUE,ISBLANK(I5146)=TRUE),,ROUND(H5146*I5146,2))","v":{"v":0,"d":"€ 0.00"}},{"$f":"G5146+J5146","v":{"v":0,"d":"€ 0.00"}}]
[null,5140,{"$nulls":7},{"v":0,"d":"€ 0.00"},{"v":0,"d":"€ 0.00"}]
[null,5141,{"$nulls":7},{"v":0,"d":"€ 0.00"},{"v":0,"d":"€ 0.00"}]
[null,5142,{"$nulls":7},{"v":0,"d":"€ 0.00"},{"v":0,"d":"€ 0.00"}]
[null,5143,{"$nulls":7},{"v":0,"d":"€ 0.00"},{"v":0,"d":"€ 0.00"}]
[null,5144,{"$nulls":7},{"v":0,"d":"€ 0.00"},{"v":0,"d":"€ 0.00"}]
[null,5145,{"$nulls":7},{"v":0,"d":"€ 0.00"},{"v":0,"d":"€ 0.00"}]
[null,5146,{"$nulls":7},{"v":0,"d":"€ 0.00"},{"v":0,"d":"€ 0.00"}]
[null,5147,{"$nulls":7},{"v":0,"d":"€ 0.00"},{"v":0,"d":"€ 0.00"}]
[null,5148,{"$nulls":7},{"v":0,"d":"€ 0.00"},{"v":0,"d":"€ 0.00"}]
[null,5149,{"$nulls":7},{"v":0,"d":"€ 0.00"},{"v":0,"d":"€ 0.00"}]
[null,5150,{"$nulls":7},{"v":0,"d":"€ 0.00"},{"v":0,"d":"€ 0.00"}]
[null,5151,{"$nulls":7},{"v":0,"d":"€ 0.00"},{"v":0,"d":"€ 0.00"}]
[null,5152,{"$nulls":7},{"v":0,"d":"€ 0.00"},{"v":0,"d":"€ 0.00"}]
[null,5153,{"$nulls":7},{"v":0,"d":"€ 0.00"},{"v":0,"d":"€ 0.00"}]
[null,5154,{"$nulls":7},{"v":0,"d":"€ 0.00"},{"v":0,"d":"€ 0.00"}]
[null,5155,{"$nulls":7},{"v":0,"d":"€ 0.00"},{"v":0,"d":"€ 0.00"}]
[null,5156,{"$nulls":7},{"v":0,"d":"€ 0.00"},{"v":0,"d":"€ 0.00"}]
[null,5157,{"$nulls":7},{"v":0,"d":"€ 0.00"},{"v":0,"d":"€ 0.00"}]
[null,5158,{"$nulls":7},{"v":0,"d":"€ 0.00"},{"v":0,"d":"€ 0.00"}]
[null,5159,{"$nulls":7},{"v":0,"d":"€ 0.00"},{"v":0,"d":"€ 0.00"}]
[null,5160,{"$nulls":7},{"v":0,"d":"€ 0.00"},{"v":0,"d":"€ 0.00"}]
[null,5161,{"$nulls":7},{"v":0,"d":"€ 0.00"},{"v":0,"d":"€ 0.00"}]
[null,5162,{"$nulls":7},{"v":0,"d":"€ 0.00"},{"v":0,"d":"€ 0.00"}]
[null,5163,{"$nulls":7},{"v":0,"d":"€ 0.00"},{"v":0,"d":"€ 0.00"}]
[null,5164,{"$nulls":7},{"v":0,"d":"€ 0.00"},{"v":0,"d":"€ 0.00"}]
[null,5165,{"$nulls":7},{"v":0,"d":"€ 0.00"},{"v":0,"d":"€ 0.00"}]
[null,5166,{"$nulls":7},{"v":0,"d":"€ 0.00"},{"v":0,"d":"€ 0.00"}]
[null,5167,{"$nulls":7},{"v":0,"d":"€ 0.00"},{"v":0,"d":"€ 0.00"}]
[null,5168,{"$nulls":7},{"v":0,"d":"€ 0.00"},{"v":0,"d":"€ 0.00"}]
[null,5169,{"$nulls":7},{"v":0,"d":"€ 0.00"},{"v":0,"d":"€ 0.00"}]
[null,5170,{"$nulls":7},{"v":0,"d":"€ 0.00"},{"v":0,"d":"€ 0.00"}]
[null,5171,{"$nulls":7},{"v":0,"d":"€ 0.00"},{"v":0,"d":"€ 0.00"}]
[null,5172,{"$nulls":7},{"v":0,"d":"€ 0.00"},{"v":0,"d":"€ 0.00"}]
[null,5173,{"$nulls":7},{"v":0,"d":"€ 0.00"},{"v":0,"d":"€ 0.00"}]
[null,5174,{"$nulls":7},{"v":0,"d":"€ 0.00"},{"v":0,"d":"€ 0.00"}]
[null,5175,{"$nulls":7},{"v":0,"d":"€ 0.00"},{"v":0,"d":"€ 0.00"}]
[null,5176,{"$nulls":7},{"v":0,"d":"€ 0.00"},{"v":0,"d":"€ 0.00"}]
[null,5177,{"$nulls":7},{"v":0,"d":"€ 0.00"},{"v":0,"d":"€ 0.00"}]
[null,5178,{"$nulls":7},{"v":0,"d":"€ 0.00"},{"v":0,"d":"€ 0.00"}]
[null,5179,{"$nulls":7},{"v":0,"d":"€ 0.00"},{"v":0,"d":"€ 0.00"}]
[null,5180,{"$nulls":7},{"v":0,"d":"€ 0.00"},{"v":0,"d":"€ 0.00"}]
[null,5181,{"$nulls":7},{"v":0,"d":"€ 0.00"},{"v":0,"d":"€ 0.00"}]
[null,5182,{"$nulls":7},{"v":0,"d":"€ 0.00"},{"v":0,"d":"€ 0.00"}]
[null,5183,{"$nulls":7},{"v":0,"d":"€ 0.00"},{"v":0,"d":"€ 0.00"}]
[null,5184,{"$nulls":7},{"v":0,"d":"€ 0.00"},{"v":0,"d":"€ 0.00"}]
[null,5185,{"$nulls":7},{"v":0,"d":"€ 0.00"},{"v":0,"d":"€ 0.00"}]
[null,5186,{"$nulls":7},{"v":0,"d":"€ 0.00"},{"v":0,"d":"€ 0.00"}]
[null,5187,{"$nulls":7},{"v":0,"d":"€ 0.00"},{"v":0,"d":"€ 0.00"}]
[null,5188,{"$nulls":7},{"v":0,"d":"€ 0.00"},{"v":0,"d":"€ 0.00"}]
[null,5189,{"$nulls":7},{"v":0,"d":"€ 0.00"},{"v":0,"d":"€ 0.00"}]
[null,5190,{"$nulls":7},{"v":0,"d":"€ 0.00"},{"v":0,"d":"€ 0.00"}]
[null,5191,{"$nulls":7},{"v":0,"d":"€ 0.00"},{"v":0,"d":"€ 0.00"}]
[null,5192,{"$nulls":7},{"v":0,"d":"€ 0.00"},{"v":0,"d":"€ 0.00"}]
[null,5193,{"$nulls":7},{"v":0,"d":"€ 0.00"},{"v":0,"d":"€ 0.00"}]
[null,5194,{"$nulls":7},{"v":0,"d":"€ 0.00"},{"v":0,"d":"€ 0.00"}]
[null,5195,{"$nulls":7},{"v":0,"d":"€ 0.00"},{"v":0,"d":"€ 0.00"}]
[null,5196,{"$nulls":7},{"v":0,"d":"€ 0.00"},{"v":0,"d":"€ 0.00"}]
[null,5197,{"$nulls":7},{"v":0,"d":"€ 0.00"},{"v":0,"d":"€ 0.00"}]
[null,5198,{"$nulls":7},{"v":0,"d":"€ 0.00"},{"v":0,"d":"€ 0.00"}]
[null,5199,{"$nulls":7},{"v":0,"d":"€ 0.00"},{"v":0,"d":"€ 0.00"}]
[null,5200,{"$nulls":7},{"v":0,"d":"€ 0.00"},{"v":0,"d":"€ 0.00"}]
[null,5201,{"$nulls":7},{"v":0,"d":"€ 0.00"},{"v":0,"d":"€ 0.00"}]
[null,5202,{"$nulls":7},{"v":0,"d":"€ 0.00"},{"v":0,"d":"€ 0.00"}]
[null,5203,{"$nulls":7},{"$f":"IF(OR(ISBLANK(H5210)=TRUE,ISBLANK(I5210)=TRUE),,ROUND(H5210*I5210,2))","v":{"v":0,"d":"€ 0.00"}},{"$f":"G5210+J5210","v":{"v":0,"d":"€ 0.00"}}]
[null,5204,{"$nulls":7},{"v":0,"d":"€ 0.00"},{"v":0,"d":"€ 0.00"}]
[null,5205,{"$nulls":7},{"v":0,"d":"€ 0.00"},{"v":0,"d":"€ 0.00"}]
[null,5206,{"$nulls":7},{"v":0,"d":"€ 0.00"},{"v":0,"d":"€ 0.00"}]
[null,5207,{"$nulls":7},{"v":0,"d":"€ 0.00"},{"v":0,"d":"€ 0.00"}]
[null,5208,{"$nulls":7},{"v":0,"d":"€ 0.00"},{"v":0,"d":"€ 0.00"}]
[null,5209,{"$nulls":7},{"v":0,"d":"€ 0.00"},{"v":0,"d":"€ 0.00"}]
[null,5210,{"$nulls":7},{"v":0,"d":"€ 0.00"},{"v":0,"d":"€ 0.00"}]
[null,5211,{"$nulls":7},{"v":0,"d":"€ 0.00"},{"v":0,"d":"€ 0.00"}]
[null,5212,{"$nulls":7},{"v":0,"d":"€ 0.00"},{"v":0,"d":"€ 0.00"}]
[null,5213,{"$nulls":7},{"v":0,"d":"€ 0.00"},{"v":0,"d":"€ 0.00"}]
[null,5214,{"$nulls":7},{"v":0,"d":"€ 0.00"},{"v":0,"d":"€ 0.00"}]
[null,5215,{"$nulls":7},{"v":0,"d":"€ 0.00"},{"v":0,"d":"€ 0.00"}]
[null,5216,{"$nulls":7},{"v":0,"d":"€ 0.00"},{"v":0,"d":"€ 0.00"}]
[null,5217,{"$nulls":7},{"v":0,"d":"€ 0.00"},{"v":0,"d":"€ 0.00"}]
[null,5218,{"$nulls":7},{"v":0,"d":"€ 0.00"},{"v":0,"d":"€ 0.00"}]
[null,5219,{"$nulls":7},{"v":0,"d":"€ 0.00"},{"v":0,"d":"€ 0.00"}]
[null,5220,{"$nulls":7},{"v":0,"d":"€ 0.00"},{"v":0,"d":"€ 0.00"}]
[null,5221,{"$nulls":7},{"v":0,"d":"€ 0.00"},{"v":0,"d":"€ 0.00"}]
[null,5222,{"$nulls":7},{"v":0,"d":"€ 0.00"},{"v":0,"d":"€ 0.00"}]
[null,5223,{"$nulls":7},{"v":0,"d":"€ 0.00"},{"v":0,"d":"€ 0.00"}]
[null,5224,{"$nulls":7},{"v":0,"d":"€ 0.00"},{"v":0,"d":"€ 0.00"}]
[null,5225,{"$nulls":7},{"v":0,"d":"€ 0.00"},{"v":0,"d":"€ 0.00"}]
[null,5226,{"$nulls":7},{"v":0,"d":"€ 0.00"},{"v":0,"d":"€ 0.00"}]
[null,5227,{"$nulls":7},{"v":0,"d":"€ 0.00"},{"v":0,"d":"€ 0.00"}]
[null,5228,{"$nulls":7},{"v":0,"d":"€ 0.00"},{"v":0,"d":"€ 0.00"}]
[null,5229,{"$nulls":7},{"v":0,"d":"€ 0.00"},{"v":0,"d":"€ 0.00"}]
[null,5230,{"$nulls":7},{"v":0,"d":"€ 0.00"},{"v":0,"d":"€ 0.00"}]
[null,5231,{"$nulls":7},{"v":0,"d":"€ 0.00"},{"v":0,"d":"€ 0.00"}]
[null,5232,{"$nulls":7},{"v":0,"d":"€ 0.00"},{"v":0,"d":"€ 0.00"}]
[null,5233,{"$nulls":7},{"v":0,"d":"€ 0.00"},{"v":0,"d":"€ 0.00"}]
[null,5234,{"$nulls":7},{"v":0,"d":"€ 0.00"},{"v":0,"d":"€ 0.00"}]
[null,5235,{"$nulls":7},{"v":0,"d":"€ 0.00"},{"v":0,"d":"€ 0.00"}]
[null,5236,{"$nulls":7},{"v":0,"d":"€ 0.00"},{"v":0,"d":"€ 0.00"}]
[null,5237,{"$nulls":7},{"v":0,"d":"€ 0.00"},{"v":0,"d":"€ 0.00"}]
[null,5238,{"$nulls":7},{"v":0,"d":"€ 0.00"},{"v":0,"d":"€ 0.00"}]
[null,5239,{"$nulls":7},{"v":0,"d":"€ 0.00"},{"v":0,"d":"€ 0.00"}]
[null,5240,{"$nulls":7},{"v":0,"d":"€ 0.00"},{"v":0,"d":"€ 0.00"}]
[null,5241,{"$nulls":7},{"v":0,"d":"€ 0.00"},{"v":0,"d":"€ 0.00"}]
[null,5242,{"$nulls":7},{"v":0,"d":"€ 0.00"},{"v":0,"d":"€ 0.00"}]
[null,5243,{"$nulls":7},{"v":0,"d":"€ 0.00"},{"v":0,"d":"€ 0.00"}]
[null,5244,{"$nulls":7},{"v":0,"d":"€ 0.00"},{"v":0,"d":"€ 0.00"}]
[null,5245,{"$nulls":7},{"v":0,"d":"€ 0.00"},{"v":0,"d":"€ 0.00"}]
[null,5246,{"$nulls":7},{"v":0,"d":"€ 0.00"},{"v":0,"d":"€ 0.00"}]
[null,5247,{"$nulls":7},{"v":0,"d":"€ 0.00"},{"v":0,"d":"€ 0.00"}]
[null,5248,{"$nulls":7},{"v":0,"d":"€ 0.00"},{"v":0,"d":"€ 0.00"}]
[null,5249,{"$nulls":7},{"v":0,"d":"€ 0.00"},{"v":0,"d":"€ 0.00"}]
[null,5250,{"$nulls":7},{"v":0,"d":"€ 0.00"},{"v":0,"d":"€ 0.00"}]
[null,5251,{"$nulls":7},{"v":0,"d":"€ 0.00"},{"v":0,"d":"€ 0.00"}]
[null,5252,{"$nulls":7},{"v":0,"d":"€ 0.00"},{"v":0,"d":"€ 0.00"}]
[null,5253,{"$nulls":7},{"v":0,"d":"€ 0.00"},{"v":0,"d":"€ 0.00"}]
[null,5254,{"$nulls":7},{"v":0,"d":"€ 0.00"},{"v":0,"d":"€ 0.00"}]
[null,5255,{"$nulls":7},{"v":0,"d":"€ 0.00"},{"v":0,"d":"€ 0.00"}]
[null,5256,{"$nulls":7},{"v":0,"d":"€ 0.00"},{"v":0,"d":"€ 0.00"}]
[null,5257,{"$nulls":7},{"v":0,"d":"€ 0.00"},{"v":0,"d":"€ 0.00"}]
[null,5258,{"$nulls":7},{"v":0,"d":"€ 0.00"},{"v":0,"d":"€ 0.00"}]
[null,5259,{"$nulls":7},{"v":0,"d":"€ 0.00"},{"v":0,"d":"€ 0.00"}]
[null,5260,{"$nulls":7},{"v":0,"d":"€ 0.00"},{"v":0,"d":"€ 0.00"}]
[null,5261,{"$nulls":7},{"v":0,"d":"€ 0.00"},{"v":0,"d":"€ 0.00"}]
[null,5262,{"$nulls":7},{"v":0,"d":"€ 0.00"},{"v":0,"d":"€ 0.00"}]
[null,5263,{"$nulls":7},{"v":0,"d":"€ 0.00"},{"v":0,"d":"€ 0.00"}]
[null,5264,{"$nulls":7},{"v":0,"d":"€ 0.00"},{"v":0,"d":"€ 0.00"}]
[null,5265,{"$nulls":7},{"v":0,"d":"€ 0.00"},{"v":0,"d":"€ 0.00"}]
[null,5266,{"$nulls":7},{"v":0,"d":"€ 0.00"},{"v":0,"d":"€ 0.00"}]
[null,5267,{"$nulls":7},{"$f":"IF(OR(ISBLANK(H5274)=TRUE,ISBLANK(I5274)=TRUE),,ROUND(H5274*I5274,2))","v":{"v":0,"d":"€ 0.00"}},{"$f":"G5274+J5274","v":{"v":0,"d":"€ 0.00"}}]
[null,5268,{"$nulls":7},{"v":0,"d":"€ 0.00"},{"v":0,"d":"€ 0.00"}]
[null,5269,{"$nulls":7},{"v":0,"d":"€ 0.00"},{"v":0,"d":"€ 0.00"}]
[null,5270,{"$nulls":7},{"v":0,"d":"€ 0.00"},{"v":0,"d":"€ 0.00"}]
[null,5271,{"$nulls":7},{"v":0,"d":"€ 0.00"},{"v":0,"d":"€ 0.00"}]
[null,5272,{"$nulls":7},{"v":0,"d":"€ 0.00"},{"v":0,"d":"€ 0.00"}]
[null,5273,{"$nulls":7},{"v":0,"d":"€ 0.00"},{"v":0,"d":"€ 0.00"}]
[null,5274,{"$nulls":7},{"v":0,"d":"€ 0.00"},{"v":0,"d":"€ 0.00"}]
[null,5275,{"$nulls":7},{"v":0,"d":"€ 0.00"},{"v":0,"d":"€ 0.00"}]
[null,5276,{"$nulls":7},{"v":0,"d":"€ 0.00"},{"v":0,"d":"€ 0.00"}]
[null,5277,{"$nulls":7},{"v":0,"d":"€ 0.00"},{"v":0,"d":"€ 0.00"}]
[null,5278,{"$nulls":7},{"v":0,"d":"€ 0.00"},{"v":0,"d":"€ 0.00"}]
[null,5279,{"$nulls":7},{"v":0,"d":"€ 0.00"},{"v":0,"d":"€ 0.00"}]
[null,5280,{"$nulls":7},{"v":0,"d":"€ 0.00"},{"v":0,"d":"€ 0.00"}]
[null,5281,{"$nulls":7},{"v":0,"d":"€ 0.00"},{"v":0,"d":"€ 0.00"}]
[null,5282,{"$nulls":7},{"v":0,"d":"€ 0.00"},{"v":0,"d":"€ 0.00"}]
[null,5283,{"$nulls":7},{"v":0,"d":"€ 0.00"},{"v":0,"d":"€ 0.00"}]
[null,5284,{"$nulls":7},{"v":0,"d":"€ 0.00"},{"v":0,"d":"€ 0.00"}]
[null,5285,{"$nulls":7},{"v":0,"d":"€ 0.00"},{"v":0,"d":"€ 0.00"}]
[null,5286,{"$nulls":7},{"v":0,"d":"€ 0.00"},{"v":0,"d":"€ 0.00"}]
[null,5287,{"$nulls":7},{"v":0,"d":"€ 0.00"},{"v":0,"d":"€ 0.00"}]
[null,5288,{"$nulls":7},{"v":0,"d":"€ 0.00"},{"v":0,"d":"€ 0.00"}]
[null,5289,{"$nulls":7},{"v":0,"d":"€ 0.00"},{"v":0,"d":"€ 0.00"}]
[null,5290,{"$nulls":7},{"v":0,"d":"€ 0.00"},{"v":0,"d":"€ 0.00"}]
[null,5291,{"$nulls":7},{"v":0,"d":"€ 0.00"},{"v":0,"d":"€ 0.00"}]
[null,5292,{"$nulls":7},{"v":0,"d":"€ 0.00"},{"v":0,"d":"€ 0.00"}]
[null,5293,{"$nulls":7},{"v":0,"d":"€ 0.00"},{"v":0,"d":"€ 0.00"}]
[null,5294,{"$nulls":7},{"v":0,"d":"€ 0.00"},{"v":0,"d":"€ 0.00"}]
[null,5295,{"$nulls":7},{"v":0,"d":"€ 0.00"},{"v":0,"d":"€ 0.00"}]
[null,5296,{"$nulls":7},{"v":0,"d":"€ 0.00"},{"v":0,"d":"€ 0.00"}]
[null,5297,{"$nulls":7},{"v":0,"d":"€ 0.00"},{"v":0,"d":"€ 0.00"}]
[null,5298,{"$nulls":7},{"v":0,"d":"€ 0.00"},{"v":0,"d":"€ 0.00"}]
[null,5299,{"$nulls":7},{"v":0,"d":"€ 0.00"},{"v":0,"d":"€ 0.00"}]
[null,5300,{"$nulls":7},{"v":0,"d":"€ 0.00"},{"v":0,"d":"€ 0.00"}]
[null,5301,{"$nulls":7},{"v":0,"d":"€ 0.00"},{"v":0,"d":"€ 0.00"}]
[null,5302,{"$nulls":7},{"v":0,"d":"€ 0.00"},{"v":0,"d":"€ 0.00"}]
[null,5303,{"$nulls":7},{"v":0,"d":"€ 0.00"},{"v":0,"d":"€ 0.00"}]
[null,5304,{"$nulls":7},{"v":0,"d":"€ 0.00"},{"v":0,"d":"€ 0.00"}]
[null,5305,{"$nulls":7},{"v":0,"d":"€ 0.00"},{"v":0,"d":"€ 0.00"}]
[null,5306,{"$nulls":7},{"v":0,"d":"€ 0.00"},{"v":0,"d":"€ 0.00"}]
[null,5307,{"$nulls":7},{"v":0,"d":"€ 0.00"},{"v":0,"d":"€ 0.00"}]
[null,5308,{"$nulls":7},{"v":0,"d":"€ 0.00"},{"v":0,"d":"€ 0.00"}]
[null,5309,{"$nulls":7},{"v":0,"d":"€ 0.00"},{"v":0,"d":"€ 0.00"}]
[null,5310,{"$nulls":7},{"v":0,"d":"€ 0.00"},{"v":0,"d":"€ 0.00"}]
[null,5311,{"$nulls":7},{"v":0,"d":"€ 0.00"},{"v":0,"d":"€ 0.00"}]
[null,5312,{"$nulls":7},{"v":0,"d":"€ 0.00"},{"v":0,"d":"€ 0.00"}]
[null,5313,{"$nulls":7},{"v":0,"d":"€ 0.00"},{"v":0,"d":"€ 0.00"}]
[null,5314,{"$nulls":7},{"v":0,"d":"€ 0.00"},{"v":0,"d":"€ 0.00"}]
[null,5315,{"$nulls":7},{"v":0,"d":"€ 0.00"},{"v":0,"d":"€ 0.00"}]
[null,5316,{"$nulls":7},{"v":0,"d":"€ 0.00"},{"v":0,"d":"€ 0.00"}]
[null,5317,{"$nulls":7},{"v":0,"d":"€ 0.00"},{"v":0,"d":"€ 0.00"}]
[null,5318,{"$nulls":7},{"v":0,"d":"€ 0.00"},{"v":0,"d":"€ 0.00"}]
[null,5319,{"$nulls":7},{"v":0,"d":"€ 0.00"},{"v":0,"d":"€ 0.00"}]
[null,5320,{"$nulls":7},{"v":0,"d":"€ 0.00"},{"v":0,"d":"€ 0.00"}]
[null,5321,{"$nulls":7},{"v":0,"d":"€ 0.00"},{"v":0,"d":"€ 0.00"}]
[null,5322,{"$nulls":7},{"v":0,"d":"€ 0.00"},{"v":0,"d":"€ 0.00"}]
[null,5323,{"$nulls":7},{"v":0,"d":"€ 0.00"},{"v":0,"d":"€ 0.00"}]
[null,5324,{"$nulls":7},{"v":0,"d":"€ 0.00"},{"v":0,"d":"€ 0.00"}]
[null,5325,{"$nulls":7},{"v":0,"d":"€ 0.00"},{"v":0,"d":"€ 0.00"}]
[null,5326,{"$nulls":7},{"v":0,"d":"€ 0.00"},{"v":0,"d":"€ 0.00"}]
[null,5327,{"$nulls":7},{"v":0,"d":"€ 0.00"},{"v":0,"d":"€ 0.00"}]
[null,5328,{"$nulls":7},{"v":0,"d":"€ 0.00"},{"v":0,"d":"€ 0.00"}]
[null,5329,{"$nulls":7},{"v":0,"d":"€ 0.00"},{"v":0,"d":"€ 0.00"}]
[null,5330,{"$nulls":7},{"v":0,"d":"€ 0.00"},{"v":0,"d":"€ 0.00"}]
[null,5331,{"$nulls":7},{"$f":"IF(OR(ISBLANK(H5338)=TRUE,ISBLANK(I5338)=TRUE),,ROUND(H5338*I5338,2))","v":{"v":0,"d":"€ 0.00"}},{"$f":"G5338+J5338","v":{"v":0,"d":"€ 0.00"}}]
[null,5332,{"$nulls":7},{"v":0,"d":"€ 0.00"},{"v":0,"d":"€ 0.00"}]
[null,5333,{"$nulls":7},{"v":0,"d":"€ 0.00"},{"v":0,"d":"€ 0.00"}]
[null,5334,{"$nulls":7},{"v":0,"d":"€ 0.00"},{"v":0,"d":"€ 0.00"}]
[null,5335,{"$nulls":7},{"v":0,"d":"€ 0.00"},{"v":0,"d":"€ 0.00"}]
[null,5336,{"$nulls":7},{"v":0,"d":"€ 0.00"},{"v":0,"d":"€ 0.00"}]
[null,5337,{"$nulls":7},{"v":0,"d":"€ 0.00"},{"v":0,"d":"€ 0.00"}]
[null,5338,{"$nulls":7},{"v":0,"d":"€ 0.00"},{"v":0,"d":"€ 0.00"}]
[null,5339,{"$nulls":7},{"v":0,"d":"€ 0.00"},{"v":0,"d":"€ 0.00"}]
[null,5340,{"$nulls":7},{"v":0,"d":"€ 0.00"},{"v":0,"d":"€ 0.00"}]
[null,5341,{"$nulls":7},{"v":0,"d":"€ 0.00"},{"v":0,"d":"€ 0.00"}]
[null,5342,{"$nulls":7},{"v":0,"d":"€ 0.00"},{"v":0,"d":"€ 0.00"}]
[null,5343,{"$nulls":7},{"v":0,"d":"€ 0.00"},{"v":0,"d":"€ 0.00"}]
[null,5344,{"$nulls":7},{"v":0,"d":"€ 0.00"},{"v":0,"d":"€ 0.00"}]
[null,5345,{"$nulls":7},{"v":0,"d":"€ 0.00"},{"v":0,"d":"€ 0.00"}]
[null,5346,{"$nulls":7},{"v":0,"d":"€ 0.00"},{"v":0,"d":"€ 0.00"}]
[null,5347,{"$nulls":7},{"v":0,"d":"€ 0.00"},{"v":0,"d":"€ 0.00"}]
[null,5348,{"$nulls":7},{"v":0,"d":"€ 0.00"},{"v":0,"d":"€ 0.00"}]
[null,5349,{"$nulls":7},{"v":0,"d":"€ 0.00"},{"v":0,"d":"€ 0.00"}]
[null,5350,{"$nulls":7},{"v":0,"d":"€ 0.00"},{"v":0,"d":"€ 0.00"}]
[null,5351,{"$nulls":7},{"v":0,"d":"€ 0.00"},{"v":0,"d":"€ 0.00"}]
[null,5352,{"$nulls":7},{"v":0,"d":"€ 0.00"},{"v":0,"d":"€ 0.00"}]
[null,5353,{"$nulls":7},{"v":0,"d":"€ 0.00"},{"v":0,"d":"€ 0.00"}]
[null,5354,{"$nulls":7},{"v":0,"d":"€ 0.00"},{"v":0,"d":"€ 0.00"}]
[null,5355,{"$nulls":7},{"v":0,"d":"€ 0.00"},{"v":0,"d":"€ 0.00"}]
[null,5356,{"$nulls":7},{"v":0,"d":"€ 0.00"},{"v":0,"d":"€ 0.00"}]
[null,5357,{"$nulls":7},{"v":0,"d":"€ 0.00"},{"v":0,"d":"€ 0.00"}]
[null,5358,{"$nulls":7},{"v":0,"d":"€ 0.00"},{"v":0,"d":"€ 0.00"}]
[null,5359,{"$nulls":7},{"v":0,"d":"€ 0.00"},{"v":0,"d":"€ 0.00"}]
[null,5360,{"$nulls":7},{"v":0,"d":"€ 0.00"},{"v":0,"d":"€ 0.00"}]
[null,5361,{"$nulls":7},{"v":0,"d":"€ 0.00"},{"v":0,"d":"€ 0.00"}]
[null,5362,{"$nulls":7},{"v":0,"d":"€ 0.00"},{"v":0,"d":"€ 0.00"}]
[null,5363,{"$nulls":7},{"v":0,"d":"€ 0.00"},{"v":0,"d":"€ 0.00"}]
[null,5364,{"$nulls":7},{"v":0,"d":"€ 0.00"},{"v":0,"d":"€ 0.00"}]
[null,5365,{"$nulls":7},{"v":0,"d":"€ 0.00"},{"v":0,"d":"€ 0.00"}]
[null,5366,{"$nulls":7},{"v":0,"d":"€ 0.00"},{"v":0,"d":"€ 0.00"}]
[null,5367,{"$nulls":7},{"v":0,"d":"€ 0.00"},{"v":0,"d":"€ 0.00"}]
[null,5368,{"$nulls":7},{"v":0,"d":"€ 0.00"},{"v":0,"d":"€ 0.00"}]
[null,5369,{"$nulls":7},{"v":0,"d":"€ 0.00"},{"v":0,"d":"€ 0.00"}]
[null,5370,{"$nulls":7},{"v":0,"d":"€ 0.00"},{"v":0,"d":"€ 0.00"}]
[null,5371,{"$nulls":7},{"v":0,"d":"€ 0.00"},{"v":0,"d":"€ 0.00"}]
[null,5372,{"$nulls":7},{"v":0,"d":"€ 0.00"},{"v":0,"d":"€ 0.00"}]
[null,5373,{"$nulls":7},{"v":0,"d":"€ 0.00"},{"v":0,"d":"€ 0.00"}]
[null,5374,{"$nulls":7},{"v":0,"d":"€ 0.00"},{"v":0,"d":"€ 0.00"}]
[null,5375,{"$nulls":7},{"v":0,"d":"€ 0.00"},{"v":0,"d":"€ 0.00"}]
[null,5376,{"$nulls":7},{"v":0,"d":"€ 0.00"},{"v":0,"d":"€ 0.00"}]
[null,5377,{"$nulls":7},{"v":0,"d":"€ 0.00"},{"v":0,"d":"€ 0.00"}]
[null,5378,{"$nulls":7},{"v":0,"d":"€ 0.00"},{"v":0,"d":"€ 0.00"}]
[null,5379,{"$nulls":7},{"v":0,"d":"€ 0.00"},{"v":0,"d":"€ 0.00"}]
[null,5380,{"$nulls":7},{"v":0,"d":"€ 0.00"},{"v":0,"d":"€ 0.00"}]
[null,5381,{"$nulls":7},{"v":0,"d":"€ 0.00"},{"v":0,"d":"€ 0.00"}]
[null,5382,{"$nulls":7},{"v":0,"d":"€ 0.00"},{"v":0,"d":"€ 0.00"}]
[null,5383,{"$nulls":7},{"v":0,"d":"€ 0.00"},{"v":0,"d":"€ 0.00"}]
[null,5384,{"$nulls":7},{"v":0,"d":"€ 0.00"},{"v":0,"d":"€ 0.00"}]
[null,5385,{"$nulls":7},{"v":0,"d":"€ 0.00"},{"v":0,"d":"€ 0.00"}]
[null,5386,{"$nulls":7},{"v":0,"d":"€ 0.00"},{"v":0,"d":"€ 0.00"}]
[null,5387,{"$nulls":7},{"v":0,"d":"€ 0.00"},{"v":0,"d":"€ 0.00"}]
[null,5388,{"$nulls":7},{"v":0,"d":"€ 0.00"},{"v":0,"d":"€ 0.00"}]
[null,5389,{"$nulls":7},{"v":0,"d":"€ 0.00"},{"v":0,"d":"€ 0.00"}]
[null,5390,{"$nulls":7},{"v":0,"d":"€ 0.00"},{"v":0,"d":"€ 0.00"}]
[null,5391,{"$nulls":7},{"v":0,"d":"€ 0.00"},{"v":0,"d":"€ 0.00"}]
[null,5392,{"$nulls":7},{"v":0,"d":"€ 0.00"},{"v":0,"d":"€ 0.00"}]
[null,5393,{"$nulls":7},{"v":0,"d":"€ 0.00"},{"v":0,"d":"€ 0.00"}]
[null,5394,{"$nulls":7},{"v":0,"d":"€ 0.00"},{"v":0,"d":"€ 0.00"}]
[null,5395,{"$nulls":7},{"$f":"IF(OR(ISBLANK(H5402)=TRUE,ISBLANK(I5402)=TRUE),,ROUND(H5402*I5402,2))","v":{"v":0,"d":"€ 0.00"}},{"$f":"G5402+J5402","v":{"v":0,"d":"€ 0.00"}}]
[null,5396,{"$nulls":7},{"v":0,"d":"€ 0.00"},{"v":0,"d":"€ 0.00"}]
[null,5397,{"$nulls":7},{"v":0,"d":"€ 0.00"},{"v":0,"d":"€ 0.00"}]
[null,5398,{"$nulls":7},{"v":0,"d":"€ 0.00"},{"v":0,"d":"€ 0.00"}]
[null,5399,{"$nulls":7},{"v":0,"d":"€ 0.00"},{"v":0,"d":"€ 0.00"}]
[null,5400,{"$nulls":7},{"v":0,"d":"€ 0.00"},{"v":0,"d":"€ 0.00"}]
[null,5401,{"$nulls":7},{"v":0,"d":"€ 0.00"},{"v":0,"d":"€ 0.00"}]
[null,5402,{"$nulls":7},{"v":0,"d":"€ 0.00"},{"v":0,"d":"€ 0.00"}]
[null,5403,{"$nulls":7},{"v":0,"d":"€ 0.00"},{"v":0,"d":"€ 0.00"}]
[null,5404,{"$nulls":7},{"v":0,"d":"€ 0.00"},{"v":0,"d":"€ 0.00"}]
[null,5405,{"$nulls":7},{"v":0,"d":"€ 0.00"},{"v":0,"d":"€ 0.00"}]
[null,5406,{"$nulls":7},{"v":0,"d":"€ 0.00"},{"v":0,"d":"€ 0.00"}]
[null,5407,{"$nulls":7},{"v":0,"d":"€ 0.00"},{"v":0,"d":"€ 0.00"}]
[null,5408,{"$nulls":7},{"v":0,"d":"€ 0.00"},{"v":0,"d":"€ 0.00"}]
[null,5409,{"$nulls":7},{"v":0,"d":"€ 0.00"},{"v":0,"d":"€ 0.00"}]
[null,5410,{"$nulls":7},{"v":0,"d":"€ 0.00"},{"v":0,"d":"€ 0.00"}]
[null,5411,{"$nulls":7},{"v":0,"d":"€ 0.00"},{"v":0,"d":"€ 0.00"}]
[null,5412,{"$nulls":7},{"v":0,"d":"€ 0.00"},{"v":0,"d":"€ 0.00"}]
[null,5413,{"$nulls":7},{"v":0,"d":"€ 0.00"},{"v":0,"d":"€ 0.00"}]
[null,5414,{"$nulls":7},{"v":0,"d":"€ 0.00"},{"v":0,"d":"€ 0.00"}]
[null,5415,{"$nulls":7},{"v":0,"d":"€ 0.00"},{"v":0,"d":"€ 0.00"}]
[null,5416,{"$nulls":7},{"v":0,"d":"€ 0.00"},{"v":0,"d":"€ 0.00"}]
[null,5417,{"$nulls":7},{"v":0,"d":"€ 0.00"},{"v":0,"d":"€ 0.00"}]
[null,5418,{"$nulls":7},{"v":0,"d":"€ 0.00"},{"v":0,"d":"€ 0.00"}]
[null,5419,{"$nulls":7},{"v":0,"d":"€ 0.00"},{"v":0,"d":"€ 0.00"}]
[null,5420,{"$nulls":7},{"v":0,"d":"€ 0.00"},{"v":0,"d":"€ 0.00"}]
[null,5421,{"$nulls":7},{"v":0,"d":"€ 0.00"},{"v":0,"d":"€ 0.00"}]
[null,5422,{"$nulls":7},{"v":0,"d":"€ 0.00"},{"v":0,"d":"€ 0.00"}]
[null,5423,{"$nulls":7},{"v":0,"d":"€ 0.00"},{"v":0,"d":"€ 0.00"}]
[null,5424,{"$nulls":7},{"v":0,"d":"€ 0.00"},{"v":0,"d":"€ 0.00"}]
[null,5425,{"$nulls":7},{"v":0,"d":"€ 0.00"},{"v":0,"d":"€ 0.00"}]
[null,5426,{"$nulls":7},{"v":0,"d":"€ 0.00"},{"v":0,"d":"€ 0.00"}]
[null,5427,{"$nulls":7},{"v":0,"d":"€ 0.00"},{"v":0,"d":"€ 0.00"}]
[null,5428,{"$nulls":7},{"v":0,"d":"€ 0.00"},{"v":0,"d":"€ 0.00"}]
[null,5429,{"$nulls":7},{"v":0,"d":"€ 0.00"},{"v":0,"d":"€ 0.00"}]
[null,5430,{"$nulls":7},{"v":0,"d":"€ 0.00"},{"v":0,"d":"€ 0.00"}]
[null,5431,{"$nulls":7},{"v":0,"d":"€ 0.00"},{"v":0,"d":"€ 0.00"}]
[null,5432,{"$nulls":7},{"v":0,"d":"€ 0.00"},{"v":0,"d":"€ 0.00"}]
[null,5433,{"$nulls":7},{"v":0,"d":"€ 0.00"},{"v":0,"d":"€ 0.00"}]
[null,5434,{"$nulls":7},{"v":0,"d":"€ 0.00"},{"v":0,"d":"€ 0.00"}]
[null,5435,{"$nulls":7},{"v":0,"d":"€ 0.00"},{"v":0,"d":"€ 0.00"}]
[null,5436,{"$nulls":7},{"v":0,"d":"€ 0.00"},{"v":0,"d":"€ 0.00"}]
[null,5437,{"$nulls":7},{"v":0,"d":"€ 0.00"},{"v":0,"d":"€ 0.00"}]
[null,5438,{"$nulls":7},{"v":0,"d":"€ 0.00"},{"v":0,"d":"€ 0.00"}]
[null,5439,{"$nulls":7},{"v":0,"d":"€ 0.00"},{"v":0,"d":"€ 0.00"}]
[null,5440,{"$nulls":7},{"v":0,"d":"€ 0.00"},{"v":0,"d":"€ 0.00"}]
[null,5441,{"$nulls":7},{"v":0,"d":"€ 0.00"},{"v":0,"d":"€ 0.00"}]
[null,5442,{"$nulls":7},{"v":0,"d":"€ 0.00"},{"v":0,"d":"€ 0.00"}]
[null,5443,{"$nulls":7},{"v":0,"d":"€ 0.00"},{"v":0,"d":"€ 0.00"}]
[null,5444,{"$nulls":7},{"v":0,"d":"€ 0.00"},{"v":0,"d":"€ 0.00"}]
[null,5445,{"$nulls":7},{"v":0,"d":"€ 0.00"},{"v":0,"d":"€ 0.00"}]
[null,5446,{"$nulls":7},{"v":0,"d":"€ 0.00"},{"v":0,"d":"€ 0.00"}]
[null,5447,{"$nulls":7},{"v":0,"d":"€ 0.00"},{"v":0,"d":"€ 0.00"}]
[null,5448,{"$nulls":7},{"v":0,"d":"€ 0.00"},{"v":0,"d":"€ 0.00"}]
[null,5449,{"$nulls":7},{"v":0,"d":"€ 0.00"},{"v":0,"d":"€ 0.00"}]
[null,5450,{"$nulls":7},{"v":0,"d":"€ 0.00"},{"v":0,"d":"€ 0.00"}]
[null,5451,{"$nulls":7},{"v":0,"d":"€ 0.00"},{"v":0,"d":"€ 0.00"}]
[null,5452,{"$nulls":7},{"v":0,"d":"€ 0.00"},{"v":0,"d":"€ 0.00"}]
[null,5453,{"$nulls":7},{"v":0,"d":"€ 0.00"},{"v":0,"d":"€ 0.00"}]
[null,5454,{"$nulls":7},{"v":0,"d":"€ 0.00"},{"v":0,"d":"€ 0.00"}]
[null,5455,{"$nulls":7},{"v":0,"d":"€ 0.00"},{"v":0,"d":"€ 0.00"}]
[null,5456,{"$nulls":7},{"v":0,"d":"€ 0.00"},{"v":0,"d":"€ 0.00"}]
[null,5457,{"$nulls":7},{"v":0,"d":"€ 0.00"},{"v":0,"d":"€ 0.00"}]
[null,5458,{"$nulls":7},{"v":0,"d":"€ 0.00"},{"v":0,"d":"€ 0.00"}]
[null,5459,{"$nulls":7},{"$f":"IF(OR(ISBLANK(H5466)=TRUE,ISBLANK(I5466)=TRUE),,ROUND(H5466*I5466,2))","v":{"v":0,"d":"€ 0.00"}},{"$f":"G5466+J5466","v":{"v":0,"d":"€ 0.00"}}]
[null,5460,{"$nulls":7},{"v":0,"d":"€ 0.00"},{"v":0,"d":"€ 0.00"}]
[null,5461,{"$nulls":7},{"v":0,"d":"€ 0.00"},{"v":0,"d":"€ 0.00"}]
[null,5462,{"$nulls":7},{"v":0,"d":"€ 0.00"},{"v":0,"d":"€ 0.00"}]
[null,5463,{"$nulls":7},{"v":0,"d":"€ 0.00"},{"v":0,"d":"€ 0.00"}]
[null,5464,{"$nulls":7},{"v":0,"d":"€ 0.00"},{"v":0,"d":"€ 0.00"}]
[null,5465,{"$nulls":7},{"v":0,"d":"€ 0.00"},{"v":0,"d":"€ 0.00"}]
[null,5466,{"$nulls":7},{"v":0,"d":"€ 0.00"},{"v":0,"d":"€ 0.00"}]
[null,5467,{"$nulls":7},{"v":0,"d":"€ 0.00"},{"v":0,"d":"€ 0.00"}]
[null,5468,{"$nulls":7},{"v":0,"d":"€ 0.00"},{"v":0,"d":"€ 0.00"}]
[null,5469,{"$nulls":7},{"v":0,"d":"€ 0.00"},{"v":0,"d":"€ 0.00"}]
[null,5470,{"$nulls":7},{"v":0,"d":"€ 0.00"},{"v":0,"d":"€ 0.00"}]
[null,5471,{"$nulls":7},{"v":0,"d":"€ 0.00"},{"v":0,"d":"€ 0.00"}]
[null,5472,{"$nulls":7},{"v":0,"d":"€ 0.00"},{"v":0,"d":"€ 0.00"}]
[null,5473,{"$nulls":7},{"v":0,"d":"€ 0.00"},{"v":0,"d":"€ 0.00"}]
[null,5474,{"$nulls":7},{"v":0,"d":"€ 0.00"},{"v":0,"d":"€ 0.00"}]
[null,5475,{"$nulls":7},{"v":0,"d":"€ 0.00"},{"v":0,"d":"€ 0.00"}]
[null,5476,{"$nulls":7},{"v":0,"d":"€ 0.00"},{"v":0,"d":"€ 0.00"}]
[null,5477,{"$nulls":7},{"v":0,"d":"€ 0.00"},{"v":0,"d":"€ 0.00"}]
[null,5478,{"$nulls":7},{"v":0,"d":"€ 0.00"},{"v":0,"d":"€ 0.00"}]
[null,5479,{"$nulls":7},{"v":0,"d":"€ 0.00"},{"v":0,"d":"€ 0.00"}]
[null,5480,{"$nulls":7},{"v":0,"d":"€ 0.00"},{"v":0,"d":"€ 0.00"}]
[null,5481,{"$nulls":7},{"v":0,"d":"€ 0.00"},{"v":0,"d":"€ 0.00"}]
[null,5482,{"$nulls":7},{"v":0,"d":"€ 0.00"},{"v":0,"d":"€ 0.00"}]
[null,5483,{"$nulls":7},{"v":0,"d":"€ 0.00"},{"v":0,"d":"€ 0.00"}]
[null,5484,{"$nulls":7},{"v":0,"d":"€ 0.00"},{"v":0,"d":"€ 0.00"}]
[null,5485,{"$nulls":7},{"v":0,"d":"€ 0.00"},{"v":0,"d":"€ 0.00"}]
[null,5486,{"$nulls":7},{"v":0,"d":"€ 0.00"},{"v":0,"d":"€ 0.00"}]
[null,5487,{"$nulls":7},{"v":0,"d":"€ 0.00"},{"v":0,"d":"€ 0.00"}]
[null,5488,{"$nulls":7},{"v":0,"d":"€ 0.00"},{"v":0,"d":"€ 0.00"}]
[null,5489,{"$nulls":7},{"v":0,"d":"€ 0.00"},{"v":0,"d":"€ 0.00"}]
[null,5490,{"$nulls":7},{"v":0,"d":"€ 0.00"},{"v":0,"d":"€ 0.00"}]
[null,5491,{"$nulls":7},{"v":0,"d":"€ 0.00"},{"v":0,"d":"€ 0.00"}]
[null,5492,{"$nulls":7},{"v":0,"d":"€ 0.00"},{"v":0,"d":"€ 0.00"}]
[null,5493,{"$nulls":7},{"v":0,"d":"€ 0.00"},{"v":0,"d":"€ 0.00"}]
[null,5494,{"$nulls":7},{"v":0,"d":"€ 0.00"},{"v":0,"d":"€ 0.00"}]
[null,5495,{"$nulls":7},{"v":0,"d":"€ 0.00"},{"v":0,"d":"€ 0.00"}]
[null,5496,{"$nulls":7},{"v":0,"d":"€ 0.00"},{"v":0,"d":"€ 0.00"}]
[null,5497,{"$nulls":7},{"v":0,"d":"€ 0.00"},{"v":0,"d":"€ 0.00"}]
[null,5498,{"$nulls":7},{"v":0,"d":"€ 0.00"},{"v":0,"d":"€ 0.00"}]
[null,5499,{"$nulls":7},{"v":0,"d":"€ 0.00"},{"v":0,"d":"€ 0.00"}]
[null,5500,{"$nulls":7},{"v":0,"d":"€ 0.00"},{"v":0,"d":"€ 0.00"}]
[null,5501,{"$nulls":7},{"v":0,"d":"€ 0.00"},{"v":0,"d":"€ 0.00"}]
[null,5502,{"$nulls":7},{"v":0,"d":"€ 0.00"},{"v":0,"d":"€ 0.00"}]
[null,5503,{"$nulls":7},{"v":0,"d":"€ 0.00"},{"v":0,"d":"€ 0.00"}]
[null,5504,{"$nulls":7},{"v":0,"d":"€ 0.00"},{"v":0,"d":"€ 0.00"}]
[null,5505,{"$nulls":7},{"v":0,"d":"€ 0.00"},{"v":0,"d":"€ 0.00"}]
[null,5506,{"$nulls":7},{"v":0,"d":"€ 0.00"},{"v":0,"d":"€ 0.00"}]
[null,5507,{"$nulls":7},{"v":0,"d":"€ 0.00"},{"v":0,"d":"€ 0.00"}]
[null,5508,{"$nulls":7},{"v":0,"d":"€ 0.00"},{"v":0,"d":"€ 0.00"}]
[null,5509,{"$nulls":7},{"v":0,"d":"€ 0.00"},{"v":0,"d":"€ 0.00"}]
[null,5510,{"$nulls":7},{"v":0,"d":"€ 0.00"},{"v":0,"d":"€ 0.00"}]
[null,5511,{"$nulls":7},{"v":0,"d":"€ 0.00"},{"v":0,"d":"€ 0.00"}]
[null,5512,{"$nulls":7},{"v":0,"d":"€ 0.00"},{"v":0,"d":"€ 0.00"}]
[null,5513,{"$nulls":7},{"v":0,"d":"€ 0.00"},{"v":0,"d":"€ 0.00"}]
[null,5514,{"$nulls":7},{"v":0,"d":"€ 0.00"},{"v":0,"d":"€ 0.00"}]
[null,5515,{"$nulls":7},{"v":0,"d":"€ 0.00"},{"v":0,"d":"€ 0.00"}]
[null,5516,{"$nulls":7},{"v":0,"d":"€ 0.00"},{"v":0,"d":"€ 0.00"}]
[null,5517,{"$nulls":7},{"v":0,"d":"€ 0.00"},{"v":0,"d":"€ 0.00"}]
[null,5518,{"$nulls":7},{"v":0,"d":"€ 0.00"},{"v":0,"d":"€ 0.00"}]
[null,5519,{"$nulls":7},{"v":0,"d":"€ 0.00"},{"v":0,"d":"€ 0.00"}]
[null,5520,{"$nulls":7},{"v":0,"d":"€ 0.00"},{"v":0,"d":"€ 0.00"}]
[null,5521,{"$nulls":7},{"v":0,"d":"€ 0.00"},{"v":0,"d":"€ 0.00"}]
[null,5522,{"$nulls":7},{"v":0,"d":"€ 0.00"},{"v":0,"d":"€ 0.00"}]
[null,5523,{"$nulls":7},{"$f":"IF(OR(ISBLANK(H5530)=TRUE,ISBLANK(I5530)=TRUE),,ROUND(H5530*I5530,2))","v":{"v":0,"d":"€ 0.00"}},{"$f":"G5530+J5530","v":{"v":0,"d":"€ 0.00"}}]
[null,5524,{"$nulls":7},{"v":0,"d":"€ 0.00"},{"v":0,"d":"€ 0.00"}]
[null,5525,{"$nulls":7},{"v":0,"d":"€ 0.00"},{"v":0,"d":"€ 0.00"}]
[null,5526,{"$nulls":7},{"v":0,"d":"€ 0.00"},{"v":0,"d":"€ 0.00"}]
[null,5527,{"$nulls":7},{"v":0,"d":"€ 0.00"},{"v":0,"d":"€ 0.00"}]
[null,5528,{"$nulls":7},{"v":0,"d":"€ 0.00"},{"v":0,"d":"€ 0.00"}]
[null,5529,{"$nulls":7},{"v":0,"d":"€ 0.00"},{"v":0,"d":"€ 0.00"}]
[null,5530,{"$nulls":7},{"v":0,"d":"€ 0.00"},{"v":0,"d":"€ 0.00"}]
[null,5531,{"$nulls":7},{"v":0,"d":"€ 0.00"},{"v":0,"d":"€ 0.00"}]
[null,5532,{"$nulls":7},{"v":0,"d":"€ 0.00"},{"v":0,"d":"€ 0.00"}]
[null,5533,{"$nulls":7},{"v":0,"d":"€ 0.00"},{"v":0,"d":"€ 0.00"}]
[null,5534,{"$nulls":7},{"v":0,"d":"€ 0.00"},{"v":0,"d":"€ 0.00"}]
[null,5535,{"$nulls":7},{"v":0,"d":"€ 0.00"},{"v":0,"d":"€ 0.00"}]
[null,5536,{"$nulls":7},{"v":0,"d":"€ 0.00"},{"v":0,"d":"€ 0.00"}]
[null,5537,{"$nulls":7},{"v":0,"d":"€ 0.00"},{"v":0,"d":"€ 0.00"}]
[null,5538,{"$nulls":7},{"v":0,"d":"€ 0.00"},{"v":0,"d":"€ 0.00"}]
[null,5539,{"$nulls":7},{"v":0,"d":"€ 0.00"},{"v":0,"d":"€ 0.00"}]
[null,5540,{"$nulls":7},{"v":0,"d":"€ 0.00"},{"v":0,"d":"€ 0.00"}]
[null,5541,{"$nulls":7},{"v":0,"d":"€ 0.00"},{"v":0,"d":"€ 0.00"}]
[null,5542,{"$nulls":7},{"v":0,"d":"€ 0.00"},{"v":0,"d":"€ 0.00"}]
[null,5543,{"$nulls":7},{"v":0,"d":"€ 0.00"},{"v":0,"d":"€ 0.00"}]
[null,5544,{"$nulls":7},{"v":0,"d":"€ 0.00"},{"v":0,"d":"€ 0.00"}]
[null,5545,{"$nulls":7},{"v":0,"d":"€ 0.00"},{"v":0,"d":"€ 0.00"}]
[null,5546,{"$nulls":7},{"v":0,"d":"€ 0.00"},{"v":0,"d":"€ 0.00"}]
[null,5547,{"$nulls":7},{"v":0,"d":"€ 0.00"},{"v":0,"d":"€ 0.00"}]
[null,5548,{"$nulls":7},{"v":0,"d":"€ 0.00"},{"v":0,"d":"€ 0.00"}]
[null,5549,{"$nulls":7},{"v":0,"d":"€ 0.00"},{"v":0,"d":"€ 0.00"}]
[null,5550,{"$nulls":7},{"v":0,"d":"€ 0.00"},{"v":0,"d":"€ 0.00"}]
[null,5551,{"$nulls":7},{"v":0,"d":"€ 0.00"},{"v":0,"d":"€ 0.00"}]
[null,5552,{"$nulls":7},{"v":0,"d":"€ 0.00"},{"v":0,"d":"€ 0.00"}]
[null,5553,{"$nulls":7},{"v":0,"d":"€ 0.00"},{"v":0,"d":"€ 0.00"}]
[null,5554,{"$nulls":7},{"v":0,"d":"€ 0.00"},{"v":0,"d":"€ 0.00"}]
[null,5555,{"$nulls":7},{"v":0,"d":"€ 0.00"},{"v":0,"d":"€ 0.00"}]
[null,5556,{"$nulls":7},{"v":0,"d":"€ 0.00"},{"v":0,"d":"€ 0.00"}]
[null,5557,{"$nulls":7},{"v":0,"d":"€ 0.00"},{"v":0,"d":"€ 0.00"}]
[null,5558,{"$nulls":7},{"v":0,"d":"€ 0.00"},{"v":0,"d":"€ 0.00"}]
[null,5559,{"$nulls":7},{"v":0,"d":"€ 0.00"},{"v":0,"d":"€ 0.00"}]
[null,5560,{"$nulls":7},{"v":0,"d":"€ 0.00"},{"v":0,"d":"€ 0.00"}]
[null,5561,{"$nulls":7},{"v":0,"d":"€ 0.00"},{"v":0,"d":"€ 0.00"}]
[null,5562,{"$nulls":7},{"v":0,"d":"€ 0.00"},{"v":0,"d":"€ 0.00"}]
[null,5563,{"$nulls":7},{"v":0,"d":"€ 0.00"},{"v":0,"d":"€ 0.00"}]
[null,5564,{"$nulls":7},{"v":0,"d":"€ 0.00"},{"v":0,"d":"€ 0.00"}]
[null,5565,{"$nulls":7},{"v":0,"d":"€ 0.00"},{"v":0,"d":"€ 0.00"}]
[null,5566,{"$nulls":7},{"v":0,"d":"€ 0.00"},{"v":0,"d":"€ 0.00"}]
[null,5567,{"$nulls":7},{"v":0,"d":"€ 0.00"},{"v":0,"d":"€ 0.00"}]
[null,5568,{"$nulls":7},{"v":0,"d":"€ 0.00"},{"v":0,"d":"€ 0.00"}]
[null,5569,{"$nulls":7},{"v":0,"d":"€ 0.00"},{"v":0,"d":"€ 0.00"}]
[null,5570,{"$nulls":7},{"v":0,"d":"€ 0.00"},{"v":0,"d":"€ 0.00"}]
[null,5571,{"$nulls":7},{"v":0,"d":"€ 0.00"},{"v":0,"d":"€ 0.00"}]
[null,5572,{"$nulls":7},{"v":0,"d":"€ 0.00"},{"v":0,"d":"€ 0.00"}]
[null,5573,{"$nulls":7},{"v":0,"d":"€ 0.00"},{"v":0,"d":"€ 0.00"}]
[null,5574,{"$nulls":7},{"v":0,"d":"€ 0.00"},{"v":0,"d":"€ 0.00"}]
[null,5575,{"$nulls":7},{"v":0,"d":"€ 0.00"},{"v":0,"d":"€ 0.00"}]
[null,5576,{"$nulls":7},{"v":0,"d":"€ 0.00"},{"v":0,"d":"€ 0.00"}]
[null,5577,{"$nulls":7},{"v":0,"d":"€ 0.00"},{"v":0,"d":"€ 0.00"}]
[null,5578,{"$nulls":7},{"v":0,"d":"€ 0.00"},{"v":0,"d":"€ 0.00"}]
[null,5579,{"$nulls":7},{"v":0,"d":"€ 0.00"},{"v":0,"d":"€ 0.00"}]
[null,5580,{"$nulls":7},{"v":0,"d":"€ 0.00"},{"v":0,"d":"€ 0.00"}]
[null,5581,{"$nulls":7},{"v":0,"d":"€ 0.00"},{"v":0,"d":"€ 0.00"}]
[null,5582,{"$nulls":7},{"v":0,"d":"€ 0.00"},{"v":0,"d":"€ 0.00"}]
[null,5583,{"$nulls":7},{"v":0,"d":"€ 0.00"},{"v":0,"d":"€ 0.00"}]
[null,5584,{"$nulls":7},{"v":0,"d":"€ 0.00"},{"v":0,"d":"€ 0.00"}]
[null,5585,{"$nulls":7},{"v":0,"d":"€ 0.00"},{"v":0,"d":"€ 0.00"}]
[null,5586,{"$nulls":7},{"v":0,"d":"€ 0.00"},{"v":0,"d":"€ 0.00"}]
[null,5587,{"$nulls":7},{"$f":"IF(OR(ISBLANK(H5594)=TRUE,ISBLANK(I5594)=TRUE),,ROUND(H5594*I5594,2))","v":{"v":0,"d":"€ 0.00"}},{"$f":"G5594+J5594","v":{"v":0,"d":"€ 0.00"}}]
[null,5588,{"$nulls":7},{"v":0,"d":"€ 0.00"},{"v":0,"d":"€ 0.00"}]
[null,5589,{"$nulls":7},{"v":0,"d":"€ 0.00"},{"v":0,"d":"€ 0.00"}]
[null,5590,{"$nulls":7},{"v":0,"d":"€ 0.00"},{"v":0,"d":"€ 0.00"}]
[null,5591,{"$nulls":7},{"v":0,"d":"€ 0.00"},{"v":0,"d":"€ 0.00"}]
[null,5592,{"$nulls":7},{"v":0,"d":"€ 0.00"},{"v":0,"d":"€ 0.00"}]
[null,5593,{"$nulls":7},{"v":0,"d":"€ 0.00"},{"v":0,"d":"€ 0.00"}]
[null,5594,{"$nulls":7},{"v":0,"d":"€ 0.00"},{"v":0,"d":"€ 0.00"}]
[null,5595,{"$nulls":7},{"v":0,"d":"€ 0.00"},{"v":0,"d":"€ 0.00"}]
[null,5596,{"$nulls":7},{"v":0,"d":"€ 0.00"},{"v":0,"d":"€ 0.00"}]
[null,5597,{"$nulls":7},{"v":0,"d":"€ 0.00"},{"v":0,"d":"€ 0.00"}]
[null,5598,{"$nulls":7},{"v":0,"d":"€ 0.00"},{"v":0,"d":"€ 0.00"}]
[null,5599,{"$nulls":7},{"v":0,"d":"€ 0.00"},{"v":0,"d":"€ 0.00"}]
[null,5600,{"$nulls":7},{"v":0,"d":"€ 0.00"},{"v":0,"d":"€ 0.00"}]
[null,5601,{"$nulls":7},{"v":0,"d":"€ 0.00"},{"v":0,"d":"€ 0.00"}]
[null,5602,{"$nulls":7},{"v":0,"d":"€ 0.00"},{"v":0,"d":"€ 0.00"}]
[null,5603,{"$nulls":7},{"v":0,"d":"€ 0.00"},{"v":0,"d":"€ 0.00"}]
[null,5604,{"$nulls":7},{"v":0,"d":"€ 0.00"},{"v":0,"d":"€ 0.00"}]
[null,5605,{"$nulls":7},{"v":0,"d":"€ 0.00"},{"v":0,"d":"€ 0.00"}]
[null,5606,{"$nulls":7},{"v":0,"d":"€ 0.00"},{"v":0,"d":"€ 0.00"}]
[null,5607,{"$nulls":7},{"v":0,"d":"€ 0.00"},{"v":0,"d":"€ 0.00"}]
[null,5608,{"$nulls":7},{"v":0,"d":"€ 0.00"},{"v":0,"d":"€ 0.00"}]
[null,5609,{"$nulls":7},{"v":0,"d":"€ 0.00"},{"v":0,"d":"€ 0.00"}]
[null,5610,{"$nulls":7},{"v":0,"d":"€ 0.00"},{"v":0,"d":"€ 0.00"}]
[null,5611,{"$nulls":7},{"v":0,"d":"€ 0.00"},{"v":0,"d":"€ 0.00"}]
[null,5612,{"$nulls":7},{"v":0,"d":"€ 0.00"},{"v":0,"d":"€ 0.00"}]
[null,5613,{"$nulls":7},{"v":0,"d":"€ 0.00"},{"v":0,"d":"€ 0.00"}]
[null,5614,{"$nulls":7},{"v":0,"d":"€ 0.00"},{"v":0,"d":"€ 0.00"}]
[null,5615,{"$nulls":7},{"v":0,"d":"€ 0.00"},{"v":0,"d":"€ 0.00"}]
[null,5616,{"$nulls":7},{"v":0,"d":"€ 0.00"},{"v":0,"d":"€ 0.00"}]
[null,5617,{"$nulls":7},{"v":0,"d":"€ 0.00"},{"v":0,"d":"€ 0.00"}]
[null,5618,{"$nulls":7},{"v":0,"d":"€ 0.00"},{"v":0,"d":"€ 0.00"}]
[null,5619,{"$nulls":7},{"v":0,"d":"€ 0.00"},{"v":0,"d":"€ 0.00"}]
[null,5620,{"$nulls":7},{"v":0,"d":"€ 0.00"},{"v":0,"d":"€ 0.00"}]
[null,5621,{"$nulls":7},{"v":0,"d":"€ 0.00"},{"v":0,"d":"€ 0.00"}]
[null,5622,{"$nulls":7},{"v":0,"d":"€ 0.00"},{"v":0,"d":"€ 0.00"}]
[null,5623,{"$nulls":7},{"v":0,"d":"€ 0.00"},{"v":0,"d":"€ 0.00"}]
[null,5624,{"$nulls":7},{"v":0,"d":"€ 0.00"},{"v":0,"d":"€ 0.00"}]
[null,5625,{"$nulls":7},{"v":0,"d":"€ 0.00"},{"v":0,"d":"€ 0.00"}]
[null,5626,{"$nulls":7},{"v":0,"d":"€ 0.00"},{"v":0,"d":"€ 0.00"}]
[null,5627,{"$nulls":7},{"v":0,"d":"€ 0.00"},{"v":0,"d":"€ 0.00"}]
[null,5628,{"$nulls":7},{"v":0,"d":"€ 0.00"},{"v":0,"d":"€ 0.00"}]
[null,5629,{"$nulls":7},{"v":0,"d":"€ 0.00"},{"v":0,"d":"€ 0.00"}]
[null,5630,{"$nulls":7},{"v":0,"d":"€ 0.00"},{"v":0,"d":"€ 0.00"}]
[null,5631,{"$nulls":7},{"v":0,"d":"€ 0.00"},{"v":0,"d":"€ 0.00"}]
[null,5632,{"$nulls":7},{"v":0,"d":"€ 0.00"},{"v":0,"d":"€ 0.00"}]
[null,5633,{"$nulls":7},{"v":0,"d":"€ 0.00"},{"v":0,"d":"€ 0.00"}]
[null,5634,{"$nulls":7},{"v":0,"d":"€ 0.00"},{"v":0,"d":"€ 0.00"}]
[null,5635,{"$nulls":7},{"v":0,"d":"€ 0.00"},{"v":0,"d":"€ 0.00"}]
[null,5636,{"$nulls":7},{"v":0,"d":"€ 0.00"},{"v":0,"d":"€ 0.00"}]
[null,5637,{"$nulls":7},{"v":0,"d":"€ 0.00"},{"v":0,"d":"€ 0.00"}]
[null,5638,{"$nulls":7},{"v":0,"d":"€ 0.00"},{"v":0,"d":"€ 0.00"}]
[null,5639,{"$nulls":7},{"v":0,"d":"€ 0.00"},{"v":0,"d":"€ 0.00"}]
[null,5640,{"$nulls":7},{"v":0,"d":"€ 0.00"},{"v":0,"d":"€ 0.00"}]
[null,5641,{"$nulls":7},{"v":0,"d":"€ 0.00"},{"v":0,"d":"€ 0.00"}]
[null,5642,{"$nulls":7},{"v":0,"d":"€ 0.00"},{"v":0,"d":"€ 0.00"}]
[null,5643,{"$nulls":7},{"v":0,"d":"€ 0.00"},{"v":0,"d":"€ 0.00"}]
[null,5644,{"$nulls":7},{"v":0,"d":"€ 0.00"},{"v":0,"d":"€ 0.00"}]
[null,5645,{"$nulls":7},{"v":0,"d":"€ 0.00"},{"v":0,"d":"€ 0.00"}]
[null,5646,{"$nulls":7},{"v":0,"d":"€ 0.00"},{"v":0,"d":"€ 0.00"}]
[null,5647,{"$nulls":7},{"v":0,"d":"€ 0.00"},{"v":0,"d":"€ 0.00"}]
[null,5648,{"$nulls":7},{"v":0,"d":"€ 0.00"},{"v":0,"d":"€ 0.00"}]
[null,5649,{"$nulls":7},{"v":0,"d":"€ 0.00"},{"v":0,"d":"€ 0.00"}]
[null,5650,{"$nulls":7},{"v":0,"d":"€ 0.00"},{"v":0,"d":"€ 0.00"}]
[null,5651,{"$nulls":7},{"$f":"IF(OR(ISBLANK(H5658)=TRUE,ISBLANK(I5658)=TRUE),,ROUND(H5658*I5658,2))","v":{"v":0,"d":"€ 0.00"}},{"$f":"G5658+J5658","v":{"v":0,"d":"€ 0.00"}}]
[null,5652,{"$nulls":7},{"v":0,"d":"€ 0.00"},{"v":0,"d":"€ 0.00"}]
[null,5653,{"$nulls":7},{"v":0,"d":"€ 0.00"},{"v":0,"d":"€ 0.00"}]
[null,5654,{"$nulls":7},{"v":0,"d":"€ 0.00"},{"v":0,"d":"€ 0.00"}]
[null,5655,{"$nulls":7},{"v":0,"d":"€ 0.00"},{"v":0,"d":"€ 0.00"}]
[null,5656,{"$nulls":7},{"v":0,"d":"€ 0.00"},{"v":0,"d":"€ 0.00"}]
[null,5657,{"$nulls":7},{"v":0,"d":"€ 0.00"},{"v":0,"d":"€ 0.00"}]
[null,5658,{"$nulls":7},{"v":0,"d":"€ 0.00"},{"v":0,"d":"€ 0.00"}]
[null,5659,{"$nulls":7},{"v":0,"d":"€ 0.00"},{"v":0,"d":"€ 0.00"}]
[null,5660,{"$nulls":7},{"v":0,"d":"€ 0.00"},{"v":0,"d":"€ 0.00"}]
[null,5661,{"$nulls":7},{"v":0,"d":"€ 0.00"},{"v":0,"d":"€ 0.00"}]
[null,5662,{"$nulls":7},{"v":0,"d":"€ 0.00"},{"v":0,"d":"€ 0.00"}]
[null,5663,{"$nulls":7},{"v":0,"d":"€ 0.00"},{"v":0,"d":"€ 0.00"}]
[null,5664,{"$nulls":7},{"v":0,"d":"€ 0.00"},{"v":0,"d":"€ 0.00"}]
[null,5665,{"$nulls":7},{"v":0,"d":"€ 0.00"},{"v":0,"d":"€ 0.00"}]
[null,5666,{"$nulls":7},{"v":0,"d":"€ 0.00"},{"v":0,"d":"€ 0.00"}]
[null,5667,{"$nulls":7},{"v":0,"d":"€ 0.00"},{"v":0,"d":"€ 0.00"}]
[null,5668,{"$nulls":7},{"v":0,"d":"€ 0.00"},{"v":0,"d":"€ 0.00"}]
[null,5669,{"$nulls":7},{"v":0,"d":"€ 0.00"},{"v":0,"d":"€ 0.00"}]
[null,5670,{"$nulls":7},{"v":0,"d":"€ 0.00"},{"v":0,"d":"€ 0.00"}]
[null,5671,{"$nulls":7},{"v":0,"d":"€ 0.00"},{"v":0,"d":"€ 0.00"}]
[null,5672,{"$nulls":7},{"v":0,"d":"€ 0.00"},{"v":0,"d":"€ 0.00"}]
[null,5673,{"$nulls":7},{"v":0,"d":"€ 0.00"},{"v":0,"d":"€ 0.00"}]
[null,5674,{"$nulls":7},{"v":0,"d":"€ 0.00"},{"v":0,"d":"€ 0.00"}]
[null,5675,{"$nulls":7},{"v":0,"d":"€ 0.00"},{"v":0,"d":"€ 0.00"}]
[null,5676,{"$nulls":7},{"v":0,"d":"€ 0.00"},{"v":0,"d":"€ 0.00"}]
[null,5677,{"$nulls":7},{"v":0,"d":"€ 0.00"},{"v":0,"d":"€ 0.00"}]
[null,5678,{"$nulls":7},{"v":0,"d":"€ 0.00"},{"v":0,"d":"€ 0.00"}]
[null,5679,{"$nulls":7},{"v":0,"d":"€ 0.00"},{"v":0,"d":"€ 0.00"}]
[null,5680,{"$nulls":7},{"v":0,"d":"€ 0.00"},{"v":0,"d":"€ 0.00"}]
[null,5681,{"$nulls":7},{"v":0,"d":"€ 0.00"},{"v":0,"d":"€ 0.00"}]
[null,5682,{"$nulls":7},{"v":0,"d":"€ 0.00"},{"v":0,"d":"€ 0.00"}]
[null,5683,{"$nulls":7},{"v":0,"d":"€ 0.00"},{"v":0,"d":"€ 0.00"}]
[null,5684,{"$nulls":7},{"v":0,"d":"€ 0.00"},{"v":0,"d":"€ 0.00"}]
[null,5685,{"$nulls":7},{"v":0,"d":"€ 0.00"},{"v":0,"d":"€ 0.00"}]
[null,5686,{"$nulls":7},{"v":0,"d":"€ 0.00"},{"v":0,"d":"€ 0.00"}]
[null,5687,{"$nulls":7},{"v":0,"d":"€ 0.00"},{"v":0,"d":"€ 0.00"}]
[null,5688,{"$nulls":7},{"v":0,"d":"€ 0.00"},{"v":0,"d":"€ 0.00"}]
[null,5689,{"$nulls":7},{"v":0,"d":"€ 0.00"},{"v":0,"d":"€ 0.00"}]
[null,5690,{"$nulls":7},{"v":0,"d":"€ 0.00"},{"v":0,"d":"€ 0.00"}]
[null,5691,{"$nulls":7},{"v":0,"d":"€ 0.00"},{"v":0,"d":"€ 0.00"}]
[null,5692,{"$nulls":7},{"v":0,"d":"€ 0.00"},{"v":0,"d":"€ 0.00"}]
[null,5693,{"$nulls":7},{"v":0,"d":"€ 0.00"},{"v":0,"d":"€ 0.00"}]
[null,5694,{"$nulls":7},{"v":0,"d":"€ 0.00"},{"v":0,"d":"€ 0.00"}]
[null,5695,{"$nulls":7},{"v":0,"d":"€ 0.00"},{"v":0,"d":"€ 0.00"}]
[null,5696,{"$nulls":7},{"v":0,"d":"€ 0.00"},{"v":0,"d":"€ 0.00"}]
[null,5697,{"$nulls":7},{"v":0,"d":"€ 0.00"},{"v":0,"d":"€ 0.00"}]
[null,5698,{"$nulls":7},{"v":0,"d":"€ 0.00"},{"v":0,"d":"€ 0.00"}]
[null,5699,{"$nulls":7},{"v":0,"d":"€ 0.00"},{"v":0,"d":"€ 0.00"}]
[null,5700,{"$nulls":7},{"v":0,"d":"€ 0.00"},{"v":0,"d":"€ 0.00"}]
[null,5701,{"$nulls":7},{"v":0,"d":"€ 0.00"},{"v":0,"d":"€ 0.00"}]
[null,5702,{"$nulls":7},{"v":0,"d":"€ 0.00"},{"v":0,"d":"€ 0.00"}]
[null,5703,{"$nulls":7},{"v":0,"d":"€ 0.00"},{"v":0,"d":"€ 0.00"}]
[null,5704,{"$nulls":7},{"v":0,"d":"€ 0.00"},{"v":0,"d":"€ 0.00"}]
[null,5705,{"$nulls":7},{"v":0,"d":"€ 0.00"},{"v":0,"d":"€ 0.00"}]
[null,5706,{"$nulls":7},{"v":0,"d":"€ 0.00"},{"v":0,"d":"€ 0.00"}]
[null,5707,{"$nulls":7},{"v":0,"d":"€ 0.00"},{"v":0,"d":"€ 0.00"}]
[null,5708,{"$nulls":7},{"v":0,"d":"€ 0.00"},{"v":0,"d":"€ 0.00"}]
[null,5709,{"$nulls":7},{"v":0,"d":"€ 0.00"},{"v":0,"d":"€ 0.00"}]
[null,5710,{"$nulls":7},{"v":0,"d":"€ 0.00"},{"v":0,"d":"€ 0.00"}]
[null,5711,{"$nulls":7},{"v":0,"d":"€ 0.00"},{"v":0,"d":"€ 0.00"}]
[null,5712,{"$nulls":7},{"v":0,"d":"€ 0.00"},{"v":0,"d":"€ 0.00"}]
[null,5713,{"$nulls":7},{"v":0,"d":"€ 0.00"},{"v":0,"d":"€ 0.00"}]
[null,5714,{"$nulls":7},{"v":0,"d":"€ 0.00"},{"v":0,"d":"€ 0.00"}]
[null,5715,{"$nulls":7},{"$f":"IF(OR(ISBLANK(H5722)=TRUE,ISBLANK(I5722)=TRUE),,ROUND(H5722*I5722,2))","v":{"v":0,"d":"€ 0.00"}},{"$f":"G5722+J5722","v":{"v":0,"d":"€ 0.00"}}]
[null,5716,{"$nulls":7},{"v":0,"d":"€ 0.00"},{"v":0,"d":"€ 0.00"}]
[null,5717,{"$nulls":7},{"v":0,"d":"€ 0.00"},{"v":0,"d":"€ 0.00"}]
[null,5718,{"$nulls":7},{"v":0,"d":"€ 0.00"},{"v":0,"d":"€ 0.00"}]
[null,5719,{"$nulls":7},{"v":0,"d":"€ 0.00"},{"v":0,"d":"€ 0.00"}]
[null,5720,{"$nulls":7},{"v":0,"d":"€ 0.00"},{"v":0,"d":"€ 0.00"}]
[null,5721,{"$nulls":7},{"v":0,"d":"€ 0.00"},{"v":0,"d":"€ 0.00"}]
[null,5722,{"$nulls":7},{"v":0,"d":"€ 0.00"},{"v":0,"d":"€ 0.00"}]
[null,5723,{"$nulls":7},{"v":0,"d":"€ 0.00"},{"v":0,"d":"€ 0.00"}]
[null,5724,{"$nulls":7},{"v":0,"d":"€ 0.00"},{"v":0,"d":"€ 0.00"}]
[null,5725,{"$nulls":7},{"v":0,"d":"€ 0.00"},{"v":0,"d":"€ 0.00"}]
[null,5726,{"$nulls":7},{"v":0,"d":"€ 0.00"},{"v":0,"d":"€ 0.00"}]
[null,5727,{"$nulls":7},{"v":0,"d":"€ 0.00"},{"v":0,"d":"€ 0.00"}]
[null,5728,{"$nulls":7},{"v":0,"d":"€ 0.00"},{"v":0,"d":"€ 0.00"}]
[null,5729,{"$nulls":7},{"v":0,"d":"€ 0.00"},{"v":0,"d":"€ 0.00"}]
[null,5730,{"$nulls":7},{"v":0,"d":"€ 0.00"},{"v":0,"d":"€ 0.00"}]
[null,5731,{"$nulls":7},{"v":0,"d":"€ 0.00"},{"v":0,"d":"€ 0.00"}]
[null,5732,{"$nulls":7},{"v":0,"d":"€ 0.00"},{"v":0,"d":"€ 0.00"}]
[null,5733,{"$nulls":7},{"v":0,"d":"€ 0.00"},{"v":0,"d":"€ 0.00"}]
[null,5734,{"$nulls":7},{"v":0,"d":"€ 0.00"},{"v":0,"d":"€ 0.00"}]
[null,5735,{"$nulls":7},{"v":0,"d":"€ 0.00"},{"v":0,"d":"€ 0.00"}]
[null,5736,{"$nulls":7},{"v":0,"d":"€ 0.00"},{"v":0,"d":"€ 0.00"}]
[null,5737,{"$nulls":7},{"v":0,"d":"€ 0.00"},{"v":0,"d":"€ 0.00"}]
[null,5738,{"$nulls":7},{"v":0,"d":"€ 0.00"},{"v":0,"d":"€ 0.00"}]
[null,5739,{"$nulls":7},{"v":0,"d":"€ 0.00"},{"v":0,"d":"€ 0.00"}]
[null,5740,{"$nulls":7},{"v":0,"d":"€ 0.00"},{"v":0,"d":"€ 0.00"}]
[null,5741,{"$nulls":7},{"v":0,"d":"€ 0.00"},{"v":0,"d":"€ 0.00"}]
[null,5742,{"$nulls":7},{"v":0,"d":"€ 0.00"},{"v":0,"d":"€ 0.00"}]
[null,5743,{"$nulls":7},{"v":0,"d":"€ 0.00"},{"v":0,"d":"€ 0.00"}]
[null,5744,{"$nulls":7},{"v":0,"d":"€ 0.00"},{"v":0,"d":"€ 0.00"}]
[null,5745,{"$nulls":7},{"v":0,"d":"€ 0.00"},{"v":0,"d":"€ 0.00"}]
[null,5746,{"$nulls":7},{"v":0,"d":"€ 0.00"},{"v":0,"d":"€ 0.00"}]
[null,5747,{"$nulls":7},{"v":0,"d":"€ 0.00"},{"v":0,"d":"€ 0.00"}]
[null,5748,{"$nulls":7},{"v":0,"d":"€ 0.00"},{"v":0,"d":"€ 0.00"}]
[null,5749,{"$nulls":7},{"v":0,"d":"€ 0.00"},{"v":0,"d":"€ 0.00"}]
[null,5750,{"$nulls":7},{"v":0,"d":"€ 0.00"},{"v":0,"d":"€ 0.00"}]
[null,5751,{"$nulls":7},{"v":0,"d":"€ 0.00"},{"v":0,"d":"€ 0.00"}]
[null,5752,{"$nulls":7},{"v":0,"d":"€ 0.00"},{"v":0,"d":"€ 0.00"}]
[null,5753,{"$nulls":7},{"v":0,"d":"€ 0.00"},{"v":0,"d":"€ 0.00"}]
[null,5754,{"$nulls":7},{"v":0,"d":"€ 0.00"},{"v":0,"d":"€ 0.00"}]
[null,5755,{"$nulls":7},{"v":0,"d":"€ 0.00"},{"v":0,"d":"€ 0.00"}]
[null,5756,{"$nulls":7},{"v":0,"d":"€ 0.00"},{"v":0,"d":"€ 0.00"}]
[null,5757,{"$nulls":7},{"v":0,"d":"€ 0.00"},{"v":0,"d":"€ 0.00"}]
[null,5758,{"$nulls":7},{"v":0,"d":"€ 0.00"},{"v":0,"d":"€ 0.00"}]
[null,5759,{"$nulls":7},{"v":0,"d":"€ 0.00"},{"v":0,"d":"€ 0.00"}]
[null,5760,{"$nulls":7},{"v":0,"d":"€ 0.00"},{"v":0,"d":"€ 0.00"}]
[null,5761,{"$nulls":7},{"v":0,"d":"€ 0.00"},{"v":0,"d":"€ 0.00"}]
[null,5762,{"$nulls":7},{"v":0,"d":"€ 0.00"},{"v":0,"d":"€ 0.00"}]
[null,5763,{"$nulls":7},{"v":0,"d":"€ 0.00"},{"v":0,"d":"€ 0.00"}]
[null,5764,{"$nulls":7},{"v":0,"d":"€ 0.00"},{"v":0,"d":"€ 0.00"}]
[null,5765,{"$nulls":7},{"v":0,"d":"€ 0.00"},{"v":0,"d":"€ 0.00"}]
[null,5766,{"$nulls":7},{"v":0,"d":"€ 0.00"},{"v":0,"d":"€ 0.00"}]
[null,5767,{"$nulls":7},{"v":0,"d":"€ 0.00"},{"v":0,"d":"€ 0.00"}]
[null,5768,{"$nulls":7},{"v":0,"d":"€ 0.00"},{"v":0,"d":"€ 0.00"}]
[null,5769,{"$nulls":7},{"v":0,"d":"€ 0.00"},{"v":0,"d":"€ 0.00"}]
[null,5770,{"$nulls":7},{"v":0,"d":"€ 0.00"},{"v":0,"d":"€ 0.00"}]
[null,5771,{"$nulls":7},{"v":0,"d":"€ 0.00"},{"v":0,"d":"€ 0.00"}]
[null,5772,{"$nulls":7},{"v":0,"d":"€ 0.00"},{"v":0,"d":"€ 0.00"}]
[null,5773,{"$nulls":7},{"v":0,"d":"€ 0.00"},{"v":0,"d":"€ 0.00"}]
[null,5774,{"$nulls":7},{"v":0,"d":"€ 0.00"},{"v":0,"d":"€ 0.00"}]
[null,5775,{"$nulls":7},{"v":0,"d":"€ 0.00"},{"v":0,"d":"€ 0.00"}]
[null,5776,{"$nulls":7},{"v":0,"d":"€ 0.00"},{"v":0,"d":"€ 0.00"}]
[null,5777,{"$nulls":7},{"v":0,"d":"€ 0.00"},{"v":0,"d":"€ 0.00"}]
[null,5778,{"$nulls":7},{"v":0,"d":"€ 0.00"},{"v":0,"d":"€ 0.00"}]
[null,5779,{"$nulls":7},{"$f":"IF(OR(ISBLANK(H5786)=TRUE,ISBLANK(I5786)=TRUE),,ROUND(H5786*I5786,2))","v":{"v":0,"d":"€ 0.00"}},{"$f":"G5786+J5786","v":{"v":0,"d":"€ 0.00"}}]
[null,5780,{"$nulls":7},{"v":0,"d":"€ 0.00"},{"v":0,"d":"€ 0.00"}]
[null,5781,{"$nulls":7},{"v":0,"d":"€ 0.00"},{"v":0,"d":"€ 0.00"}]
[null,5782,{"$nulls":7},{"v":0,"d":"€ 0.00"},{"v":0,"d":"€ 0.00"}]
[null,5783,{"$nulls":7},{"v":0,"d":"€ 0.00"},{"v":0,"d":"€ 0.00"}]
[null,5784,{"$nulls":7},{"v":0,"d":"€ 0.00"},{"v":0,"d":"€ 0.00"}]
[null,5785,{"$nulls":7},{"v":0,"d":"€ 0.00"},{"v":0,"d":"€ 0.00"}]
[null,5786,{"$nulls":7},{"v":0,"d":"€ 0.00"},{"v":0,"d":"€ 0.00"}]
[null,5787,{"$nulls":7},{"v":0,"d":"€ 0.00"},{"v":0,"d":"€ 0.00"}]
[null,5788,{"$nulls":7},{"v":0,"d":"€ 0.00"},{"v":0,"d":"€ 0.00"}]
[null,5789,{"$nulls":7},{"v":0,"d":"€ 0.00"},{"v":0,"d":"€ 0.00"}]
[null,5790,{"$nulls":7},{"v":0,"d":"€ 0.00"},{"v":0,"d":"€ 0.00"}]
[null,5791,{"$nulls":7},{"v":0,"d":"€ 0.00"},{"v":0,"d":"€ 0.00"}]
[null,5792,{"$nulls":7},{"v":0,"d":"€ 0.00"},{"v":0,"d":"€ 0.00"}]
[null,5793,{"$nulls":7},{"v":0,"d":"€ 0.00"},{"v":0,"d":"€ 0.00"}]
[null,5794,{"$nulls":7},{"v":0,"d":"€ 0.00"},{"v":0,"d":"€ 0.00"}]
[null,5795,{"$nulls":7},{"v":0,"d":"€ 0.00"},{"v":0,"d":"€ 0.00"}]
[null,5796,{"$nulls":7},{"v":0,"d":"€ 0.00"},{"v":0,"d":"€ 0.00"}]
[null,5797,{"$nulls":7},{"v":0,"d":"€ 0.00"},{"v":0,"d":"€ 0.00"}]
[null,5798,{"$nulls":7},{"v":0,"d":"€ 0.00"},{"v":0,"d":"€ 0.00"}]
[null,5799,{"$nulls":7},{"v":0,"d":"€ 0.00"},{"v":0,"d":"€ 0.00"}]
[null,5800,{"$nulls":7},{"v":0,"d":"€ 0.00"},{"v":0,"d":"€ 0.00"}]
[null,5801,{"$nulls":7},{"v":0,"d":"€ 0.00"},{"v":0,"d":"€ 0.00"}]
[null,5802,{"$nulls":7},{"v":0,"d":"€ 0.00"},{"v":0,"d":"€ 0.00"}]
[null,5803,{"$nulls":7},{"v":0,"d":"€ 0.00"},{"v":0,"d":"€ 0.00"}]
[null,5804,{"$nulls":7},{"v":0,"d":"€ 0.00"},{"v":0,"d":"€ 0.00"}]
[null,5805,{"$nulls":7},{"v":0,"d":"€ 0.00"},{"v":0,"d":"€ 0.00"}]
[null,5806,{"$nulls":7},{"v":0,"d":"€ 0.00"},{"v":0,"d":"€ 0.00"}]
[null,5807,{"$nulls":7},{"v":0,"d":"€ 0.00"},{"v":0,"d":"€ 0.00"}]
[null,5808,{"$nulls":7},{"v":0,"d":"€ 0.00"},{"v":0,"d":"€ 0.00"}]
[null,5809,{"$nulls":7},{"v":0,"d":"€ 0.00"},{"v":0,"d":"€ 0.00"}]
[null,5810,{"$nulls":7},{"v":0,"d":"€ 0.00"},{"v":0,"d":"€ 0.00"}]
[null,5811,{"$nulls":7},{"v":0,"d":"€ 0.00"},{"v":0,"d":"€ 0.00"}]
[null,5812,{"$nulls":7},{"v":0,"d":"€ 0.00"},{"v":0,"d":"€ 0.00"}]
[null,5813,{"$nulls":7},{"v":0,"d":"€ 0.00"},{"v":0,"d":"€ 0.00"}]
[null,5814,{"$nulls":7},{"v":0,"d":"€ 0.00"},{"v":0,"d":"€ 0.00"}]
[null,5815,{"$nulls":7},{"v":0,"d":"€ 0.00"},{"v":0,"d":"€ 0.00"}]
[null,5816,{"$nulls":7},{"v":0,"d":"€ 0.00"},{"v":0,"d":"€ 0.00"}]
[null,5817,{"$nulls":7},{"v":0,"d":"€ 0.00"},{"v":0,"d":"€ 0.00"}]
[null,5818,{"$nulls":7},{"v":0,"d":"€ 0.00"},{"v":0,"d":"€ 0.00"}]
[null,5819,{"$nulls":7},{"v":0,"d":"€ 0.00"},{"v":0,"d":"€ 0.00"}]
[null,5820,{"$nulls":7},{"v":0,"d":"€ 0.00"},{"v":0,"d":"€ 0.00"}]
[null,5821,{"$nulls":7},{"v":0,"d":"€ 0.00"},{"v":0,"d":"€ 0.00"}]
[null,5822,{"$nulls":7},{"v":0,"d":"€ 0.00"},{"v":0,"d":"€ 0.00"}]
[null,5823,{"$nulls":7},{"v":0,"d":"€ 0.00"},{"v":0,"d":"€ 0.00"}]
[null,5824,{"$nulls":7},{"v":0,"d":"€ 0.00"},{"v":0,"d":"€ 0.00"}]
[null,5825,{"$nulls":7},{"v":0,"d":"€ 0.00"},{"v":0,"d":"€ 0.00"}]
[null,5826,{"$nulls":7},{"v":0,"d":"€ 0.00"},{"v":0,"d":"€ 0.00"}]
[null,5827,{"$nulls":7},{"v":0,"d":"€ 0.00"},{"v":0,"d":"€ 0.00"}]
[null,5828,{"$nulls":7},{"v":0,"d":"€ 0.00"},{"v":0,"d":"€ 0.00"}]
[null,5829,{"$nulls":7},{"v":0,"d":"€ 0.00"},{"v":0,"d":"€ 0.00"}]
[null,5830,{"$nulls":7},{"v":0,"d":"€ 0.00"},{"v":0,"d":"€ 0.00"}]
[null,5831,{"$nulls":7},{"v":0,"d":"€ 0.00"},{"v":0,"d":"€ 0.00"}]
[null,5832,{"$nulls":7},{"v":0,"d":"€ 0.00"},{"v":0,"d":"€ 0.00"}]
[null,5833,{"$nulls":7},{"v":0,"d":"€ 0.00"},{"v":0,"d":"€ 0.00"}]
[null,5834,{"$nulls":7},{"v":0,"d":"€ 0.00"},{"v":0,"d":"€ 0.00"}]
[null,5835,{"$nulls":7},{"v":0,"d":"€ 0.00"},{"v":0,"d":"€ 0.00"}]
[null,5836,{"$nulls":7},{"v":0,"d":"€ 0.00"},{"v":0,"d":"€ 0.00"}]
[null,5837,{"$nulls":7},{"v":0,"d":"€ 0.00"},{"v":0,"d":"€ 0.00"}]
[null,5838,{"$nulls":7},{"v":0,"d":"€ 0.00"},{"v":0,"d":"€ 0.00"}]
[null,5839,{"$nulls":7},{"v":0,"d":"€ 0.00"},{"v":0,"d":"€ 0.00"}]
[null,5840,{"$nulls":7},{"v":0,"d":"€ 0.00"},{"v":0,"d":"€ 0.00"}]
[null,5841,{"$nulls":7},{"v":0,"d":"€ 0.00"},{"v":0,"d":"€ 0.00"}]
[null,5842,{"$nulls":7},{"v":0,"d":"€ 0.00"},{"v":0,"d":"€ 0.00"}]
[null,5843,{"$nulls":7},{"$f":"IF(OR(ISBLANK(H5850)=TRUE,ISBLANK(I5850)=TRUE),,ROUND(H5850*I5850,2))","v":{"v":0,"d":"€ 0.00"}},{"$f":"G5850+J5850","v":{"v":0,"d":"€ 0.00"}}]
[null,5844,{"$nulls":7},{"v":0,"d":"€ 0.00"},{"v":0,"d":"€ 0.00"}]
[null,5845,{"$nulls":7},{"v":0,"d":"€ 0.00"},{"v":0,"d":"€ 0.00"}]
[null,5846,{"$nulls":7},{"v":0,"d":"€ 0.00"},{"v":0,"d":"€ 0.00"}]
[null,5847,{"$nulls":7},{"v":0,"d":"€ 0.00"},{"v":0,"d":"€ 0.00"}]
[null,5848,{"$nulls":7},{"v":0,"d":"€ 0.00"},{"v":0,"d":"€ 0.00"}]
[null,5849,{"$nulls":7},{"v":0,"d":"€ 0.00"},{"v":0,"d":"€ 0.00"}]
[null,5850,{"$nulls":7},{"v":0,"d":"€ 0.00"},{"v":0,"d":"€ 0.00"}]
[null,5851,{"$nulls":7},{"v":0,"d":"€ 0.00"},{"v":0,"d":"€ 0.00"}]
[null,5852,{"$nulls":7},{"v":0,"d":"€ 0.00"},{"v":0,"d":"€ 0.00"}]
[null,5853,{"$nulls":7},{"v":0,"d":"€ 0.00"},{"v":0,"d":"€ 0.00"}]
[null,5854,{"$nulls":7},{"v":0,"d":"€ 0.00"},{"v":0,"d":"€ 0.00"}]
[null,5855,{"$nulls":7},{"v":0,"d":"€ 0.00"},{"v":0,"d":"€ 0.00"}]
[null,5856,{"$nulls":7},{"v":0,"d":"€ 0.00"},{"v":0,"d":"€ 0.00"}]
[null,5857,{"$nulls":7},{"v":0,"d":"€ 0.00"},{"v":0,"d":"€ 0.00"}]
[null,5858,{"$nulls":7},{"v":0,"d":"€ 0.00"},{"v":0,"d":"€ 0.00"}]
[null,5859,{"$nulls":7},{"v":0,"d":"€ 0.00"},{"v":0,"d":"€ 0.00"}]
[null,5860,{"$nulls":7},{"v":0,"d":"€ 0.00"},{"v":0,"d":"€ 0.00"}]
[null,5861,{"$nulls":7},{"v":0,"d":"€ 0.00"},{"v":0,"d":"€ 0.00"}]
[null,5862,{"$nulls":7},{"v":0,"d":"€ 0.00"},{"v":0,"d":"€ 0.00"}]
[null,5863,{"$nulls":7},{"v":0,"d":"€ 0.00"},{"v":0,"d":"€ 0.00"}]
[null,5864,{"$nulls":7},{"v":0,"d":"€ 0.00"},{"v":0,"d":"€ 0.00"}]
[null,5865,{"$nulls":7},{"v":0,"d":"€ 0.00"},{"v":0,"d":"€ 0.00"}]
[null,5866,{"$nulls":7},{"v":0,"d":"€ 0.00"},{"v":0,"d":"€ 0.00"}]
[null,5867,{"$nulls":7},{"v":0,"d":"€ 0.00"},{"v":0,"d":"€ 0.00"}]
[null,5868,{"$nulls":7},{"v":0,"d":"€ 0.00"},{"v":0,"d":"€ 0.00"}]
[null,5869,{"$nulls":7},{"v":0,"d":"€ 0.00"},{"v":0,"d":"€ 0.00"}]
[null,5870,{"$nulls":7},{"v":0,"d":"€ 0.00"},{"v":0,"d":"€ 0.00"}]
[null,5871,{"$nulls":7},{"v":0,"d":"€ 0.00"},{"v":0,"d":"€ 0.00"}]
[null,5872,{"$nulls":7},{"v":0,"d":"€ 0.00"},{"v":0,"d":"€ 0.00"}]
[null,5873,{"$nulls":7},{"v":0,"d":"€ 0.00"},{"v":0,"d":"€ 0.00"}]
[null,5874,{"$nulls":7},{"v":0,"d":"€ 0.00"},{"v":0,"d":"€ 0.00"}]
[null,5875,{"$nulls":7},{"v":0,"d":"€ 0.00"},{"v":0,"d":"€ 0.00"}]
[null,5876,{"$nulls":7},{"v":0,"d":"€ 0.00"},{"v":0,"d":"€ 0.00"}]
[null,5877,{"$nulls":7},{"v":0,"d":"€ 0.00"},{"v":0,"d":"€ 0.00"}]
[null,5878,{"$nulls":7},{"v":0,"d":"€ 0.00"},{"v":0,"d":"€ 0.00"}]
[null,5879,{"$nulls":7},{"v":0,"d":"€ 0.00"},{"v":0,"d":"€ 0.00"}]
[null,5880,{"$nulls":7},{"v":0,"d":"€ 0.00"},{"v":0,"d":"€ 0.00"}]
[null,5881,{"$nulls":7},{"v":0,"d":"€ 0.00"},{"v":0,"d":"€ 0.00"}]
[null,5882,{"$nulls":7},{"v":0,"d":"€ 0.00"},{"v":0,"d":"€ 0.00"}]
[null,5883,{"$nulls":7},{"v":0,"d":"€ 0.00"},{"v":0,"d":"€ 0.00"}]
[null,5884,{"$nulls":7},{"v":0,"d":"€ 0.00"},{"v":0,"d":"€ 0.00"}]
[null,5885,{"$nulls":7},{"v":0,"d":"€ 0.00"},{"v":0,"d":"€ 0.00"}]
[null,5886,{"$nulls":7},{"v":0,"d":"€ 0.00"},{"v":0,"d":"€ 0.00"}]
[null,5887,{"$nulls":7},{"v":0,"d":"€ 0.00"},{"v":0,"d":"€ 0.00"}]
[null,5888,{"$nulls":7},{"v":0,"d":"€ 0.00"},{"v":0,"d":"€ 0.00"}]
[null,5889,{"$nulls":7},{"v":0,"d":"€ 0.00"},{"v":0,"d":"€ 0.00"}]
[null,5890,{"$nulls":7},{"v":0,"d":"€ 0.00"},{"v":0,"d":"€ 0.00"}]
[null,5891,{"$nulls":7},{"v":0,"d":"€ 0.00"},{"v":0,"d":"€ 0.00"}]
[null,5892,{"$nulls":7},{"v":0,"d":"€ 0.00"},{"v":0,"d":"€ 0.00"}]
[null,5893,{"$nulls":7},{"v":0,"d":"€ 0.00"},{"v":0,"d":"€ 0.00"}]
[null,5894,{"$nulls":7},{"v":0,"d":"€ 0.00"},{"v":0,"d":"€ 0.00"}]
[null,5895,{"$nulls":7},{"v":0,"d":"€ 0.00"},{"v":0,"d":"€ 0.00"}]
[null,5896,{"$nulls":7},{"v":0,"d":"€ 0.00"},{"v":0,"d":"€ 0.00"}]
[null,5897,{"$nulls":7},{"v":0,"d":"€ 0.00"},{"v":0,"d":"€ 0.00"}]
[null,5898,{"$nulls":7},{"v":0,"d":"€ 0.00"},{"v":0,"d":"€ 0.00"}]
[null,5899,{"$nulls":7},{"v":0,"d":"€ 0.00"},{"v":0,"d":"€ 0.00"}]
[null,5900,{"$nulls":7},{"v":0,"d":"€ 0.00"},{"v":0,"d":"€ 0.00"}]
[null,5901,{"$nulls":7},{"v":0,"d":"€ 0.00"},{"v":0,"d":"€ 0.00"}]
[null,5902,{"$nulls":7},{"v":0,"d":"€ 0.00"},{"v":0,"d":"€ 0.00"}]
[null,5903,{"$nulls":7},{"v":0,"d":"€ 0.00"},{"v":0,"d":"€ 0.00"}]
[null,5904,{"$nulls":7},{"v":0,"d":"€ 0.00"},{"v":0,"d":"€ 0.00"}]
[null,5905,{"$nulls":7},{"v":0,"d":"€ 0.00"},{"v":0,"d":"€ 0.00"}]
[null,5906,{"$nulls":7},{"v":0,"d":"€ 0.00"},{"v":0,"d":"€ 0.00"}]
[null,5907,{"$nulls":7},{"$f":"IF(OR(ISBLANK(H5914)=TRUE,ISBLANK(I5914)=TRUE),,ROUND(H5914*I5914,2))","v":{"v":0,"d":"€ 0.00"}},{"$f":"G5914+J5914","v":{"v":0,"d":"€ 0.00"}}]
[null,5908,{"$nulls":7},{"v":0,"d":"€ 0.00"},{"v":0,"d":"€ 0.00"}]
[null,5909,{"$nulls":7},{"v":0,"d":"€ 0.00"},{"v":0,"d":"€ 0.00"}]
[null,5910,{"$nulls":7},{"v":0,"d":"€ 0.00"},{"v":0,"d":"€ 0.00"}]
[null,5911,{"$nulls":7},{"v":0,"d":"€ 0.00"},{"v":0,"d":"€ 0.00"}]
[null,5912,{"$nulls":7},{"v":0,"d":"€ 0.00"},{"v":0,"d":"€ 0.00"}]
[null,5913,{"$nulls":7},{"v":0,"d":"€ 0.00"},{"v":0,"d":"€ 0.00"}]
[null,5914,{"$nulls":7},{"v":0,"d":"€ 0.00"},{"v":0,"d":"€ 0.00"}]
[null,5915,{"$nulls":7},{"v":0,"d":"€ 0.00"},{"v":0,"d":"€ 0.00"}]
[null,5916,{"$nulls":7},{"v":0,"d":"€ 0.00"},{"v":0,"d":"€ 0.00"}]
[null,5917,{"$nulls":7},{"v":0,"d":"€ 0.00"},{"v":0,"d":"€ 0.00"}]
[null,5918,{"$nulls":7},{"v":0,"d":"€ 0.00"},{"v":0,"d":"€ 0.00"}]
[null,5919,{"$nulls":7},{"v":0,"d":"€ 0.00"},{"v":0,"d":"€ 0.00"}]
[null,5920,{"$nulls":7},{"v":0,"d":"€ 0.00"},{"v":0,"d":"€ 0.00"}]
[null,5921,{"$nulls":7},{"v":0,"d":"€ 0.00"},{"v":0,"d":"€ 0.00"}]
[null,5922,{"$nulls":7},{"v":0,"d":"€ 0.00"},{"v":0,"d":"€ 0.00"}]
[null,5923,{"$nulls":7},{"v":0,"d":"€ 0.00"},{"v":0,"d":"€ 0.00"}]
[null,5924,{"$nulls":7},{"v":0,"d":"€ 0.00"},{"v":0,"d":"€ 0.00"}]
[null,5925,{"$nulls":7},{"v":0,"d":"€ 0.00"},{"v":0,"d":"€ 0.00"}]
[null,5926,{"$nulls":7},{"v":0,"d":"€ 0.00"},{"v":0,"d":"€ 0.00"}]
[null,5927,{"$nulls":7},{"v":0,"d":"€ 0.00"},{"v":0,"d":"€ 0.00"}]
[null,5928,{"$nulls":7},{"v":0,"d":"€ 0.00"},{"v":0,"d":"€ 0.00"}]
[null,5929,{"$nulls":7},{"v":0,"d":"€ 0.00"},{"v":0,"d":"€ 0.00"}]
[null,5930,{"$nulls":7},{"v":0,"d":"€ 0.00"},{"v":0,"d":"€ 0.00"}]
[null,5931,{"$nulls":7},{"v":0,"d":"€ 0.00"},{"v":0,"d":"€ 0.00"}]
[null,5932,{"$nulls":7},{"v":0,"d":"€ 0.00"},{"v":0,"d":"€ 0.00"}]
[null,5933,{"$nulls":7},{"v":0,"d":"€ 0.00"},{"v":0,"d":"€ 0.00"}]
[null,5934,{"$nulls":7},{"v":0,"d":"€ 0.00"},{"v":0,"d":"€ 0.00"}]
[null,5935,{"$nulls":7},{"v":0,"d":"€ 0.00"},{"v":0,"d":"€ 0.00"}]
[null,5936,{"$nulls":7},{"v":0,"d":"€ 0.00"},{"v":0,"d":"€ 0.00"}]
[null,5937,{"$nulls":7},{"v":0,"d":"€ 0.00"},{"v":0,"d":"€ 0.00"}]
[null,5938,{"$nulls":7},{"v":0,"d":"€ 0.00"},{"v":0,"d":"€ 0.00"}]
[null,5939,{"$nulls":7},{"v":0,"d":"€ 0.00"},{"v":0,"d":"€ 0.00"}]
[null,5940,{"$nulls":7},{"v":0,"d":"€ 0.00"},{"v":0,"d":"€ 0.00"}]
[null,5941,{"$nulls":7},{"v":0,"d":"€ 0.00"},{"v":0,"d":"€ 0.00"}]
[null,5942,{"$nulls":7},{"v":0,"d":"€ 0.00"},{"v":0,"d":"€ 0.00"}]
[null,5943,{"$nulls":7},{"v":0,"d":"€ 0.00"},{"v":0,"d":"€ 0.00"}]
[null,5944,{"$nulls":7},{"v":0,"d":"€ 0.00"},{"v":0,"d":"€ 0.00"}]
[null,5945,{"$nulls":7},{"v":0,"d":"€ 0.00"},{"v":0,"d":"€ 0.00"}]
[null,5946,{"$nulls":7},{"v":0,"d":"€ 0.00"},{"v":0,"d":"€ 0.00"}]
[null,5947,{"$nulls":7},{"v":0,"d":"€ 0.00"},{"v":0,"d":"€ 0.00"}]
[null,5948,{"$nulls":7},{"v":0,"d":"€ 0.00"},{"v":0,"d":"€ 0.00"}]
[null,5949,{"$nulls":7},{"v":0,"d":"€ 0.00"},{"v":0,"d":"€ 0.00"}]
[null,5950,{"$nulls":7},{"v":0,"d":"€ 0.00"},{"v":0,"d":"€ 0.00"}]
[null,5951,{"$nulls":7},{"v":0,"d":"€ 0.00"},{"v":0,"d":"€ 0.00"}]
[null,5952,{"$nulls":7},{"v":0,"d":"€ 0.00"},{"v":0,"d":"€ 0.00"}]
[null,5953,{"$nulls":7},{"v":0,"d":"€ 0.00"},{"v":0,"d":"€ 0.00"}]
[null,5954,{"$nulls":7},{"v":0,"d":"€ 0.00"},{"v":0,"d":"€ 0.00"}]
[null,5955,{"$nulls":7},{"v":0,"d":"€ 0.00"},{"v":0,"d":"€ 0.00"}]
[null,5956,{"$nulls":7},{"v":0,"d":"€ 0.00"},{"v":0,"d":"€ 0.00"}]
[null,5957,{"$nulls":7},{"v":0,"d":"€ 0.00"},{"v":0,"d":"€ 0.00"}]
[null,5958,{"$nulls":7},{"v":0,"d":"€ 0.00"},{"v":0,"d":"€ 0.00"}]
[null,5959,{"$nulls":7},{"v":0,"d":"€ 0.00"},{"v":0,"d":"€ 0.00"}]
[null,5960,{"$nulls":7},{"v":0,"d":"€ 0.00"},{"v":0,"d":"€ 0.00"}]
[null,5961,{"$nulls":7},{"v":0,"d":"€ 0.00"},{"v":0,"d":"€ 0.00"}]
[null,5962,{"$nulls":7},{"v":0,"d":"€ 0.00"},{"v":0,"d":"€ 0.00"}]
[null,5963,{"$nulls":7},{"v":0,"d":"€ 0.00"},{"v":0,"d":"€ 0.00"}]
[null,5964,{"$nulls":7},{"v":0,"d":"€ 0.00"},{"v":0,"d":"€ 0.00"}]
[null,5965,{"$nulls":7},{"v":0,"d":"€ 0.00"},{"v":0,"d":"€ 0.00"}]
[null,5966,{"$nulls":7},{"v":0,"d":"€ 0.00"},{"v":0,"d":"€ 0.00"}]
[null,5967,{"$nulls":7},{"v":0,"d":"€ 0.00"},{"v":0,"d":"€ 0.00"}]
[null,5968,{"$nulls":7},{"v":0,"d":"€ 0.00"},{"v":0,"d":"€ 0.00"}]
[null,5969,{"$nulls":7},{"v":0,"d":"€ 0.00"},{"v":0,"d":"€ 0.00"}]
[null,5970,{"$nulls":7},{"v":0,"d":"€ 0.00"},{"v":0,"d":"€ 0.00"}]
[null,5971,{"$nulls":7},{"$f":"IF(OR(ISBLANK(H5978)=TRUE,ISBLANK(I5978)=TRUE),,ROUND(H5978*I5978,2))","v":{"v":0,"d":"€ 0.00"}},{"$f":"G5978+J5978","v":{"v":0,"d":"€ 0.00"}}]
[null,5972,{"$nulls":7},{"v":0,"d":"€ 0.00"},{"v":0,"d":"€ 0.00"}]
[null,5973,{"$nulls":7},{"v":0,"d":"€ 0.00"},{"v":0,"d":"€ 0.00"}]
[null,5974,{"$nulls":7},{"v":0,"d":"€ 0.00"},{"v":0,"d":"€ 0.00"}]
[null,5975,{"$nulls":7},{"v":0,"d":"€ 0.00"},{"v":0,"d":"€ 0.00"}]
[null,5976,{"$nulls":7},{"v":0,"d":"€ 0.00"},{"v":0,"d":"€ 0.00"}]
[null,5977,{"$nulls":7},{"v":0,"d":"€ 0.00"},{"v":0,"d":"€ 0.00"}]
[null,5978,{"$nulls":7},{"v":0,"d":"€ 0.00"},{"v":0,"d":"€ 0.00"}]
[null,5979,{"$nulls":7},{"v":0,"d":"€ 0.00"},{"v":0,"d":"€ 0.00"}]
[null,5980,{"$nulls":7},{"v":0,"d":"€ 0.00"},{"v":0,"d":"€ 0.00"}]
[null,5981,{"$nulls":7},{"v":0,"d":"€ 0.00"},{"v":0,"d":"€ 0.00"}]
[null,5982,{"$nulls":7},{"v":0,"d":"€ 0.00"},{"v":0,"d":"€ 0.00"}]
[null,5983,{"$nulls":7},{"v":0,"d":"€ 0.00"},{"v":0,"d":"€ 0.00"}]
[null,5984,{"$nulls":7},{"v":0,"d":"€ 0.00"},{"v":0,"d":"€ 0.00"}]
[null,5985,{"$nulls":7},{"v":0,"d":"€ 0.00"},{"v":0,"d":"€ 0.00"}]
[null,5986,{"$nulls":7},{"v":0,"d":"€ 0.00"},{"v":0,"d":"€ 0.00"}]
[null,5987,{"$nulls":7},{"v":0,"d":"€ 0.00"},{"v":0,"d":"€ 0.00"}]
[null,5988,{"$nulls":7},{"v":0,"d":"€ 0.00"},{"v":0,"d":"€ 0.00"}]
[null,5989,{"$nulls":7},{"v":0,"d":"€ 0.00"},{"v":0,"d":"€ 0.00"}]
[null,5990,{"$nulls":7},{"v":0,"d":"€ 0.00"},{"v":0,"d":"€ 0.00"}]
[null,5991,{"$nulls":7},{"v":0,"d":"€ 0.00"},{"v":0,"d":"€ 0.00"}]
[null,5992,{"$nulls":7},{"v":0,"d":"€ 0.00"},{"v":0,"d":"€ 0.00"}]
[null,5993,{"$nulls":7},{"v":0,"d":"€ 0.00"},{"v":0,"d":"€ 0.00"}]
[null,5994,{"$nulls":7},{"v":0,"d":"€ 0.00"},{"v":0,"d":"€ 0.00"}]
[null,5995,{"$nulls":7},{"v":0,"d":"€ 0.00"},{"v":0,"d":"€ 0.00"}]
[null,5996,{"$nulls":7},{"v":0,"d":"€ 0.00"},{"v":0,"d":"€ 0.00"}]
[null,5997,{"$nulls":7},{"v":0,"d":"€ 0.00"},{"v":0,"d":"€ 0.00"}]
[null,5998,{"$nulls":7},{"v":0,"d":"€ 0.00"},{"v":0,"d":"€ 0.00"}]
[null,5999,{"$nulls":7},{"v":0,"d":"€ 0.00"},{"v":0,"d":"€ 0.00"}]
[null,6000,{"$nulls":7},{"v":0,"d":"€ 0.00"},{"v":0,"d":"€ 0.00"}]
[null,6001,{"$nulls":7},{"v":0,"d":"€ 0.00"},{"v":0,"d":"€ 0.00"}]
[null,6002,{"$nulls":7},{"v":0,"d":"€ 0.00"},{"v":0,"d":"€ 0.00"}]
[null,6003,{"$nulls":7},{"v":0,"d":"€ 0.00"},{"v":0,"d":"€ 0.00"}]
[null,6004,{"$nulls":7},{"v":0,"d":"€ 0.00"},{"v":0,"d":"€ 0.00"}]
[null,6005,{"$nulls":7},{"v":0,"d":"€ 0.00"},{"v":0,"d":"€ 0.00"}]
[null,6006,{"$nulls":7},{"v":0,"d":"€ 0.00"},{"v":0,"d":"€ 0.00"}]
[null,6007,{"$nulls":7},{"v":0,"d":"€ 0.00"},{"v":0,"d":"€ 0.00"}]
[null,6008,{"$nulls":7},{"v":0,"d":"€ 0.00"},{"v":0,"d":"€ 0.00"}]
[null,6009,{"$nulls":7},{"v":0,"d":"€ 0.00"},{"v":0,"d":"€ 0.00"}]
[null,6010,{"$nulls":7},{"v":0,"d":"€ 0.00"},{"v":0,"d":"€ 0.00"}]
[null,6011,{"$nulls":7},{"v":0,"d":"€ 0.00"},{"v":0,"d":"€ 0.00"}]
[null,6012,{"$nulls":7},{"v":0,"d":"€ 0.00"},{"v":0,"d":"€ 0.00"}]
[null,6013,{"$nulls":7},{"v":0,"d":"€ 0.00"},{"v":0,"d":"€ 0.00"}]
[null,6014,{"$nulls":7},{"v":0,"d":"€ 0.00"},{"v":0,"d":"€ 0.00"}]
[null,6015,{"$nulls":7},{"v":0,"d":"€ 0.00"},{"v":0,"d":"€ 0.00"}]
[null,6016,{"$nulls":7},{"v":0,"d":"€ 0.00"},{"v":0,"d":"€ 0.00"}]
[null,6017,{"$nulls":7},{"v":0,"d":"€ 0.00"},{"v":0,"d":"€ 0.00"}]
[null,6018,{"$nulls":7},{"v":0,"d":"€ 0.00"},{"v":0,"d":"€ 0.00"}]
[null,6019,{"$nulls":7},{"v":0,"d":"€ 0.00"},{"v":0,"d":"€ 0.00"}]
[null,6020,{"$nulls":7},{"v":0,"d":"€ 0.00"},{"v":0,"d":"€ 0.00"}]
[null,6021,{"$nulls":7},{"v":0,"d":"€ 0.00"},{"v":0,"d":"€ 0.00"}]
[null,6022,{"$nulls":7},{"v":0,"d":"€ 0.00"},{"v":0,"d":"€ 0.00"}]
[null,6023,{"$nulls":7},{"v":0,"d":"€ 0.00"},{"v":0,"d":"€ 0.00"}]
[null,6024,{"$nulls":7},{"v":0,"d":"€ 0.00"},{"v":0,"d":"€ 0.00"}]
[null,6025,{"$nulls":7},{"v":0,"d":"€ 0.00"},{"v":0,"d":"€ 0.00"}]
[null,6026,{"$nulls":7},{"v":0,"d":"€ 0.00"},{"v":0,"d":"€ 0.00"}]
[null,6027,{"$nulls":7},{"v":0,"d":"€ 0.00"},{"v":0,"d":"€ 0.00"}]
[null,6028,{"$nulls":7},{"v":0,"d":"€ 0.00"},{"v":0,"d":"€ 0.00"}]
[null,6029,{"$nulls":7},{"v":0,"d":"€ 0.00"},{"v":0,"d":"€ 0.00"}]
[null,6030,{"$nulls":7},{"v":0,"d":"€ 0.00"},{"v":0,"d":"€ 0.00"}]
[null,6031,{"$nulls":7},{"v":0,"d":"€ 0.00"},{"v":0,"d":"€ 0.00"}]
[null,6032,{"$nulls":7},{"v":0,"d":"€ 0.00"},{"v":0,"d":"€ 0.00"}]
[null,6033,{"$nulls":7},{"v":0,"d":"€ 0.00"},{"v":0,"d":"€ 0.00"}]
[null,6034,{"$nulls":7},{"v":0,"d":"€ 0.00"},{"v":0,"d":"€ 0.00"}]
[null,6035,{"$nulls":7},{"$f":"IF(OR(ISBLANK(H6042)=TRUE,ISBLANK(I6042)=TRUE),,ROUND(H6042*I6042,2))","v":{"v":0,"d":"€ 0.00"}},{"$f":"G6042+J6042","v":{"v":0,"d":"€ 0.00"}}]
[null,6036,{"$nulls":7},{"v":0,"d":"€ 0.00"},{"v":0,"d":"€ 0.00"}]
[null,6037,{"$nulls":7},{"v":0,"d":"€ 0.00"},{"v":0,"d":"€ 0.00"}]
[null,6038,{"$nulls":7},{"v":0,"d":"€ 0.00"},{"v":0,"d":"€ 0.00"}]
[null,6039,{"$nulls":7},{"v":0,"d":"€ 0.00"},{"v":0,"d":"€ 0.00"}]
[null,6040,{"$nulls":7},{"v":0,"d":"€ 0.00"},{"v":0,"d":"€ 0.00"}]
[null,6041,{"$nulls":7},{"v":0,"d":"€ 0.00"},{"v":0,"d":"€ 0.00"}]
[null,6042,{"$nulls":7},{"v":0,"d":"€ 0.00"},{"v":0,"d":"€ 0.00"}]
[null,6043,{"$nulls":7},{"v":0,"d":"€ 0.00"},{"v":0,"d":"€ 0.00"}]
[null,6044,{"$nulls":7},{"v":0,"d":"€ 0.00"},{"v":0,"d":"€ 0.00"}]
[null,6045,{"$nulls":7},{"v":0,"d":"€ 0.00"},{"v":0,"d":"€ 0.00"}]
[null,6046,{"$nulls":7},{"v":0,"d":"€ 0.00"},{"v":0,"d":"€ 0.00"}]
[null,6047,{"$nulls":7},{"v":0,"d":"€ 0.00"},{"v":0,"d":"€ 0.00"}]
[null,6048,{"$nulls":7},{"v":0,"d":"€ 0.00"},{"v":0,"d":"€ 0.00"}]
[null,6049,{"$nulls":7},{"v":0,"d":"€ 0.00"},{"v":0,"d":"€ 0.00"}]
[null,6050,{"$nulls":7},{"v":0,"d":"€ 0.00"},{"v":0,"d":"€ 0.00"}]
[null,6051,{"$nulls":7},{"v":0,"d":"€ 0.00"},{"v":0,"d":"€ 0.00"}]
[null,6052,{"$nulls":7},{"v":0,"d":"€ 0.00"},{"v":0,"d":"€ 0.00"}]
[null,6053,{"$nulls":7},{"v":0,"d":"€ 0.00"},{"v":0,"d":"€ 0.00"}]
[null,6054,{"$nulls":7},{"v":0,"d":"€ 0.00"},{"v":0,"d":"€ 0.00"}]
[null,6055,{"$nulls":7},{"v":0,"d":"€ 0.00"},{"v":0,"d":"€ 0.00"}]
[null,6056,{"$nulls":7},{"v":0,"d":"€ 0.00"},{"v":0,"d":"€ 0.00"}]
[null,6057,{"$nulls":7},{"v":0,"d":"€ 0.00"},{"v":0,"d":"€ 0.00"}]
[null,6058,{"$nulls":7},{"v":0,"d":"€ 0.00"},{"v":0,"d":"€ 0.00"}]
[null,6059,{"$nulls":7},{"v":0,"d":"€ 0.00"},{"v":0,"d":"€ 0.00"}]
[null,6060,{"$nulls":7},{"v":0,"d":"€ 0.00"},{"v":0,"d":"€ 0.00"}]
[null,6061,{"$nulls":7},{"v":0,"d":"€ 0.00"},{"v":0,"d":"€ 0.00"}]
[null,6062,{"$nulls":7},{"v":0,"d":"€ 0.00"},{"v":0,"d":"€ 0.00"}]
[null,6063,{"$nulls":7},{"v":0,"d":"€ 0.00"},{"v":0,"d":"€ 0.00"}]
[null,6064,{"$nulls":7},{"v":0,"d":"€ 0.00"},{"v":0,"d":"€ 0.00"}]
[null,6065,{"$nulls":7},{"v":0,"d":"€ 0.00"},{"v":0,"d":"€ 0.00"}]
[null,6066,{"$nulls":7},{"v":0,"d":"€ 0.00"},{"v":0,"d":"€ 0.00"}]
[null,6067,{"$nulls":7},{"v":0,"d":"€ 0.00"},{"v":0,"d":"€ 0.00"}]
[null,6068,{"$nulls":7},{"v":0,"d":"€ 0.00"},{"v":0,"d":"€ 0.00"}]
[null,6069,{"$nulls":7},{"v":0,"d":"€ 0.00"},{"v":0,"d":"€ 0.00"}]
[null,6070,{"$nulls":7},{"v":0,"d":"€ 0.00"},{"v":0,"d":"€ 0.00"}]
[null,6071,{"$nulls":7},{"v":0,"d":"€ 0.00"},{"v":0,"d":"€ 0.00"}]
[null,6072,{"$nulls":7},{"v":0,"d":"€ 0.00"},{"v":0,"d":"€ 0.00"}]
[null,6073,{"$nulls":7},{"v":0,"d":"€ 0.00"},{"v":0,"d":"€ 0.00"}]
[null,6074,{"$nulls":7},{"v":0,"d":"€ 0.00"},{"v":0,"d":"€ 0.00"}]
[null,6075,{"$nulls":7},{"v":0,"d":"€ 0.00"},{"v":0,"d":"€ 0.00"}]
[null,6076,{"$nulls":7},{"v":0,"d":"€ 0.00"},{"v":0,"d":"€ 0.00"}]
[null,6077,{"$nulls":7},{"v":0,"d":"€ 0.00"},{"v":0,"d":"€ 0.00"}]
[null,6078,{"$nulls":7},{"v":0,"d":"€ 0.00"},{"v":0,"d":"€ 0.00"}]
[null,6079,{"$nulls":7},{"v":0,"d":"€ 0.00"},{"v":0,"d":"€ 0.00"}]
[null,6080,{"$nulls":7},{"v":0,"d":"€ 0.00"},{"v":0,"d":"€ 0.00"}]
[null,6081,{"$nulls":7},{"v":0,"d":"€ 0.00"},{"v":0,"d":"€ 0.00"}]
[null,6082,{"$nulls":7},{"v":0,"d":"€ 0.00"},{"v":0,"d":"€ 0.00"}]
[null,6083,{"$nulls":7},{"v":0,"d":"€ 0.00"},{"v":0,"d":"€ 0.00"}]
[null,6084,{"$nulls":7},{"v":0,"d":"€ 0.00"},{"v":0,"d":"€ 0.00"}]
[null,6085,{"$nulls":7},{"v":0,"d":"€ 0.00"},{"v":0,"d":"€ 0.00"}]
[null,6086,{"$nulls":7},{"v":0,"d":"€ 0.00"},{"v":0,"d":"€ 0.00"}]
[null,6087,{"$nulls":7},{"v":0,"d":"€ 0.00"},{"v":0,"d":"€ 0.00"}]
[null,6088,{"$nulls":7},{"v":0,"d":"€ 0.00"},{"v":0,"d":"€ 0.00"}]
[null,6089,{"$nulls":7},{"v":0,"d":"€ 0.00"},{"v":0,"d":"€ 0.00"}]
[null,6090,{"$nulls":7},{"v":0,"d":"€ 0.00"},{"v":0,"d":"€ 0.00"}]
[null,6091,{"$nulls":7},{"v":0,"d":"€ 0.00"},{"v":0,"d":"€ 0.00"}]
[null,6092,{"$nulls":7},{"v":0,"d":"€ 0.00"},{"v":0,"d":"€ 0.00"}]
[null,6093,{"$nulls":7},{"v":0,"d":"€ 0.00"},{"v":0,"d":"€ 0.00"}]
[null,6094,{"$nulls":7},{"v":0,"d":"€ 0.00"},{"v":0,"d":"€ 0.00"}]
[null,6095,{"$nulls":7},{"v":0,"d":"€ 0.00"},{"v":0,"d":"€ 0.00"}]
[null,6096,{"$nulls":7},{"v":0,"d":"€ 0.00"},{"v":0,"d":"€ 0.00"}]
[null,6097,{"$nulls":7},{"v":0,"d":"€ 0.00"},{"v":0,"d":"€ 0.00"}]
[null,6098,{"$nulls":7},{"v":0,"d":"€ 0.00"},{"v":0,"d":"€ 0.00"}]
[null,6099,{"$nulls":7},{"$f":"IF(OR(ISBLANK(H6106)=TRUE,ISBLANK(I6106)=TRUE),,ROUND(H6106*I6106,2))","v":{"v":0,"d":"€ 0.00"}},{"$f":"G6106+J6106","v":{"v":0,"d":"€ 0.00"}}]
[null,6100,{"$nulls":7},{"v":0,"d":"€ 0.00"},{"v":0,"d":"€ 0.00"}]
[null,6101,{"$nulls":7},{"v":0,"d":"€ 0.00"},{"v":0,"d":"€ 0.00"}]
[null,6102,{"$nulls":7},{"v":0,"d":"€ 0.00"},{"v":0,"d":"€ 0.00"}]
[null,6103,{"$nulls":7},{"v":0,"d":"€ 0.00"},{"v":0,"d":"€ 0.00"}]
[null,6104,{"$nulls":7},{"v":0,"d":"€ 0.00"},{"v":0,"d":"€ 0.00"}]
[null,6105,{"$nulls":7},{"v":0,"d":"€ 0.00"},{"v":0,"d":"€ 0.00"}]
[null,6106,{"$nulls":7},{"v":0,"d":"€ 0.00"},{"v":0,"d":"€ 0.00"}]
[null,6107,{"$nulls":7},{"v":0,"d":"€ 0.00"},{"v":0,"d":"€ 0.00"}]
[null,6108,{"$nulls":7},{"v":0,"d":"€ 0.00"},{"v":0,"d":"€ 0.00"}]
[null,6109,{"$nulls":7},{"v":0,"d":"€ 0.00"},{"v":0,"d":"€ 0.00"}]
[null,6110,{"$nulls":7},{"v":0,"d":"€ 0.00"},{"v":0,"d":"€ 0.00"}]
[null,6111,{"$nulls":7},{"v":0,"d":"€ 0.00"},{"v":0,"d":"€ 0.00"}]
[null,6112,{"$nulls":7},{"v":0,"d":"€ 0.00"},{"v":0,"d":"€ 0.00"}]
[null,6113,{"$nulls":7},{"v":0,"d":"€ 0.00"},{"v":0,"d":"€ 0.00"}]
[null,6114,{"$nulls":7},{"v":0,"d":"€ 0.00"},{"v":0,"d":"€ 0.00"}]
[null,6115,{"$nulls":7},{"v":0,"d":"€ 0.00"},{"v":0,"d":"€ 0.00"}]
[null,6116,{"$nulls":7},{"v":0,"d":"€ 0.00"},{"v":0,"d":"€ 0.00"}]
[null,6117,{"$nulls":7},{"v":0,"d":"€ 0.00"},{"v":0,"d":"€ 0.00"}]
[null,6118,{"$nulls":7},{"v":0,"d":"€ 0.00"},{"v":0,"d":"€ 0.00"}]
[null,6119,{"$nulls":7},{"v":0,"d":"€ 0.00"},{"v":0,"d":"€ 0.00"}]
[null,6120,{"$nulls":7},{"v":0,"d":"€ 0.00"},{"v":0,"d":"€ 0.00"}]
[null,6121,{"$nulls":7},{"v":0,"d":"€ 0.00"},{"v":0,"d":"€ 0.00"}]
[null,6122,{"$nulls":7},{"v":0,"d":"€ 0.00"},{"v":0,"d":"€ 0.00"}]
[null,6123,{"$nulls":7},{"v":0,"d":"€ 0.00"},{"v":0,"d":"€ 0.00"}]
[null,6124,{"$nulls":7},{"v":0,"d":"€ 0.00"},{"v":0,"d":"€ 0.00"}]
[null,6125,{"$nulls":7},{"v":0,"d":"€ 0.00"},{"v":0,"d":"€ 0.00"}]
[null,6126,{"$nulls":7},{"v":0,"d":"€ 0.00"},{"v":0,"d":"€ 0.00"}]
[null,6127,{"$nulls":7},{"v":0,"d":"€ 0.00"},{"v":0,"d":"€ 0.00"}]
[null,6128,{"$nulls":7},{"v":0,"d":"€ 0.00"},{"v":0,"d":"€ 0.00"}]
[null,6129,{"$nulls":7},{"v":0,"d":"€ 0.00"},{"v":0,"d":"€ 0.00"}]
[null,6130,{"$nulls":7},{"v":0,"d":"€ 0.00"},{"v":0,"d":"€ 0.00"}]
[null,6131,{"$nulls":7},{"v":0,"d":"€ 0.00"},{"v":0,"d":"€ 0.00"}]
[null,6132,{"$nulls":7},{"v":0,"d":"€ 0.00"},{"v":0,"d":"€ 0.00"}]
[null,6133,{"$nulls":7},{"v":0,"d":"€ 0.00"},{"v":0,"d":"€ 0.00"}]
[null,6134,{"$nulls":7},{"v":0,"d":"€ 0.00"},{"v":0,"d":"€ 0.00"}]
[null,6135,{"$nulls":7},{"v":0,"d":"€ 0.00"},{"v":0,"d":"€ 0.00"}]
[null,6136,{"$nulls":7},{"v":0,"d":"€ 0.00"},{"v":0,"d":"€ 0.00"}]
[null,6137,{"$nulls":7},{"v":0,"d":"€ 0.00"},{"v":0,"d":"€ 0.00"}]
[null,6138,{"$nulls":7},{"v":0,"d":"€ 0.00"},{"v":0,"d":"€ 0.00"}]
[null,6139,{"$nulls":7},{"v":0,"d":"€ 0.00"},{"v":0,"d":"€ 0.00"}]
[null,6140,{"$nulls":7},{"v":0,"d":"€ 0.00"},{"v":0,"d":"€ 0.00"}]
[null,6141,{"$nulls":7},{"v":0,"d":"€ 0.00"},{"v":0,"d":"€ 0.00"}]
[null,6142,{"$nulls":7},{"v":0,"d":"€ 0.00"},{"v":0,"d":"€ 0.00"}]
[null,6143,{"$nulls":7},{"v":0,"d":"€ 0.00"},{"v":0,"d":"€ 0.00"}]
[null,6144,{"$nulls":7},{"v":0,"d":"€ 0.00"},{"v":0,"d":"€ 0.00"}]
[null,6145,{"$nulls":7},{"v":0,"d":"€ 0.00"},{"v":0,"d":"€ 0.00"}]
[null,6146,{"$nulls":7},{"v":0,"d":"€ 0.00"},{"v":0,"d":"€ 0.00"}]
[null,6147,{"$nulls":7},{"v":0,"d":"€ 0.00"},{"v":0,"d":"€ 0.00"}]
[null,6148,{"$nulls":7},{"v":0,"d":"€ 0.00"},{"v":0,"d":"€ 0.00"}]
[null,6149,{"$nulls":7},{"v":0,"d":"€ 0.00"},{"v":0,"d":"€ 0.00"}]
[null,6150,{"$nulls":7},{"v":0,"d":"€ 0.00"},{"v":0,"d":"€ 0.00"}]
[null,6151,{"$nulls":7},{"v":0,"d":"€ 0.00"},{"v":0,"d":"€ 0.00"}]
[null,6152,{"$nulls":7},{"v":0,"d":"€ 0.00"},{"v":0,"d":"€ 0.00"}]
[null,6153,{"$nulls":7},{"v":0,"d":"€ 0.00"},{"v":0,"d":"€ 0.00"}]
[null,6154,{"$nulls":7},{"v":0,"d":"€ 0.00"},{"v":0,"d":"€ 0.00"}]
[null,6155,{"$nulls":7},{"v":0,"d":"€ 0.00"},{"v":0,"d":"€ 0.00"}]
[null,6156,{"$nulls":7},{"v":0,"d":"€ 0.00"},{"v":0,"d":"€ 0.00"}]
[null,6157,{"$nulls":7},{"v":0,"d":"€ 0.00"},{"v":0,"d":"€ 0.00"}]
[null,6158,{"$nulls":7},{"v":0,"d":"€ 0.00"},{"v":0,"d":"€ 0.00"}]
[null,6159,{"$nulls":7},{"v":0,"d":"€ 0.00"},{"v":0,"d":"€ 0.00"}]
[null,6160,{"$nulls":7},{"v":0,"d":"€ 0.00"},{"v":0,"d":"€ 0.00"}]
[null,6161,{"$nulls":7},{"v":0,"d":"€ 0.00"},{"v":0,"d":"€ 0.00"}]
[null,6162,{"$nulls":7},{"v":0,"d":"€ 0.00"},{"v":0,"d":"€ 0.00"}]
[null,6163,{"$nulls":7},{"$f":"IF(OR(ISBLANK(H6170)=TRUE,ISBLANK(I6170)=TRUE),,ROUND(H6170*I6170,2))","v":{"v":0,"d":"€ 0.00"}},{"$f":"G6170+J6170","v":{"v":0,"d":"€ 0.00"}}]
[null,6164,{"$nulls":7},{"v":0,"d":"€ 0.00"},{"v":0,"d":"€ 0.00"}]
[null,6165,{"$nulls":7},{"v":0,"d":"€ 0.00"},{"v":0,"d":"€ 0.00"}]
[null,6166,{"$nulls":7},{"v":0,"d":"€ 0.00"},{"v":0,"d":"€ 0.00"}]
[null,6167,{"$nulls":7},{"v":0,"d":"€ 0.00"},{"v":0,"d":"€ 0.00"}]
[null,6168,{"$nulls":7},{"v":0,"d":"€ 0.00"},{"v":0,"d":"€ 0.00"}]
[null,6169,{"$nulls":7},{"v":0,"d":"€ 0.00"},{"v":0,"d":"€ 0.00"}]
[null,6170,{"$nulls":7},{"v":0,"d":"€ 0.00"},{"v":0,"d":"€ 0.00"}]
[null,6171,{"$nulls":7},{"v":0,"d":"€ 0.00"},{"v":0,"d":"€ 0.00"}]
[null,6172,{"$nulls":7},{"v":0,"d":"€ 0.00"},{"v":0,"d":"€ 0.00"}]
[null,6173,{"$nulls":7},{"v":0,"d":"€ 0.00"},{"v":0,"d":"€ 0.00"}]
[null,6174,{"$nulls":7},{"v":0,"d":"€ 0.00"},{"v":0,"d":"€ 0.00"}]
[null,6175,{"$nulls":7},{"v":0,"d":"€ 0.00"},{"v":0,"d":"€ 0.00"}]
[null,6176,{"$nulls":7},{"v":0,"d":"€ 0.00"},{"v":0,"d":"€ 0.00"}]
[null,6177,{"$nulls":7},{"v":0,"d":"€ 0.00"},{"v":0,"d":"€ 0.00"}]
[null,6178,{"$nulls":7},{"v":0,"d":"€ 0.00"},{"v":0,"d":"€ 0.00"}]
[null,6179,{"$nulls":7},{"v":0,"d":"€ 0.00"},{"v":0,"d":"€ 0.00"}]
[null,6180,{"$nulls":7},{"v":0,"d":"€ 0.00"},{"v":0,"d":"€ 0.00"}]
[null,6181,{"$nulls":7},{"v":0,"d":"€ 0.00"},{"v":0,"d":"€ 0.00"}]
[null,6182,{"$nulls":7},{"v":0,"d":"€ 0.00"},{"v":0,"d":"€ 0.00"}]
[null,6183,{"$nulls":7},{"v":0,"d":"€ 0.00"},{"v":0,"d":"€ 0.00"}]
[null,6184,{"$nulls":7},{"v":0,"d":"€ 0.00"},{"v":0,"d":"€ 0.00"}]
[null,6185,{"$nulls":7},{"v":0,"d":"€ 0.00"},{"v":0,"d":"€ 0.00"}]
[null,6186,{"$nulls":7},{"v":0,"d":"€ 0.00"},{"v":0,"d":"€ 0.00"}]
[null,6187,{"$nulls":7},{"v":0,"d":"€ 0.00"},{"v":0,"d":"€ 0.00"}]
[null,6188,{"$nulls":7},{"v":0,"d":"€ 0.00"},{"v":0,"d":"€ 0.00"}]
[null,6189,{"$nulls":7},{"v":0,"d":"€ 0.00"},{"v":0,"d":"€ 0.00"}]
[null,6190,{"$nulls":7},{"v":0,"d":"€ 0.00"},{"v":0,"d":"€ 0.00"}]
[null,6191,{"$nulls":7},{"v":0,"d":"€ 0.00"},{"v":0,"d":"€ 0.00"}]
[null,6192,{"$nulls":7},{"v":0,"d":"€ 0.00"},{"v":0,"d":"€ 0.00"}]
[null,6193,{"$nulls":7},{"v":0,"d":"€ 0.00"},{"v":0,"d":"€ 0.00"}]
[null,6194,{"$nulls":7},{"v":0,"d":"€ 0.00"},{"v":0,"d":"€ 0.00"}]
[null,6195,{"$nulls":7},{"v":0,"d":"€ 0.00"},{"v":0,"d":"€ 0.00"}]
[null,6196,{"$nulls":7},{"v":0,"d":"€ 0.00"},{"v":0,"d":"€ 0.00"}]
[null,6197,{"$nulls":7},{"v":0,"d":"€ 0.00"},{"v":0,"d":"€ 0.00"}]
[null,6198,{"$nulls":7},{"v":0,"d":"€ 0.00"},{"v":0,"d":"€ 0.00"}]
[null,6199,{"$nulls":7},{"v":0,"d":"€ 0.00"},{"v":0,"d":"€ 0.00"}]
[null,6200,{"$nulls":7},{"v":0,"d":"€ 0.00"},{"v":0,"d":"€ 0.00"}]
[null,6201,{"$nulls":7},{"v":0,"d":"€ 0.00"},{"v":0,"d":"€ 0.00"}]
[null,6202,{"$nulls":7},{"v":0,"d":"€ 0.00"},{"v":0,"d":"€ 0.00"}]
[null,6203,{"$nulls":7},{"v":0,"d":"€ 0.00"},{"v":0,"d":"€ 0.00"}]
[null,6204,{"$nulls":7},{"v":0,"d":"€ 0.00"},{"v":0,"d":"€ 0.00"}]
[null,6205,{"$nulls":7},{"v":0,"d":"€ 0.00"},{"v":0,"d":"€ 0.00"}]
[null,6206,{"$nulls":7},{"v":0,"d":"€ 0.00"},{"v":0,"d":"€ 0.00"}]
[null,6207,{"$nulls":7},{"v":0,"d":"€ 0.00"},{"v":0,"d":"€ 0.00"}]
[null,6208,{"$nulls":7},{"v":0,"d":"€ 0.00"},{"v":0,"d":"€ 0.00"}]
[null,6209,{"$nulls":7},{"v":0,"d":"€ 0.00"},{"v":0,"d":"€ 0.00"}]
[null,6210,{"$nulls":7},{"v":0,"d":"€ 0.00"},{"v":0,"d":"€ 0.00"}]
[null,6211,{"$nulls":7},{"v":0,"d":"€ 0.00"},{"v":0,"d":"€ 0.00"}]
[null,6212,{"$nulls":7},{"v":0,"d":"€ 0.00"},{"v":0,"d":"€ 0.00"}]
[null,6213,{"$nulls":7},{"v":0,"d":"€ 0.00"},{"v":0,"d":"€ 0.00"}]
[null,6214,{"$nulls":7},{"v":0,"d":"€ 0.00"},{"v":0,"d":"€ 0.00"}]
[null,6215,{"$nulls":7},{"v":0,"d":"€ 0.00"},{"v":0,"d":"€ 0.00"}]
[null,6216,{"$nulls":7},{"v":0,"d":"€ 0.00"},{"v":0,"d":"€ 0.00"}]
[null,6217,{"$nulls":7},{"v":0,"d":"€ 0.00"},{"v":0,"d":"€ 0.00"}]
[null,6218,{"$nulls":7},{"v":0,"d":"€ 0.00"},{"v":0,"d":"€ 0.00"}]
[null,6219,{"$nulls":7},{"v":0,"d":"€ 0.00"},{"v":0,"d":"€ 0.00"}]
[null,6220,{"$nulls":7},{"v":0,"d":"€ 0.00"},{"v":0,"d":"€ 0.00"}]
[null,6221,{"$nulls":7},{"v":0,"d":"€ 0.00"},{"v":0,"d":"€ 0.00"}]
[null,6222,{"$nulls":7},{"v":0,"d":"€ 0.00"},{"v":0,"d":"€ 0.00"}]
[null,6223,{"$nulls":7},{"v":0,"d":"€ 0.00"},{"v":0,"d":"€ 0.00"}]
[null,6224,{"$nulls":7},{"v":0,"d":"€ 0.00"},{"v":0,"d":"€ 0.00"}]
[null,6225,{"$nulls":7},{"v":0,"d":"€ 0.00"},{"v":0,"d":"€ 0.00"}]
[null,6226,{"$nulls":7},{"v":0,"d":"€ 0.00"},{"v":0,"d":"€ 0.00"}]
[null,6227,{"$nulls":7},{"$f":"IF(OR(ISBLANK(H6234)=TRUE,ISBLANK(I6234)=TRUE),,ROUND(H6234*I6234,2))","v":{"v":0,"d":"€ 0.00"}},{"$f":"G6234+J6234","v":{"v":0,"d":"€ 0.00"}}]
[null,6228,{"$nulls":7},{"v":0,"d":"€ 0.00"},{"v":0,"d":"€ 0.00"}]
[null,6229,{"$nulls":7},{"v":0,"d":"€ 0.00"},{"v":0,"d":"€ 0.00"}]
[null,6230,{"$nulls":7},{"v":0,"d":"€ 0.00"},{"v":0,"d":"€ 0.00"}]
[null,6231,{"$nulls":7},{"v":0,"d":"€ 0.00"},{"v":0,"d":"€ 0.00"}]
[null,6232,{"$nulls":7},{"v":0,"d":"€ 0.00"},{"v":0,"d":"€ 0.00"}]
[null,6233,{"$nulls":7},{"v":0,"d":"€ 0.00"},{"v":0,"d":"€ 0.00"}]
[null,6234,{"$nulls":7},{"v":0,"d":"€ 0.00"},{"v":0,"d":"€ 0.00"}]
[null,6235,{"$nulls":7},{"v":0,"d":"€ 0.00"},{"v":0,"d":"€ 0.00"}]
[null,6236,{"$nulls":7},{"v":0,"d":"€ 0.00"},{"v":0,"d":"€ 0.00"}]
[null,6237,{"$nulls":7},{"v":0,"d":"€ 0.00"},{"v":0,"d":"€ 0.00"}]
[null,6238,{"$nulls":7},{"v":0,"d":"€ 0.00"},{"v":0,"d":"€ 0.00"}]
[null,6239,{"$nulls":7},{"v":0,"d":"€ 0.00"},{"v":0,"d":"€ 0.00"}]
[null,6240,{"$nulls":7},{"v":0,"d":"€ 0.00"},{"v":0,"d":"€ 0.00"}]
[null,6241,{"$nulls":7},{"v":0,"d":"€ 0.00"},{"v":0,"d":"€ 0.00"}]
[null,6242,{"$nulls":7},{"v":0,"d":"€ 0.00"},{"v":0,"d":"€ 0.00"}]
[null,6243,{"$nulls":7},{"v":0,"d":"€ 0.00"},{"v":0,"d":"€ 0.00"}]
[null,6244,{"$nulls":7},{"v":0,"d":"€ 0.00"},{"v":0,"d":"€ 0.00"}]
[null,6245,{"$nulls":7},{"v":0,"d":"€ 0.00"},{"v":0,"d":"€ 0.00"}]
[null,6246,{"$nulls":7},{"v":0,"d":"€ 0.00"},{"v":0,"d":"€ 0.00"}]
[null,6247,{"$nulls":7},{"v":0,"d":"€ 0.00"},{"v":0,"d":"€ 0.00"}]
[null,6248,{"$nulls":7},{"v":0,"d":"€ 0.00"},{"v":0,"d":"€ 0.00"}]
[null,6249,{"$nulls":7},{"v":0,"d":"€ 0.00"},{"v":0,"d":"€ 0.00"}]
[null,6250,{"$nulls":7},{"v":0,"d":"€ 0.00"},{"v":0,"d":"€ 0.00"}]
[null,6251,{"$nulls":7},{"v":0,"d":"€ 0.00"},{"v":0,"d":"€ 0.00"}]
[null,6252,{"$nulls":7},{"v":0,"d":"€ 0.00"},{"v":0,"d":"€ 0.00"}]
[null,6253,{"$nulls":7},{"v":0,"d":"€ 0.00"},{"v":0,"d":"€ 0.00"}]
[null,6254,{"$nulls":7},{"v":0,"d":"€ 0.00"},{"v":0,"d":"€ 0.00"}]
[null,6255,{"$nulls":7},{"v":0,"d":"€ 0.00"},{"v":0,"d":"€ 0.00"}]
[null,6256,{"$nulls":7},{"v":0,"d":"€ 0.00"},{"v":0,"d":"€ 0.00"}]
[null,6257,{"$nulls":7},{"v":0,"d":"€ 0.00"},{"v":0,"d":"€ 0.00"}]
[null,6258,{"$nulls":7},{"v":0,"d":"€ 0.00"},{"v":0,"d":"€ 0.00"}]
[null,6259,{"$nulls":7},{"v":0,"d":"€ 0.00"},{"v":0,"d":"€ 0.00"}]
[null,6260,{"$nulls":7},{"v":0,"d":"€ 0.00"},{"v":0,"d":"€ 0.00"}]
[null,6261,{"$nulls":7},{"v":0,"d":"€ 0.00"},{"v":0,"d":"€ 0.00"}]
[null,6262,{"$nulls":7},{"v":0,"d":"€ 0.00"},{"v":0,"d":"€ 0.00"}]
[null,6263,{"$nulls":7},{"v":0,"d":"€ 0.00"},{"v":0,"d":"€ 0.00"}]
[null,6264,{"$nulls":7},{"v":0,"d":"€ 0.00"},{"v":0,"d":"€ 0.00"}]
[null,6265,{"$nulls":7},{"v":0,"d":"€ 0.00"},{"v":0,"d":"€ 0.00"}]
[null,6266,{"$nulls":7},{"v":0,"d":"€ 0.00"},{"v":0,"d":"€ 0.00"}]
[null,6267,{"$nulls":7},{"v":0,"d":"€ 0.00"},{"v":0,"d":"€ 0.00"}]
[null,6268,{"$nulls":7},{"v":0,"d":"€ 0.00"},{"v":0,"d":"€ 0.00"}]
[null,6269,{"$nulls":7},{"v":0,"d":"€ 0.00"},{"v":0,"d":"€ 0.00"}]
[null,6270,{"$nulls":7},{"v":0,"d":"€ 0.00"},{"v":0,"d":"€ 0.00"}]
[null,6271,{"$nulls":7},{"v":0,"d":"€ 0.00"},{"v":0,"d":"€ 0.00"}]
[null,6272,{"$nulls":7},{"v":0,"d":"€ 0.00"},{"v":0,"d":"€ 0.00"}]
[null,6273,{"$nulls":7},{"v":0,"d":"€ 0.00"},{"v":0,"d":"€ 0.00"}]
[null,6274,{"$nulls":7},{"v":0,"d":"€ 0.00"},{"v":0,"d":"€ 0.00"}]
[null,6275,{"$nulls":7},{"v":0,"d":"€ 0.00"},{"v":0,"d":"€ 0.00"}]
[null,6276,{"$nulls":7},{"v":0,"d":"€ 0.00"},{"v":0,"d":"€ 0.00"}]
[null,6277,{"$nulls":7},{"v":0,"d":"€ 0.00"},{"v":0,"d":"€ 0.00"}]
[null,6278,{"$nulls":7},{"v":0,"d":"€ 0.00"},{"v":0,"d":"€ 0.00"}]
[null,6279,{"$nulls":7},{"v":0,"d":"€ 0.00"},{"v":0,"d":"€ 0.00"}]
[null,6280,{"$nulls":7},{"v":0,"d":"€ 0.00"},{"v":0,"d":"€ 0.00"}]
[null,6281,{"$nulls":7},{"v":0,"d":"€ 0.00"},{"v":0,"d":"€ 0.00"}]
[null,6282,{"$nulls":7},{"v":0,"d":"€ 0.00"},{"v":0,"d":"€ 0.00"}]
[null,6283,{"$nulls":7},{"v":0,"d":"€ 0.00"},{"v":0,"d":"€ 0.00"}]
[null,6284,{"$nulls":7},{"v":0,"d":"€ 0.00"},{"v":0,"d":"€ 0.00"}]
[null,6285,{"$nulls":7},{"v":0,"d":"€ 0.00"},{"v":0,"d":"€ 0.00"}]
[null,6286,{"$nulls":7},{"v":0,"d":"€ 0.00"},{"v":0,"d":"€ 0.00"}]
[null,6287,{"$nulls":7},{"v":0,"d":"€ 0.00"},{"v":0,"d":"€ 0.00"}]
[null,6288,{"$nulls":7},{"v":0,"d":"€ 0.00"},{"v":0,"d":"€ 0.00"}]
[null,6289,{"$nulls":7},{"v":0,"d":"€ 0.00"},{"v":0,"d":"€ 0.00"}]
[null,6290,{"$nulls":7},{"v":0,"d":"€ 0.00"},{"v":0,"d":"€ 0.00"}]
[null,6291,{"$nulls":7},{"$f":"IF(OR(ISBLANK(H6298)=TRUE,ISBLANK(I6298)=TRUE),,ROUND(H6298*I6298,2))","v":{"v":0,"d":"€ 0.00"}},{"$f":"G6298+J6298","v":{"v":0,"d":"€ 0.00"}}]
[null,6292,{"$nulls":7},{"v":0,"d":"€ 0.00"},{"v":0,"d":"€ 0.00"}]
[null,6293,{"$nulls":7},{"v":0,"d":"€ 0.00"},{"v":0,"d":"€ 0.00"}]
[null,6294,{"$nulls":7},{"v":0,"d":"€ 0.00"},{"v":0,"d":"€ 0.00"}]
[null,6295,{"$nulls":7},{"v":0,"d":"€ 0.00"},{"v":0,"d":"€ 0.00"}]
[null,6296,{"$nulls":7},{"v":0,"d":"€ 0.00"},{"v":0,"d":"€ 0.00"}]
[null,6297,{"$nulls":7},{"v":0,"d":"€ 0.00"},{"v":0,"d":"€ 0.00"}]
[null,6298,{"$nulls":7},{"v":0,"d":"€ 0.00"},{"v":0,"d":"€ 0.00"}]
[null,6299,{"$nulls":7},{"v":0,"d":"€ 0.00"},{"v":0,"d":"€ 0.00"}]
[null,6300,{"$nulls":7},{"v":0,"d":"€ 0.00"},{"v":0,"d":"€ 0.00"}]
[null,6301,{"$nulls":7},{"v":0,"d":"€ 0.00"},{"v":0,"d":"€ 0.00"}]
[null,6302,{"$nulls":7},{"v":0,"d":"€ 0.00"},{"v":0,"d":"€ 0.00"}]
[null,6303,{"$nulls":7},{"v":0,"d":"€ 0.00"},{"v":0,"d":"€ 0.00"}]
[null,6304,{"$nulls":7},{"v":0,"d":"€ 0.00"},{"v":0,"d":"€ 0.00"}]
[null,6305,{"$nulls":7},{"v":0,"d":"€ 0.00"},{"v":0,"d":"€ 0.00"}]
[null,6306,{"$nulls":7},{"v":0,"d":"€ 0.00"},{"v":0,"d":"€ 0.00"}]
[null,6307,{"$nulls":7},{"v":0,"d":"€ 0.00"},{"v":0,"d":"€ 0.00"}]
[null,6308,{"$nulls":7},{"v":0,"d":"€ 0.00"},{"v":0,"d":"€ 0.00"}]
[null,6309,{"$nulls":7},{"v":0,"d":"€ 0.00"},{"v":0,"d":"€ 0.00"}]
[null,6310,{"$nulls":7},{"v":0,"d":"€ 0.00"},{"v":0,"d":"€ 0.00"}]
[null,6311,{"$nulls":7},{"v":0,"d":"€ 0.00"},{"v":0,"d":"€ 0.00"}]
[null,6312,{"$nulls":7},{"v":0,"d":"€ 0.00"},{"v":0,"d":"€ 0.00"}]
[null,6313,{"$nulls":7},{"v":0,"d":"€ 0.00"},{"v":0,"d":"€ 0.00"}]
[null,6314,{"$nulls":7},{"v":0,"d":"€ 0.00"},{"v":0,"d":"€ 0.00"}]
[null,6315,{"$nulls":7},{"v":0,"d":"€ 0.00"},{"v":0,"d":"€ 0.00"}]
[null,6316,{"$nulls":7},{"v":0,"d":"€ 0.00"},{"v":0,"d":"€ 0.00"}]
[null,6317,{"$nulls":7},{"v":0,"d":"€ 0.00"},{"v":0,"d":"€ 0.00"}]
[null,6318,{"$nulls":7},{"v":0,"d":"€ 0.00"},{"v":0,"d":"€ 0.00"}]
[null,6319,{"$nulls":7},{"v":0,"d":"€ 0.00"},{"v":0,"d":"€ 0.00"}]
[null,6320,{"$nulls":7},{"v":0,"d":"€ 0.00"},{"v":0,"d":"€ 0.00"}]
[null,6321,{"$nulls":7},{"v":0,"d":"€ 0.00"},{"v":0,"d":"€ 0.00"}]
[null,6322,{"$nulls":7},{"v":0,"d":"€ 0.00"},{"v":0,"d":"€ 0.00"}]
[null,6323,{"$nulls":7},{"v":0,"d":"€ 0.00"},{"v":0,"d":"€ 0.00"}]
[null,6324,{"$nulls":7},{"v":0,"d":"€ 0.00"},{"v":0,"d":"€ 0.00"}]
[null,6325,{"$nulls":7},{"v":0,"d":"€ 0.00"},{"v":0,"d":"€ 0.00"}]
[null,6326,{"$nulls":7},{"v":0,"d":"€ 0.00"},{"v":0,"d":"€ 0.00"}]
[null,6327,{"$nulls":7},{"v":0,"d":"€ 0.00"},{"v":0,"d":"€ 0.00"}]
[null,6328,{"$nulls":7},{"v":0,"d":"€ 0.00"},{"v":0,"d":"€ 0.00"}]
[null,6329,{"$nulls":7},{"v":0,"d":"€ 0.00"},{"v":0,"d":"€ 0.00"}]
[null,6330,{"$nulls":7},{"v":0,"d":"€ 0.00"},{"v":0,"d":"€ 0.00"}]
[null,6331,{"$nulls":7},{"v":0,"d":"€ 0.00"},{"v":0,"d":"€ 0.00"}]
[null,6332,{"$nulls":7},{"v":0,"d":"€ 0.00"},{"v":0,"d":"€ 0.00"}]
[null,6333,{"$nulls":7},{"v":0,"d":"€ 0.00"},{"v":0,"d":"€ 0.00"}]
[null,6334,{"$nulls":7},{"v":0,"d":"€ 0.00"},{"v":0,"d":"€ 0.00"}]
[null,6335,{"$nulls":7},{"v":0,"d":"€ 0.00"},{"v":0,"d":"€ 0.00"}]
[null,6336,{"$nulls":7},{"v":0,"d":"€ 0.00"},{"v":0,"d":"€ 0.00"}]
[null,6337,{"$nulls":7},{"v":0,"d":"€ 0.00"},{"v":0,"d":"€ 0.00"}]
[null,6338,{"$nulls":7},{"v":0,"d":"€ 0.00"},{"v":0,"d":"€ 0.00"}]
[null,6339,{"$nulls":7},{"v":0,"d":"€ 0.00"},{"v":0,"d":"€ 0.00"}]
[null,6340,{"$nulls":7},{"v":0,"d":"€ 0.00"},{"v":0,"d":"€ 0.00"}]
[null,6341,{"$nulls":7},{"v":0,"d":"€ 0.00"},{"v":0,"d":"€ 0.00"}]
[null,6342,{"$nulls":7},{"v":0,"d":"€ 0.00"},{"v":0,"d":"€ 0.00"}]
[null,6343,{"$nulls":7},{"v":0,"d":"€ 0.00"},{"v":0,"d":"€ 0.00"}]
[null,6344,{"$nulls":7},{"v":0,"d":"€ 0.00"},{"v":0,"d":"€ 0.00"}]
[null,6345,{"$nulls":7},{"v":0,"d":"€ 0.00"},{"v":0,"d":"€ 0.00"}]
[null,6346,{"$nulls":7},{"v":0,"d":"€ 0.00"},{"v":0,"d":"€ 0.00"}]
[null,6347,{"$nulls":7},{"v":0,"d":"€ 0.00"},{"v":0,"d":"€ 0.00"}]
[null,6348,{"$nulls":7},{"v":0,"d":"€ 0.00"},{"v":0,"d":"€ 0.00"}]
[null,6349,{"$nulls":7},{"v":0,"d":"€ 0.00"},{"v":0,"d":"€ 0.00"}]
[null,6350,{"$nulls":7},{"v":0,"d":"€ 0.00"},{"v":0,"d":"€ 0.00"}]
[null,6351,{"$nulls":7},{"v":0,"d":"€ 0.00"},{"v":0,"d":"€ 0.00"}]
[null,6352,{"$nulls":7},{"v":0,"d":"€ 0.00"},{"v":0,"d":"€ 0.00"}]
[null,6353,{"$nulls":7},{"v":0,"d":"€ 0.00"},{"v":0,"d":"€ 0.00"}]
[null,6354,{"$nulls":7},{"v":0,"d":"€ 0.00"},{"v":0,"d":"€ 0.00"}]
[null,6355,{"$nulls":7},{"$f":"IF(OR(ISBLANK(H6362)=TRUE,ISBLANK(I6362)=TRUE),,ROUND(H6362*I6362,2))","v":{"v":0,"d":"€ 0.00"}},{"$f":"G6362+J6362","v":{"v":0,"d":"€ 0.00"}}]
[null,6356,{"$nulls":7},{"v":0,"d":"€ 0.00"},{"v":0,"d":"€ 0.00"}]
[null,6357,{"$nulls":7},{"v":0,"d":"€ 0.00"},{"v":0,"d":"€ 0.00"}]
[null,6358,{"$nulls":7},{"v":0,"d":"€ 0.00"},{"v":0,"d":"€ 0.00"}]
[null,6359,{"$nulls":7},{"v":0,"d":"€ 0.00"},{"v":0,"d":"€ 0.00"}]
[null,6360,{"$nulls":7},{"v":0,"d":"€ 0.00"},{"v":0,"d":"€ 0.00"}]
[null,6361,{"$nulls":7},{"v":0,"d":"€ 0.00"},{"v":0,"d":"€ 0.00"}]
[null,6362,{"$nulls":7},{"v":0,"d":"€ 0.00"},{"v":0,"d":"€ 0.00"}]
[null,6363,{"$nulls":7},{"v":0,"d":"€ 0.00"},{"v":0,"d":"€ 0.00"}]
[null,6364,{"$nulls":7},{"v":0,"d":"€ 0.00"},{"v":0,"d":"€ 0.00"}]
[null,6365,{"$nulls":7},{"v":0,"d":"€ 0.00"},{"v":0,"d":"€ 0.00"}]
[null,6366,{"$nulls":7},{"v":0,"d":"€ 0.00"},{"v":0,"d":"€ 0.00"}]
[null,6367,{"$nulls":7},{"v":0,"d":"€ 0.00"},{"v":0,"d":"€ 0.00"}]
[null,6368,{"$nulls":7},{"v":0,"d":"€ 0.00"},{"v":0,"d":"€ 0.00"}]
[null,6369,{"$nulls":7},{"v":0,"d":"€ 0.00"},{"v":0,"d":"€ 0.00"}]
[null,6370,{"$nulls":7},{"v":0,"d":"€ 0.00"},{"v":0,"d":"€ 0.00"}]
[null,6371,{"$nulls":7},{"v":0,"d":"€ 0.00"},{"v":0,"d":"€ 0.00"}]
[null,6372,{"$nulls":7},{"v":0,"d":"€ 0.00"},{"v":0,"d":"€ 0.00"}]
[null,6373,{"$nulls":7},{"v":0,"d":"€ 0.00"},{"v":0,"d":"€ 0.00"}]
[null,6374,{"$nulls":7},{"v":0,"d":"€ 0.00"},{"v":0,"d":"€ 0.00"}]
[null,6375,{"$nulls":7},{"v":0,"d":"€ 0.00"},{"v":0,"d":"€ 0.00"}]
[null,6376,{"$nulls":7},{"v":0,"d":"€ 0.00"},{"v":0,"d":"€ 0.00"}]
[null,6377,{"$nulls":7},{"v":0,"d":"€ 0.00"},{"v":0,"d":"€ 0.00"}]
[null,6378,{"$nulls":7},{"v":0,"d":"€ 0.00"},{"v":0,"d":"€ 0.00"}]
[null,6379,{"$nulls":7},{"v":0,"d":"€ 0.00"},{"v":0,"d":"€ 0.00"}]
[null,6380,{"$nulls":7},{"v":0,"d":"€ 0.00"},{"v":0,"d":"€ 0.00"}]
[null,6381,{"$nulls":7},{"v":0,"d":"€ 0.00"},{"v":0,"d":"€ 0.00"}]
[null,6382,{"$nulls":7},{"v":0,"d":"€ 0.00"},{"v":0,"d":"€ 0.00"}]
[null,6383,{"$nulls":7},{"v":0,"d":"€ 0.00"},{"v":0,"d":"€ 0.00"}]
[null,6384,{"$nulls":7},{"v":0,"d":"€ 0.00"},{"v":0,"d":"€ 0.00"}]
[null,6385,{"$nulls":7},{"v":0,"d":"€ 0.00"},{"v":0,"d":"€ 0.00"}]
[null,6386,{"$nulls":7},{"v":0,"d":"€ 0.00"},{"v":0,"d":"€ 0.00"}]
[null,6387,{"$nulls":7},{"v":0,"d":"€ 0.00"},{"v":0,"d":"€ 0.00"}]
[null,6388,{"$nulls":7},{"v":0,"d":"€ 0.00"},{"v":0,"d":"€ 0.00"}]
[null,6389,{"$nulls":7},{"v":0,"d":"€ 0.00"},{"v":0,"d":"€ 0.00"}]
[null,6390,{"$nulls":7},{"v":0,"d":"€ 0.00"},{"v":0,"d":"€ 0.00"}]
[null,6391,{"$nulls":7},{"v":0,"d":"€ 0.00"},{"v":0,"d":"€ 0.00"}]
[null,6392,{"$nulls":7},{"v":0,"d":"€ 0.00"},{"v":0,"d":"€ 0.00"}]
[null,6393,{"$nulls":7},{"v":0,"d":"€ 0.00"},{"v":0,"d":"€ 0.00"}]
[null,6394,{"$nulls":7},{"v":0,"d":"€ 0.00"},{"v":0,"d":"€ 0.00"}]
[null,6395,{"$nulls":7},{"v":0,"d":"€ 0.00"},{"v":0,"d":"€ 0.00"}]
[null,6396,{"$nulls":7},{"v":0,"d":"€ 0.00"},{"v":0,"d":"€ 0.00"}]
[null,6397,{"$nulls":7},{"v":0,"d":"€ 0.00"},{"v":0,"d":"€ 0.00"}]
[null,6398,{"$nulls":7},{"v":0,"d":"€ 0.00"},{"v":0,"d":"€ 0.00"}]
[null,6399,{"$nulls":7},{"v":0,"d":"€ 0.00"},{"v":0,"d":"€ 0.00"}]
[null,6400,{"$nulls":7},{"v":0,"d":"€ 0.00"},{"v":0,"d":"€ 0.00"}]
[null,6401,{"$nulls":7},{"v":0,"d":"€ 0.00"},{"v":0,"d":"€ 0.00"}]
[null,6402,{"$nulls":7},{"v":0,"d":"€ 0.00"},{"v":0,"d":"€ 0.00"}]
[null,6403,{"$nulls":7},{"v":0,"d":"€ 0.00"},{"v":0,"d":"€ 0.00"}]
[null,6404,{"$nulls":7},{"v":0,"d":"€ 0.00"},{"v":0,"d":"€ 0.00"}]
[null,6405,{"$nulls":7},{"v":0,"d":"€ 0.00"},{"v":0,"d":"€ 0.00"}]
[null,6406,{"$nulls":7},{"v":0,"d":"€ 0.00"},{"v":0,"d":"€ 0.00"}]
[null,6407,{"$nulls":7},{"v":0,"d":"€ 0.00"},{"v":0,"d":"€ 0.00"}]
[null,6408,{"$nulls":7},{"v":0,"d":"€ 0.00"},{"v":0,"d":"€ 0.00"}]
[null,6409,{"$nulls":7},{"v":0,"d":"€ 0.00"},{"v":0,"d":"€ 0.00"}]
[null,6410,{"$nulls":7},{"v":0,"d":"€ 0.00"},{"v":0,"d":"€ 0.00"}]
[null,6411,{"$nulls":7},{"v":0,"d":"€ 0.00"},{"v":0,"d":"€ 0.00"}]
[null,6412,{"$nulls":7},{"v":0,"d":"€ 0.00"},{"v":0,"d":"€ 0.00"}]
[null,6413,{"$nulls":7},{"v":0,"d":"€ 0.00"},{"v":0,"d":"€ 0.00"}]
[null,6414,{"$nulls":7},{"v":0,"d":"€ 0.00"},{"v":0,"d":"€ 0.00"}]
[null,6415,{"$nulls":7},{"v":0,"d":"€ 0.00"},{"v":0,"d":"€ 0.00"}]
[null,6416,{"$nulls":7},{"v":0,"d":"€ 0.00"},{"v":0,"d":"€ 0.00"}]
[null,6417,{"$nulls":7},{"v":0,"d":"€ 0.00"},{"v":0,"d":"€ 0.00"}]
[null,6418,{"$nulls":7},{"v":0,"d":"€ 0.00"},{"v":0,"d":"€ 0.00"}]
[null,6419,{"$nulls":7},{"$f":"IF(OR(ISBLANK(H6426)=TRUE,ISBLANK(I6426)=TRUE),,ROUND(H6426*I6426,2))","v":{"v":0,"d":"€ 0.00"}},{"$f":"G6426+J6426","v":{"v":0,"d":"€ 0.00"}}]
[null,6420,{"$nulls":7},{"v":0,"d":"€ 0.00"},{"v":0,"d":"€ 0.00"}]
[null,6421,{"$nulls":7},{"v":0,"d":"€ 0.00"},{"v":0,"d":"€ 0.00"}]
[null,6422,{"$nulls":7},{"v":0,"d":"€ 0.00"},{"v":0,"d":"€ 0.00"}]
[null,6423,{"$nulls":7},{"v":0,"d":"€ 0.00"},{"v":0,"d":"€ 0.00"}]
[null,6424,{"$nulls":7},{"v":0,"d":"€ 0.00"},{"v":0,"d":"€ 0.00"}]
[null,6425,{"$nulls":7},{"v":0,"d":"€ 0.00"},{"v":0,"d":"€ 0.00"}]
[null,6426,{"$nulls":7},{"v":0,"d":"€ 0.00"},{"v":0,"d":"€ 0.00"}]
[null,6427,{"$nulls":7},{"v":0,"d":"€ 0.00"},{"v":0,"d":"€ 0.00"}]
[null,6428,{"$nulls":7},{"v":0,"d":"€ 0.00"},{"v":0,"d":"€ 0.00"}]
[null,6429,{"$nulls":7},{"v":0,"d":"€ 0.00"},{"v":0,"d":"€ 0.00"}]
[null,6430,{"$nulls":7},{"v":0,"d":"€ 0.00"},{"v":0,"d":"€ 0.00"}]
[null,6431,{"$nulls":7},{"v":0,"d":"€ 0.00"},{"v":0,"d":"€ 0.00"}]
[null,6432,{"$nulls":7},{"v":0,"d":"€ 0.00"},{"v":0,"d":"€ 0.00"}]
[null,6433,{"$nulls":7},{"v":0,"d":"€ 0.00"},{"v":0,"d":"€ 0.00"}]
[null,6434,{"$nulls":7},{"v":0,"d":"€ 0.00"},{"v":0,"d":"€ 0.00"}]
[null,6435,{"$nulls":7},{"v":0,"d":"€ 0.00"},{"v":0,"d":"€ 0.00"}]
[null,6436,{"$nulls":7},{"v":0,"d":"€ 0.00"},{"v":0,"d":"€ 0.00"}]
[null,6437,{"$nulls":7},{"v":0,"d":"€ 0.00"},{"v":0,"d":"€ 0.00"}]
[null,6438,{"$nulls":7},{"v":0,"d":"€ 0.00"},{"v":0,"d":"€ 0.00"}]
[null,6439,{"$nulls":7},{"v":0,"d":"€ 0.00"},{"v":0,"d":"€ 0.00"}]
[null,6440,{"$nulls":7},{"v":0,"d":"€ 0.00"},{"v":0,"d":"€ 0.00"}]
[null,6441,{"$nulls":7},{"v":0,"d":"€ 0.00"},{"v":0,"d":"€ 0.00"}]
[null,6442,{"$nulls":7},{"v":0,"d":"€ 0.00"},{"v":0,"d":"€ 0.00"}]
[null,6443,{"$nulls":7},{"v":0,"d":"€ 0.00"},{"v":0,"d":"€ 0.00"}]
[null,6444,{"$nulls":7},{"v":0,"d":"€ 0.00"},{"v":0,"d":"€ 0.00"}]
[null,6445,{"$nulls":7},{"v":0,"d":"€ 0.00"},{"v":0,"d":"€ 0.00"}]
[null,6446,{"$nulls":7},{"v":0,"d":"€ 0.00"},{"v":0,"d":"€ 0.00"}]
[null,6447,{"$nulls":7},{"v":0,"d":"€ 0.00"},{"v":0,"d":"€ 0.00"}]
[null,6448,{"$nulls":7},{"v":0,"d":"€ 0.00"},{"v":0,"d":"€ 0.00"}]
[null,6449,{"$nulls":7},{"v":0,"d":"€ 0.00"},{"v":0,"d":"€ 0.00"}]
[null,6450,{"$nulls":7},{"v":0,"d":"€ 0.00"},{"v":0,"d":"€ 0.00"}]
[null,6451,{"$nulls":7},{"v":0,"d":"€ 0.00"},{"v":0,"d":"€ 0.00"}]
[null,6452,{"$nulls":7},{"v":0,"d":"€ 0.00"},{"v":0,"d":"€ 0.00"}]
[null,6453,{"$nulls":7},{"v":0,"d":"€ 0.00"},{"v":0,"d":"€ 0.00"}]
[null,6454,{"$nulls":7},{"v":0,"d":"€ 0.00"},{"v":0,"d":"€ 0.00"}]
[null,6455,{"$nulls":7},{"v":0,"d":"€ 0.00"},{"v":0,"d":"€ 0.00"}]
[null,6456,{"$nulls":7},{"v":0,"d":"€ 0.00"},{"v":0,"d":"€ 0.00"}]
[null,6457,{"$nulls":7},{"v":0,"d":"€ 0.00"},{"v":0,"d":"€ 0.00"}]
[null,6458,{"$nulls":7},{"v":0,"d":"€ 0.00"},{"v":0,"d":"€ 0.00"}]
[null,6459,{"$nulls":7},{"v":0,"d":"€ 0.00"},{"v":0,"d":"€ 0.00"}]
[null,6460,{"$nulls":7},{"v":0,"d":"€ 0.00"},{"v":0,"d":"€ 0.00"}]
[null,6461,{"$nulls":7},{"v":0,"d":"€ 0.00"},{"v":0,"d":"€ 0.00"}]
[null,6462,{"$nulls":7},{"v":0,"d":"€ 0.00"},{"v":0,"d":"€ 0.00"}]
[null,6463,{"$nulls":7},{"v":0,"d":"€ 0.00"},{"v":0,"d":"€ 0.00"}]
[null,6464,{"$nulls":7},{"v":0,"d":"€ 0.00"},{"v":0,"d":"€ 0.00"}]
[null,6465,{"$nulls":7},{"v":0,"d":"€ 0.00"},{"v":0,"d":"€ 0.00"}]
[null,6466,{"$nulls":7},{"v":0,"d":"€ 0.00"},{"v":0,"d":"€ 0.00"}]
[null,6467,{"$nulls":7},{"v":0,"d":"€ 0.00"},{"v":0,"d":"€ 0.00"}]
[null,6468,{"$nulls":7},{"v":0,"d":"€ 0.00"},{"v":0,"d":"€ 0.00"}]
[null,6469,{"$nulls":7},{"v":0,"d":"€ 0.00"},{"v":0,"d":"€ 0.00"}]
[null,6470,{"$nulls":7},{"v":0,"d":"€ 0.00"},{"v":0,"d":"€ 0.00"}]
[null,6471,{"$nulls":7},{"v":0,"d":"€ 0.00"},{"v":0,"d":"€ 0.00"}]
[null,6472,{"$nulls":7},{"v":0,"d":"€ 0.00"},{"v":0,"d":"€ 0.00"}]
[null,6473,{"$nulls":7},{"v":0,"d":"€ 0.00"},{"v":0,"d":"€ 0.00"}]
[null,6474,{"$nulls":7},{"v":0,"d":"€ 0.00"},{"v":0,"d":"€ 0.00"}]
[null,6475,{"$nulls":7},{"v":0,"d":"€ 0.00"},{"v":0,"d":"€ 0.00"}]
[null,6476,{"$nulls":7},{"v":0,"d":"€ 0.00"},{"v":0,"d":"€ 0.00"}]
[null,6477,{"$nulls":7},{"v":0,"d":"€ 0.00"},{"v":0,"d":"€ 0.00"}]
[null,6478,{"$nulls":7},{"v":0,"d":"€ 0.00"},{"v":0,"d":"€ 0.00"}]
[null,6479,{"$nulls":7},{"v":0,"d":"€ 0.00"},{"v":0,"d":"€ 0.00"}]
[null,6480,{"$nulls":7},{"v":0,"d":"€ 0.00"},{"v":0,"d":"€ 0.00"}]
[null,6481,{"$nulls":7},{"v":0,"d":"€ 0.00"},{"v":0,"d":"€ 0.00"}]
[null,6482,{"$nulls":7},{"v":0,"d":"€ 0.00"},{"v":0,"d":"€ 0.00"}]
[null,6483,{"$nulls":7},{"$f":"IF(OR(ISBLANK(H6490)=TRUE,ISBLANK(I6490)=TRUE),,ROUND(H6490*I6490,2))","v":{"v":0,"d":"€ 0.00"}},{"$f":"G6490+J6490","v":{"v":0,"d":"€ 0.00"}}]
[null,6484,{"$nulls":7},{"v":0,"d":"€ 0.00"},{"v":0,"d":"€ 0.00"}]
[null,6485,{"$nulls":7},{"v":0,"d":"€ 0.00"},{"v":0,"d":"€ 0.00"}]
[null,6486,{"$nulls":7},{"v":0,"d":"€ 0.00"},{"v":0,"d":"€ 0.00"}]
[null,6487,{"$nulls":7},{"v":0,"d":"€ 0.00"},{"v":0,"d":"€ 0.00"}]
[null,6488,{"$nulls":7},{"v":0,"d":"€ 0.00"},{"v":0,"d":"€ 0.00"}]
[null,6489,{"$nulls":7},{"v":0,"d":"€ 0.00"},{"v":0,"d":"€ 0.00"}]
[null,6490,{"$nulls":7},{"v":0,"d":"€ 0.00"},{"v":0,"d":"€ 0.00"}]
[null,6491,{"$nulls":7},{"v":0,"d":"€ 0.00"},{"v":0,"d":"€ 0.00"}]
[null,6492,{"$nulls":7},{"v":0,"d":"€ 0.00"},{"v":0,"d":"€ 0.00"}]
[null,6493,{"$nulls":7},{"v":0,"d":"€ 0.00"},{"v":0,"d":"€ 0.00"}]
[null,6494,{"$nulls":7},{"v":0,"d":"€ 0.00"},{"v":0,"d":"€ 0.00"}]
[null,6495,{"$nulls":7},{"v":0,"d":"€ 0.00"},{"v":0,"d":"€ 0.00"}]
[null,6496,{"$nulls":7},{"v":0,"d":"€ 0.00"},{"v":0,"d":"€ 0.00"}]
[null,6497,{"$nulls":7},{"v":0,"d":"€ 0.00"},{"v":0,"d":"€ 0.00"}]
[null,6498,{"$nulls":7},{"v":0,"d":"€ 0.00"},{"v":0,"d":"€ 0.00"}]
[null,6499,{"$nulls":7},{"v":0,"d":"€ 0.00"},{"v":0,"d":"€ 0.00"}]
[null,6500,{"$nulls":7},{"v":0,"d":"€ 0.00"},{"v":0,"d":"€ 0.00"}]
[null,6501,{"$nulls":7},{"v":0,"d":"€ 0.00"},{"v":0,"d":"€ 0.00"}]
[null,6502,{"$nulls":7},{"v":0,"d":"€ 0.00"},{"v":0,"d":"€ 0.00"}]
[null,6503,{"$nulls":7},{"v":0,"d":"€ 0.00"},{"v":0,"d":"€ 0.00"}]
[null,6504,{"$nulls":7},{"v":0,"d":"€ 0.00"},{"v":0,"d":"€ 0.00"}]
[null,6505,{"$nulls":7},{"v":0,"d":"€ 0.00"},{"v":0,"d":"€ 0.00"}]
[null,6506,{"$nulls":7},{"v":0,"d":"€ 0.00"},{"v":0,"d":"€ 0.00"}]
[null,6507,{"$nulls":7},{"v":0,"d":"€ 0.00"},{"v":0,"d":"€ 0.00"}]
[null,6508,{"$nulls":7},{"v":0,"d":"€ 0.00"},{"v":0,"d":"€ 0.00"}]
[null,6509,{"$nulls":7},{"v":0,"d":"€ 0.00"},{"v":0,"d":"€ 0.00"}]
[null,6510,{"$nulls":7},{"v":0,"d":"€ 0.00"},{"v":0,"d":"€ 0.00"}]
[null,6511,{"$nulls":7},{"v":0,"d":"€ 0.00"},{"v":0,"d":"€ 0.00"}]
[null,6512,{"$nulls":7},{"v":0,"d":"€ 0.00"},{"v":0,"d":"€ 0.00"}]
[null,6513,{"$nulls":7},{"v":0,"d":"€ 0.00"},{"v":0,"d":"€ 0.00"}]
[null,6514,{"$nulls":7},{"v":0,"d":"€ 0.00"},{"v":0,"d":"€ 0.00"}]
[null,6515,{"$nulls":7},{"v":0,"d":"€ 0.00"},{"v":0,"d":"€ 0.00"}]
[null,6516,{"$nulls":7},{"v":0,"d":"€ 0.00"},{"v":0,"d":"€ 0.00"}]
[null,6517,{"$nulls":7},{"v":0,"d":"€ 0.00"},{"v":0,"d":"€ 0.00"}]
[null,6518,{"$nulls":7},{"v":0,"d":"€ 0.00"},{"v":0,"d":"€ 0.00"}]
[null,6519,{"$nulls":7},{"v":0,"d":"€ 0.00"},{"v":0,"d":"€ 0.00"}]
[null,6520,{"$nulls":7},{"v":0,"d":"€ 0.00"},{"v":0,"d":"€ 0.00"}]
[null,6521,{"$nulls":7},{"v":0,"d":"€ 0.00"},{"v":0,"d":"€ 0.00"}]
[null,6522,{"$nulls":7},{"v":0,"d":"€ 0.00"},{"v":0,"d":"€ 0.00"}]
[null,6523,{"$nulls":7},{"v":0,"d":"€ 0.00"},{"v":0,"d":"€ 0.00"}]
[null,6524,{"$nulls":7},{"v":0,"d":"€ 0.00"},{"v":0,"d":"€ 0.00"}]
[null,6525,{"$nulls":7},{"v":0,"d":"€ 0.00"},{"v":0,"d":"€ 0.00"}]
[null,6526,{"$nulls":7},{"v":0,"d":"€ 0.00"},{"v":0,"d":"€ 0.00"}]
[null,6527,{"$nulls":7},{"v":0,"d":"€ 0.00"},{"v":0,"d":"€ 0.00"}]
[null,6528,{"$nulls":7},{"v":0,"d":"€ 0.00"},{"v":0,"d":"€ 0.00"}]
[null,6529,{"$nulls":7},{"v":0,"d":"€ 0.00"},{"v":0,"d":"€ 0.00"}]
[null,6530,{"$nulls":7},{"v":0,"d":"€ 0.00"},{"v":0,"d":"€ 0.00"}]
[null,6531,{"$nulls":7},{"v":0,"d":"€ 0.00"},{"v":0,"d":"€ 0.00"}]
[null,6532,{"$nulls":7},{"v":0,"d":"€ 0.00"},{"v":0,"d":"€ 0.00"}]
[null,6533,{"$nulls":7},{"v":0,"d":"€ 0.00"},{"v":0,"d":"€ 0.00"}]
[null,6534,{"$nulls":7},{"v":0,"d":"€ 0.00"},{"v":0,"d":"€ 0.00"}]
[null,6535,{"$nulls":7},{"v":0,"d":"€ 0.00"},{"v":0,"d":"€ 0.00"}]
[null,6536,{"$nulls":7},{"v":0,"d":"€ 0.00"},{"v":0,"d":"€ 0.00"}]
[null,6537,{"$nulls":7},{"v":0,"d":"€ 0.00"},{"v":0,"d":"€ 0.00"}]
[null,6538,{"$nulls":7},{"v":0,"d":"€ 0.00"},{"v":0,"d":"€ 0.00"}]
[null,6539,{"$nulls":7},{"v":0,"d":"€ 0.00"},{"v":0,"d":"€ 0.00"}]
[null,6540,{"$nulls":7},{"v":0,"d":"€ 0.00"},{"v":0,"d":"€ 0.00"}]
[null,6541,{"$nulls":7},{"v":0,"d":"€ 0.00"},{"v":0,"d":"€ 0.00"}]
[null,6542,{"$nulls":7},{"v":0,"d":"€ 0.00"},{"v":0,"d":"€ 0.00"}]
[null,6543,{"$nulls":7},{"v":0,"d":"€ 0.00"},{"v":0,"d":"€ 0.00"}]
[null,6544,{"$nulls":7},{"v":0,"d":"€ 0.00"},{"v":0,"d":"€ 0.00"}]
[null,6545,{"$nulls":7},{"v":0,"d":"€ 0.00"},{"v":0,"d":"€ 0.00"}]
[null,6546,{"$nulls":7},{"v":0,"d":"€ 0.00"},{"v":0,"d":"€ 0.00"}]
[null,6547,{"$nulls":7},{"$f":"IF(OR(ISBLANK(H6554)=TRUE,ISBLANK(I6554)=TRUE),,ROUND(H6554*I6554,2))","v":{"v":0,"d":"€ 0.00"}},{"$f":"G6554+J6554","v":{"v":0,"d":"€ 0.00"}}]
[null,6548,{"$nulls":7},{"v":0,"d":"€ 0.00"},{"v":0,"d":"€ 0.00"}]
[null,6549,{"$nulls":7},{"v":0,"d":"€ 0.00"},{"v":0,"d":"€ 0.00"}]
[null,6550,{"$nulls":7},{"v":0,"d":"€ 0.00"},{"v":0,"d":"€ 0.00"}]
[null,6551,{"$nulls":7},{"v":0,"d":"€ 0.00"},{"v":0,"d":"€ 0.00"}]
[null,6552,{"$nulls":7},{"v":0,"d":"€ 0.00"},{"v":0,"d":"€ 0.00"}]
[null,6553,{"$nulls":7},{"v":0,"d":"€ 0.00"},{"v":0,"d":"€ 0.00"}]
[null,6554,{"$nulls":7},{"v":0,"d":"€ 0.00"},{"v":0,"d":"€ 0.00"}]
[null,6555,{"$nulls":7},{"v":0,"d":"€ 0.00"},{"v":0,"d":"€ 0.00"}]
[null,6556,{"$nulls":7},{"v":0,"d":"€ 0.00"},{"v":0,"d":"€ 0.00"}]
[null,6557,{"$nulls":7},{"v":0,"d":"€ 0.00"},{"v":0,"d":"€ 0.00"}]
[null,6558,{"$nulls":7},{"v":0,"d":"€ 0.00"},{"v":0,"d":"€ 0.00"}]
[null,6559,{"$nulls":7},{"v":0,"d":"€ 0.00"},{"v":0,"d":"€ 0.00"}]
[null,6560,{"$nulls":7},{"v":0,"d":"€ 0.00"},{"v":0,"d":"€ 0.00"}]
[null,6561,{"$nulls":7},{"v":0,"d":"€ 0.00"},{"v":0,"d":"€ 0.00"}]
[null,6562,{"$nulls":7},{"v":0,"d":"€ 0.00"},{"v":0,"d":"€ 0.00"}]
[null,6563,{"$nulls":7},{"v":0,"d":"€ 0.00"},{"v":0,"d":"€ 0.00"}]
[null,6564,{"$nulls":7},{"v":0,"d":"€ 0.00"},{"v":0,"d":"€ 0.00"}]
[null,6565,{"$nulls":7},{"v":0,"d":"€ 0.00"},{"v":0,"d":"€ 0.00"}]
[null,6566,{"$nulls":7},{"v":0,"d":"€ 0.00"},{"v":0,"d":"€ 0.00"}]
[null,6567,{"$nulls":7},{"v":0,"d":"€ 0.00"},{"v":0,"d":"€ 0.00"}]
[null,6568,{"$nulls":7},{"v":0,"d":"€ 0.00"},{"v":0,"d":"€ 0.00"}]
[null,6569,{"$nulls":7},{"v":0,"d":"€ 0.00"},{"v":0,"d":"€ 0.00"}]
[null,6570,{"$nulls":7},{"v":0,"d":"€ 0.00"},{"v":0,"d":"€ 0.00"}]
[null,6571,{"$nulls":7},{"v":0,"d":"€ 0.00"},{"v":0,"d":"€ 0.00"}]
[null,6572,{"$nulls":7},{"v":0,"d":"€ 0.00"},{"v":0,"d":"€ 0.00"}]
[null,6573,{"$nulls":7},{"v":0,"d":"€ 0.00"},{"v":0,"d":"€ 0.00"}]
[null,6574,{"$nulls":7},{"v":0,"d":"€ 0.00"},{"v":0,"d":"€ 0.00"}]
[null,6575,{"$nulls":7},{"v":0,"d":"€ 0.00"},{"v":0,"d":"€ 0.00"}]
[null,6576,{"$nulls":7},{"v":0,"d":"€ 0.00"},{"v":0,"d":"€ 0.00"}]
[null,6577,{"$nulls":7},{"v":0,"d":"€ 0.00"},{"v":0,"d":"€ 0.00"}]
[null,6578,{"$nulls":7},{"v":0,"d":"€ 0.00"},{"v":0,"d":"€ 0.00"}]
[null,6579,{"$nulls":7},{"v":0,"d":"€ 0.00"},{"v":0,"d":"€ 0.00"}]
[null,6580,{"$nulls":7},{"v":0,"d":"€ 0.00"},{"v":0,"d":"€ 0.00"}]
[null,6581,{"$nulls":7},{"v":0,"d":"€ 0.00"},{"v":0,"d":"€ 0.00"}]
[null,6582,{"$nulls":7},{"v":0,"d":"€ 0.00"},{"v":0,"d":"€ 0.00"}]
[null,6583,{"$nulls":7},{"v":0,"d":"€ 0.00"},{"v":0,"d":"€ 0.00"}]
[null,6584,{"$nulls":7},{"v":0,"d":"€ 0.00"},{"v":0,"d":"€ 0.00"}]
[null,6585,{"$nulls":7},{"v":0,"d":"€ 0.00"},{"v":0,"d":"€ 0.00"}]
[null,6586,{"$nulls":7},{"v":0,"d":"€ 0.00"},{"v":0,"d":"€ 0.00"}]
[null,6587,{"$nulls":7},{"v":0,"d":"€ 0.00"},{"v":0,"d":"€ 0.00"}]
[null,6588,{"$nulls":7},{"v":0,"d":"€ 0.00"},{"v":0,"d":"€ 0.00"}]
[null,6589,{"$nulls":7},{"v":0,"d":"€ 0.00"},{"v":0,"d":"€ 0.00"}]
[null,6590,{"$nulls":7},{"v":0,"d":"€ 0.00"},{"v":0,"d":"€ 0.00"}]
[null,6591,{"$nulls":7},{"v":0,"d":"€ 0.00"},{"v":0,"d":"€ 0.00"}]
[null,6592,{"$nulls":7},{"v":0,"d":"€ 0.00"},{"v":0,"d":"€ 0.00"}]
[null,6593,{"$nulls":7},{"v":0,"d":"€ 0.00"},{"v":0,"d":"€ 0.00"}]
[null,6594,{"$nulls":7},{"v":0,"d":"€ 0.00"},{"v":0,"d":"€ 0.00"}]
[null,6595,{"$nulls":7},{"v":0,"d":"€ 0.00"},{"v":0,"d":"€ 0.00"}]
[null,6596,{"$nulls":7},{"v":0,"d":"€ 0.00"},{"v":0,"d":"€ 0.00"}]
[null,6597,{"$nulls":7},{"v":0,"d":"€ 0.00"},{"v":0,"d":"€ 0.00"}]
[null,6598,{"$nulls":7},{"v":0,"d":"€ 0.00"},{"v":0,"d":"€ 0.00"}]
[null,6599,{"$nulls":7},{"v":0,"d":"€ 0.00"},{"v":0,"d":"€ 0.00"}]
[null,6600,{"$nulls":7},{"v":0,"d":"€ 0.00"},{"v":0,"d":"€ 0.00"}]
[null,6601,{"$nulls":7},{"v":0,"d":"€ 0.00"},{"v":0,"d":"€ 0.00"}]
[null,6602,{"$nulls":7},{"v":0,"d":"€ 0.00"},{"v":0,"d":"€ 0.00"}]
[null,6603,{"$nulls":7},{"v":0,"d":"€ 0.00"},{"v":0,"d":"€ 0.00"}]
[null,6604,{"$nulls":7},{"v":0,"d":"€ 0.00"},{"v":0,"d":"€ 0.00"}]
[null,6605,{"$nulls":7},{"v":0,"d":"€ 0.00"},{"v":0,"d":"€ 0.00"}]
[null,6606,{"$nulls":7},{"v":0,"d":"€ 0.00"},{"v":0,"d":"€ 0.00"}]
[null,6607,{"$nulls":7},{"v":0,"d":"€ 0.00"},{"v":0,"d":"€ 0.00"}]
[null,6608,{"$nulls":7},{"v":0,"d":"€ 0.00"},{"v":0,"d":"€ 0.00"}]
[null,6609,{"$nulls":7},{"v":0,"d":"€ 0.00"},{"v":0,"d":"€ 0.00"}]
[null,6610,{"$nulls":7},{"v":0,"d":"€ 0.00"},{"v":0,"d":"€ 0.00"}]
[null,6611,{"$nulls":7},{"$f":"IF(OR(ISBLANK(H6618)=TRUE,ISBLANK(I6618)=TRUE),,ROUND(H6618*I6618,2))","v":{"v":0,"d":"€ 0.00"}},{"$f":"G6618+J6618","v":{"v":0,"d":"€ 0.00"}}]
[null,6612,{"$nulls":7},{"v":0,"d":"€ 0.00"},{"v":0,"d":"€ 0.00"}]
[null,6613,{"$nulls":7},{"v":0,"d":"€ 0.00"},{"v":0,"d":"€ 0.00"}]
[null,6614,{"$nulls":7},{"v":0,"d":"€ 0.00"},{"v":0,"d":"€ 0.00"}]
[null,6615,{"$nulls":7},{"v":0,"d":"€ 0.00"},{"v":0,"d":"€ 0.00"}]
[null,6616,{"$nulls":7},{"v":0,"d":"€ 0.00"},{"v":0,"d":"€ 0.00"}]
[null,6617,{"$nulls":7},{"v":0,"d":"€ 0.00"},{"v":0,"d":"€ 0.00"}]
[null,6618,{"$nulls":7},{"v":0,"d":"€ 0.00"},{"v":0,"d":"€ 0.00"}]
[null,6619,{"$nulls":7},{"v":0,"d":"€ 0.00"},{"v":0,"d":"€ 0.00"}]
[null,6620,{"$nulls":7},{"v":0,"d":"€ 0.00"},{"v":0,"d":"€ 0.00"}]
[null,6621,{"$nulls":7},{"v":0,"d":"€ 0.00"},{"v":0,"d":"€ 0.00"}]
[null,6622,{"$nulls":7},{"v":0,"d":"€ 0.00"},{"v":0,"d":"€ 0.00"}]
[null,6623,{"$nulls":7},{"v":0,"d":"€ 0.00"},{"v":0,"d":"€ 0.00"}]
[null,6624,{"$nulls":7},{"v":0,"d":"€ 0.00"},{"v":0,"d":"€ 0.00"}]
[null,6625,{"$nulls":7},{"v":0,"d":"€ 0.00"},{"v":0,"d":"€ 0.00"}]
[null,6626,{"$nulls":7},{"v":0,"d":"€ 0.00"},{"v":0,"d":"€ 0.00"}]
[null,6627,{"$nulls":7},{"v":0,"d":"€ 0.00"},{"v":0,"d":"€ 0.00"}]
[null,6628,{"$nulls":7},{"v":0,"d":"€ 0.00"},{"v":0,"d":"€ 0.00"}]
[null,6629,{"$nulls":7},{"v":0,"d":"€ 0.00"},{"v":0,"d":"€ 0.00"}]
[null,6630,{"$nulls":7},{"v":0,"d":"€ 0.00"},{"v":0,"d":"€ 0.00"}]
[null,6631,{"$nulls":7},{"v":0,"d":"€ 0.00"},{"v":0,"d":"€ 0.00"}]
[null,6632,{"$nulls":7},{"v":0,"d":"€ 0.00"},{"v":0,"d":"€ 0.00"}]
[null,6633,{"$nulls":7},{"v":0,"d":"€ 0.00"},{"v":0,"d":"€ 0.00"}]
[null,6634,{"$nulls":7},{"v":0,"d":"€ 0.00"},{"v":0,"d":"€ 0.00"}]
[null,6635,{"$nulls":7},{"v":0,"d":"€ 0.00"},{"v":0,"d":"€ 0.00"}]
[null,6636,{"$nulls":7},{"v":0,"d":"€ 0.00"},{"v":0,"d":"€ 0.00"}]
[null,6637,{"$nulls":7},{"v":0,"d":"€ 0.00"},{"v":0,"d":"€ 0.00"}]
[null,6638,{"$nulls":7},{"v":0,"d":"€ 0.00"},{"v":0,"d":"€ 0.00"}]
[null,6639,{"$nulls":7},{"v":0,"d":"€ 0.00"},{"v":0,"d":"€ 0.00"}]
[null,6640,{"$nulls":7},{"v":0,"d":"€ 0.00"},{"v":0,"d":"€ 0.00"}]
[null,6641,{"$nulls":7},{"v":0,"d":"€ 0.00"},{"v":0,"d":"€ 0.00"}]
[null,6642,{"$nulls":7},{"v":0,"d":"€ 0.00"},{"v":0,"d":"€ 0.00"}]
[null,6643,{"$nulls":7},{"v":0,"d":"€ 0.00"},{"v":0,"d":"€ 0.00"}]
[null,6644,{"$nulls":7},{"v":0,"d":"€ 0.00"},{"v":0,"d":"€ 0.00"}]
[null,6645,{"$nulls":7},{"v":0,"d":"€ 0.00"},{"v":0,"d":"€ 0.00"}]
[null,6646,{"$nulls":7},{"v":0,"d":"€ 0.00"},{"v":0,"d":"€ 0.00"}]
[null,6647,{"$nulls":7},{"v":0,"d":"€ 0.00"},{"v":0,"d":"€ 0.00"}]
[null,6648,{"$nulls":7},{"v":0,"d":"€ 0.00"},{"v":0,"d":"€ 0.00"}]
[null,6649,{"$nulls":7},{"v":0,"d":"€ 0.00"},{"v":0,"d":"€ 0.00"}]
[null,6650,{"$nulls":7},{"v":0,"d":"€ 0.00"},{"v":0,"d":"€ 0.00"}]
[null,6651,{"$nulls":7},{"v":0,"d":"€ 0.00"},{"v":0,"d":"€ 0.00"}]
[null,6652,{"$nulls":7},{"v":0,"d":"€ 0.00"},{"v":0,"d":"€ 0.00"}]
[null,6653,{"$nulls":7},{"v":0,"d":"€ 0.00"},{"v":0,"d":"€ 0.00"}]
[null,6654,{"$nulls":7},{"v":0,"d":"€ 0.00"},{"v":0,"d":"€ 0.00"}]
[null,6655,{"$nulls":7},{"v":0,"d":"€ 0.00"},{"v":0,"d":"€ 0.00"}]
[null,6656,{"$nulls":7},{"v":0,"d":"€ 0.00"},{"v":0,"d":"€ 0.00"}]
[null,6657,{"$nulls":7},{"v":0,"d":"€ 0.00"},{"v":0,"d":"€ 0.00"}]
[null,6658,{"$nulls":7},{"v":0,"d":"€ 0.00"},{"v":0,"d":"€ 0.00"}]
[null,6659,{"$nulls":7},{"v":0,"d":"€ 0.00"},{"v":0,"d":"€ 0.00"}]
[null,6660,{"$nulls":7},{"v":0,"d":"€ 0.00"},{"v":0,"d":"€ 0.00"}]
[null,6661,{"$nulls":7},{"v":0,"d":"€ 0.00"},{"v":0,"d":"€ 0.00"}]
[null,6662,{"$nulls":7},{"v":0,"d":"€ 0.00"},{"v":0,"d":"€ 0.00"}]
[null,6663,{"$nulls":7},{"v":0,"d":"€ 0.00"},{"v":0,"d":"€ 0.00"}]
[null,6664,{"$nulls":7},{"v":0,"d":"€ 0.00"},{"v":0,"d":"€ 0.00"}]
[null,6665,{"$nulls":7},{"v":0,"d":"€ 0.00"},{"v":0,"d":"€ 0.00"}]
[null,6666,{"$nulls":7},{"v":0,"d":"€ 0.00"},{"v":0,"d":"€ 0.00"}]
[null,6667,{"$nulls":7},{"v":0,"d":"€ 0.00"},{"v":0,"d":"€ 0.00"}]
[null,6668,{"$nulls":7},{"v":0,"d":"€ 0.00"},{"v":0,"d":"€ 0.00"}]
[null,6669,{"$nulls":7},{"v":0,"d":"€ 0.00"},{"v":0,"d":"€ 0.00"}]
[null,6670,{"$nulls":7},{"v":0,"d":"€ 0.00"},{"v":0,"d":"€ 0.00"}]
[null,6671,{"$nulls":7},{"v":0,"d":"€ 0.00"},{"v":0,"d":"€ 0.00"}]
[null,6672,{"$nulls":7},{"v":0,"d":"€ 0.00"},{"v":0,"d":"€ 0.00"}]
[null,6673,{"$nulls":7},{"v":0,"d":"€ 0.00"},{"v":0,"d":"€ 0.00"}]
[null,6674,{"$nulls":7},{"v":0,"d":"€ 0.00"},{"v":0,"d":"€ 0.00"}]
[null,6675,{"$nulls":7},{"$f":"IF(OR(ISBLANK(H6682)=TRUE,ISBLANK(I6682)=TRUE),,ROUND(H6682*I6682,2))","v":{"v":0,"d":"€ 0.00"}},{"$f":"G6682+J6682","v":{"v":0,"d":"€ 0.00"}}]
[null,6676,{"$nulls":7},{"v":0,"d":"€ 0.00"},{"v":0,"d":"€ 0.00"}]
[null,6677,{"$nulls":7},{"v":0,"d":"€ 0.00"},{"v":0,"d":"€ 0.00"}]
[null,6678,{"$nulls":7},{"v":0,"d":"€ 0.00"},{"v":0,"d":"€ 0.00"}]
[null,6679,{"$nulls":7},{"v":0,"d":"€ 0.00"},{"v":0,"d":"€ 0.00"}]
[null,6680,{"$nulls":7},{"v":0,"d":"€ 0.00"},{"v":0,"d":"€ 0.00"}]
[null,6681,{"$nulls":7},{"v":0,"d":"€ 0.00"},{"v":0,"d":"€ 0.00"}]
[null,6682,{"$nulls":7},{"v":0,"d":"€ 0.00"},{"v":0,"d":"€ 0.00"}]
[null,6683,{"$nulls":7},{"v":0,"d":"€ 0.00"},{"v":0,"d":"€ 0.00"}]
[null,6684,{"$nulls":7},{"v":0,"d":"€ 0.00"},{"v":0,"d":"€ 0.00"}]
[null,6685,{"$nulls":7},{"v":0,"d":"€ 0.00"},{"v":0,"d":"€ 0.00"}]
[null,6686,{"$nulls":7},{"v":0,"d":"€ 0.00"},{"v":0,"d":"€ 0.00"}]
[null,6687,{"$nulls":7},{"v":0,"d":"€ 0.00"},{"v":0,"d":"€ 0.00"}]
[null,6688,{"$nulls":7},{"v":0,"d":"€ 0.00"},{"v":0,"d":"€ 0.00"}]
[null,6689,{"$nulls":7},{"v":0,"d":"€ 0.00"},{"v":0,"d":"€ 0.00"}]
[null,6690,{"$nulls":7},{"v":0,"d":"€ 0.00"},{"v":0,"d":"€ 0.00"}]
[null,6691,{"$nulls":7},{"v":0,"d":"€ 0.00"},{"v":0,"d":"€ 0.00"}]
[null,6692,{"$nulls":7},{"v":0,"d":"€ 0.00"},{"v":0,"d":"€ 0.00"}]
[null,6693,{"$nulls":7},{"v":0,"d":"€ 0.00"},{"v":0,"d":"€ 0.00"}]
[null,6694,{"$nulls":7},{"v":0,"d":"€ 0.00"},{"v":0,"d":"€ 0.00"}]
[null,6695,{"$nulls":7},{"v":0,"d":"€ 0.00"},{"v":0,"d":"€ 0.00"}]
[null,6696,{"$nulls":7},{"v":0,"d":"€ 0.00"},{"v":0,"d":"€ 0.00"}]
[null,6697,{"$nulls":7},{"v":0,"d":"€ 0.00"},{"v":0,"d":"€ 0.00"}]
[null,6698,{"$nulls":7},{"v":0,"d":"€ 0.00"},{"v":0,"d":"€ 0.00"}]
[null,6699,{"$nulls":7},{"v":0,"d":"€ 0.00"},{"v":0,"d":"€ 0.00"}]
[null,6700,{"$nulls":7},{"v":0,"d":"€ 0.00"},{"v":0,"d":"€ 0.00"}]
[null,6701,{"$nulls":7},{"v":0,"d":"€ 0.00"},{"v":0,"d":"€ 0.00"}]
[null,6702,{"$nulls":7},{"v":0,"d":"€ 0.00"},{"v":0,"d":"€ 0.00"}]
[null,6703,{"$nulls":7},{"v":0,"d":"€ 0.00"},{"v":0,"d":"€ 0.00"}]
[null,6704,{"$nulls":7},{"v":0,"d":"€ 0.00"},{"v":0,"d":"€ 0.00"}]
[null,6705,{"$nulls":7},{"v":0,"d":"€ 0.00"},{"v":0,"d":"€ 0.00"}]
[null,6706,{"$nulls":7},{"v":0,"d":"€ 0.00"},{"v":0,"d":"€ 0.00"}]
[null,6707,{"$nulls":7},{"v":0,"d":"€ 0.00"},{"v":0,"d":"€ 0.00"}]
[null,6708,{"$nulls":7},{"v":0,"d":"€ 0.00"},{"v":0,"d":"€ 0.00"}]
[null,6709,{"$nulls":7},{"v":0,"d":"€ 0.00"},{"v":0,"d":"€ 0.00"}]
[null,6710,{"$nulls":7},{"v":0,"d":"€ 0.00"},{"v":0,"d":"€ 0.00"}]
[null,6711,{"$nulls":7},{"v":0,"d":"€ 0.00"},{"v":0,"d":"€ 0.00"}]
[null,6712,{"$nulls":7},{"v":0,"d":"€ 0.00"},{"v":0,"d":"€ 0.00"}]
[null,6713,{"$nulls":7},{"v":0,"d":"€ 0.00"},{"v":0,"d":"€ 0.00"}]
[null,6714,{"$nulls":7},{"v":0,"d":"€ 0.00"},{"v":0,"d":"€ 0.00"}]
[null,6715,{"$nulls":7},{"v":0,"d":"€ 0.00"},{"v":0,"d":"€ 0.00"}]
[null,6716,{"$nulls":7},{"v":0,"d":"€ 0.00"},{"v":0,"d":"€ 0.00"}]
[null,6717,{"$nulls":7},{"v":0,"d":"€ 0.00"},{"v":0,"d":"€ 0.00"}]
[null,6718,{"$nulls":7},{"v":0,"d":"€ 0.00"},{"v":0,"d":"€ 0.00"}]
[null,6719,{"$nulls":7},{"v":0,"d":"€ 0.00"},{"v":0,"d":"€ 0.00"}]
[null,6720,{"$nulls":7},{"v":0,"d":"€ 0.00"},{"v":0,"d":"€ 0.00"}]
[null,6721,{"$nulls":7},{"v":0,"d":"€ 0.00"},{"v":0,"d":"€ 0.00"}]
[null,6722,{"$nulls":7},{"v":0,"d":"€ 0.00"},{"v":0,"d":"€ 0.00"}]
[null,6723,{"$nulls":7},{"v":0,"d":"€ 0.00"},{"v":0,"d":"€ 0.00"}]
[null,6724,{"$nulls":7},{"v":0,"d":"€ 0.00"},{"v":0,"d":"€ 0.00"}]
[null,6725,{"$nulls":7},{"v":0,"d":"€ 0.00"},{"v":0,"d":"€ 0.00"}]
[null,6726,{"$nulls":7},{"v":0,"d":"€ 0.00"},{"v":0,"d":"€ 0.00"}]
[null,6727,{"$nulls":7},{"v":0,"d":"€ 0.00"},{"v":0,"d":"€ 0.00"}]
[null,6728,{"$nulls":7},{"v":0,"d":"€ 0.00"},{"v":0,"d":"€ 0.00"}]
[null,6729,{"$nulls":7},{"v":0,"d":"€ 0.00"},{"v":0,"d":"€ 0.00"}]
[null,6730,{"$nulls":7},{"v":0,"d":"€ 0.00"},{"v":0,"d":"€ 0.00"}]
[null,6731,{"$nulls":7},{"v":0,"d":"€ 0.00"},{"v":0,"d":"€ 0.00"}]
[null,6732,{"$nulls":7},{"v":0,"d":"€ 0.00"},{"v":0,"d":"€ 0.00"}]
[null,6733,{"$nulls":7},{"v":0,"d":"€ 0.00"},{"v":0,"d":"€ 0.00"}]
[null,6734,{"$nulls":7},{"v":0,"d":"€ 0.00"},{"v":0,"d":"€ 0.00"}]
[null,6735,{"$nulls":7},{"v":0,"d":"€ 0.00"},{"v":0,"d":"€ 0.00"}]
[null,6736,{"$nulls":7},{"v":0,"d":"€ 0.00"},{"v":0,"d":"€ 0.00"}]
[null,6737,{"$nulls":7},{"v":0,"d":"€ 0.00"},{"v":0,"d":"€ 0.00"}]
[null,6738,{"$nulls":7},{"v":0,"d":"€ 0.00"},{"v":0,"d":"€ 0.00"}]
[null,6739,{"$nulls":7},{"$f":"IF(OR(ISBLANK(H6746)=TRUE,ISBLANK(I6746)=TRUE),,ROUND(H6746*I6746,2))","v":{"v":0,"d":"€ 0.00"}},{"$f":"G6746+J6746","v":{"v":0,"d":"€ 0.00"}}]
[null,6740,{"$nulls":7},{"v":0,"d":"€ 0.00"},{"v":0,"d":"€ 0.00"}]
[null,6741,{"$nulls":7},{"v":0,"d":"€ 0.00"},{"v":0,"d":"€ 0.00"}]
[null,6742,{"$nulls":7},{"v":0,"d":"€ 0.00"},{"v":0,"d":"€ 0.00"}]
[null,6743,{"$nulls":7},{"v":0,"d":"€ 0.00"},{"v":0,"d":"€ 0.00"}]
[null,6744,{"$nulls":7},{"v":0,"d":"€ 0.00"},{"v":0,"d":"€ 0.00"}]
[null,6745,{"$nulls":7},{"v":0,"d":"€ 0.00"},{"v":0,"d":"€ 0.00"}]
[null,6746,{"$nulls":7},{"v":0,"d":"€ 0.00"},{"v":0,"d":"€ 0.00"}]
[null,6747,{"$nulls":7},{"v":0,"d":"€ 0.00"},{"v":0,"d":"€ 0.00"}]
[null,6748,{"$nulls":7},{"v":0,"d":"€ 0.00"},{"v":0,"d":"€ 0.00"}]
[null,6749,{"$nulls":7},{"v":0,"d":"€ 0.00"},{"v":0,"d":"€ 0.00"}]
[null,6750,{"$nulls":7},{"v":0,"d":"€ 0.00"},{"v":0,"d":"€ 0.00"}]
[null,6751,{"$nulls":7},{"v":0,"d":"€ 0.00"},{"v":0,"d":"€ 0.00"}]
[null,6752,{"$nulls":7},{"v":0,"d":"€ 0.00"},{"v":0,"d":"€ 0.00"}]
[null,6753,{"$nulls":7},{"v":0,"d":"€ 0.00"},{"v":0,"d":"€ 0.00"}]
[null,6754,{"$nulls":7},{"v":0,"d":"€ 0.00"},{"v":0,"d":"€ 0.00"}]
[null,6755,{"$nulls":7},{"v":0,"d":"€ 0.00"},{"v":0,"d":"€ 0.00"}]
[null,6756,{"$nulls":7},{"v":0,"d":"€ 0.00"},{"v":0,"d":"€ 0.00"}]
[null,6757,{"$nulls":7},{"v":0,"d":"€ 0.00"},{"v":0,"d":"€ 0.00"}]
[null,6758,{"$nulls":7},{"v":0,"d":"€ 0.00"},{"v":0,"d":"€ 0.00"}]
[null,6759,{"$nulls":7},{"v":0,"d":"€ 0.00"},{"v":0,"d":"€ 0.00"}]
[null,6760,{"$nulls":7},{"v":0,"d":"€ 0.00"},{"v":0,"d":"€ 0.00"}]
[null,6761,{"$nulls":7},{"v":0,"d":"€ 0.00"},{"v":0,"d":"€ 0.00"}]
[null,6762,{"$nulls":7},{"v":0,"d":"€ 0.00"},{"v":0,"d":"€ 0.00"}]
[null,6763,{"$nulls":7},{"v":0,"d":"€ 0.00"},{"v":0,"d":"€ 0.00"}]
[null,6764,{"$nulls":7},{"v":0,"d":"€ 0.00"},{"v":0,"d":"€ 0.00"}]
[null,6765,{"$nulls":7},{"v":0,"d":"€ 0.00"},{"v":0,"d":"€ 0.00"}]
[null,6766,{"$nulls":7},{"v":0,"d":"€ 0.00"},{"v":0,"d":"€ 0.00"}]
[null,6767,{"$nulls":7},{"v":0,"d":"€ 0.00"},{"v":0,"d":"€ 0.00"}]
[null,6768,{"$nulls":7},{"v":0,"d":"€ 0.00"},{"v":0,"d":"€ 0.00"}]
[null,6769,{"$nulls":7},{"v":0,"d":"€ 0.00"},{"v":0,"d":"€ 0.00"}]
[null,6770,{"$nulls":7},{"v":0,"d":"€ 0.00"},{"v":0,"d":"€ 0.00"}]
[null,6771,{"$nulls":7},{"v":0,"d":"€ 0.00"},{"v":0,"d":"€ 0.00"}]
[null,6772,{"$nulls":7},{"v":0,"d":"€ 0.00"},{"v":0,"d":"€ 0.00"}]
[null,6773,{"$nulls":7},{"v":0,"d":"€ 0.00"},{"v":0,"d":"€ 0.00"}]
[null,6774,{"$nulls":7},{"v":0,"d":"€ 0.00"},{"v":0,"d":"€ 0.00"}]
[null,6775,{"$nulls":7},{"v":0,"d":"€ 0.00"},{"v":0,"d":"€ 0.00"}]
[null,6776,{"$nulls":7},{"v":0,"d":"€ 0.00"},{"v":0,"d":"€ 0.00"}]
[null,6777,{"$nulls":7},{"v":0,"d":"€ 0.00"},{"v":0,"d":"€ 0.00"}]
[null,6778,{"$nulls":7},{"v":0,"d":"€ 0.00"},{"v":0,"d":"€ 0.00"}]
[null,6779,{"$nulls":7},{"v":0,"d":"€ 0.00"},{"v":0,"d":"€ 0.00"}]
[null,6780,{"$nulls":7},{"v":0,"d":"€ 0.00"},{"v":0,"d":"€ 0.00"}]
[null,6781,{"$nulls":7},{"v":0,"d":"€ 0.00"},{"v":0,"d":"€ 0.00"}]
[null,6782,{"$nulls":7},{"v":0,"d":"€ 0.00"},{"v":0,"d":"€ 0.00"}]
[null,6783,{"$nulls":7},{"v":0,"d":"€ 0.00"},{"v":0,"d":"€ 0.00"}]
[null,6784,{"$nulls":7},{"v":0,"d":"€ 0.00"},{"v":0,"d":"€ 0.00"}]
[null,6785,{"$nulls":7},{"v":0,"d":"€ 0.00"},{"v":0,"d":"€ 0.00"}]
[null,6786,{"$nulls":7},{"v":0,"d":"€ 0.00"},{"v":0,"d":"€ 0.00"}]
[null,6787,{"$nulls":7},{"v":0,"d":"€ 0.00"},{"v":0,"d":"€ 0.00"}]
[null,6788,{"$nulls":7},{"v":0,"d":"€ 0.00"},{"v":0,"d":"€ 0.00"}]
[null,6789,{"$nulls":7},{"v":0,"d":"€ 0.00"},{"v":0,"d":"€ 0.00"}]
[null,6790,{"$nulls":7},{"v":0,"d":"€ 0.00"},{"v":0,"d":"€ 0.00"}]
[null,6791,{"$nulls":7},{"v":0,"d":"€ 0.00"},{"v":0,"d":"€ 0.00"}]
[null,6792,{"$nulls":7},{"v":0,"d":"€ 0.00"},{"v":0,"d":"€ 0.00"}]
[null,6793,{"$nulls":7},{"v":0,"d":"€ 0.00"},{"v":0,"d":"€ 0.00"}]
[null,6794,{"$nulls":7},{"v":0,"d":"€ 0.00"},{"v":0,"d":"€ 0.00"}]
[null,6795,{"$nulls":7},{"v":0,"d":"€ 0.00"},{"v":0,"d":"€ 0.00"}]
[null,6796,{"$nulls":7},{"v":0,"d":"€ 0.00"},{"v":0,"d":"€ 0.00"}]
[null,6797,{"$nulls":7},{"v":0,"d":"€ 0.00"},{"v":0,"d":"€ 0.00"}]
[null,6798,{"$nulls":7},{"v":0,"d":"€ 0.00"},{"v":0,"d":"€ 0.00"}]
[null,6799,{"$nulls":7},{"v":0,"d":"€ 0.00"},{"v":0,"d":"€ 0.00"}]
[null,6800,{"$nulls":7},{"v":0,"d":"€ 0.00"},{"v":0,"d":"€ 0.00"}]
[null,6801,{"$nulls":7},{"v":0,"d":"€ 0.00"},{"v":0,"d":"€ 0.00"}]
[null,6802,{"$nulls":7},{"v":0,"d":"€ 0.00"},{"v":0,"d":"€ 0.00"}]
[null,6803,{"$nulls":7},{"$f":"IF(OR(ISBLANK(H6810)=TRUE,ISBLANK(I6810)=TRUE),,ROUND(H6810*I6810,2))","v":{"v":0,"d":"€ 0.00"}},{"$f":"G6810+J6810","v":{"v":0,"d":"€ 0.00"}}]
[null,6804,{"$nulls":7},{"v":0,"d":"€ 0.00"},{"v":0,"d":"€ 0.00"}]
[null,6805,{"$nulls":7},{"v":0,"d":"€ 0.00"},{"v":0,"d":"€ 0.00"}]
[null,6806,{"$nulls":7},{"v":0,"d":"€ 0.00"},{"v":0,"d":"€ 0.00"}]
[null,6807,{"$nulls":7},{"v":0,"d":"€ 0.00"},{"v":0,"d":"€ 0.00"}]
[null,6808,{"$nulls":7},{"v":0,"d":"€ 0.00"},{"v":0,"d":"€ 0.00"}]
[null,6809,{"$nulls":7},{"v":0,"d":"€ 0.00"},{"v":0,"d":"€ 0.00"}]
[null,6810,{"$nulls":7},{"v":0,"d":"€ 0.00"},{"v":0,"d":"€ 0.00"}]
[null,6811,{"$nulls":7},{"v":0,"d":"€ 0.00"},{"v":0,"d":"€ 0.00"}]
[null,6812,{"$nulls":7},{"v":0,"d":"€ 0.00"},{"v":0,"d":"€ 0.00"}]
[null,6813,{"$nulls":7},{"v":0,"d":"€ 0.00"},{"v":0,"d":"€ 0.00"}]
[null,6814,{"$nulls":7},{"v":0,"d":"€ 0.00"},{"v":0,"d":"€ 0.00"}]
[null,6815,{"$nulls":7},{"v":0,"d":"€ 0.00"},{"v":0,"d":"€ 0.00"}]
[null,6816,{"$nulls":7},{"v":0,"d":"€ 0.00"},{"v":0,"d":"€ 0.00"}]
[null,6817,{"$nulls":7},{"v":0,"d":"€ 0.00"},{"v":0,"d":"€ 0.00"}]
[null,6818,{"$nulls":7},{"v":0,"d":"€ 0.00"},{"v":0,"d":"€ 0.00"}]
[null,6819,{"$nulls":7},{"v":0,"d":"€ 0.00"},{"v":0,"d":"€ 0.00"}]
[null,6820,{"$nulls":7},{"v":0,"d":"€ 0.00"},{"v":0,"d":"€ 0.00"}]
[null,6821,{"$nulls":7},{"v":0,"d":"€ 0.00"},{"v":0,"d":"€ 0.00"}]
[null,6822,{"$nulls":7},{"v":0,"d":"€ 0.00"},{"v":0,"d":"€ 0.00"}]
[null,6823,{"$nulls":7},{"v":0,"d":"€ 0.00"},{"v":0,"d":"€ 0.00"}]
[null,6824,{"$nulls":7},{"v":0,"d":"€ 0.00"},{"v":0,"d":"€ 0.00"}]
[null,6825,{"$nulls":7},{"v":0,"d":"€ 0.00"},{"v":0,"d":"€ 0.00"}]
[null,6826,{"$nulls":7},{"v":0,"d":"€ 0.00"},{"v":0,"d":"€ 0.00"}]
[null,6827,{"$nulls":7},{"v":0,"d":"€ 0.00"},{"v":0,"d":"€ 0.00"}]
[null,6828,{"$nulls":7},{"v":0,"d":"€ 0.00"},{"v":0,"d":"€ 0.00"}]
[null,6829,{"$nulls":7},{"v":0,"d":"€ 0.00"},{"v":0,"d":"€ 0.00"}]
[null,6830,{"$nulls":7},{"v":0,"d":"€ 0.00"},{"v":0,"d":"€ 0.00"}]
[null,6831,{"$nulls":7},{"v":0,"d":"€ 0.00"},{"v":0,"d":"€ 0.00"}]
[null,6832,{"$nulls":7},{"v":0,"d":"€ 0.00"},{"v":0,"d":"€ 0.00"}]
[null,6833,{"$nulls":7},{"v":0,"d":"€ 0.00"},{"v":0,"d":"€ 0.00"}]
[null,6834,{"$nulls":7},{"v":0,"d":"€ 0.00"},{"v":0,"d":"€ 0.00"}]
[null,6835,{"$nulls":7},{"v":0,"d":"€ 0.00"},{"v":0,"d":"€ 0.00"}]
[null,6836,{"$nulls":7},{"v":0,"d":"€ 0.00"},{"v":0,"d":"€ 0.00"}]
[null,6837,{"$nulls":7},{"v":0,"d":"€ 0.00"},{"v":0,"d":"€ 0.00"}]
[null,6838,{"$nulls":7},{"v":0,"d":"€ 0.00"},{"v":0,"d":"€ 0.00"}]
[null,6839,{"$nulls":7},{"v":0,"d":"€ 0.00"},{"v":0,"d":"€ 0.00"}]
[null,6840,{"$nulls":7},{"v":0,"d":"€ 0.00"},{"v":0,"d":"€ 0.00"}]
[null,6841,{"$nulls":7},{"v":0,"d":"€ 0.00"},{"v":0,"d":"€ 0.00"}]
[null,6842,{"$nulls":7},{"v":0,"d":"€ 0.00"},{"v":0,"d":"€ 0.00"}]
[null,6843,{"$nulls":7},{"v":0,"d":"€ 0.00"},{"v":0,"d":"€ 0.00"}]
[null,6844,{"$nulls":7},{"v":0,"d":"€ 0.00"},{"v":0,"d":"€ 0.00"}]
[null,6845,{"$nulls":7},{"v":0,"d":"€ 0.00"},{"v":0,"d":"€ 0.00"}]
[null,6846,{"$nulls":7},{"v":0,"d":"€ 0.00"},{"v":0,"d":"€ 0.00"}]
[null,6847,{"$nulls":7},{"v":0,"d":"€ 0.00"},{"v":0,"d":"€ 0.00"}]
[null,6848,{"$nulls":7},{"v":0,"d":"€ 0.00"},{"v":0,"d":"€ 0.00"}]
[null,6849,{"$nulls":7},{"v":0,"d":"€ 0.00"},{"v":0,"d":"€ 0.00"}]
[null,6850,{"$nulls":7},{"v":0,"d":"€ 0.00"},{"v":0,"d":"€ 0.00"}]
[null,6851,{"$nulls":7},{"v":0,"d":"€ 0.00"},{"v":0,"d":"€ 0.00"}]
[null,6852,{"$nulls":7},{"v":0,"d":"€ 0.00"},{"v":0,"d":"€ 0.00"}]
[null,6853,{"$nulls":7},{"v":0,"d":"€ 0.00"},{"v":0,"d":"€ 0.00"}]
[null,6854,{"$nulls":7},{"v":0,"d":"€ 0.00"},{"v":0,"d":"€ 0.00"}]
[null,6855,{"$nulls":7},{"v":0,"d":"€ 0.00"},{"v":0,"d":"€ 0.00"}]
[null,6856,{"$nulls":7},{"v":0,"d":"€ 0.00"},{"v":0,"d":"€ 0.00"}]
[null,6857,{"$nulls":7},{"v":0,"d":"€ 0.00"},{"v":0,"d":"€ 0.00"}]
[null,6858,{"$nulls":7},{"v":0,"d":"€ 0.00"},{"v":0,"d":"€ 0.00"}]
[null,6859,{"$nulls":7},{"v":0,"d":"€ 0.00"},{"v":0,"d":"€ 0.00"}]
[null,6860,{"$nulls":7},{"v":0,"d":"€ 0.00"},{"v":0,"d":"€ 0.00"}]
[null,6861,{"$nulls":7},{"v":0,"d":"€ 0.00"},{"v":0,"d":"€ 0.00"}]
[null,6862,{"$nulls":7},{"v":0,"d":"€ 0.00"},{"v":0,"d":"€ 0.00"}]
[null,6863,{"$nulls":7},{"v":0,"d":"€ 0.00"},{"v":0,"d":"€ 0.00"}]
[null,6864,{"$nulls":7},{"v":0,"d":"€ 0.00"},{"v":0,"d":"€ 0.00"}]
[null,6865,{"$nulls":7},{"v":0,"d":"€ 0.00"},{"v":0,"d":"€ 0.00"}]
[null,6866,{"$nulls":7},{"v":0,"d":"€ 0.00"},{"v":0,"d":"€ 0.00"}]
[null,6867,{"$nulls":7},{"$f":"IF(OR(ISBLANK(H6874)=TRUE,ISBLANK(I6874)=TRUE),,ROUND(H6874*I6874,2))","v":{"v":0,"d":"€ 0.00"}},{"$f":"G6874+J6874","v":{"v":0,"d":"€ 0.00"}}]
[null,6868,{"$nulls":7},{"v":0,"d":"€ 0.00"},{"v":0,"d":"€ 0.00"}]
[null,6869,{"$nulls":7},{"v":0,"d":"€ 0.00"},{"v":0,"d":"€ 0.00"}]
[null,6870,{"$nulls":7},{"v":0,"d":"€ 0.00"},{"v":0,"d":"€ 0.00"}]
[null,6871,{"$nulls":7},{"v":0,"d":"€ 0.00"},{"v":0,"d":"€ 0.00"}]
[null,6872,{"$nulls":7},{"v":0,"d":"€ 0.00"},{"v":0,"d":"€ 0.00"}]
[null,6873,{"$nulls":7},{"v":0,"d":"€ 0.00"},{"v":0,"d":"€ 0.00"}]
[null,6874,{"$nulls":7},{"v":0,"d":"€ 0.00"},{"v":0,"d":"€ 0.00"}]
[null,6875,{"$nulls":7},{"v":0,"d":"€ 0.00"},{"v":0,"d":"€ 0.00"}]
[null,6876,{"$nulls":7},{"v":0,"d":"€ 0.00"},{"v":0,"d":"€ 0.00"}]
[null,6877,{"$nulls":7},{"v":0,"d":"€ 0.00"},{"v":0,"d":"€ 0.00"}]
[null,6878,{"$nulls":7},{"v":0,"d":"€ 0.00"},{"v":0,"d":"€ 0.00"}]
[null,6879,{"$nulls":7},{"v":0,"d":"€ 0.00"},{"v":0,"d":"€ 0.00"}]
[null,6880,{"$nulls":7},{"v":0,"d":"€ 0.00"},{"v":0,"d":"€ 0.00"}]
[null,6881,{"$nulls":7},{"v":0,"d":"€ 0.00"},{"v":0,"d":"€ 0.00"}]
[null,6882,{"$nulls":7},{"v":0,"d":"€ 0.00"},{"v":0,"d":"€ 0.00"}]
[null,6883,{"$nulls":7},{"v":0,"d":"€ 0.00"},{"v":0,"d":"€ 0.00"}]
[null,6884,{"$nulls":7},{"v":0,"d":"€ 0.00"},{"v":0,"d":"€ 0.00"}]
[null,6885,{"$nulls":7},{"v":0,"d":"€ 0.00"},{"v":0,"d":"€ 0.00"}]
[null,6886,{"$nulls":7},{"v":0,"d":"€ 0.00"},{"v":0,"d":"€ 0.00"}]
[null,6887,{"$nulls":7},{"v":0,"d":"€ 0.00"},{"v":0,"d":"€ 0.00"}]
[null,6888,{"$nulls":7},{"v":0,"d":"€ 0.00"},{"v":0,"d":"€ 0.00"}]
[null,6889,{"$nulls":7},{"v":0,"d":"€ 0.00"},{"v":0,"d":"€ 0.00"}]
[null,6890,{"$nulls":7},{"v":0,"d":"€ 0.00"},{"v":0,"d":"€ 0.00"}]
[null,6891,{"$nulls":7},{"v":0,"d":"€ 0.00"},{"v":0,"d":"€ 0.00"}]
[null,6892,{"$nulls":7},{"v":0,"d":"€ 0.00"},{"v":0,"d":"€ 0.00"}]
[null,6893,{"$nulls":7},{"v":0,"d":"€ 0.00"},{"v":0,"d":"€ 0.00"}]
[null,6894,{"$nulls":7},{"v":0,"d":"€ 0.00"},{"v":0,"d":"€ 0.00"}]
[null,6895,{"$nulls":7},{"v":0,"d":"€ 0.00"},{"v":0,"d":"€ 0.00"}]
[null,6896,{"$nulls":7},{"v":0,"d":"€ 0.00"},{"v":0,"d":"€ 0.00"}]
[null,6897,{"$nulls":7},{"v":0,"d":"€ 0.00"},{"v":0,"d":"€ 0.00"}]
[null,6898,{"$nulls":7},{"v":0,"d":"€ 0.00"},{"v":0,"d":"€ 0.00"}]
[null,6899,{"$nulls":7},{"v":0,"d":"€ 0.00"},{"v":0,"d":"€ 0.00"}]
[null,6900,{"$nulls":7},{"v":0,"d":"€ 0.00"},{"v":0,"d":"€ 0.00"}]
[null,6901,{"$nulls":7},{"v":0,"d":"€ 0.00"},{"v":0,"d":"€ 0.00"}]
[null,6902,{"$nulls":7},{"v":0,"d":"€ 0.00"},{"v":0,"d":"€ 0.00"}]
[null,6903,{"$nulls":7},{"v":0,"d":"€ 0.00"},{"v":0,"d":"€ 0.00"}]
[null,6904,{"$nulls":7},{"v":0,"d":"€ 0.00"},{"v":0,"d":"€ 0.00"}]
[null,6905,{"$nulls":7},{"v":0,"d":"€ 0.00"},{"v":0,"d":"€ 0.00"}]
[null,6906,{"$nulls":7},{"v":0,"d":"€ 0.00"},{"v":0,"d":"€ 0.00"}]
[null,6907,{"$nulls":7},{"v":0,"d":"€ 0.00"},{"v":0,"d":"€ 0.00"}]
[null,6908,{"$nulls":7},{"v":0,"d":"€ 0.00"},{"v":0,"d":"€ 0.00"}]
[null,6909,{"$nulls":7},{"v":0,"d":"€ 0.00"},{"v":0,"d":"€ 0.00"}]
[null,6910,{"$nulls":7},{"v":0,"d":"€ 0.00"},{"v":0,"d":"€ 0.00"}]
[null,6911,{"$nulls":7},{"v":0,"d":"€ 0.00"},{"v":0,"d":"€ 0.00"}]
[null,6912,{"$nulls":7},{"v":0,"d":"€ 0.00"},{"v":0,"d":"€ 0.00"}]
[null,6913,{"$nulls":7},{"v":0,"d":"€ 0.00"},{"v":0,"d":"€ 0.00"}]
[null,6914,{"$nulls":7},{"v":0,"d":"€ 0.00"},{"v":0,"d":"€ 0.00"}]
[null,6915,{"$nulls":7},{"v":0,"d":"€ 0.00"},{"v":0,"d":"€ 0.00"}]
[null,6916,{"$nulls":7},{"v":0,"d":"€ 0.00"},{"v":0,"d":"€ 0.00"}]
[null,6917,{"$nulls":7},{"v":0,"d":"€ 0.00"},{"v":0,"d":"€ 0.00"}]
[null,6918,{"$nulls":7},{"v":0,"d":"€ 0.00"},{"v":0,"d":"€ 0.00"}]
[null,6919,{"$nulls":7},{"v":0,"d":"€ 0.00"},{"v":0,"d":"€ 0.00"}]
[null,6920,{"$nulls":7},{"v":0,"d":"€ 0.00"},{"v":0,"d":"€ 0.00"}]
[null,6921,{"$nulls":7},{"v":0,"d":"€ 0.00"},{"v":0,"d":"€ 0.00"}]
[null,6922,{"$nulls":7},{"v":0,"d":"€ 0.00"},{"v":0,"d":"€ 0.00"}]
[null,6923,{"$nulls":7},{"v":0,"d":"€ 0.00"},{"v":0,"d":"€ 0.00"}]
[null,6924,{"$nulls":7},{"v":0,"d":"€ 0.00"},{"v":0,"d":"€ 0.00"}]
[null,6925,{"$nulls":7},{"v":0,"d":"€ 0.00"},{"v":0,"d":"€ 0.00"}]
[null,6926,{"$nulls":7},{"v":0,"d":"€ 0.00"},{"v":0,"d":"€ 0.00"}]
[null,6927,{"$nulls":7},{"v":0,"d":"€ 0.00"},{"v":0,"d":"€ 0.00"}]
[null,6928,{"$nulls":7},{"v":0,"d":"€ 0.00"},{"v":0,"d":"€ 0.00"}]
[null,6929,{"$nulls":7},{"v":0,"d":"€ 0.00"},{"v":0,"d":"€ 0.00"}]
[null,6930,{"$nulls":7},{"v":0,"d":"€ 0.00"},{"v":0,"d":"€ 0.00"}]
[null,6931,{"$nulls":7},{"$f":"IF(OR(ISBLANK(H6938)=TRUE,ISBLANK(I6938)=TRUE),,ROUND(H6938*I6938,2))","v":{"v":0,"d":"€ 0.00"}},{"$f":"G6938+J6938","v":{"v":0,"d":"€ 0.00"}}]
[null,6932,{"$nulls":7},{"v":0,"d":"€ 0.00"},{"v":0,"d":"€ 0.00"}]
[null,6933,{"$nulls":7},{"v":0,"d":"€ 0.00"},{"v":0,"d":"€ 0.00"}]
[null,6934,{"$nulls":7},{"v":0,"d":"€ 0.00"},{"v":0,"d":"€ 0.00"}]
[null,6935,{"$nulls":7},{"v":0,"d":"€ 0.00"},{"v":0,"d":"€ 0.00"}]
[null,6936,{"$nulls":7},{"v":0,"d":"€ 0.00"},{"v":0,"d":"€ 0.00"}]
[null,6937,{"$nulls":7},{"v":0,"d":"€ 0.00"},{"v":0,"d":"€ 0.00"}]
[null,6938,{"$nulls":7},{"v":0,"d":"€ 0.00"},{"v":0,"d":"€ 0.00"}]
[null,6939,{"$nulls":7},{"v":0,"d":"€ 0.00"},{"v":0,"d":"€ 0.00"}]
[null,6940,{"$nulls":7},{"v":0,"d":"€ 0.00"},{"v":0,"d":"€ 0.00"}]
[null,6941,{"$nulls":7},{"v":0,"d":"€ 0.00"},{"v":0,"d":"€ 0.00"}]
[null,6942,{"$nulls":7},{"v":0,"d":"€ 0.00"},{"v":0,"d":"€ 0.00"}]
[null,6943,{"$nulls":7},{"v":0,"d":"€ 0.00"},{"v":0,"d":"€ 0.00"}]
[null,6944,{"$nulls":7},{"v":0,"d":"€ 0.00"},{"v":0,"d":"€ 0.00"}]
[null,6945,{"$nulls":7},{"v":0,"d":"€ 0.00"},{"v":0,"d":"€ 0.00"}]
[null,6946,{"$nulls":7},{"v":0,"d":"€ 0.00"},{"v":0,"d":"€ 0.00"}]
[null,6947,{"$nulls":7},{"v":0,"d":"€ 0.00"},{"v":0,"d":"€ 0.00"}]
[null,6948,{"$nulls":7},{"v":0,"d":"€ 0.00"},{"v":0,"d":"€ 0.00"}]
[null,6949,{"$nulls":7},{"v":0,"d":"€ 0.00"},{"v":0,"d":"€ 0.00"}]
[null,6950,{"$nulls":7},{"v":0,"d":"€ 0.00"},{"v":0,"d":"€ 0.00"}]
[null,6951,{"$nulls":7},{"v":0,"d":"€ 0.00"},{"v":0,"d":"€ 0.00"}]
[null,6952,{"$nulls":7},{"v":0,"d":"€ 0.00"},{"v":0,"d":"€ 0.00"}]
[null,6953,{"$nulls":7},{"v":0,"d":"€ 0.00"},{"v":0,"d":"€ 0.00"}]
[null,6954,{"$nulls":7},{"v":0,"d":"€ 0.00"},{"v":0,"d":"€ 0.00"}]
[null,6955,{"$nulls":7},{"v":0,"d":"€ 0.00"},{"v":0,"d":"€ 0.00"}]
[null,6956,{"$nulls":7},{"v":0,"d":"€ 0.00"},{"v":0,"d":"€ 0.00"}]
[null,6957,{"$nulls":7},{"v":0,"d":"€ 0.00"},{"v":0,"d":"€ 0.00"}]
[null,6958,{"$nulls":7},{"v":0,"d":"€ 0.00"},{"v":0,"d":"€ 0.00"}]
[null,6959,{"$nulls":7},{"v":0,"d":"€ 0.00"},{"v":0,"d":"€ 0.00"}]
[null,6960,{"$nulls":7},{"v":0,"d":"€ 0.00"},{"v":0,"d":"€ 0.00"}]
[null,6961,{"$nulls":7},{"v":0,"d":"€ 0.00"},{"v":0,"d":"€ 0.00"}]
[null,6962,{"$nulls":7},{"v":0,"d":"€ 0.00"},{"v":0,"d":"€ 0.00"}]
[null,6963,{"$nulls":7},{"v":0,"d":"€ 0.00"},{"v":0,"d":"€ 0.00"}]
[null,6964,{"$nulls":7},{"v":0,"d":"€ 0.00"},{"v":0,"d":"€ 0.00"}]
[null,6965,{"$nulls":7},{"v":0,"d":"€ 0.00"},{"v":0,"d":"€ 0.00"}]
[null,6966,{"$nulls":7},{"v":0,"d":"€ 0.00"},{"v":0,"d":"€ 0.00"}]
[null,6967,{"$nulls":7},{"v":0,"d":"€ 0.00"},{"v":0,"d":"€ 0.00"}]
[null,6968,{"$nulls":7},{"v":0,"d":"€ 0.00"},{"v":0,"d":"€ 0.00"}]
[null,6969,{"$nulls":7},{"v":0,"d":"€ 0.00"},{"v":0,"d":"€ 0.00"}]
[null,6970,{"$nulls":7},{"v":0,"d":"€ 0.00"},{"v":0,"d":"€ 0.00"}]
[null,6971,{"$nulls":7},{"v":0,"d":"€ 0.00"},{"v":0,"d":"€ 0.00"}]
[null,6972,{"$nulls":7},{"v":0,"d":"€ 0.00"},{"v":0,"d":"€ 0.00"}]
[null,6973,{"$nulls":7},{"v":0,"d":"€ 0.00"},{"v":0,"d":"€ 0.00"}]
[null,6974,{"$nulls":7},{"v":0,"d":"€ 0.00"},{"v":0,"d":"€ 0.00"}]
[null,6975,{"$nulls":7},{"v":0,"d":"€ 0.00"},{"v":0,"d":"€ 0.00"}]
[null,6976,{"$nulls":7},{"v":0,"d":"€ 0.00"},{"v":0,"d":"€ 0.00"}]
[null,6977,{"$nulls":7},{"v":0,"d":"€ 0.00"},{"v":0,"d":"€ 0.00"}]
[null,6978,{"$nulls":7},{"v":0,"d":"€ 0.00"},{"v":0,"d":"€ 0.00"}]
[null,6979,{"$nulls":7},{"v":0,"d":"€ 0.00"},{"v":0,"d":"€ 0.00"}]
[null,6980,{"$nulls":7},{"v":0,"d":"€ 0.00"},{"v":0,"d":"€ 0.00"}]
[null,6981,{"$nulls":7},{"v":0,"d":"€ 0.00"},{"v":0,"d":"€ 0.00"}]
[null,6982,{"$nulls":7},{"v":0,"d":"€ 0.00"},{"v":0,"d":"€ 0.00"}]
[null,6983,{"$nulls":7},{"v":0,"d":"€ 0.00"},{"v":0,"d":"€ 0.00"}]
[null,6984,{"$nulls":7},{"v":0,"d":"€ 0.00"},{"v":0,"d":"€ 0.00"}]
[null,6985,{"$nulls":7},{"v":0,"d":"€ 0.00"},{"v":0,"d":"€ 0.00"}]
[null,6986,{"$nulls":7},{"v":0,"d":"€ 0.00"},{"v":0,"d":"€ 0.00"}]
[null,6987,{"$nulls":7},{"v":0,"d":"€ 0.00"},{"v":0,"d":"€ 0.00"}]
[null,6988,{"$nulls":7},{"v":0,"d":"€ 0.00"},{"v":0,"d":"€ 0.00"}]
[null,6989,{"$nulls":7},{"v":0,"d":"€ 0.00"},{"v":0,"d":"€ 0.00"}]
[null,6990,{"$nulls":7},{"v":0,"d":"€ 0.00"},{"v":0,"d":"€ 0.00"}]
[null,6991,{"$nulls":7},{"v":0,"d":"€ 0.00"},{"v":0,"d":"€ 0.00"}]
[null,6992,{"$nulls":7},{"v":0,"d":"€ 0.00"},{"v":0,"d":"€ 0.00"}]
[null,6993,{"$nulls":7},{"v":0,"d":"€ 0.00"},{"v":0,"d":"€ 0.00"}]
[null,6994,{"$nulls":7},{"v":0,"d":"€ 0.00"},{"v":0,"d":"€ 0.00"}]
[null,6995,{"$nulls":7},{"$f":"IF(OR(ISBLANK(H7002)=TRUE,ISBLANK(I7002)=TRUE),,ROUND(H7002*I7002,2))","v":{"v":0,"d":"€ 0.00"}},{"$f":"G7002+J7002","v":{"v":0,"d":"€ 0.00"}}]
[null,6996,{"$nulls":7},{"v":0,"d":"€ 0.00"},{"v":0,"d":"€ 0.00"}]
[null,6997,{"$nulls":7},{"v":0,"d":"€ 0.00"},{"v":0,"d":"€ 0.00"}]
[null,6998,{"$nulls":7},{"v":0,"d":"€ 0.00"},{"v":0,"d":"€ 0.00"}]
[null,6999,{"$nulls":7},{"v":0,"d":"€ 0.00"},{"v":0,"d":"€ 0.00"}]
[null,7000,{"$nulls":7},{"v":0,"d":"€ 0.00"},{"v":0,"d":"€ 0.00"}]
[null,7001,{"$nulls":7},{"v":0,"d":"€ 0.00"},{"v":0,"d":"€ 0.00"}]
[null,7002,{"$nulls":7},{"v":0,"d":"€ 0.00"},{"v":0,"d":"€ 0.00"}]
[null,7003,{"$nulls":7},{"v":0,"d":"€ 0.00"},{"v":0,"d":"€ 0.00"}]
[null,7004,{"$nulls":7},{"v":0,"d":"€ 0.00"},{"v":0,"d":"€ 0.00"}]
[null,7005,{"$nulls":7},{"v":0,"d":"€ 0.00"},{"v":0,"d":"€ 0.00"}]
[null,7006,{"$nulls":7},{"v":0,"d":"€ 0.00"},{"v":0,"d":"€ 0.00"}]
[null,7007,{"$nulls":7},{"v":0,"d":"€ 0.00"},{"v":0,"d":"€ 0.00"}]
[null,7008,{"$nulls":7},{"v":0,"d":"€ 0.00"},{"v":0,"d":"€ 0.00"}]
[null,7009,{"$nulls":7},{"v":0,"d":"€ 0.00"},{"v":0,"d":"€ 0.00"}]
[null,7010,{"$nulls":7},{"v":0,"d":"€ 0.00"},{"v":0,"d":"€ 0.00"}]
[null,7011,{"$nulls":7},{"v":0,"d":"€ 0.00"},{"v":0,"d":"€ 0.00"}]
[null,7012,{"$nulls":7},{"v":0,"d":"€ 0.00"},{"v":0,"d":"€ 0.00"}]
[null,7013,{"$nulls":7},{"v":0,"d":"€ 0.00"},{"v":0,"d":"€ 0.00"}]
[null,7014,{"$nulls":7},{"v":0,"d":"€ 0.00"},{"v":0,"d":"€ 0.00"}]
[null,7015,{"$nulls":7},{"v":0,"d":"€ 0.00"},{"v":0,"d":"€ 0.00"}]
[null,7016,{"$nulls":7},{"v":0,"d":"€ 0.00"},{"v":0,"d":"€ 0.00"}]
[null,7017,{"$nulls":7},{"v":0,"d":"€ 0.00"},{"v":0,"d":"€ 0.00"}]
[null,7018,{"$nulls":7},{"v":0,"d":"€ 0.00"},{"v":0,"d":"€ 0.00"}]
[null,7019,{"$nulls":7},{"v":0,"d":"€ 0.00"},{"v":0,"d":"€ 0.00"}]
[null,7020,{"$nulls":7},{"v":0,"d":"€ 0.00"},{"v":0,"d":"€ 0.00"}]
[null,7021,{"$nulls":7},{"v":0,"d":"€ 0.00"},{"v":0,"d":"€ 0.00"}]
[null,7022,{"$nulls":7},{"v":0,"d":"€ 0.00"},{"v":0,"d":"€ 0.00"}]
[null,7023,{"$nulls":7},{"v":0,"d":"€ 0.00"},{"v":0,"d":"€ 0.00"}]
[null,7024,{"$nulls":7},{"v":0,"d":"€ 0.00"},{"v":0,"d":"€ 0.00"}]
[null,7025,{"$nulls":7},{"v":0,"d":"€ 0.00"},{"v":0,"d":"€ 0.00"}]
[null,7026,{"$nulls":7},{"v":0,"d":"€ 0.00"},{"v":0,"d":"€ 0.00"}]
[null,7027,{"$nulls":7},{"v":0,"d":"€ 0.00"},{"v":0,"d":"€ 0.00"}]
[null,7028,{"$nulls":7},{"v":0,"d":"€ 0.00"},{"v":0,"d":"€ 0.00"}]
[null,7029,{"$nulls":7},{"v":0,"d":"€ 0.00"},{"v":0,"d":"€ 0.00"}]
[null,7030,{"$nulls":7},{"v":0,"d":"€ 0.00"},{"v":0,"d":"€ 0.00"}]
[null,7031,{"$nulls":7},{"v":0,"d":"€ 0.00"},{"v":0,"d":"€ 0.00"}]
[null,7032,{"$nulls":7},{"v":0,"d":"€ 0.00"},{"v":0,"d":"€ 0.00"}]
[null,7033,{"$nulls":7},{"v":0,"d":"€ 0.00"},{"v":0,"d":"€ 0.00"}]
[null,7034,{"$nulls":7},{"v":0,"d":"€ 0.00"},{"v":0,"d":"€ 0.00"}]
[null,7035,{"$nulls":7},{"v":0,"d":"€ 0.00"},{"v":0,"d":"€ 0.00"}]
[null,7036,{"$nulls":7},{"v":0,"d":"€ 0.00"},{"v":0,"d":"€ 0.00"}]
[null,7037,{"$nulls":7},{"v":0,"d":"€ 0.00"},{"v":0,"d":"€ 0.00"}]
[null,7038,{"$nulls":7},{"v":0,"d":"€ 0.00"},{"v":0,"d":"€ 0.00"}]
[null,7039,{"$nulls":7},{"v":0,"d":"€ 0.00"},{"v":0,"d":"€ 0.00"}]
[null,7040,{"$nulls":7},{"v":0,"d":"€ 0.00"},{"v":0,"d":"€ 0.00"}]
[null,7041,{"$nulls":7},{"v":0,"d":"€ 0.00"},{"v":0,"d":"€ 0.00"}]
[null,7042,{"$nulls":7},{"v":0,"d":"€ 0.00"},{"v":0,"d":"€ 0.00"}]
[null,7043,{"$nulls":7},{"v":0,"d":"€ 0.00"},{"v":0,"d":"€ 0.00"}]
[null,7044,{"$nulls":7},{"v":0,"d":"€ 0.00"},{"v":0,"d":"€ 0.00"}]
[null,7045,{"$nulls":7},{"v":0,"d":"€ 0.00"},{"v":0,"d":"€ 0.00"}]
[null,7046,{"$nulls":7},{"v":0,"d":"€ 0.00"},{"v":0,"d":"€ 0.00"}]
[null,7047,{"$nulls":7},{"v":0,"d":"€ 0.00"},{"v":0,"d":"€ 0.00"}]
[null,7048,{"$nulls":7},{"v":0,"d":"€ 0.00"},{"v":0,"d":"€ 0.00"}]
[null,7049,{"$nulls":7},{"v":0,"d":"€ 0.00"},{"v":0,"d":"€ 0.00"}]
[null,7050,{"$nulls":7},{"v":0,"d":"€ 0.00"},{"v":0,"d":"€ 0.00"}]
[null,7051,{"$nulls":7},{"v":0,"d":"€ 0.00"},{"v":0,"d":"€ 0.00"}]
[null,7052,{"$nulls":7},{"v":0,"d":"€ 0.00"},{"v":0,"d":"€ 0.00"}]
[null,7053,{"$nulls":7},{"v":0,"d":"€ 0.00"},{"v":0,"d":"€ 0.00"}]
[null,7054,{"$nulls":7},{"v":0,"d":"€ 0.00"},{"v":0,"d":"€ 0.00"}]
[null,7055,{"$nulls":7},{"v":0,"d":"€ 0.00"},{"v":0,"d":"€ 0.00"}]
[null,7056,{"$nulls":7},{"v":0,"d":"€ 0.00"},{"v":0,"d":"€ 0.00"}]
[null,7057,{"$nulls":7},{"v":0,"d":"€ 0.00"},{"v":0,"d":"€ 0.00"}]
[null,7058,{"$nulls":7},{"v":0,"d":"€ 0.00"},{"v":0,"d":"€ 0.00"}]
[null,7059,{"$nulls":7},{"$f":"IF(OR(ISBLANK(H7066)=TRUE,ISBLANK(I7066)=TRUE),,ROUND(H7066*I7066,2))","v":{"v":0,"d":"€ 0.00"}},{"$f":"G7066+J7066","v":{"v":0,"d":"€ 0.00"}}]
[null,7060,{"$nulls":7},{"v":0,"d":"€ 0.00"},{"v":0,"d":"€ 0.00"}]
[null,7061,{"$nulls":7},{"v":0,"d":"€ 0.00"},{"v":0,"d":"€ 0.00"}]
[null,7062,{"$nulls":7},{"v":0,"d":"€ 0.00"},{"v":0,"d":"€ 0.00"}]
[null,7063,{"$nulls":7},{"v":0,"d":"€ 0.00"},{"v":0,"d":"€ 0.00"}]
[null,7064,{"$nulls":7},{"v":0,"d":"€ 0.00"},{"v":0,"d":"€ 0.00"}]
[null,7065,{"$nulls":7},{"v":0,"d":"€ 0.00"},{"v":0,"d":"€ 0.00"}]
[null,7066,{"$nulls":7},{"v":0,"d":"€ 0.00"},{"v":0,"d":"€ 0.00"}]
[null,7067,{"$nulls":7},{"v":0,"d":"€ 0.00"},{"v":0,"d":"€ 0.00"}]
[null,7068,{"$nulls":7},{"v":0,"d":"€ 0.00"},{"v":0,"d":"€ 0.00"}]
[null,7069,{"$nulls":7},{"v":0,"d":"€ 0.00"},{"v":0,"d":"€ 0.00"}]
[null,7070,{"$nulls":7},{"v":0,"d":"€ 0.00"},{"v":0,"d":"€ 0.00"}]
[null,7071,{"$nulls":7},{"v":0,"d":"€ 0.00"},{"v":0,"d":"€ 0.00"}]
[null,7072,{"$nulls":7},{"v":0,"d":"€ 0.00"},{"v":0,"d":"€ 0.00"}]
[null,7073,{"$nulls":7},{"v":0,"d":"€ 0.00"},{"v":0,"d":"€ 0.00"}]
[null,7074,{"$nulls":7},{"v":0,"d":"€ 0.00"},{"v":0,"d":"€ 0.00"}]
[null,7075,{"$nulls":7},{"v":0,"d":"€ 0.00"},{"v":0,"d":"€ 0.00"}]
[null,7076,{"$nulls":7},{"v":0,"d":"€ 0.00"},{"v":0,"d":"€ 0.00"}]
[null,7077,{"$nulls":7},{"v":0,"d":"€ 0.00"},{"v":0,"d":"€ 0.00"}]
[null,7078,{"$nulls":7},{"v":0,"d":"€ 0.00"},{"v":0,"d":"€ 0.00"}]
[null,7079,{"$nulls":7},{"v":0,"d":"€ 0.00"},{"v":0,"d":"€ 0.00"}]
[null,7080,{"$nulls":7},{"v":0,"d":"€ 0.00"},{"v":0,"d":"€ 0.00"}]
[null,7081,{"$nulls":7},{"v":0,"d":"€ 0.00"},{"v":0,"d":"€ 0.00"}]
[null,7082,{"$nulls":7},{"v":0,"d":"€ 0.00"},{"v":0,"d":"€ 0.00"}]
[null,7083,{"$nulls":7},{"v":0,"d":"€ 0.00"},{"v":0,"d":"€ 0.00"}]
[null,7084,{"$nulls":7},{"v":0,"d":"€ 0.00"},{"v":0,"d":"€ 0.00"}]
[null,7085,{"$nulls":7},{"v":0,"d":"€ 0.00"},{"v":0,"d":"€ 0.00"}]
[null,7086,{"$nulls":7},{"v":0,"d":"€ 0.00"},{"v":0,"d":"€ 0.00"}]
[null,7087,{"$nulls":7},{"v":0,"d":"€ 0.00"},{"v":0,"d":"€ 0.00"}]
[null,7088,{"$nulls":7},{"v":0,"d":"€ 0.00"},{"v":0,"d":"€ 0.00"}]
[null,7089,{"$nulls":7},{"v":0,"d":"€ 0.00"},{"v":0,"d":"€ 0.00"}]
[null,7090,{"$nulls":7},{"v":0,"d":"€ 0.00"},{"v":0,"d":"€ 0.00"}]
[null,7091,{"$nulls":7},{"v":0,"d":"€ 0.00"},{"v":0,"d":"€ 0.00"}]
[null,7092,{"$nulls":7},{"v":0,"d":"€ 0.00"},{"v":0,"d":"€ 0.00"}]
[null,7093,{"$nulls":7},{"v":0,"d":"€ 0.00"},{"v":0,"d":"€ 0.00"}]
[null,7094,{"$nulls":7},{"v":0,"d":"€ 0.00"},{"v":0,"d":"€ 0.00"}]
[null,7095,{"$nulls":7},{"v":0,"d":"€ 0.00"},{"v":0,"d":"€ 0.00"}]
[null,7096,{"$nulls":7},{"v":0,"d":"€ 0.00"},{"v":0,"d":"€ 0.00"}]
[null,7097,{"$nulls":7},{"v":0,"d":"€ 0.00"},{"v":0,"d":"€ 0.00"}]
[null,7098,{"$nulls":7},{"v":0,"d":"€ 0.00"},{"v":0,"d":"€ 0.00"}]
[null,7099,{"$nulls":7},{"v":0,"d":"€ 0.00"},{"v":0,"d":"€ 0.00"}]
[null,7100,{"$nulls":7},{"v":0,"d":"€ 0.00"},{"v":0,"d":"€ 0.00"}]
[null,7101,{"$nulls":7},{"v":0,"d":"€ 0.00"},{"v":0,"d":"€ 0.00"}]
[null,7102,{"$nulls":7},{"v":0,"d":"€ 0.00"},{"v":0,"d":"€ 0.00"}]
[null,7103,{"$nulls":7},{"v":0,"d":"€ 0.00"},{"v":0,"d":"€ 0.00"}]
[null,7104,{"$nulls":7},{"v":0,"d":"€ 0.00"},{"v":0,"d":"€ 0.00"}]
[null,7105,{"$nulls":7},{"v":0,"d":"€ 0.00"},{"v":0,"d":"€ 0.00"}]
[null,7106,{"$nulls":7},{"v":0,"d":"€ 0.00"},{"v":0,"d":"€ 0.00"}]
[null,7107,{"$nulls":7},{"v":0,"d":"€ 0.00"},{"v":0,"d":"€ 0.00"}]
[null,7108,{"$nulls":7},{"v":0,"d":"€ 0.00"},{"v":0,"d":"€ 0.00"}]
[null,7109,{"$nulls":7},{"v":0,"d":"€ 0.00"},{"v":0,"d":"€ 0.00"}]
[null,7110,{"$nulls":7},{"v":0,"d":"€ 0.00"},{"v":0,"d":"€ 0.00"}]
[null,7111,{"$nulls":7},{"v":0,"d":"€ 0.00"},{"v":0,"d":"€ 0.00"}]
[null,7112,{"$nulls":7},{"v":0,"d":"€ 0.00"},{"v":0,"d":"€ 0.00"}]
[null,7113,{"$nulls":7},{"v":0,"d":"€ 0.00"},{"v":0,"d":"€ 0.00"}]
[null,7114,{"$nulls":7},{"v":0,"d":"€ 0.00"},{"v":0,"d":"€ 0.00"}]
[null,7115,{"$nulls":7},{"v":0,"d":"€ 0.00"},{"v":0,"d":"€ 0.00"}]
[null,7116,{"$nulls":7},{"v":0,"d":"€ 0.00"},{"v":0,"d":"€ 0.00"}]
[null,7117,{"$nulls":7},{"v":0,"d":"€ 0.00"},{"v":0,"d":"€ 0.00"}]
[null,7118,{"$nulls":7},{"v":0,"d":"€ 0.00"},{"v":0,"d":"€ 0.00"}]
[null,7119,{"$nulls":7},{"v":0,"d":"€ 0.00"},{"v":0,"d":"€ 0.00"}]
[null,7120,{"$nulls":7},{"v":0,"d":"€ 0.00"},{"v":0,"d":"€ 0.00"}]
[null,7121,{"$nulls":7},{"v":0,"d":"€ 0.00"},{"v":0,"d":"€ 0.00"}]
[null,7122,{"$nulls":7},{"v":0,"d":"€ 0.00"},{"v":0,"d":"€ 0.00"}]
[null,7123,{"$nulls":7},{"$f":"IF(OR(ISBLANK(H7130)=TRUE,ISBLANK(I7130)=TRUE),,ROUND(H7130*I7130,2))","v":{"v":0,"d":"€ 0.00"}},{"$f":"G7130+J7130","v":{"v":0,"d":"€ 0.00"}}]
[null,7124,{"$nulls":7},{"v":0,"d":"€ 0.00"},{"v":0,"d":"€ 0.00"}]
[null,7125,{"$nulls":7},{"v":0,"d":"€ 0.00"},{"v":0,"d":"€ 0.00"}]
[null,7126,{"$nulls":7},{"v":0,"d":"€ 0.00"},{"v":0,"d":"€ 0.00"}]
[null,7127,{"$nulls":7},{"v":0,"d":"€ 0.00"},{"v":0,"d":"€ 0.00"}]
[null,7128,{"$nulls":7},{"v":0,"d":"€ 0.00"},{"v":0,"d":"€ 0.00"}]
[null,7129,{"$nulls":7},{"v":0,"d":"€ 0.00"},{"v":0,"d":"€ 0.00"}]
[null,7130,{"$nulls":7},{"v":0,"d":"€ 0.00"},{"v":0,"d":"€ 0.00"}]
[null,7131,{"$nulls":7},{"v":0,"d":"€ 0.00"},{"v":0,"d":"€ 0.00"}]
[null,7132,{"$nulls":7},{"v":0,"d":"€ 0.00"},{"v":0,"d":"€ 0.00"}]
[null,7133,{"$nulls":7},{"v":0,"d":"€ 0.00"},{"v":0,"d":"€ 0.00"}]
[null,7134,{"$nulls":7},{"v":0,"d":"€ 0.00"},{"v":0,"d":"€ 0.00"}]
[null,7135,{"$nulls":7},{"v":0,"d":"€ 0.00"},{"v":0,"d":"€ 0.00"}]
[null,7136,{"$nulls":7},{"v":0,"d":"€ 0.00"},{"v":0,"d":"€ 0.00"}]
[null,7137,{"$nulls":7},{"v":0,"d":"€ 0.00"},{"v":0,"d":"€ 0.00"}]
[null,7138,{"$nulls":7},{"v":0,"d":"€ 0.00"},{"v":0,"d":"€ 0.00"}]
[null,7139,{"$nulls":7},{"v":0,"d":"€ 0.00"},{"v":0,"d":"€ 0.00"}]
[null,7140,{"$nulls":7},{"v":0,"d":"€ 0.00"},{"v":0,"d":"€ 0.00"}]
[null,7141,{"$nulls":7},{"v":0,"d":"€ 0.00"},{"v":0,"d":"€ 0.00"}]
[null,7142,{"$nulls":7},{"v":0,"d":"€ 0.00"},{"v":0,"d":"€ 0.00"}]
[null,7143,{"$nulls":7},{"v":0,"d":"€ 0.00"},{"v":0,"d":"€ 0.00"}]
[null,7144,{"$nulls":7},{"v":0,"d":"€ 0.00"},{"v":0,"d":"€ 0.00"}]
[null,7145,{"$nulls":7},{"v":0,"d":"€ 0.00"},{"v":0,"d":"€ 0.00"}]
[null,7146,{"$nulls":7},{"v":0,"d":"€ 0.00"},{"v":0,"d":"€ 0.00"}]
[null,7147,{"$nulls":7},{"v":0,"d":"€ 0.00"},{"v":0,"d":"€ 0.00"}]
[null,7148,{"$nulls":7},{"v":0,"d":"€ 0.00"},{"v":0,"d":"€ 0.00"}]
[null,7149,{"$nulls":7},{"v":0,"d":"€ 0.00"},{"v":0,"d":"€ 0.00"}]
[null,7150,{"$nulls":7},{"v":0,"d":"€ 0.00"},{"v":0,"d":"€ 0.00"}]
[null,7151,{"$nulls":7},{"v":0,"d":"€ 0.00"},{"v":0,"d":"€ 0.00"}]
[null,7152,{"$nulls":7},{"v":0,"d":"€ 0.00"},{"v":0,"d":"€ 0.00"}]
[null,7153,{"$nulls":7},{"v":0,"d":"€ 0.00"},{"v":0,"d":"€ 0.00"}]
[null,7154,{"$nulls":7},{"v":0,"d":"€ 0.00"},{"v":0,"d":"€ 0.00"}]
[null,7155,{"$nulls":7},{"v":0,"d":"€ 0.00"},{"v":0,"d":"€ 0.00"}]
[null,7156,{"$nulls":7},{"v":0,"d":"€ 0.00"},{"v":0,"d":"€ 0.00"}]
[null,7157,{"$nulls":7},{"v":0,"d":"€ 0.00"},{"v":0,"d":"€ 0.00"}]
[null,7158,{"$nulls":7},{"v":0,"d":"€ 0.00"},{"v":0,"d":"€ 0.00"}]
[null,7159,{"$nulls":7},{"v":0,"d":"€ 0.00"},{"v":0,"d":"€ 0.00"}]
[null,7160,{"$nulls":7},{"v":0,"d":"€ 0.00"},{"v":0,"d":"€ 0.00"}]
[null,7161,{"$nulls":7},{"v":0,"d":"€ 0.00"},{"v":0,"d":"€ 0.00"}]
[null,7162,{"$nulls":7},{"v":0,"d":"€ 0.00"},{"v":0,"d":"€ 0.00"}]
[null,7163,{"$nulls":7},{"v":0,"d":"€ 0.00"},{"v":0,"d":"€ 0.00"}]
[null,7164,{"$nulls":7},{"v":0,"d":"€ 0.00"},{"v":0,"d":"€ 0.00"}]
[null,7165,{"$nulls":7},{"v":0,"d":"€ 0.00"},{"v":0,"d":"€ 0.00"}]
[null,7166,{"$nulls":7},{"v":0,"d":"€ 0.00"},{"v":0,"d":"€ 0.00"}]
[null,7167,{"$nulls":7},{"v":0,"d":"€ 0.00"},{"v":0,"d":"€ 0.00"}]
[null,7168,{"$nulls":7},{"v":0,"d":"€ 0.00"},{"v":0,"d":"€ 0.00"}]
[null,7169,{"$nulls":7},{"v":0,"d":"€ 0.00"},{"v":0,"d":"€ 0.00"}]
[null,7170,{"$nulls":7},{"v":0,"d":"€ 0.00"},{"v":0,"d":"€ 0.00"}]
[null,7171,{"$nulls":7},{"v":0,"d":"€ 0.00"},{"v":0,"d":"€ 0.00"}]
[null,7172,{"$nulls":7},{"v":0,"d":"€ 0.00"},{"v":0,"d":"€ 0.00"}]
[null,7173,{"$nulls":7},{"v":0,"d":"€ 0.00"},{"v":0,"d":"€ 0.00"}]
[null,7174,{"$nulls":7},{"v":0,"d":"€ 0.00"},{"v":0,"d":"€ 0.00"}]
[null,7175,{"$nulls":7},{"v":0,"d":"€ 0.00"},{"v":0,"d":"€ 0.00"}]
[null,7176,{"$nulls":7},{"v":0,"d":"€ 0.00"},{"v":0,"d":"€ 0.00"}]
[null,7177,{"$nulls":7},{"v":0,"d":"€ 0.00"},{"v":0,"d":"€ 0.00"}]
[null,7178,{"$nulls":7},{"v":0,"d":"€ 0.00"},{"v":0,"d":"€ 0.00"}]
[null,7179,{"$nulls":7},{"v":0,"d":"€ 0.00"},{"v":0,"d":"€ 0.00"}]
[null,7180,{"$nulls":7},{"v":0,"d":"€ 0.00"},{"v":0,"d":"€ 0.00"}]
[null,7181,{"$nulls":7},{"v":0,"d":"€ 0.00"},{"v":0,"d":"€ 0.00"}]
[null,7182,{"$nulls":7},{"v":0,"d":"€ 0.00"},{"v":0,"d":"€ 0.00"}]
[null,7183,{"$nulls":7},{"v":0,"d":"€ 0.00"},{"v":0,"d":"€ 0.00"}]
[null,7184,{"$nulls":7},{"v":0,"d":"€ 0.00"},{"v":0,"d":"€ 0.00"}]
[null,7185,{"$nulls":7},{"v":0,"d":"€ 0.00"},{"v":0,"d":"€ 0.00"}]
[null,7186,{"$nulls":7},{"v":0,"d":"€ 0.00"},{"v":0,"d":"€ 0.00"}]
[null,7187,{"$nulls":7},{"$f":"IF(OR(ISBLANK(H7194)=TRUE,ISBLANK(I7194)=TRUE),,ROUND(H7194*I7194,2))","v":{"v":0,"d":"€ 0.00"}},{"$f":"G7194+J7194","v":{"v":0,"d":"€ 0.00"}}]
[null,7188,{"$nulls":7},{"v":0,"d":"€ 0.00"},{"v":0,"d":"€ 0.00"}]
[null,7189,{"$nulls":7},{"v":0,"d":"€ 0.00"},{"v":0,"d":"€ 0.00"}]
[null,7190,{"$nulls":7},{"v":0,"d":"€ 0.00"},{"v":0,"d":"€ 0.00"}]
[null,7191,{"$nulls":7},{"v":0,"d":"€ 0.00"},{"v":0,"d":"€ 0.00"}]
[null,7192,{"$nulls":7},{"v":0,"d":"€ 0.00"},{"v":0,"d":"€ 0.00"}]
[null,7193,{"$nulls":7},{"v":0,"d":"€ 0.00"},{"v":0,"d":"€ 0.00"}]
[null,7194,{"$nulls":7},{"v":0,"d":"€ 0.00"},{"v":0,"d":"€ 0.00"}]
[null,7195,{"$nulls":7},{"v":0,"d":"€ 0.00"},{"v":0,"d":"€ 0.00"}]
[null,7196,{"$nulls":7},{"v":0,"d":"€ 0.00"},{"v":0,"d":"€ 0.00"}]
[null,7197,{"$nulls":7},{"v":0,"d":"€ 0.00"},{"v":0,"d":"€ 0.00"}]
[null,7198,{"$nulls":7},{"v":0,"d":"€ 0.00"},{"v":0,"d":"€ 0.00"}]
[null,7199,{"$nulls":7},{"v":0,"d":"€ 0.00"},{"v":0,"d":"€ 0.00"}]
[null,7200,{"$nulls":7},{"v":0,"d":"€ 0.00"},{"v":0,"d":"€ 0.00"}]
[null,7201,{"$nulls":7},{"v":0,"d":"€ 0.00"},{"v":0,"d":"€ 0.00"}]
[null,7202,{"$nulls":7},{"v":0,"d":"€ 0.00"},{"v":0,"d":"€ 0.00"}]
[null,7203,{"$nulls":7},{"v":0,"d":"€ 0.00"},{"v":0,"d":"€ 0.00"}]
[null,7204,{"$nulls":7},{"v":0,"d":"€ 0.00"},{"v":0,"d":"€ 0.00"}]
[null,7205,{"$nulls":7},{"v":0,"d":"€ 0.00"},{"v":0,"d":"€ 0.00"}]
[null,7206,{"$nulls":7},{"v":0,"d":"€ 0.00"},{"v":0,"d":"€ 0.00"}]
[null,7207,{"$nulls":7},{"v":0,"d":"€ 0.00"},{"v":0,"d":"€ 0.00"}]
[null,7208,{"$nulls":7},{"v":0,"d":"€ 0.00"},{"v":0,"d":"€ 0.00"}]
[null,7209,{"$nulls":7},{"v":0,"d":"€ 0.00"},{"v":0,"d":"€ 0.00"}]
[null,7210,{"$nulls":7},{"v":0,"d":"€ 0.00"},{"v":0,"d":"€ 0.00"}]
[null,7211,{"$nulls":7},{"v":0,"d":"€ 0.00"},{"v":0,"d":"€ 0.00"}]
[null,7212,{"$nulls":7},{"v":0,"d":"€ 0.00"},{"v":0,"d":"€ 0.00"}]
[null,7213,{"$nulls":7},{"v":0,"d":"€ 0.00"},{"v":0,"d":"€ 0.00"}]
[null,7214,{"$nulls":7},{"v":0,"d":"€ 0.00"},{"v":0,"d":"€ 0.00"}]
[null,7215,{"$nulls":7},{"v":0,"d":"€ 0.00"},{"v":0,"d":"€ 0.00"}]
[null,7216,{"$nulls":7},{"v":0,"d":"€ 0.00"},{"v":0,"d":"€ 0.00"}]
[null,7217,{"$nulls":7},{"v":0,"d":"€ 0.00"},{"v":0,"d":"€ 0.00"}]
[null,7218,{"$nulls":7},{"v":0,"d":"€ 0.00"},{"v":0,"d":"€ 0.00"}]
[null,7219,{"$nulls":7},{"v":0,"d":"€ 0.00"},{"v":0,"d":"€ 0.00"}]
[null,7220,{"$nulls":7},{"v":0,"d":"€ 0.00"},{"v":0,"d":"€ 0.00"}]
[null,7221,{"$nulls":7},{"v":0,"d":"€ 0.00"},{"v":0,"d":"€ 0.00"}]
[null,7222,{"$nulls":7},{"v":0,"d":"€ 0.00"},{"v":0,"d":"€ 0.00"}]
[null,7223,{"$nulls":7},{"v":0,"d":"€ 0.00"},{"v":0,"d":"€ 0.00"}]
[null,7224,{"$nulls":7},{"v":0,"d":"€ 0.00"},{"v":0,"d":"€ 0.00"}]
[null,7225,{"$nulls":7},{"v":0,"d":"€ 0.00"},{"v":0,"d":"€ 0.00"}]
[null,7226,{"$nulls":7},{"v":0,"d":"€ 0.00"},{"v":0,"d":"€ 0.00"}]
[null,7227,{"$nulls":7},{"v":0,"d":"€ 0.00"},{"v":0,"d":"€ 0.00"}]
[null,7228,{"$nulls":7},{"v":0,"d":"€ 0.00"},{"v":0,"d":"€ 0.00"}]
[null,7229,{"$nulls":7},{"v":0,"d":"€ 0.00"},{"v":0,"d":"€ 0.00"}]
[null,7230,{"$nulls":7},{"v":0,"d":"€ 0.00"},{"v":0,"d":"€ 0.00"}]
[null,7231,{"$nulls":7},{"v":0,"d":"€ 0.00"},{"v":0,"d":"€ 0.00"}]
[null,7232,{"$nulls":7},{"v":0,"d":"€ 0.00"},{"v":0,"d":"€ 0.00"}]
[null,7233,{"$nulls":7},{"v":0,"d":"€ 0.00"},{"v":0,"d":"€ 0.00"}]
[null,7234,{"$nulls":7},{"v":0,"d":"€ 0.00"},{"v":0,"d":"€ 0.00"}]
[null,7235,{"$nulls":7},{"v":0,"d":"€ 0.00"},{"v":0,"d":"€ 0.00"}]
[null,7236,{"$nulls":7},{"v":0,"d":"€ 0.00"},{"v":0,"d":"€ 0.00"}]
[null,7237,{"$nulls":7},{"v":0,"d":"€ 0.00"},{"v":0,"d":"€ 0.00"}]
[null,7238,{"$nulls":7},{"v":0,"d":"€ 0.00"},{"v":0,"d":"€ 0.00"}]
[null,7239,{"$nulls":7},{"v":0,"d":"€ 0.00"},{"v":0,"d":"€ 0.00"}]
[null,7240,{"$nulls":7},{"v":0,"d":"€ 0.00"},{"v":0,"d":"€ 0.00"}]
[null,7241,{"$nulls":7},{"v":0,"d":"€ 0.00"},{"v":0,"d":"€ 0.00"}]
[null,7242,{"$nulls":7},{"v":0,"d":"€ 0.00"},{"v":0,"d":"€ 0.00"}]
[null,7243,{"$nulls":7},{"v":0,"d":"€ 0.00"},{"v":0,"d":"€ 0.00"}]
[null,7244,{"$nulls":7},{"v":0,"d":"€ 0.00"},{"v":0,"d":"€ 0.00"}]
[null,7245,{"$nulls":7},{"v":0,"d":"€ 0.00"},{"v":0,"d":"€ 0.00"}]
[null,7246,{"$nulls":7},{"v":0,"d":"€ 0.00"},{"v":0,"d":"€ 0.00"}]
[null,7247,{"$nulls":7},{"v":0,"d":"€ 0.00"},{"v":0,"d":"€ 0.00"}]
[null,7248,{"$nulls":7},{"v":0,"d":"€ 0.00"},{"v":0,"d":"€ 0.00"}]
[null,7249,{"$nulls":7},{"v":0,"d":"€ 0.00"},{"v":0,"d":"€ 0.00"}]
[null,7250,{"$nulls":7},{"v":0,"d":"€ 0.00"},{"v":0,"d":"€ 0.00"}]
[null,7251,{"$nulls":7},{"$f":"IF(OR(ISBLANK(H7258)=TRUE,ISBLANK(I7258)=TRUE),,ROUND(H7258*I7258,2))","v":{"v":0,"d":"€ 0.00"}},{"$f":"G7258+J7258","v":{"v":0,"d":"€ 0.00"}}]
[null,7252,{"$nulls":7},{"v":0,"d":"€ 0.00"},{"v":0,"d":"€ 0.00"}]
[null,7253,{"$nulls":7},{"v":0,"d":"€ 0.00"},{"v":0,"d":"€ 0.00"}]
[null,7254,{"$nulls":7},{"v":0,"d":"€ 0.00"},{"v":0,"d":"€ 0.00"}]
[null,7255,{"$nulls":7},{"v":0,"d":"€ 0.00"},{"v":0,"d":"€ 0.00"}]
[null,7256,{"$nulls":7},{"v":0,"d":"€ 0.00"},{"v":0,"d":"€ 0.00"}]
[null,7257,{"$nulls":7},{"v":0,"d":"€ 0.00"},{"v":0,"d":"€ 0.00"}]
[null,7258,{"$nulls":7},{"v":0,"d":"€ 0.00"},{"v":0,"d":"€ 0.00"}]
[null,7259,{"$nulls":7},{"v":0,"d":"€ 0.00"},{"v":0,"d":"€ 0.00"}]
[null,7260,{"$nulls":7},{"v":0,"d":"€ 0.00"},{"v":0,"d":"€ 0.00"}]
[null,7261,{"$nulls":7},{"v":0,"d":"€ 0.00"},{"v":0,"d":"€ 0.00"}]
[null,7262,{"$nulls":7},{"v":0,"d":"€ 0.00"},{"v":0,"d":"€ 0.00"}]
[null,7263,{"$nulls":7},{"v":0,"d":"€ 0.00"},{"v":0,"d":"€ 0.00"}]
[null,7264,{"$nulls":7},{"v":0,"d":"€ 0.00"},{"v":0,"d":"€ 0.00"}]
[null,7265,{"$nulls":7},{"v":0,"d":"€ 0.00"},{"v":0,"d":"€ 0.00"}]
[null,7266,{"$nulls":7},{"v":0,"d":"€ 0.00"},{"v":0,"d":"€ 0.00"}]
[null,7267,{"$nulls":7},{"v":0,"d":"€ 0.00"},{"v":0,"d":"€ 0.00"}]
[null,7268,{"$nulls":7},{"v":0,"d":"€ 0.00"},{"v":0,"d":"€ 0.00"}]
[null,7269,{"$nulls":7},{"v":0,"d":"€ 0.00"},{"v":0,"d":"€ 0.00"}]
[null,7270,{"$nulls":7},{"v":0,"d":"€ 0.00"},{"v":0,"d":"€ 0.00"}]
[null,7271,{"$nulls":7},{"v":0,"d":"€ 0.00"},{"v":0,"d":"€ 0.00"}]
[null,7272,{"$nulls":7},{"v":0,"d":"€ 0.00"},{"v":0,"d":"€ 0.00"}]
[null,7273,{"$nulls":7},{"v":0,"d":"€ 0.00"},{"v":0,"d":"€ 0.00"}]
[null,7274,{"$nulls":7},{"v":0,"d":"€ 0.00"},{"v":0,"d":"€ 0.00"}]
[null,7275,{"$nulls":7},{"v":0,"d":"€ 0.00"},{"v":0,"d":"€ 0.00"}]
[null,7276,{"$nulls":7},{"v":0,"d":"€ 0.00"},{"v":0,"d":"€ 0.00"}]
[null,7277,{"$nulls":7},{"v":0,"d":"€ 0.00"},{"v":0,"d":"€ 0.00"}]
[null,7278,{"$nulls":7},{"v":0,"d":"€ 0.00"},{"v":0,"d":"€ 0.00"}]
[null,7279,{"$nulls":7},{"v":0,"d":"€ 0.00"},{"v":0,"d":"€ 0.00"}]
[null,7280,{"$nulls":7},{"v":0,"d":"€ 0.00"},{"v":0,"d":"€ 0.00"}]
[null,7281,{"$nulls":7},{"v":0,"d":"€ 0.00"},{"v":0,"d":"€ 0.00"}]
[null,7282,{"$nulls":7},{"v":0,"d":"€ 0.00"},{"v":0,"d":"€ 0.00"}]
[null,7283,{"$nulls":7},{"v":0,"d":"€ 0.00"},{"v":0,"d":"€ 0.00"}]
[null,7284,{"$nulls":7},{"v":0,"d":"€ 0.00"},{"v":0,"d":"€ 0.00"}]
[null,7285,{"$nulls":7},{"v":0,"d":"€ 0.00"},{"v":0,"d":"€ 0.00"}]
[null,7286,{"$nulls":7},{"v":0,"d":"€ 0.00"},{"v":0,"d":"€ 0.00"}]
[null,7287,{"$nulls":7},{"v":0,"d":"€ 0.00"},{"v":0,"d":"€ 0.00"}]
[null,7288,{"$nulls":7},{"v":0,"d":"€ 0.00"},{"v":0,"d":"€ 0.00"}]
[null,7289,{"$nulls":7},{"v":0,"d":"€ 0.00"},{"v":0,"d":"€ 0.00"}]
[null,7290,{"$nulls":7},{"v":0,"d":"€ 0.00"},{"v":0,"d":"€ 0.00"}]
[null,7291,{"$nulls":7},{"v":0,"d":"€ 0.00"},{"v":0,"d":"€ 0.00"}]
[null,7292,{"$nulls":7},{"v":0,"d":"€ 0.00"},{"v":0,"d":"€ 0.00"}]
[null,7293,{"$nulls":7},{"v":0,"d":"€ 0.00"},{"v":0,"d":"€ 0.00"}]
[null,7294,{"$nulls":7},{"v":0,"d":"€ 0.00"},{"v":0,"d":"€ 0.00"}]
[null,7295,{"$nulls":7},{"v":0,"d":"€ 0.00"},{"v":0,"d":"€ 0.00"}]
[null,7296,{"$nulls":7},{"v":0,"d":"€ 0.00"},{"v":0,"d":"€ 0.00"}]
[null,7297,{"$nulls":7},{"v":0,"d":"€ 0.00"},{"v":0,"d":"€ 0.00"}]
[null,7298,{"$nulls":7},{"v":0,"d":"€ 0.00"},{"v":0,"d":"€ 0.00"}]
[null,7299,{"$nulls":7},{"v":0,"d":"€ 0.00"},{"v":0,"d":"€ 0.00"}]
[null,7300,{"$nulls":7},{"v":0,"d":"€ 0.00"},{"v":0,"d":"€ 0.00"}]
[null,7301,{"$nulls":7},{"v":0,"d":"€ 0.00"},{"v":0,"d":"€ 0.00"}]
[null,7302,{"$nulls":7},{"v":0,"d":"€ 0.00"},{"v":0,"d":"€ 0.00"}]
[null,7303,{"$nulls":7},{"v":0,"d":"€ 0.00"},{"v":0,"d":"€ 0.00"}]
[null,7304,{"$nulls":7},{"v":0,"d":"€ 0.00"},{"v":0,"d":"€ 0.00"}]
[null,7305,{"$nulls":7},{"v":0,"d":"€ 0.00"},{"v":0,"d":"€ 0.00"}]
[null,7306,{"$nulls":7},{"v":0,"d":"€ 0.00"},{"v":0,"d":"€ 0.00"}]
[null,7307,{"$nulls":7},{"v":0,"d":"€ 0.00"},{"v":0,"d":"€ 0.00"}]
[null,7308,{"$nulls":7},{"v":0,"d":"€ 0.00"},{"v":0,"d":"€ 0.00"}]
[null,7309,{"$nulls":7},{"v":0,"d":"€ 0.00"},{"v":0,"d":"€ 0.00"}]
[null,7310,{"$nulls":7},{"v":0,"d":"€ 0.00"},{"v":0,"d":"€ 0.00"}]
[null,7311,{"$nulls":7},{"v":0,"d":"€ 0.00"},{"v":0,"d":"€ 0.00"}]
[null,7312,{"$nulls":7},{"v":0,"d":"€ 0.00"},{"v":0,"d":"€ 0.00"}]
[null,7313,{"$nulls":7},{"v":0,"d":"€ 0.00"},{"v":0,"d":"€ 0.00"}]
[null,7314,{"$nulls":7},{"v":0,"d":"€ 0.00"},{"v":0,"d":"€ 0.00"}]
[null,7315,{"$nulls":7},{"$f":"IF(OR(ISBLANK(H7322)=TRUE,ISBLANK(I7322)=TRUE),,ROUND(H7322*I7322,2))","v":{"v":0,"d":"€ 0.00"}},{"$f":"G7322+J7322","v":{"v":0,"d":"€ 0.00"}}]
[null,7316,{"$nulls":7},{"v":0,"d":"€ 0.00"},{"v":0,"d":"€ 0.00"}]
[null,7317,{"$nulls":7},{"v":0,"d":"€ 0.00"},{"v":0,"d":"€ 0.00"}]
[null,7318,{"$nulls":7},{"v":0,"d":"€ 0.00"},{"v":0,"d":"€ 0.00"}]
[null,7319,{"$nulls":7},{"v":0,"d":"€ 0.00"},{"v":0,"d":"€ 0.00"}]
[null,7320,{"$nulls":7},{"v":0,"d":"€ 0.00"},{"v":0,"d":"€ 0.00"}]
[null,7321,{"$nulls":7},{"v":0,"d":"€ 0.00"},{"v":0,"d":"€ 0.00"}]
[null,7322,{"$nulls":7},{"v":0,"d":"€ 0.00"},{"v":0,"d":"€ 0.00"}]
[null,7323,{"$nulls":7},{"v":0,"d":"€ 0.00"},{"v":0,"d":"€ 0.00"}]
[null,7324,{"$nulls":7},{"v":0,"d":"€ 0.00"},{"v":0,"d":"€ 0.00"}]
[null,7325,{"$nulls":7},{"v":0,"d":"€ 0.00"},{"v":0,"d":"€ 0.00"}]
[null,7326,{"$nulls":7},{"v":0,"d":"€ 0.00"},{"v":0,"d":"€ 0.00"}]
[null,7327,{"$nulls":7},{"v":0,"d":"€ 0.00"},{"v":0,"d":"€ 0.00"}]
[null,7328,{"$nulls":7},{"v":0,"d":"€ 0.00"},{"v":0,"d":"€ 0.00"}]
[null,7329,{"$nulls":7},{"v":0,"d":"€ 0.00"},{"v":0,"d":"€ 0.00"}]
[null,7330,{"$nulls":7},{"v":0,"d":"€ 0.00"},{"v":0,"d":"€ 0.00"}]
[null,7331,{"$nulls":7},{"v":0,"d":"€ 0.00"},{"v":0,"d":"€ 0.00"}]
[null,7332,{"$nulls":7},{"v":0,"d":"€ 0.00"},{"v":0,"d":"€ 0.00"}]
[null,7333,{"$nulls":7},{"v":0,"d":"€ 0.00"},{"v":0,"d":"€ 0.00"}]
[null,7334,{"$nulls":7},{"v":0,"d":"€ 0.00"},{"v":0,"d":"€ 0.00"}]
[null,7335,{"$nulls":7},{"v":0,"d":"€ 0.00"},{"v":0,"d":"€ 0.00"}]
[null,7336,{"$nulls":7},{"v":0,"d":"€ 0.00"},{"v":0,"d":"€ 0.00"}]
[null,7337,{"$nulls":7},{"v":0,"d":"€ 0.00"},{"v":0,"d":"€ 0.00"}]
[null,7338,{"$nulls":7},{"v":0,"d":"€ 0.00"},{"v":0,"d":"€ 0.00"}]
[null,7339,{"$nulls":7},{"v":0,"d":"€ 0.00"},{"v":0,"d":"€ 0.00"}]
[null,7340,{"$nulls":7},{"v":0,"d":"€ 0.00"},{"v":0,"d":"€ 0.00"}]
[null,7341,{"$nulls":7},{"v":0,"d":"€ 0.00"},{"v":0,"d":"€ 0.00"}]
[null,7342,{"$nulls":7},{"v":0,"d":"€ 0.00"},{"v":0,"d":"€ 0.00"}]
[null,7343,{"$nulls":7},{"v":0,"d":"€ 0.00"},{"v":0,"d":"€ 0.00"}]
[null,7344,{"$nulls":7},{"v":0,"d":"€ 0.00"},{"v":0,"d":"€ 0.00"}]
[null,7345,{"$nulls":7},{"v":0,"d":"€ 0.00"},{"v":0,"d":"€ 0.00"}]
[null,7346,{"$nulls":7},{"v":0,"d":"€ 0.00"},{"v":0,"d":"€ 0.00"}]
[null,7347,{"$nulls":7},{"v":0,"d":"€ 0.00"},{"v":0,"d":"€ 0.00"}]
[null,7348,{"$nulls":7},{"v":0,"d":"€ 0.00"},{"v":0,"d":"€ 0.00"}]
[null,7349,{"$nulls":7},{"v":0,"d":"€ 0.00"},{"v":0,"d":"€ 0.00"}]
[null,7350,{"$nulls":7},{"v":0,"d":"€ 0.00"},{"v":0,"d":"€ 0.00"}]
[null,7351,{"$nulls":7},{"v":0,"d":"€ 0.00"},{"v":0,"d":"€ 0.00"}]
[null,7352,{"$nulls":7},{"v":0,"d":"€ 0.00"},{"v":0,"d":"€ 0.00"}]
[null,7353,{"$nulls":7},{"v":0,"d":"€ 0.00"},{"v":0,"d":"€ 0.00"}]
[null,7354,{"$nulls":7},{"v":0,"d":"€ 0.00"},{"v":0,"d":"€ 0.00"}]
[null,7355,{"$nulls":7},{"v":0,"d":"€ 0.00"},{"v":0,"d":"€ 0.00"}]
[null,7356,{"$nulls":7},{"v":0,"d":"€ 0.00"},{"v":0,"d":"€ 0.00"}]
[null,7357,{"$nulls":7},{"v":0,"d":"€ 0.00"},{"v":0,"d":"€ 0.00"}]
[null,7358,{"$nulls":7},{"v":0,"d":"€ 0.00"},{"v":0,"d":"€ 0.00"}]
[null,7359,{"$nulls":7},{"v":0,"d":"€ 0.00"},{"v":0,"d":"€ 0.00"}]
[null,7360,{"$nulls":7},{"v":0,"d":"€ 0.00"},{"v":0,"d":"€ 0.00"}]
[null,7361,{"$nulls":7},{"v":0,"d":"€ 0.00"},{"v":0,"d":"€ 0.00"}]
[null,7362,{"$nulls":7},{"v":0,"d":"€ 0.00"},{"v":0,"d":"€ 0.00"}]
[null,7363,{"$nulls":7},{"v":0,"d":"€ 0.00"},{"v":0,"d":"€ 0.00"}]
[null,7364,{"$nulls":7},{"v":0,"d":"€ 0.00"},{"v":0,"d":"€ 0.00"}]
[null,7365,{"$nulls":7},{"v":0,"d":"€ 0.00"},{"v":0,"d":"€ 0.00"}]
[null,7366,{"$nulls":7},{"v":0,"d":"€ 0.00"},{"v":0,"d":"€ 0.00"}]
[null,7367,{"$nulls":7},{"v":0,"d":"€ 0.00"},{"v":0,"d":"€ 0.00"}]
[null,7368,{"$nulls":7},{"v":0,"d":"€ 0.00"},{"v":0,"d":"€ 0.00"}]
[null,7369,{"$nulls":7},{"v":0,"d":"€ 0.00"},{"v":0,"d":"€ 0.00"}]
[null,7370,{"$nulls":7},{"v":0,"d":"€ 0.00"},{"v":0,"d":"€ 0.00"}]
[null,7371,{"$nulls":7},{"v":0,"d":"€ 0.00"},{"v":0,"d":"€ 0.00"}]
[null,7372,{"$nulls":7},{"v":0,"d":"€ 0.00"},{"v":0,"d":"€ 0.00"}]
[null,7373,{"$nulls":7},{"v":0,"d":"€ 0.00"},{"v":0,"d":"€ 0.00"}]
[null,7374,{"$nulls":7},{"v":0,"d":"€ 0.00"},{"v":0,"d":"€ 0.00"}]
[null,7375,{"$nulls":7},{"v":0,"d":"€ 0.00"},{"v":0,"d":"€ 0.00"}]
[null,7376,{"$nulls":7},{"v":0,"d":"€ 0.00"},{"v":0,"d":"€ 0.00"}]
[null,7377,{"$nulls":7},{"v":0,"d":"€ 0.00"},{"v":0,"d":"€ 0.00"}]
[null,7378,{"$nulls":7},{"v":0,"d":"€ 0.00"},{"v":0,"d":"€ 0.00"}]
[null,7379,{"$nulls":7},{"$f":"IF(OR(ISBLANK(H7386)=TRUE,ISBLANK(I7386)=TRUE),,ROUND(H7386*I7386,2))","v":{"v":0,"d":"€ 0.00"}},{"$f":"G7386+J7386","v":{"v":0,"d":"€ 0.00"}}]
[null,7380,{"$nulls":7},{"v":0,"d":"€ 0.00"},{"v":0,"d":"€ 0.00"}]
[null,7381,{"$nulls":7},{"v":0,"d":"€ 0.00"},{"v":0,"d":"€ 0.00"}]
[null,7382,{"$nulls":7},{"v":0,"d":"€ 0.00"},{"v":0,"d":"€ 0.00"}]
[null,7383,{"$nulls":7},{"v":0,"d":"€ 0.00"},{"v":0,"d":"€ 0.00"}]
[null,7384,{"$nulls":7},{"v":0,"d":"€ 0.00"},{"v":0,"d":"€ 0.00"}]
[null,7385,{"$nulls":7},{"v":0,"d":"€ 0.00"},{"v":0,"d":"€ 0.00"}]
[null,7386,{"$nulls":7},{"v":0,"d":"€ 0.00"},{"v":0,"d":"€ 0.00"}]
[null,7387,{"$nulls":7},{"v":0,"d":"€ 0.00"},{"v":0,"d":"€ 0.00"}]
[null,7388,{"$nulls":7},{"v":0,"d":"€ 0.00"},{"v":0,"d":"€ 0.00"}]
[null,7389,{"$nulls":7},{"v":0,"d":"€ 0.00"},{"v":0,"d":"€ 0.00"}]
[null,7390,{"$nulls":7},{"v":0,"d":"€ 0.00"},{"v":0,"d":"€ 0.00"}]
[null,7391,{"$nulls":7},{"v":0,"d":"€ 0.00"},{"v":0,"d":"€ 0.00"}]
[null,7392,{"$nulls":7},{"v":0,"d":"€ 0.00"},{"v":0,"d":"€ 0.00"}]
[null,7393,{"$nulls":7},{"v":0,"d":"€ 0.00"},{"v":0,"d":"€ 0.00"}]
[null,7394,{"$nulls":7},{"v":0,"d":"€ 0.00"},{"v":0,"d":"€ 0.00"}]
[null,7395,{"$nulls":7},{"v":0,"d":"€ 0.00"},{"v":0,"d":"€ 0.00"}]
[null,7396,{"$nulls":7},{"v":0,"d":"€ 0.00"},{"v":0,"d":"€ 0.00"}]
[null,7397,{"$nulls":7},{"v":0,"d":"€ 0.00"},{"v":0,"d":"€ 0.00"}]
[null,7398,{"$nulls":7},{"v":0,"d":"€ 0.00"},{"v":0,"d":"€ 0.00"}]
[null,7399,{"$nulls":7},{"v":0,"d":"€ 0.00"},{"v":0,"d":"€ 0.00"}]
[null,7400,{"$nulls":7},{"v":0,"d":"€ 0.00"},{"v":0,"d":"€ 0.00"}]
[null,7401,{"$nulls":7},{"v":0,"d":"€ 0.00"},{"v":0,"d":"€ 0.00"}]
[null,7402,{"$nulls":7},{"v":0,"d":"€ 0.00"},{"v":0,"d":"€ 0.00"}]
[null,7403,{"$nulls":7},{"v":0,"d":"€ 0.00"},{"v":0,"d":"€ 0.00"}]
[null,7404,{"$nulls":7},{"v":0,"d":"€ 0.00"},{"v":0,"d":"€ 0.00"}]
[null,7405,{"$nulls":7},{"v":0,"d":"€ 0.00"},{"v":0,"d":"€ 0.00"}]
[null,7406,{"$nulls":7},{"v":0,"d":"€ 0.00"},{"v":0,"d":"€ 0.00"}]
[null,7407,{"$nulls":7},{"v":0,"d":"€ 0.00"},{"v":0,"d":"€ 0.00"}]
[null,7408,{"$nulls":7},{"v":0,"d":"€ 0.00"},{"v":0,"d":"€ 0.00"}]
[null,7409,{"$nulls":7},{"v":0,"d":"€ 0.00"},{"v":0,"d":"€ 0.00"}]
[null,7410,{"$nulls":7},{"v":0,"d":"€ 0.00"},{"v":0,"d":"€ 0.00"}]
[null,7411,{"$nulls":7},{"v":0,"d":"€ 0.00"},{"v":0,"d":"€ 0.00"}]
[null,7412,{"$nulls":7},{"v":0,"d":"€ 0.00"},{"v":0,"d":"€ 0.00"}]
[null,7413,{"$nulls":7},{"v":0,"d":"€ 0.00"},{"v":0,"d":"€ 0.00"}]
[null,7414,{"$nulls":7},{"v":0,"d":"€ 0.00"},{"v":0,"d":"€ 0.00"}]
[null,7415,{"$nulls":7},{"v":0,"d":"€ 0.00"},{"v":0,"d":"€ 0.00"}]
[null,7416,{"$nulls":7},{"v":0,"d":"€ 0.00"},{"v":0,"d":"€ 0.00"}]
[null,7417,{"$nulls":7},{"v":0,"d":"€ 0.00"},{"v":0,"d":"€ 0.00"}]
[null,7418,{"$nulls":7},{"v":0,"d":"€ 0.00"},{"v":0,"d":"€ 0.00"}]
[null,7419,{"$nulls":7},{"v":0,"d":"€ 0.00"},{"v":0,"d":"€ 0.00"}]
[null,7420,{"$nulls":7},{"v":0,"d":"€ 0.00"},{"v":0,"d":"€ 0.00"}]
[null,7421,{"$nulls":7},{"v":0,"d":"€ 0.00"},{"v":0,"d":"€ 0.00"}]
[null,7422,{"$nulls":7},{"v":0,"d":"€ 0.00"},{"v":0,"d":"€ 0.00"}]
[null,7423,{"$nulls":7},{"v":0,"d":"€ 0.00"},{"v":0,"d":"€ 0.00"}]
[null,7424,{"$nulls":7},{"v":0,"d":"€ 0.00"},{"v":0,"d":"€ 0.00"}]
[null,7425,{"$nulls":7},{"v":0,"d":"€ 0.00"},{"v":0,"d":"€ 0.00"}]
[null,7426,{"$nulls":7},{"v":0,"d":"€ 0.00"},{"v":0,"d":"€ 0.00"}]
[null,7427,{"$nulls":7},{"v":0,"d":"€ 0.00"},{"v":0,"d":"€ 0.00"}]
[null,7428,{"$nulls":7},{"v":0,"d":"€ 0.00"},{"v":0,"d":"€ 0.00"}]
[null,7429,{"$nulls":7},{"v":0,"d":"€ 0.00"},{"v":0,"d":"€ 0.00"}]
[null,7430,{"$nulls":7},{"v":0,"d":"€ 0.00"},{"v":0,"d":"€ 0.00"}]
[null,7431,{"$nulls":7},{"v":0,"d":"€ 0.00"},{"v":0,"d":"€ 0.00"}]
[null,7432,{"$nulls":7},{"v":0,"d":"€ 0.00"},{"v":0,"d":"€ 0.00"}]
[null,7433,{"$nulls":7},{"v":0,"d":"€ 0.00"},{"v":0,"d":"€ 0.00"}]
[null,7434,{"$nulls":7},{"v":0,"d":"€ 0.00"},{"v":0,"d":"€ 0.00"}]
[null,7435,{"$nulls":7},{"v":0,"d":"€ 0.00"},{"v":0,"d":"€ 0.00"}]
[null,7436,{"$nulls":7},{"v":0,"d":"€ 0.00"},{"v":0,"d":"€ 0.00"}]
[null,7437,{"$nulls":7},{"v":0,"d":"€ 0.00"},{"v":0,"d":"€ 0.00"}]
[null,7438,{"$nulls":7},{"v":0,"d":"€ 0.00"},{"v":0,"d":"€ 0.00"}]
[null,7439,{"$nulls":7},{"v":0,"d":"€ 0.00"},{"v":0,"d":"€ 0.00"}]
[null,7440,{"$nulls":7},{"v":0,"d":"€ 0.00"},{"v":0,"d":"€ 0.00"}]
[null,7441,{"$nulls":7},{"v":0,"d":"€ 0.00"},{"v":0,"d":"€ 0.00"}]
[null,7442,{"$nulls":7},{"v":0,"d":"€ 0.00"},{"v":0,"d":"€ 0.00"}]
[null,7443,{"$nulls":7},{"$f":"IF(OR(ISBLANK(H7450)=TRUE,ISBLANK(I7450)=TRUE),,ROUND(H7450*I7450,2))","v":{"v":0,"d":"€ 0.00"}},{"$f":"G7450+J7450","v":{"v":0,"d":"€ 0.00"}}]
[null,7444,{"$nulls":7},{"v":0,"d":"€ 0.00"},{"v":0,"d":"€ 0.00"}]
[null,7445,{"$nulls":7},{"v":0,"d":"€ 0.00"},{"v":0,"d":"€ 0.00"}]
[null,7446,{"$nulls":7},{"v":0,"d":"€ 0.00"},{"v":0,"d":"€ 0.00"}]
[null,7447,{"$nulls":7},{"v":0,"d":"€ 0.00"},{"v":0,"d":"€ 0.00"}]
[null,7448,{"$nulls":7},{"v":0,"d":"€ 0.00"},{"v":0,"d":"€ 0.00"}]
[null,7449,{"$nulls":7},{"v":0,"d":"€ 0.00"},{"v":0,"d":"€ 0.00"}]
[null,7450,{"$nulls":7},{"v":0,"d":"€ 0.00"},{"v":0,"d":"€ 0.00"}]
[null,7451,{"$nulls":7},{"v":0,"d":"€ 0.00"},{"v":0,"d":"€ 0.00"}]
[null,7452,{"$nulls":7},{"v":0,"d":"€ 0.00"},{"v":0,"d":"€ 0.00"}]
[null,7453,{"$nulls":7},{"v":0,"d":"€ 0.00"},{"v":0,"d":"€ 0.00"}]
[null,7454,{"$nulls":7},{"v":0,"d":"€ 0.00"},{"v":0,"d":"€ 0.00"}]
[null,7455,{"$nulls":7},{"v":0,"d":"€ 0.00"},{"v":0,"d":"€ 0.00"}]
[null,7456,{"$nulls":7},{"v":0,"d":"€ 0.00"},{"v":0,"d":"€ 0.00"}]
[null,7457,{"$nulls":7},{"v":0,"d":"€ 0.00"},{"v":0,"d":"€ 0.00"}]
[null,7458,{"$nulls":7},{"v":0,"d":"€ 0.00"},{"v":0,"d":"€ 0.00"}]
[null,7459,{"$nulls":7},{"v":0,"d":"€ 0.00"},{"v":0,"d":"€ 0.00"}]
[null,7460,{"$nulls":7},{"v":0,"d":"€ 0.00"},{"v":0,"d":"€ 0.00"}]
[null,7461,{"$nulls":7},{"v":0,"d":"€ 0.00"},{"v":0,"d":"€ 0.00"}]
[null,7462,{"$nulls":7},{"v":0,"d":"€ 0.00"},{"v":0,"d":"€ 0.00"}]
[null,7463,{"$nulls":7},{"v":0,"d":"€ 0.00"},{"v":0,"d":"€ 0.00"}]
[null,7464,{"$nulls":7},{"v":0,"d":"€ 0.00"},{"v":0,"d":"€ 0.00"}]
[null,7465,{"$nulls":7},{"v":0,"d":"€ 0.00"},{"v":0,"d":"€ 0.00"}]
[null,7466,{"$nulls":7},{"v":0,"d":"€ 0.00"},{"v":0,"d":"€ 0.00"}]
[null,7467,{"$nulls":7},{"v":0,"d":"€ 0.00"},{"v":0,"d":"€ 0.00"}]
[null,7468,{"$nulls":7},{"v":0,"d":"€ 0.00"},{"v":0,"d":"€ 0.00"}]
[null,7469,{"$nulls":7},{"v":0,"d":"€ 0.00"},{"v":0,"d":"€ 0.00"}]
[null,7470,{"$nulls":7},{"v":0,"d":"€ 0.00"},{"v":0,"d":"€ 0.00"}]
[null,7471,{"$nulls":7},{"v":0,"d":"€ 0.00"},{"v":0,"d":"€ 0.00"}]
[null,7472,{"$nulls":7},{"v":0,"d":"€ 0.00"},{"v":0,"d":"€ 0.00"}]
[null,7473,{"$nulls":7},{"v":0,"d":"€ 0.00"},{"v":0,"d":"€ 0.00"}]
[null,7474,{"$nulls":7},{"v":0,"d":"€ 0.00"},{"v":0,"d":"€ 0.00"}]
[null,7475,{"$nulls":7},{"v":0,"d":"€ 0.00"},{"v":0,"d":"€ 0.00"}]
[null,7476,{"$nulls":7},{"v":0,"d":"€ 0.00"},{"v":0,"d":"€ 0.00"}]
[null,7477,{"$nulls":7},{"v":0,"d":"€ 0.00"},{"v":0,"d":"€ 0.00"}]
[null,7478,{"$nulls":7},{"v":0,"d":"€ 0.00"},{"v":0,"d":"€ 0.00"}]
[null,7479,{"$nulls":7},{"v":0,"d":"€ 0.00"},{"v":0,"d":"€ 0.00"}]
[null,7480,{"$nulls":7},{"v":0,"d":"€ 0.00"},{"v":0,"d":"€ 0.00"}]
[null,7481,{"$nulls":7},{"v":0,"d":"€ 0.00"},{"v":0,"d":"€ 0.00"}]
[null,7482,{"$nulls":7},{"v":0,"d":"€ 0.00"},{"v":0,"d":"€ 0.00"}]
[null,7483,{"$nulls":7},{"v":0,"d":"€ 0.00"},{"v":0,"d":"€ 0.00"}]
[null,7484,{"$nulls":7},{"v":0,"d":"€ 0.00"},{"v":0,"d":"€ 0.00"}]
[null,7485,{"$nulls":7},{"v":0,"d":"€ 0.00"},{"v":0,"d":"€ 0.00"}]
[null,7486,{"$nulls":7},{"v":0,"d":"€ 0.00"},{"v":0,"d":"€ 0.00"}]
[null,7487,{"$nulls":7},{"v":0,"d":"€ 0.00"},{"v":0,"d":"€ 0.00"}]
[null,7488,{"$nulls":7},{"v":0,"d":"€ 0.00"},{"v":0,"d":"€ 0.00"}]
[null,7489,{"$nulls":7},{"v":0,"d":"€ 0.00"},{"v":0,"d":"€ 0.00"}]
[null,7490,{"$nulls":7},{"v":0,"d":"€ 0.00"},{"v":0,"d":"€ 0.00"}]
[null,7491,{"$nulls":7},{"v":0,"d":"€ 0.00"},{"v":0,"d":"€ 0.00"}]
[null,7492,{"$nulls":7},{"v":0,"d":"€ 0.00"},{"v":0,"d":"€ 0.00"}]
[null,7493,{"$nulls":7},{"v":0,"d":"€ 0.00"},{"v":0,"d":"€ 0.00"}]
[null,7494,{"$nulls":7},{"v":0,"d":"€ 0.00"},{"v":0,"d":"€ 0.00"}]
[null,7495,{"$nulls":7},{"v":0,"d":"€ 0.00"},{"v":0,"d":"€ 0.00"}]
[null,7496,{"$nulls":7},{"v":0,"d":"€ 0.00"},{"v":0,"d":"€ 0.00"}]
[null,7497,{"$nulls":7},{"v":0,"d":"€ 0.00"},{"v":0,"d":"€ 0.00"}]
[null,7498,{"$nulls":7},{"v":0,"d":"€ 0.00"},{"v":0,"d":"€ 0.00"}]
[null,7499,{"$nulls":7},{"v":0,"d":"€ 0.00"},{"v":0,"d":"€ 0.00"}]
[null,7500,{"$nulls":7},{"v":0,"d":"€ 0.00"},{"v":0,"d":"€ 0.00"}]
[null,7501,{"$nulls":7},{"v":0,"d":"€ 0.00"},{"v":0,"d":"€ 0.00"}]
[null,7502,{"$nulls":7},{"v":0,"d":"€ 0.00"},{"v":0,"d":"€ 0.00"}]
[null,7503,{"$nulls":7},{"v":0,"d":"€ 0.00"},{"v":0,"d":"€ 0.00"}]
[null,7504,{"$nulls":7},{"v":0,"d":"€ 0.00"},{"v":0,"d":"€ 0.00"}]
[null,7505,{"$nulls":7},{"v":0,"d":"€ 0.00"},{"v":0,"d":"€ 0.00"}]
[null,7506,{"$nulls":7},{"v":0,"d":"€ 0.00"},{"v":0,"d":"€ 0.00"}]
[null,7507,{"$nulls":7},{"$f":"IF(OR(ISBLANK(H7514)=TRUE,ISBLANK(I7514)=TRUE),,ROUND(H7514*I7514,2))","v":{"v":0,"d":"€ 0.00"}},{"$f":"G7514+J7514","v":{"v":0,"d":"€ 0.00"}}]
[null,7508,{"$nulls":7},{"v":0,"d":"€ 0.00"},{"v":0,"d":"€ 0.00"}]
[null,7509,{"$nulls":7},{"v":0,"d":"€ 0.00"},{"v":0,"d":"€ 0.00"}]
[null,7510,{"$nulls":7},{"v":0,"d":"€ 0.00"},{"v":0,"d":"€ 0.00"}]
[null,7511,{"$nulls":7},{"v":0,"d":"€ 0.00"},{"v":0,"d":"€ 0.00"}]
[null,7512,{"$nulls":7},{"v":0,"d":"€ 0.00"},{"v":0,"d":"€ 0.00"}]
[null,7513,{"$nulls":7},{"v":0,"d":"€ 0.00"},{"v":0,"d":"€ 0.00"}]
[null,7514,{"$nulls":7},{"v":0,"d":"€ 0.00"},{"v":0,"d":"€ 0.00"}]
[null,7515,{"$nulls":7},{"v":0,"d":"€ 0.00"},{"v":0,"d":"€ 0.00"}]
[null,7516,{"$nulls":7},{"v":0,"d":"€ 0.00"},{"v":0,"d":"€ 0.00"}]
[null,7517,{"$nulls":7},{"v":0,"d":"€ 0.00"},{"v":0,"d":"€ 0.00"}]
[null,7518,{"$nulls":7},{"v":0,"d":"€ 0.00"},{"v":0,"d":"€ 0.00"}]
[null,7519,{"$nulls":7},{"v":0,"d":"€ 0.00"},{"v":0,"d":"€ 0.00"}]
[null,7520,{"$nulls":7},{"v":0,"d":"€ 0.00"},{"v":0,"d":"€ 0.00"}]
[null,7521,{"$nulls":7},{"v":0,"d":"€ 0.00"},{"v":0,"d":"€ 0.00"}]
[null,7522,{"$nulls":7},{"v":0,"d":"€ 0.00"},{"v":0,"d":"€ 0.00"}]
[null,7523,{"$nulls":7},{"v":0,"d":"€ 0.00"},{"v":0,"d":"€ 0.00"}]
[null,7524,{"$nulls":7},{"v":0,"d":"€ 0.00"},{"v":0,"d":"€ 0.00"}]
[null,7525,{"$nulls":7},{"v":0,"d":"€ 0.00"},{"v":0,"d":"€ 0.00"}]
[null,7526,{"$nulls":7},{"v":0,"d":"€ 0.00"},{"v":0,"d":"€ 0.00"}]
[null,7527,{"$nulls":7},{"v":0,"d":"€ 0.00"},{"v":0,"d":"€ 0.00"}]
[null,7528,{"$nulls":7},{"v":0,"d":"€ 0.00"},{"v":0,"d":"€ 0.00"}]
[null,7529,{"$nulls":7},{"v":0,"d":"€ 0.00"},{"v":0,"d":"€ 0.00"}]
[null,7530,{"$nulls":7},{"v":0,"d":"€ 0.00"},{"v":0,"d":"€ 0.00"}]
[null,7531,{"$nulls":7},{"v":0,"d":"€ 0.00"},{"v":0,"d":"€ 0.00"}]
[null,7532,{"$nulls":7},{"v":0,"d":"€ 0.00"},{"v":0,"d":"€ 0.00"}]
[null,7533,{"$nulls":7},{"v":0,"d":"€ 0.00"},{"v":0,"d":"€ 0.00"}]
[null,7534,{"$nulls":7},{"v":0,"d":"€ 0.00"},{"v":0,"d":"€ 0.00"}]
[null,7535,{"$nulls":7},{"v":0,"d":"€ 0.00"},{"v":0,"d":"€ 0.00"}]
[null,7536,{"$nulls":7},{"v":0,"d":"€ 0.00"},{"v":0,"d":"€ 0.00"}]
[null,7537,{"$nulls":7},{"v":0,"d":"€ 0.00"},{"v":0,"d":"€ 0.00"}]
[null,7538,{"$nulls":7},{"v":0,"d":"€ 0.00"},{"v":0,"d":"€ 0.00"}]
[null,7539,{"$nulls":7},{"v":0,"d":"€ 0.00"},{"v":0,"d":"€ 0.00"}]
[null,7540,{"$nulls":7},{"v":0,"d":"€ 0.00"},{"v":0,"d":"€ 0.00"}]
[null,7541,{"$nulls":7},{"v":0,"d":"€ 0.00"},{"v":0,"d":"€ 0.00"}]
[null,7542,{"$nulls":7},{"v":0,"d":"€ 0.00"},{"v":0,"d":"€ 0.00"}]
[null,7543,{"$nulls":7},{"v":0,"d":"€ 0.00"},{"v":0,"d":"€ 0.00"}]
[null,7544,{"$nulls":7},{"v":0,"d":"€ 0.00"},{"v":0,"d":"€ 0.00"}]
[null,7545,{"$nulls":7},{"v":0,"d":"€ 0.00"},{"v":0,"d":"€ 0.00"}]
[null,7546,{"$nulls":7},{"v":0,"d":"€ 0.00"},{"v":0,"d":"€ 0.00"}]
[null,7547,{"$nulls":7},{"v":0,"d":"€ 0.00"},{"v":0,"d":"€ 0.00"}]
[null,7548,{"$nulls":7},{"v":0,"d":"€ 0.00"},{"v":0,"d":"€ 0.00"}]
[null,7549,{"$nulls":7},{"v":0,"d":"€ 0.00"},{"v":0,"d":"€ 0.00"}]
[null,7550,{"$nulls":7},{"v":0,"d":"€ 0.00"},{"v":0,"d":"€ 0.00"}]
[null,7551,{"$nulls":7},{"v":0,"d":"€ 0.00"},{"v":0,"d":"€ 0.00"}]
[null,7552,{"$nulls":7},{"v":0,"d":"€ 0.00"},{"v":0,"d":"€ 0.00"}]
[null,7553,{"$nulls":7},{"v":0,"d":"€ 0.00"},{"v":0,"d":"€ 0.00"}]
[null,7554,{"$nulls":7},{"v":0,"d":"€ 0.00"},{"v":0,"d":"€ 0.00"}]
[null,7555,{"$nulls":7},{"v":0,"d":"€ 0.00"},{"v":0,"d":"€ 0.00"}]
[null,7556,{"$nulls":7},{"v":0,"d":"€ 0.00"},{"v":0,"d":"€ 0.00"}]
[null,7557,{"$nulls":7},{"v":0,"d":"€ 0.00"},{"v":0,"d":"€ 0.00"}]
[null,7558,{"$nulls":7},{"v":0,"d":"€ 0.00"},{"v":0,"d":"€ 0.00"}]
[null,7559,{"$nulls":7},{"v":0,"d":"€ 0.00"},{"v":0,"d":"€ 0.00"}]
[null,7560,{"$nulls":7},{"v":0,"d":"€ 0.00"},{"v":0,"d":"€ 0.00"}]
[null,7561,{"$nulls":7},{"v":0,"d":"€ 0.00"},{"v":0,"d":"€ 0.00"}]
[null,7562,{"$nulls":7},{"v":0,"d":"€ 0.00"},{"v":0,"d":"€ 0.00"}]
[null,7563,{"$nulls":7},{"v":0,"d":"€ 0.00"},{"v":0,"d":"€ 0.00"}]
[null,7564,{"$nulls":7},{"v":0,"d":"€ 0.00"},{"v":0,"d":"€ 0.00"}]
[null,7565,{"$nulls":7},{"v":0,"d":"€ 0.00"},{"v":0,"d":"€ 0.00"}]
[null,7566,{"$nulls":7},{"v":0,"d":"€ 0.00"},{"v":0,"d":"€ 0.00"}]
[null,7567,{"$nulls":7},{"v":0,"d":"€ 0.00"},{"v":0,"d":"€ 0.00"}]
[null,7568,{"$nulls":7},{"v":0,"d":"€ 0.00"},{"v":0,"d":"€ 0.00"}]
[null,7569,{"$nulls":7},{"v":0,"d":"€ 0.00"},{"v":0,"d":"€ 0.00"}]
[null,7570,{"$nulls":7},{"v":0,"d":"€ 0.00"},{"v":0,"d":"€ 0.00"}]
[null,7571,{"$nulls":7},{"$f":"IF(OR(ISBLANK(H7578)=TRUE,ISBLANK(I7578)=TRUE),,ROUND(H7578*I7578,2))","v":{"v":0,"d":"€ 0.00"}},{"$f":"G7578+J7578","v":{"v":0,"d":"€ 0.00"}}]
[null,7572,{"$nulls":7},{"v":0,"d":"€ 0.00"},{"v":0,"d":"€ 0.00"}]
[null,7573,{"$nulls":7},{"v":0,"d":"€ 0.00"},{"v":0,"d":"€ 0.00"}]
[null,7574,{"$nulls":7},{"v":0,"d":"€ 0.00"},{"v":0,"d":"€ 0.00"}]
[null,7575,{"$nulls":7},{"v":0,"d":"€ 0.00"},{"v":0,"d":"€ 0.00"}]
[null,7576,{"$nulls":7},{"v":0,"d":"€ 0.00"},{"v":0,"d":"€ 0.00"}]
[null,7577,{"$nulls":7},{"v":0,"d":"€ 0.00"},{"v":0,"d":"€ 0.00"}]
[null,7578,{"$nulls":7},{"v":0,"d":"€ 0.00"},{"v":0,"d":"€ 0.00"}]
[null,7579,{"$nulls":7},{"v":0,"d":"€ 0.00"},{"v":0,"d":"€ 0.00"}]
[null,7580,{"$nulls":7},{"v":0,"d":"€ 0.00"},{"v":0,"d":"€ 0.00"}]
[null,7581,{"$nulls":7},{"v":0,"d":"€ 0.00"},{"v":0,"d":"€ 0.00"}]
[null,7582,{"$nulls":7},{"v":0,"d":"€ 0.00"},{"v":0,"d":"€ 0.00"}]
[null,7583,{"$nulls":7},{"v":0,"d":"€ 0.00"},{"v":0,"d":"€ 0.00"}]
[null,7584,{"$nulls":7},{"v":0,"d":"€ 0.00"},{"v":0,"d":"€ 0.00"}]
[null,7585,{"$nulls":7},{"v":0,"d":"€ 0.00"},{"v":0,"d":"€ 0.00"}]
[null,7586,{"$nulls":7},{"v":0,"d":"€ 0.00"},{"v":0,"d":"€ 0.00"}]
[null,7587,{"$nulls":7},{"v":0,"d":"€ 0.00"},{"v":0,"d":"€ 0.00"}]
[null,7588,{"$nulls":7},{"v":0,"d":"€ 0.00"},{"v":0,"d":"€ 0.00"}]
[null,7589,{"$nulls":7},{"v":0,"d":"€ 0.00"},{"v":0,"d":"€ 0.00"}]
[null,7590,{"$nulls":7},{"v":0,"d":"€ 0.00"},{"v":0,"d":"€ 0.00"}]
[null,7591,{"$nulls":7},{"v":0,"d":"€ 0.00"},{"v":0,"d":"€ 0.00"}]
[null,7592,{"$nulls":7},{"v":0,"d":"€ 0.00"},{"v":0,"d":"€ 0.00"}]
[null,7593,{"$nulls":7},{"v":0,"d":"€ 0.00"},{"v":0,"d":"€ 0.00"}]
[null,7594,{"$nulls":7},{"v":0,"d":"€ 0.00"},{"v":0,"d":"€ 0.00"}]
[null,7595,{"$nulls":7},{"v":0,"d":"€ 0.00"},{"v":0,"d":"€ 0.00"}]
[null,7596,{"$nulls":7},{"v":0,"d":"€ 0.00"},{"v":0,"d":"€ 0.00"}]
[null,7597,{"$nulls":7},{"v":0,"d":"€ 0.00"},{"v":0,"d":"€ 0.00"}]
[null,7598,{"$nulls":7},{"v":0,"d":"€ 0.00"},{"v":0,"d":"€ 0.00"}]
[null,7599,{"$nulls":7},{"v":0,"d":"€ 0.00"},{"v":0,"d":"€ 0.00"}]
[null,7600,{"$nulls":7},{"v":0,"d":"€ 0.00"},{"v":0,"d":"€ 0.00"}]
[null,7601,{"$nulls":7},{"v":0,"d":"€ 0.00"},{"v":0,"d":"€ 0.00"}]
[null,7602,{"$nulls":7},{"v":0,"d":"€ 0.00"},{"v":0,"d":"€ 0.00"}]
[null,7603,{"$nulls":7},{"v":0,"d":"€ 0.00"},{"v":0,"d":"€ 0.00"}]
[null,7604,{"$nulls":7},{"v":0,"d":"€ 0.00"},{"v":0,"d":"€ 0.00"}]
[null,7605,{"$nulls":7},{"v":0,"d":"€ 0.00"},{"v":0,"d":"€ 0.00"}]
[null,7606,{"$nulls":7},{"v":0,"d":"€ 0.00"},{"v":0,"d":"€ 0.00"}]
[null,7607,{"$nulls":7},{"v":0,"d":"€ 0.00"},{"v":0,"d":"€ 0.00"}]
[null,7608,{"$nulls":7},{"v":0,"d":"€ 0.00"},{"v":0,"d":"€ 0.00"}]
[null,7609,{"$nulls":7},{"v":0,"d":"€ 0.00"},{"v":0,"d":"€ 0.00"}]
[null,7610,{"$nulls":7},{"v":0,"d":"€ 0.00"},{"v":0,"d":"€ 0.00"}]
[null,7611,{"$nulls":7},{"v":0,"d":"€ 0.00"},{"v":0,"d":"€ 0.00"}]
[null,7612,{"$nulls":7},{"v":0,"d":"€ 0.00"},{"v":0,"d":"€ 0.00"}]
[null,7613,{"$nulls":7},{"v":0,"d":"€ 0.00"},{"v":0,"d":"€ 0.00"}]
[null,7614,{"$nulls":7},{"v":0,"d":"€ 0.00"},{"v":0,"d":"€ 0.00"}]
[null,7615,{"$nulls":7},{"v":0,"d":"€ 0.00"},{"v":0,"d":"€ 0.00"}]
[null,7616,{"$nulls":7},{"v":0,"d":"€ 0.00"},{"v":0,"d":"€ 0.00"}]
[null,7617,{"$nulls":7},{"v":0,"d":"€ 0.00"},{"v":0,"d":"€ 0.00"}]
[null,7618,{"$nulls":7},{"v":0,"d":"€ 0.00"},{"v":0,"d":"€ 0.00"}]
[null,7619,{"$nulls":7},{"v":0,"d":"€ 0.00"},{"v":0,"d":"€ 0.00"}]
[null,7620,{"$nulls":7},{"v":0,"d":"€ 0.00"},{"v":0,"d":"€ 0.00"}]
[null,7621,{"$nulls":7},{"v":0,"d":"€ 0.00"},{"v":0,"d":"€ 0.00"}]
[null,7622,{"$nulls":7},{"v":0,"d":"€ 0.00"},{"v":0,"d":"€ 0.00"}]
[null,7623,{"$nulls":7},{"v":0,"d":"€ 0.00"},{"v":0,"d":"€ 0.00"}]
[null,7624,{"$nulls":7},{"v":0,"d":"€ 0.00"},{"v":0,"d":"€ 0.00"}]
[null,7625,{"$nulls":7},{"v":0,"d":"€ 0.00"},{"v":0,"d":"€ 0.00"}]
[null,7626,{"$nulls":7},{"v":0,"d":"€ 0.00"},{"v":0,"d":"€ 0.00"}]
[null,7627,{"$nulls":7},{"v":0,"d":"€ 0.00"},{"v":0,"d":"€ 0.00"}]
[null,7628,{"$nulls":7},{"v":0,"d":"€ 0.00"},{"v":0,"d":"€ 0.00"}]
[null,7629,{"$nulls":7},{"v":0,"d":"€ 0.00"},{"v":0,"d":"€ 0.00"}]
[null,7630,{"$nulls":7},{"v":0,"d":"€ 0.00"},{"v":0,"d":"€ 0.00"}]
[null,7631,{"$nulls":7},{"v":0,"d":"€ 0.00"},{"v":0,"d":"€ 0.00"}]
[null,7632,{"$nulls":7},{"v":0,"d":"€ 0.00"},{"v":0,"d":"€ 0.00"}]
[null,7633,{"$nulls":7},{"v":0,"d":"€ 0.00"},{"v":0,"d":"€ 0.00"}]
[null,7634,{"$nulls":7},{"v":0,"d":"€ 0.00"},{"v":0,"d":"€ 0.00"}]
[null,7635,{"$nulls":7},{"$f":"IF(OR(ISBLANK(H7642)=TRUE,ISBLANK(I7642)=TRUE),,ROUND(H7642*I7642,2))","v":{"v":0,"d":"€ 0.00"}},{"$f":"G7642+J7642","v":{"v":0,"d":"€ 0.00"}}]
[null,7636,{"$nulls":7},{"v":0,"d":"€ 0.00"},{"v":0,"d":"€ 0.00"}]
[null,7637,{"$nulls":7},{"v":0,"d":"€ 0.00"},{"v":0,"d":"€ 0.00"}]
[null,7638,{"$nulls":7},{"v":0,"d":"€ 0.00"},{"v":0,"d":"€ 0.00"}]
[null,7639,{"$nulls":7},{"v":0,"d":"€ 0.00"},{"v":0,"d":"€ 0.00"}]
[null,7640,{"$nulls":7},{"v":0,"d":"€ 0.00"},{"v":0,"d":"€ 0.00"}]
[null,7641,{"$nulls":7},{"v":0,"d":"€ 0.00"},{"v":0,"d":"€ 0.00"}]
[null,7642,{"$nulls":7},{"v":0,"d":"€ 0.00"},{"v":0,"d":"€ 0.00"}]
[null,7643,{"$nulls":7},{"v":0,"d":"€ 0.00"},{"v":0,"d":"€ 0.00"}]
[null,7644,{"$nulls":7},{"v":0,"d":"€ 0.00"},{"v":0,"d":"€ 0.00"}]
[null,7645,{"$nulls":7},{"v":0,"d":"€ 0.00"},{"v":0,"d":"€ 0.00"}]
[null,7646,{"$nulls":7},{"v":0,"d":"€ 0.00"},{"v":0,"d":"€ 0.00"}]
[null,7647,{"$nulls":7},{"v":0,"d":"€ 0.00"},{"v":0,"d":"€ 0.00"}]
[null,7648,{"$nulls":7},{"v":0,"d":"€ 0.00"},{"v":0,"d":"€ 0.00"}]
[null,7649,{"$nulls":7},{"v":0,"d":"€ 0.00"},{"v":0,"d":"€ 0.00"}]
[null,7650,{"$nulls":7},{"v":0,"d":"€ 0.00"},{"v":0,"d":"€ 0.00"}]
[null,7651,{"$nulls":7},{"v":0,"d":"€ 0.00"},{"v":0,"d":"€ 0.00"}]
[null,7652,{"$nulls":7},{"v":0,"d":"€ 0.00"},{"v":0,"d":"€ 0.00"}]
[null,7653,{"$nulls":7},{"v":0,"d":"€ 0.00"},{"v":0,"d":"€ 0.00"}]
[null,7654,{"$nulls":7},{"v":0,"d":"€ 0.00"},{"v":0,"d":"€ 0.00"}]
[null,7655,{"$nulls":7},{"v":0,"d":"€ 0.00"},{"v":0,"d":"€ 0.00"}]
[null,7656,{"$nulls":7},{"v":0,"d":"€ 0.00"},{"v":0,"d":"€ 0.00"}]
[null,7657,{"$nulls":7},{"v":0,"d":"€ 0.00"},{"v":0,"d":"€ 0.00"}]
[null,7658,{"$nulls":7},{"v":0,"d":"€ 0.00"},{"v":0,"d":"€ 0.00"}]
[null,7659,{"$nulls":7},{"v":0,"d":"€ 0.00"},{"v":0,"d":"€ 0.00"}]
[null,7660,{"$nulls":7},{"v":0,"d":"€ 0.00"},{"v":0,"d":"€ 0.00"}]
[null,7661,{"$nulls":7},{"v":0,"d":"€ 0.00"},{"v":0,"d":"€ 0.00"}]
[null,7662,{"$nulls":7},{"v":0,"d":"€ 0.00"},{"v":0,"d":"€ 0.00"}]
[null,7663,{"$nulls":7},{"v":0,"d":"€ 0.00"},{"v":0,"d":"€ 0.00"}]
[null,7664,{"$nulls":7},{"v":0,"d":"€ 0.00"},{"v":0,"d":"€ 0.00"}]
[null,7665,{"$nulls":7},{"v":0,"d":"€ 0.00"},{"v":0,"d":"€ 0.00"}]
[null,7666,{"$nulls":7},{"v":0,"d":"€ 0.00"},{"v":0,"d":"€ 0.00"}]
[null,7667,{"$nulls":7},{"v":0,"d":"€ 0.00"},{"v":0,"d":"€ 0.00"}]
[null,7668,{"$nulls":7},{"v":0,"d":"€ 0.00"},{"v":0,"d":"€ 0.00"}]
[null,7669,{"$nulls":7},{"v":0,"d":"€ 0.00"},{"v":0,"d":"€ 0.00"}]
[null,7670,{"$nulls":7},{"v":0,"d":"€ 0.00"},{"v":0,"d":"€ 0.00"}]
[null,7671,{"$nulls":7},{"v":0,"d":"€ 0.00"},{"v":0,"d":"€ 0.00"}]
[null,7672,{"$nulls":7},{"v":0,"d":"€ 0.00"},{"v":0,"d":"€ 0.00"}]
[null,7673,{"$nulls":7},{"v":0,"d":"€ 0.00"},{"v":0,"d":"€ 0.00"}]
[null,7674,{"$nulls":7},{"v":0,"d":"€ 0.00"},{"v":0,"d":"€ 0.00"}]
[null,7675,{"$nulls":7},{"v":0,"d":"€ 0.00"},{"v":0,"d":"€ 0.00"}]
[null,7676,{"$nulls":7},{"v":0,"d":"€ 0.00"},{"v":0,"d":"€ 0.00"}]
[null,7677,{"$nulls":7},{"v":0,"d":"€ 0.00"},{"v":0,"d":"€ 0.00"}]
[null,7678,{"$nulls":7},{"v":0,"d":"€ 0.00"},{"v":0,"d":"€ 0.00"}]
[null,7679,{"$nulls":7},{"v":0,"d":"€ 0.00"},{"v":0,"d":"€ 0.00"}]
[null,7680,{"$nulls":7},{"v":0,"d":"€ 0.00"},{"v":0,"d":"€ 0.00"}]
[null,7681,{"$nulls":7},{"v":0,"d":"€ 0.00"},{"v":0,"d":"€ 0.00"}]
[null,7682,{"$nulls":7},{"v":0,"d":"€ 0.00"},{"v":0,"d":"€ 0.00"}]
[null,7683,{"$nulls":7},{"v":0,"d":"€ 0.00"},{"v":0,"d":"€ 0.00"}]
[null,7684,{"$nulls":7},{"v":0,"d":"€ 0.00"},{"v":0,"d":"€ 0.00"}]
[null,7685,{"$nulls":7},{"v":0,"d":"€ 0.00"},{"v":0,"d":"€ 0.00"}]
[null,7686,{"$nulls":7},{"v":0,"d":"€ 0.00"},{"v":0,"d":"€ 0.00"}]
[null,7687,{"$nulls":7},{"v":0,"d":"€ 0.00"},{"v":0,"d":"€ 0.00"}]
[null,7688,{"$nulls":7},{"v":0,"d":"€ 0.00"},{"v":0,"d":"€ 0.00"}]
[null,7689,{"$nulls":7},{"v":0,"d":"€ 0.00"},{"v":0,"d":"€ 0.00"}]
[null,7690,{"$nulls":7},{"v":0,"d":"€ 0.00"},{"v":0,"d":"€ 0.00"}]
[null,7691,{"$nulls":7},{"v":0,"d":"€ 0.00"},{"v":0,"d":"€ 0.00"}]
[null,7692,{"$nulls":7},{"v":0,"d":"€ 0.00"},{"v":0,"d":"€ 0.00"}]
[null,7693,{"$nulls":7},{"v":0,"d":"€ 0.00"},{"v":0,"d":"€ 0.00"}]
[null,7694,{"$nulls":7},{"v":0,"d":"€ 0.00"},{"v":0,"d":"€ 0.00"}]
[null,7695,{"$nulls":7},{"v":0,"d":"€ 0.00"},{"v":0,"d":"€ 0.00"}]
[null,7696,{"$nulls":7},{"v":0,"d":"€ 0.00"},{"v":0,"d":"€ 0.00"}]
[null,7697,{"$nulls":7},{"v":0,"d":"€ 0.00"},{"v":0,"d":"€ 0.00"}]
[null,7698,{"$nulls":7},{"v":0,"d":"€ 0.00"},{"v":0,"d":"€ 0.00"}]
[null,7699,{"$nulls":7},{"$f":"IF(OR(ISBLANK(H7706)=TRUE,ISBLANK(I7706)=TRUE),,ROUND(H7706*I7706,2))","v":{"v":0,"d":"€ 0.00"}},{"$f":"G7706+J7706","v":{"v":0,"d":"€ 0.00"}}]
[null,7700,{"$nulls":7},{"v":0,"d":"€ 0.00"},{"v":0,"d":"€ 0.00"}]
[null,7701,{"$nulls":7},{"v":0,"d":"€ 0.00"},{"v":0,"d":"€ 0.00"}]
[null,7702,{"$nulls":7},{"v":0,"d":"€ 0.00"},{"v":0,"d":"€ 0.00"}]
[null,7703,{"$nulls":7},{"v":0,"d":"€ 0.00"},{"v":0,"d":"€ 0.00"}]
[null,7704,{"$nulls":7},{"v":0,"d":"€ 0.00"},{"v":0,"d":"€ 0.00"}]
[null,7705,{"$nulls":7},{"v":0,"d":"€ 0.00"},{"v":0,"d":"€ 0.00"}]
[null,7706,{"$nulls":7},{"v":0,"d":"€ 0.00"},{"v":0,"d":"€ 0.00"}]
[null,7707,{"$nulls":7},{"v":0,"d":"€ 0.00"},{"v":0,"d":"€ 0.00"}]
[null,7708,{"$nulls":7},{"v":0,"d":"€ 0.00"},{"v":0,"d":"€ 0.00"}]
[null,7709,{"$nulls":7},{"v":0,"d":"€ 0.00"},{"v":0,"d":"€ 0.00"}]
[null,7710,{"$nulls":7},{"v":0,"d":"€ 0.00"},{"v":0,"d":"€ 0.00"}]
[null,7711,{"$nulls":7},{"v":0,"d":"€ 0.00"},{"v":0,"d":"€ 0.00"}]
[null,7712,{"$nulls":7},{"v":0,"d":"€ 0.00"},{"v":0,"d":"€ 0.00"}]
[null,7713,{"$nulls":7},{"v":0,"d":"€ 0.00"},{"v":0,"d":"€ 0.00"}]
[null,7714,{"$nulls":7},{"v":0,"d":"€ 0.00"},{"v":0,"d":"€ 0.00"}]
[null,7715,{"$nulls":7},{"v":0,"d":"€ 0.00"},{"v":0,"d":"€ 0.00"}]
[null,7716,{"$nulls":7},{"v":0,"d":"€ 0.00"},{"v":0,"d":"€ 0.00"}]
[null,7717,{"$nulls":7},{"v":0,"d":"€ 0.00"},{"v":0,"d":"€ 0.00"}]
[null,7718,{"$nulls":7},{"v":0,"d":"€ 0.00"},{"v":0,"d":"€ 0.00"}]
[null,7719,{"$nulls":7},{"v":0,"d":"€ 0.00"},{"v":0,"d":"€ 0.00"}]
[null,7720,{"$nulls":7},{"v":0,"d":"€ 0.00"},{"v":0,"d":"€ 0.00"}]
[null,7721,{"$nulls":7},{"v":0,"d":"€ 0.00"},{"v":0,"d":"€ 0.00"}]
[null,7722,{"$nulls":7},{"v":0,"d":"€ 0.00"},{"v":0,"d":"€ 0.00"}]
[null,7723,{"$nulls":7},{"v":0,"d":"€ 0.00"},{"v":0,"d":"€ 0.00"}]
[null,7724,{"$nulls":7},{"v":0,"d":"€ 0.00"},{"v":0,"d":"€ 0.00"}]
[null,7725,{"$nulls":7},{"v":0,"d":"€ 0.00"},{"v":0,"d":"€ 0.00"}]
[null,7726,{"$nulls":7},{"v":0,"d":"€ 0.00"},{"v":0,"d":"€ 0.00"}]
[null,7727,{"$nulls":7},{"v":0,"d":"€ 0.00"},{"v":0,"d":"€ 0.00"}]
[null,7728,{"$nulls":7},{"v":0,"d":"€ 0.00"},{"v":0,"d":"€ 0.00"}]
[null,7729,{"$nulls":7},{"v":0,"d":"€ 0.00"},{"v":0,"d":"€ 0.00"}]
[null,7730,{"$nulls":7},{"v":0,"d":"€ 0.00"},{"v":0,"d":"€ 0.00"}]
[null,7731,{"$nulls":7},{"v":0,"d":"€ 0.00"},{"v":0,"d":"€ 0.00"}]
[null,7732,{"$nulls":7},{"v":0,"d":"€ 0.00"},{"v":0,"d":"€ 0.00"}]
[null,7733,{"$nulls":7},{"v":0,"d":"€ 0.00"},{"v":0,"d":"€ 0.00"}]
[null,7734,{"$nulls":7},{"v":0,"d":"€ 0.00"},{"v":0,"d":"€ 0.00"}]
[null,7735,{"$nulls":7},{"v":0,"d":"€ 0.00"},{"v":0,"d":"€ 0.00"}]
[null,7736,{"$nulls":7},{"v":0,"d":"€ 0.00"},{"v":0,"d":"€ 0.00"}]
[null,7737,{"$nulls":7},{"v":0,"d":"€ 0.00"},{"v":0,"d":"€ 0.00"}]
[null,7738,{"$nulls":7},{"v":0,"d":"€ 0.00"},{"v":0,"d":"€ 0.00"}]
[null,7739,{"$nulls":7},{"v":0,"d":"€ 0.00"},{"v":0,"d":"€ 0.00"}]
[null,7740,{"$nulls":7},{"v":0,"d":"€ 0.00"},{"v":0,"d":"€ 0.00"}]
[null,7741,{"$nulls":7},{"v":0,"d":"€ 0.00"},{"v":0,"d":"€ 0.00"}]
[null,7742,{"$nulls":7},{"v":0,"d":"€ 0.00"},{"v":0,"d":"€ 0.00"}]
[null,7743,{"$nulls":7},{"v":0,"d":"€ 0.00"},{"v":0,"d":"€ 0.00"}]
[null,7744,{"$nulls":7},{"v":0,"d":"€ 0.00"},{"v":0,"d":"€ 0.00"}]
[null,7745,{"$nulls":7},{"v":0,"d":"€ 0.00"},{"v":0,"d":"€ 0.00"}]
[null,7746,{"$nulls":7},{"v":0,"d":"€ 0.00"},{"v":0,"d":"€ 0.00"}]
[null,7747,{"$nulls":7},{"v":0,"d":"€ 0.00"},{"v":0,"d":"€ 0.00"}]
[null,7748,{"$nulls":7},{"v":0,"d":"€ 0.00"},{"v":0,"d":"€ 0.00"}]
[null,7749,{"$nulls":7},{"v":0,"d":"€ 0.00"},{"v":0,"d":"€ 0.00"}]
[null,7750,{"$nulls":7},{"v":0,"d":"€ 0.00"},{"v":0,"d":"€ 0.00"}]
[null,7751,{"$nulls":7},{"v":0,"d":"€ 0.00"},{"v":0,"d":"€ 0.00"}]
[null,7752,{"$nulls":7},{"v":0,"d":"€ 0.00"},{"v":0,"d":"€ 0.00"}]
[null,7753,{"$nulls":7},{"v":0,"d":"€ 0.00"},{"v":0,"d":"€ 0.00"}]
[null,7754,{"$nulls":7},{"v":0,"d":"€ 0.00"},{"v":0,"d":"€ 0.00"}]
[null,7755,{"$nulls":7},{"v":0,"d":"€ 0.00"},{"v":0,"d":"€ 0.00"}]
[null,7756,{"$nulls":7},{"v":0,"d":"€ 0.00"},{"v":0,"d":"€ 0.00"}]
[null,7757,{"$nulls":7},{"v":0,"d":"€ 0.00"},{"v":0,"d":"€ 0.00"}]
[null,7758,{"$nulls":7},{"v":0,"d":"€ 0.00"},{"v":0,"d":"€ 0.00"}]
[null,7759,{"$nulls":7},{"v":0,"d":"€ 0.00"},{"v":0,"d":"€ 0.00"}]
[null,7760,{"$nulls":7},{"v":0,"d":"€ 0.00"},{"v":0,"d":"€ 0.00"}]
[null,7761,{"$nulls":7},{"v":0,"d":"€ 0.00"},{"v":0,"d":"€ 0.00"}]
[null,7762,{"$nulls":7},{"v":0,"d":"€ 0.00"},{"v":0,"d":"€ 0.00"}]
[null,7763,{"$nulls":7},{"$f":"IF(OR(ISBLANK(H7770)=TRUE,ISBLANK(I7770)=TRUE),,ROUND(H7770*I7770,2))","v":{"v":0,"d":"€ 0.00"}},{"$f":"G7770+J7770","v":{"v":0,"d":"€ 0.00"}}]
[null,7764,{"$nulls":7},{"v":0,"d":"€ 0.00"},{"v":0,"d":"€ 0.00"}]
[null,7765,{"$nulls":7},{"v":0,"d":"€ 0.00"},{"v":0,"d":"€ 0.00"}]
[null,7766,{"$nulls":7},{"v":0,"d":"€ 0.00"},{"v":0,"d":"€ 0.00"}]
[null,7767,{"$nulls":7},{"v":0,"d":"€ 0.00"},{"v":0,"d":"€ 0.00"}]
[null,7768,{"$nulls":7},{"v":0,"d":"€ 0.00"},{"v":0,"d":"€ 0.00"}]
[null,7769,{"$nulls":7},{"v":0,"d":"€ 0.00"},{"v":0,"d":"€ 0.00"}]
[null,7770,{"$nulls":7},{"v":0,"d":"€ 0.00"},{"v":0,"d":"€ 0.00"}]
[null,7771,{"$nulls":7},{"v":0,"d":"€ 0.00"},{"v":0,"d":"€ 0.00"}]
[null,7772,{"$nulls":7},{"v":0,"d":"€ 0.00"},{"v":0,"d":"€ 0.00"}]
[null,7773,{"$nulls":7},{"v":0,"d":"€ 0.00"},{"v":0,"d":"€ 0.00"}]
[null,7774,{"$nulls":7},{"v":0,"d":"€ 0.00"},{"v":0,"d":"€ 0.00"}]
[null,7775,{"$nulls":7},{"v":0,"d":"€ 0.00"},{"v":0,"d":"€ 0.00"}]
[null,7776,{"$nulls":7},{"v":0,"d":"€ 0.00"},{"v":0,"d":"€ 0.00"}]
[null,7777,{"$nulls":7},{"v":0,"d":"€ 0.00"},{"v":0,"d":"€ 0.00"}]
[null,7778,{"$nulls":7},{"v":0,"d":"€ 0.00"},{"v":0,"d":"€ 0.00"}]
[null,7779,{"$nulls":7},{"v":0,"d":"€ 0.00"},{"v":0,"d":"€ 0.00"}]
[null,7780,{"$nulls":7},{"v":0,"d":"€ 0.00"},{"v":0,"d":"€ 0.00"}]
[null,7781,{"$nulls":7},{"v":0,"d":"€ 0.00"},{"v":0,"d":"€ 0.00"}]
[null,7782,{"$nulls":7},{"v":0,"d":"€ 0.00"},{"v":0,"d":"€ 0.00"}]
[null,7783,{"$nulls":7},{"v":0,"d":"€ 0.00"},{"v":0,"d":"€ 0.00"}]
[null,7784,{"$nulls":7},{"v":0,"d":"€ 0.00"},{"v":0,"d":"€ 0.00"}]
[null,7785,{"$nulls":7},{"v":0,"d":"€ 0.00"},{"v":0,"d":"€ 0.00"}]
[null,7786,{"$nulls":7},{"v":0,"d":"€ 0.00"},{"v":0,"d":"€ 0.00"}]
[null,7787,{"$nulls":7},{"v":0,"d":"€ 0.00"},{"v":0,"d":"€ 0.00"}]
[null,7788,{"$nulls":7},{"v":0,"d":"€ 0.00"},{"v":0,"d":"€ 0.00"}]
[null,7789,{"$nulls":7},{"v":0,"d":"€ 0.00"},{"v":0,"d":"€ 0.00"}]
[null,7790,{"$nulls":7},{"v":0,"d":"€ 0.00"},{"v":0,"d":"€ 0.00"}]
[null,7791,{"$nulls":7},{"v":0,"d":"€ 0.00"},{"v":0,"d":"€ 0.00"}]
[null,7792,{"$nulls":7},{"v":0,"d":"€ 0.00"},{"v":0,"d":"€ 0.00"}]
[null,7793,{"$nulls":7},{"v":0,"d":"€ 0.00"},{"v":0,"d":"€ 0.00"}]
[null,7794,{"$nulls":7},{"v":0,"d":"€ 0.00"},{"v":0,"d":"€ 0.00"}]
[null,7795,{"$nulls":7},{"v":0,"d":"€ 0.00"},{"v":0,"d":"€ 0.00"}]
[null,7796,{"$nulls":7},{"v":0,"d":"€ 0.00"},{"v":0,"d":"€ 0.00"}]
[null,7797,{"$nulls":7},{"v":0,"d":"€ 0.00"},{"v":0,"d":"€ 0.00"}]
[null,7798,{"$nulls":7},{"v":0,"d":"€ 0.00"},{"v":0,"d":"€ 0.00"}]
[null,7799,{"$nulls":7},{"v":0,"d":"€ 0.00"},{"v":0,"d":"€ 0.00"}]
[null,7800,{"$nulls":7},{"v":0,"d":"€ 0.00"},{"v":0,"d":"€ 0.00"}]
[null,7801,{"$nulls":7},{"v":0,"d":"€ 0.00"},{"v":0,"d":"€ 0.00"}]
[null,7802,{"$nulls":7},{"v":0,"d":"€ 0.00"},{"v":0,"d":"€ 0.00"}]
[null,7803,{"$nulls":7},{"v":0,"d":"€ 0.00"},{"v":0,"d":"€ 0.00"}]
[null,7804,{"$nulls":7},{"v":0,"d":"€ 0.00"},{"v":0,"d":"€ 0.00"}]
[null,7805,{"$nulls":7},{"v":0,"d":"€ 0.00"},{"v":0,"d":"€ 0.00"}]
[null,7806,{"$nulls":7},{"v":0,"d":"€ 0.00"},{"v":0,"d":"€ 0.00"}]
[null,7807,{"$nulls":7},{"v":0,"d":"€ 0.00"},{"v":0,"d":"€ 0.00"}]
[null,7808,{"$nulls":7},{"v":0,"d":"€ 0.00"},{"v":0,"d":"€ 0.00"}]
[null,7809,{"$nulls":7},{"v":0,"d":"€ 0.00"},{"v":0,"d":"€ 0.00"}]
[null,7810,{"$nulls":7},{"v":0,"d":"€ 0.00"},{"v":0,"d":"€ 0.00"}]
[null,7811,{"$nulls":7},{"v":0,"d":"€ 0.00"},{"v":0,"d":"€ 0.00"}]
[null,7812,{"$nulls":7},{"v":0,"d":"€ 0.00"},{"v":0,"d":"€ 0.00"}]
[null,7813,{"$nulls":7},{"v":0,"d":"€ 0.00"},{"v":0,"d":"€ 0.00"}]
[null,7814,{"$nulls":7},{"v":0,"d":"€ 0.00"},{"v":0,"d":"€ 0.00"}]
[null,7815,{"$nulls":7},{"v":0,"d":"€ 0.00"},{"v":0,"d":"€ 0.00"}]
[null,7816,{"$nulls":7},{"v":0,"d":"€ 0.00"},{"v":0,"d":"€ 0.00"}]
[null,7817,{"$nulls":7},{"v":0,"d":"€ 0.00"},{"v":0,"d":"€ 0.00"}]
[null,7818,{"$nulls":7},{"v":0,"d":"€ 0.00"},{"v":0,"d":"€ 0.00"}]
[null,7819,{"$nulls":7},{"v":0,"d":"€ 0.00"},{"v":0,"d":"€ 0.00"}]
[null,7820,{"$nulls":7},{"v":0,"d":"€ 0.00"},{"v":0,"d":"€ 0.00"}]
[null,7821,{"$nulls":7},{"v":0,"d":"€ 0.00"},{"v":0,"d":"€ 0.00"}]
[null,7822,{"$nulls":7},{"v":0,"d":"€ 0.00"},{"v":0,"d":"€ 0.00"}]
[null,7823,{"$nulls":7},{"v":0,"d":"€ 0.00"},{"v":0,"d":"€ 0.00"}]
[null,7824,{"$nulls":7},{"v":0,"d":"€ 0.00"},{"v":0,"d":"€ 0.00"}]
[null,7825,{"$nulls":7},{"v":0,"d":"€ 0.00"},{"v":0,"d":"€ 0.00"}]
[null,7826,{"$nulls":7},{"v":0,"d":"€ 0.00"},{"v":0,"d":"€ 0.00"}]
[null,7827,{"$nulls":7},{"$f":"IF(OR(ISBLANK(H7834)=TRUE,ISBLANK(I7834)=TRUE),,ROUND(H7834*I7834,2))","v":{"v":0,"d":"€ 0.00"}},{"$f":"G7834+J7834","v":{"v":0,"d":"€ 0.00"}}]
[null,7828,{"$nulls":7},{"v":0,"d":"€ 0.00"},{"v":0,"d":"€ 0.00"}]
[null,7829,{"$nulls":7},{"v":0,"d":"€ 0.00"},{"v":0,"d":"€ 0.00"}]
[null,7830,{"$nulls":7},{"v":0,"d":"€ 0.00"},{"v":0,"d":"€ 0.00"}]
[null,7831,{"$nulls":7},{"v":0,"d":"€ 0.00"},{"v":0,"d":"€ 0.00"}]
[null,7832,{"$nulls":7},{"v":0,"d":"€ 0.00"},{"v":0,"d":"€ 0.00"}]
[null,7833,{"$nulls":7},{"v":0,"d":"€ 0.00"},{"v":0,"d":"€ 0.00"}]
[null,7834,{"$nulls":7},{"v":0,"d":"€ 0.00"},{"v":0,"d":"€ 0.00"}]
[null,7835,{"$nulls":7},{"v":0,"d":"€ 0.00"},{"v":0,"d":"€ 0.00"}]
[null,7836,{"$nulls":7},{"v":0,"d":"€ 0.00"},{"v":0,"d":"€ 0.00"}]
[null,7837,{"$nulls":7},{"v":0,"d":"€ 0.00"},{"v":0,"d":"€ 0.00"}]
[null,7838,{"$nulls":7},{"v":0,"d":"€ 0.00"},{"v":0,"d":"€ 0.00"}]
[null,7839,{"$nulls":7},{"v":0,"d":"€ 0.00"},{"v":0,"d":"€ 0.00"}]
[null,7840,{"$nulls":7},{"v":0,"d":"€ 0.00"},{"v":0,"d":"€ 0.00"}]
[null,7841,{"$nulls":7},{"v":0,"d":"€ 0.00"},{"v":0,"d":"€ 0.00"}]
[null,7842,{"$nulls":7},{"v":0,"d":"€ 0.00"},{"v":0,"d":"€ 0.00"}]
[null,7843,{"$nulls":7},{"v":0,"d":"€ 0.00"},{"v":0,"d":"€ 0.00"}]
[null,7844,{"$nulls":7},{"v":0,"d":"€ 0.00"},{"v":0,"d":"€ 0.00"}]
[null,7845,{"$nulls":7},{"v":0,"d":"€ 0.00"},{"v":0,"d":"€ 0.00"}]
[null,7846,{"$nulls":7},{"v":0,"d":"€ 0.00"},{"v":0,"d":"€ 0.00"}]
[null,7847,{"$nulls":7},{"v":0,"d":"€ 0.00"},{"v":0,"d":"€ 0.00"}]
[null,7848,{"$nulls":7},{"v":0,"d":"€ 0.00"},{"v":0,"d":"€ 0.00"}]
[null,7849,{"$nulls":7},{"v":0,"d":"€ 0.00"},{"v":0,"d":"€ 0.00"}]
[null,7850,{"$nulls":7},{"v":0,"d":"€ 0.00"},{"v":0,"d":"€ 0.00"}]
[null,7851,{"$nulls":7},{"v":0,"d":"€ 0.00"},{"v":0,"d":"€ 0.00"}]
[null,7852,{"$nulls":7},{"v":0,"d":"€ 0.00"},{"v":0,"d":"€ 0.00"}]
[null,7853,{"$nulls":7},{"v":0,"d":"€ 0.00"},{"v":0,"d":"€ 0.00"}]
[null,7854,{"$nulls":7},{"v":0,"d":"€ 0.00"},{"v":0,"d":"€ 0.00"}]
[null,7855,{"$nulls":7},{"v":0,"d":"€ 0.00"},{"v":0,"d":"€ 0.00"}]
[null,7856,{"$nulls":7},{"v":0,"d":"€ 0.00"},{"v":0,"d":"€ 0.00"}]
[null,7857,{"$nulls":7},{"v":0,"d":"€ 0.00"},{"v":0,"d":"€ 0.00"}]
[null,7858,{"$nulls":7},{"v":0,"d":"€ 0.00"},{"v":0,"d":"€ 0.00"}]
[null,7859,{"$nulls":7},{"v":0,"d":"€ 0.00"},{"v":0,"d":"€ 0.00"}]
[null,7860,{"$nulls":7},{"v":0,"d":"€ 0.00"},{"v":0,"d":"€ 0.00"}]
[null,7861,{"$nulls":7},{"v":0,"d":"€ 0.00"},{"v":0,"d":"€ 0.00"}]
[null,7862,{"$nulls":7},{"v":0,"d":"€ 0.00"},{"v":0,"d":"€ 0.00"}]
[null,7863,{"$nulls":7},{"v":0,"d":"€ 0.00"},{"v":0,"d":"€ 0.00"}]
[null,7864,{"$nulls":7},{"v":0,"d":"€ 0.00"},{"v":0,"d":"€ 0.00"}]
[null,7865,{"$nulls":7},{"v":0,"d":"€ 0.00"},{"v":0,"d":"€ 0.00"}]
[null,7866,{"$nulls":7},{"v":0,"d":"€ 0.00"},{"v":0,"d":"€ 0.00"}]
[null,7867,{"$nulls":7},{"v":0,"d":"€ 0.00"},{"v":0,"d":"€ 0.00"}]
[null,7868,{"$nulls":7},{"v":0,"d":"€ 0.00"},{"v":0,"d":"€ 0.00"}]
[null,7869,{"$nulls":7},{"v":0,"d":"€ 0.00"},{"v":0,"d":"€ 0.00"}]
[null,7870,{"$nulls":7},{"v":0,"d":"€ 0.00"},{"v":0,"d":"€ 0.00"}]
[null,7871,{"$nulls":7},{"v":0,"d":"€ 0.00"},{"v":0,"d":"€ 0.00"}]
[null,7872,{"$nulls":7},{"v":0,"d":"€ 0.00"},{"v":0,"d":"€ 0.00"}]
[null,7873,{"$nulls":7},{"v":0,"d":"€ 0.00"},{"v":0,"d":"€ 0.00"}]
[null,7874,{"$nulls":7},{"v":0,"d":"€ 0.00"},{"v":0,"d":"€ 0.00"}]
[null,7875,{"$nulls":7},{"v":0,"d":"€ 0.00"},{"v":0,"d":"€ 0.00"}]
[null,7876,{"$nulls":7},{"v":0,"d":"€ 0.00"},{"v":0,"d":"€ 0.00"}]
[null,7877,{"$nulls":7},{"v":0,"d":"€ 0.00"},{"v":0,"d":"€ 0.00"}]
[null,7878,{"$nulls":7},{"v":0,"d":"€ 0.00"},{"v":0,"d":"€ 0.00"}]
[null,7879,{"$nulls":7},{"v":0,"d":"€ 0.00"},{"v":0,"d":"€ 0.00"}]
[null,7880,{"$nulls":7},{"v":0,"d":"€ 0.00"},{"v":0,"d":"€ 0.00"}]
[null,7881,{"$nulls":7},{"v":0,"d":"€ 0.00"},{"v":0,"d":"€ 0.00"}]
[null,7882,{"$nulls":7},{"v":0,"d":"€ 0.00"},{"v":0,"d":"€ 0.00"}]
[null,7883,{"$nulls":7},{"v":0,"d":"€ 0.00"},{"v":0,"d":"€ 0.00"}]
[null,7884,{"$nulls":7},{"v":0,"d":"€ 0.00"},{"v":0,"d":"€ 0.00"}]
[null,7885,{"$nulls":7},{"v":0,"d":"€ 0.00"},{"v":0,"d":"€ 0.00"}]
[null,7886,{"$nulls":7},{"v":0,"d":"€ 0.00"},{"v":0,"d":"€ 0.00"}]
[null,7887,{"$nulls":7},{"v":0,"d":"€ 0.00"},{"v":0,"d":"€ 0.00"}]
[null,7888,{"$nulls":7},{"v":0,"d":"€ 0.00"},{"v":0,"d":"€ 0.00"}]
[null,7889,{"$nulls":7},{"v":0,"d":"€ 0.00"},{"v":0,"d":"€ 0.00"}]
[null,7890,{"$nulls":7},{"v":0,"d":"€ 0.00"},{"v":0,"d":"€ 0.00"}]
[null,7891,{"$nulls":7},{"$f":"IF(OR(ISBLANK(H7898)=TRUE,ISBLANK(I7898)=TRUE),,ROUND(H7898*I7898,2))","v":{"v":0,"d":"€ 0.00"}},{"$f":"G7898+J7898","v":{"v":0,"d":"€ 0.00"}}]
[null,7892,{"$nulls":7},{"v":0,"d":"€ 0.00"},{"v":0,"d":"€ 0.00"}]
[null,7893,{"$nulls":7},{"v":0,"d":"€ 0.00"},{"v":0,"d":"€ 0.00"}]
[null,7894,{"$nulls":7},{"v":0,"d":"€ 0.00"},{"v":0,"d":"€ 0.00"}]
[null,7895,{"$nulls":7},{"v":0,"d":"€ 0.00"},{"v":0,"d":"€ 0.00"}]
[null,7896,{"$nulls":7},{"v":0,"d":"€ 0.00"},{"v":0,"d":"€ 0.00"}]
[null,7897,{"$nulls":7},{"v":0,"d":"€ 0.00"},{"v":0,"d":"€ 0.00"}]
[null,7898,{"$nulls":7},{"v":0,"d":"€ 0.00"},{"v":0,"d":"€ 0.00"}]
[null,7899,{"$nulls":7},{"v":0,"d":"€ 0.00"},{"v":0,"d":"€ 0.00"}]
[null,7900,{"$nulls":7},{"v":0,"d":"€ 0.00"},{"v":0,"d":"€ 0.00"}]
[null,7901,{"$nulls":7},{"v":0,"d":"€ 0.00"},{"v":0,"d":"€ 0.00"}]
[null,7902,{"$nulls":7},{"v":0,"d":"€ 0.00"},{"v":0,"d":"€ 0.00"}]
[null,7903,{"$nulls":7},{"v":0,"d":"€ 0.00"},{"v":0,"d":"€ 0.00"}]
[null,7904,{"$nulls":7},{"v":0,"d":"€ 0.00"},{"v":0,"d":"€ 0.00"}]
[null,7905,{"$nulls":7},{"v":0,"d":"€ 0.00"},{"v":0,"d":"€ 0.00"}]
[null,7906,{"$nulls":7},{"v":0,"d":"€ 0.00"},{"v":0,"d":"€ 0.00"}]
[null,7907,{"$nulls":7},{"v":0,"d":"€ 0.00"},{"v":0,"d":"€ 0.00"}]
[null,7908,{"$nulls":7},{"v":0,"d":"€ 0.00"},{"v":0,"d":"€ 0.00"}]
[null,7909,{"$nulls":7},{"v":0,"d":"€ 0.00"},{"v":0,"d":"€ 0.00"}]
[null,7910,{"$nulls":7},{"v":0,"d":"€ 0.00"},{"v":0,"d":"€ 0.00"}]
[null,7911,{"$nulls":7},{"v":0,"d":"€ 0.00"},{"v":0,"d":"€ 0.00"}]
[null,7912,{"$nulls":7},{"v":0,"d":"€ 0.00"},{"v":0,"d":"€ 0.00"}]
[null,7913,{"$nulls":7},{"v":0,"d":"€ 0.00"},{"v":0,"d":"€ 0.00"}]
[null,7914,{"$nulls":7},{"v":0,"d":"€ 0.00"},{"v":0,"d":"€ 0.00"}]
[null,7915,{"$nulls":7},{"v":0,"d":"€ 0.00"},{"v":0,"d":"€ 0.00"}]
[null,7916,{"$nulls":7},{"v":0,"d":"€ 0.00"},{"v":0,"d":"€ 0.00"}]
[null,7917,{"$nulls":7},{"v":0,"d":"€ 0.00"},{"v":0,"d":"€ 0.00"}]
[null,7918,{"$nulls":7},{"v":0,"d":"€ 0.00"},{"v":0,"d":"€ 0.00"}]
[null,7919,{"$nulls":7},{"v":0,"d":"€ 0.00"},{"v":0,"d":"€ 0.00"}]
[null,7920,{"$nulls":7},{"v":0,"d":"€ 0.00"},{"v":0,"d":"€ 0.00"}]
[null,7921,{"$nulls":7},{"v":0,"d":"€ 0.00"},{"v":0,"d":"€ 0.00"}]
[null,7922,{"$nulls":7},{"v":0,"d":"€ 0.00"},{"v":0,"d":"€ 0.00"}]
[null,7923,{"$nulls":7},{"v":0,"d":"€ 0.00"},{"v":0,"d":"€ 0.00"}]
[null,7924,{"$nulls":7},{"v":0,"d":"€ 0.00"},{"v":0,"d":"€ 0.00"}]
[null,7925,{"$nulls":7},{"v":0,"d":"€ 0.00"},{"v":0,"d":"€ 0.00"}]
[null,7926,{"$nulls":7},{"v":0,"d":"€ 0.00"},{"v":0,"d":"€ 0.00"}]
[null,7927,{"$nulls":7},{"v":0,"d":"€ 0.00"},{"v":0,"d":"€ 0.00"}]
[null,7928,{"$nulls":7},{"v":0,"d":"€ 0.00"},{"v":0,"d":"€ 0.00"}]
[null,7929,{"$nulls":7},{"v":0,"d":"€ 0.00"},{"v":0,"d":"€ 0.00"}]
[null,7930,{"$nulls":7},{"v":0,"d":"€ 0.00"},{"v":0,"d":"€ 0.00"}]
[null,7931,{"$nulls":7},{"v":0,"d":"€ 0.00"},{"v":0,"d":"€ 0.00"}]
[null,7932,{"$nulls":7},{"v":0,"d":"€ 0.00"},{"v":0,"d":"€ 0.00"}]
[null,7933,{"$nulls":7},{"v":0,"d":"€ 0.00"},{"v":0,"d":"€ 0.00"}]
[null,7934,{"$nulls":7},{"v":0,"d":"€ 0.00"},{"v":0,"d":"€ 0.00"}]
[null,7935,{"$nulls":7},{"v":0,"d":"€ 0.00"},{"v":0,"d":"€ 0.00"}]
[null,7936,{"$nulls":7},{"v":0,"d":"€ 0.00"},{"v":0,"d":"€ 0.00"}]
[null,7937,{"$nulls":7},{"v":0,"d":"€ 0.00"},{"v":0,"d":"€ 0.00"}]
[null,7938,{"$nulls":7},{"v":0,"d":"€ 0.00"},{"v":0,"d":"€ 0.00"}]
[null,7939,{"$nulls":7},{"v":0,"d":"€ 0.00"},{"v":0,"d":"€ 0.00"}]
[null,7940,{"$nulls":7},{"v":0,"d":"€ 0.00"},{"v":0,"d":"€ 0.00"}]
[null,7941,{"$nulls":7},{"v":0,"d":"€ 0.00"},{"v":0,"d":"€ 0.00"}]
[null,7942,{"$nulls":7},{"v":0,"d":"€ 0.00"},{"v":0,"d":"€ 0.00"}]
[null,7943,{"$nulls":7},{"v":0,"d":"€ 0.00"},{"v":0,"d":"€ 0.00"}]
[null,7944,{"$nulls":7},{"v":0,"d":"€ 0.00"},{"v":0,"d":"€ 0.00"}]
[null,7945,{"$nulls":7},{"v":0,"d":"€ 0.00"},{"v":0,"d":"€ 0.00"}]
[null,7946,{"$nulls":7},{"v":0,"d":"€ 0.00"},{"v":0,"d":"€ 0.00"}]
[null,7947,{"$nulls":7},{"v":0,"d":"€ 0.00"},{"v":0,"d":"€ 0.00"}]
[null,7948,{"$nulls":7},{"v":0,"d":"€ 0.00"},{"v":0,"d":"€ 0.00"}]
[null,7949,{"$nulls":7},{"v":0,"d":"€ 0.00"},{"v":0,"d":"€ 0.00"}]
[null,7950,{"$nulls":7},{"v":0,"d":"€ 0.00"},{"v":0,"d":"€ 0.00"}]
[null,7951,{"$nulls":7},{"v":0,"d":"€ 0.00"},{"v":0,"d":"€ 0.00"}]
[null,7952,{"$nulls":7},{"v":0,"d":"€ 0.00"},{"v":0,"d":"€ 0.00"}]
[null,7953,{"$nulls":7},{"v":0,"d":"€ 0.00"},{"v":0,"d":"€ 0.00"}]
[null,7954,{"$nulls":7},{"v":0,"d":"€ 0.00"},{"v":0,"d":"€ 0.00"}]
[null,7955,{"$nulls":7},{"$f":"IF(OR(ISBLANK(H7962)=TRUE,ISBLANK(I7962)=TRUE),,ROUND(H7962*I7962,2))","v":{"v":0,"d":"€ 0.00"}},{"$f":"G7962+J7962","v":{"v":0,"d":"€ 0.00"}}]
[null,7956,{"$nulls":7},{"v":0,"d":"€ 0.00"},{"v":0,"d":"€ 0.00"}]
[null,7957,{"$nulls":7},{"v":0,"d":"€ 0.00"},{"v":0,"d":"€ 0.00"}]
[null,7958,{"$nulls":7},{"v":0,"d":"€ 0.00"},{"v":0,"d":"€ 0.00"}]
[null,7959,{"$nulls":7},{"v":0,"d":"€ 0.00"},{"v":0,"d":"€ 0.00"}]
[null,7960,{"$nulls":7},{"v":0,"d":"€ 0.00"},{"v":0,"d":"€ 0.00"}]
[null,7961,{"$nulls":7},{"v":0,"d":"€ 0.00"},{"v":0,"d":"€ 0.00"}]
[null,7962,{"$nulls":7},{"v":0,"d":"€ 0.00"},{"v":0,"d":"€ 0.00"}]
[null,7963,{"$nulls":7},{"v":0,"d":"€ 0.00"},{"v":0,"d":"€ 0.00"}]
[null,7964,{"$nulls":7},{"v":0,"d":"€ 0.00"},{"v":0,"d":"€ 0.00"}]
[null,7965,{"$nulls":7},{"v":0,"d":"€ 0.00"},{"v":0,"d":"€ 0.00"}]
[null,7966,{"$nulls":7},{"v":0,"d":"€ 0.00"},{"v":0,"d":"€ 0.00"}]
[null,7967,{"$nulls":7},{"v":0,"d":"€ 0.00"},{"v":0,"d":"€ 0.00"}]
[null,7968,{"$nulls":7},{"v":0,"d":"€ 0.00"},{"v":0,"d":"€ 0.00"}]
[null,7969,{"$nulls":7},{"v":0,"d":"€ 0.00"},{"v":0,"d":"€ 0.00"}]
[null,7970,{"$nulls":7},{"v":0,"d":"€ 0.00"},{"v":0,"d":"€ 0.00"}]
[null,7971,{"$nulls":7},{"v":0,"d":"€ 0.00"},{"v":0,"d":"€ 0.00"}]
[null,7972,{"$nulls":7},{"v":0,"d":"€ 0.00"},{"v":0,"d":"€ 0.00"}]
[null,7973,{"$nulls":7},{"v":0,"d":"€ 0.00"},{"v":0,"d":"€ 0.00"}]
[null,7974,{"$nulls":7},{"v":0,"d":"€ 0.00"},{"v":0,"d":"€ 0.00"}]
[null,7975,{"$nulls":7},{"v":0,"d":"€ 0.00"},{"v":0,"d":"€ 0.00"}]
[null,7976,{"$nulls":7},{"v":0,"d":"€ 0.00"},{"v":0,"d":"€ 0.00"}]
[null,7977,{"$nulls":7},{"v":0,"d":"€ 0.00"},{"v":0,"d":"€ 0.00"}]
[null,7978,{"$nulls":7},{"v":0,"d":"€ 0.00"},{"v":0,"d":"€ 0.00"}]
[null,7979,{"$nulls":7},{"v":0,"d":"€ 0.00"},{"v":0,"d":"€ 0.00"}]
[null,7980,{"$nulls":7},{"v":0,"d":"€ 0.00"},{"v":0,"d":"€ 0.00"}]
[null,7981,{"$nulls":7},{"v":0,"d":"€ 0.00"},{"v":0,"d":"€ 0.00"}]
[null,7982,{"$nulls":7},{"v":0,"d":"€ 0.00"},{"v":0,"d":"€ 0.00"}]
[null,7983,{"$nulls":7},{"v":0,"d":"€ 0.00"},{"v":0,"d":"€ 0.00"}]
[null,7984,{"$nulls":7},{"v":0,"d":"€ 0.00"},{"v":0,"d":"€ 0.00"}]
[null,7985,{"$nulls":7},{"v":0,"d":"€ 0.00"},{"v":0,"d":"€ 0.00"}]
[null,7986,{"$nulls":7},{"v":0,"d":"€ 0.00"},{"v":0,"d":"€ 0.00"}]
[null,7987,{"$nulls":7},{"v":0,"d":"€ 0.00"},{"v":0,"d":"€ 0.00"}]
[null,7988,{"$nulls":7},{"v":0,"d":"€ 0.00"},{"v":0,"d":"€ 0.00"}]
[null,7989,{"$nulls":7},{"v":0,"d":"€ 0.00"},{"v":0,"d":"€ 0.00"}]
[null,7990,{"$nulls":7},{"v":0,"d":"€ 0.00"},{"v":0,"d":"€ 0.00"}]
[null,7991,{"$nulls":7},{"v":0,"d":"€ 0.00"},{"v":0,"d":"€ 0.00"}]
[null,7992,{"$nulls":7},{"v":0,"d":"€ 0.00"},{"v":0,"d":"€ 0.00"}]
[null,7993,{"$nulls":7},{"v":0,"d":"€ 0.00"},{"v":0,"d":"€ 0.00"}]
[null,7994,{"$nulls":7},{"v":0,"d":"€ 0.00"},{"v":0,"d":"€ 0.00"}]
[null,7995,{"$nulls":7},{"v":0,"d":"€ 0.00"},{"v":0,"d":"€ 0.00"}]
[null,7996,{"$nulls":7},{"v":0,"d":"€ 0.00"},{"v":0,"d":"€ 0.00"}]
[null,7997,{"$nulls":7},{"v":0,"d":"€ 0.00"},{"v":0,"d":"€ 0.00"}]
[null,7998,{"$nulls":7},{"v":0,"d":"€ 0.00"},{"v":0,"d":"€ 0.00"}]
[null,7999,{"$nulls":7},{"v":0,"d":"€ 0.00"},{"v":0,"d":"€ 0.00"}]
[null,8000,{"$nulls":7},{"v":0,"d":"€ 0.00"},{"v":0,"d":"€ 0.00"}]
[null,8001,{"$nulls":7},{"v":0,"d":"€ 0.00"},{"v":0,"d":"€ 0.00"}]
[null,8002,{"$nulls":7},{"v":0,"d":"€ 0.00"},{"v":0,"d":"€ 0.00"}]
[null,8003,{"$nulls":7},{"v":0,"d":"€ 0.00"},{"v":0,"d":"€ 0.00"}]
[null,8004,{"$nulls":7},{"v":0,"d":"€ 0.00"},{"v":0,"d":"€ 0.00"}]
[null,8005,{"$nulls":7},{"v":0,"d":"€ 0.00"},{"v":0,"d":"€ 0.00"}]
[null,8006,{"$nulls":7},{"v":0,"d":"€ 0.00"},{"v":0,"d":"€ 0.00"}]
[null,8007,{"$nulls":7},{"v":0,"d":"€ 0.00"},{"v":0,"d":"€ 0.00"}]
[null,8008,{"$nulls":7},{"v":0,"d":"€ 0.00"},{"v":0,"d":"€ 0.00"}]
[null,8009,{"$nulls":7},{"v":0,"d":"€ 0.00"},{"v":0,"d":"€ 0.00"}]
[null,8010,{"$nulls":7},{"v":0,"d":"€ 0.00"},{"v":0,"d":"€ 0.00"}]
[null,8011,{"$nulls":7},{"v":0,"d":"€ 0.00"},{"v":0,"d":"€ 0.00"}]
[null,8012,{"$nulls":7},{"v":0,"d":"€ 0.00"},{"v":0,"d":"€ 0.00"}]
[null,8013,{"$nulls":7},{"v":0,"d":"€ 0.00"},{"v":0,"d":"€ 0.00"}]
[null,8014,{"$nulls":7},{"v":0,"d":"€ 0.00"},{"v":0,"d":"€ 0.00"}]
[null,8015,{"$nulls":7},{"v":0,"d":"€ 0.00"},{"v":0,"d":"€ 0.00"}]
[null,8016,{"$nulls":7},{"v":0,"d":"€ 0.00"},{"v":0,"d":"€ 0.00"}]
[null,8017,{"$nulls":7},{"v":0,"d":"€ 0.00"},{"v":0,"d":"€ 0.00"}]
[null,8018,{"$nulls":7},{"v":0,"d":"€ 0.00"},{"v":0,"d":"€ 0.00"}]
[null,8019,{"$nulls":7},{"$f":"IF(OR(ISBLANK(H8026)=TRUE,ISBLANK(I8026)=TRUE),,ROUND(H8026*I8026,2))","v":{"v":0,"d":"€ 0.00"}},{"$f":"G8026+J8026","v":{"v":0,"d":"€ 0.00"}}]
[null,8020,{"$nulls":7},{"v":0,"d":"€ 0.00"},{"v":0,"d":"€ 0.00"}]
[null,8021,{"$nulls":7},{"v":0,"d":"€ 0.00"},{"v":0,"d":"€ 0.00"}]
[null,8022,{"$nulls":7},{"v":0,"d":"€ 0.00"},{"v":0,"d":"€ 0.00"}]
[null,8023,{"$nulls":7},{"v":0,"d":"€ 0.00"},{"v":0,"d":"€ 0.00"}]
[null,8024,{"$nulls":7},{"v":0,"d":"€ 0.00"},{"v":0,"d":"€ 0.00"}]
[null,8025,{"$nulls":7},{"v":0,"d":"€ 0.00"},{"v":0,"d":"€ 0.00"}]
[null,8026,{"$nulls":7},{"v":0,"d":"€ 0.00"},{"v":0,"d":"€ 0.00"}]
[null,8027,{"$nulls":7},{"v":0,"d":"€ 0.00"},{"v":0,"d":"€ 0.00"}]
[null,8028,{"$nulls":7},{"v":0,"d":"€ 0.00"},{"v":0,"d":"€ 0.00"}]
[null,8029,{"$nulls":7},{"v":0,"d":"€ 0.00"},{"v":0,"d":"€ 0.00"}]
[null,8030,{"$nulls":7},{"v":0,"d":"€ 0.00"},{"v":0,"d":"€ 0.00"}]
[null,8031,{"$nulls":7},{"v":0,"d":"€ 0.00"},{"v":0,"d":"€ 0.00"}]
[null,8032,{"$nulls":7},{"v":0,"d":"€ 0.00"},{"v":0,"d":"€ 0.00"}]
[null,8033,{"$nulls":7},{"v":0,"d":"€ 0.00"},{"v":0,"d":"€ 0.00"}]
[null,8034,{"$nulls":7},{"v":0,"d":"€ 0.00"},{"v":0,"d":"€ 0.00"}]
[null,8035,{"$nulls":7},{"v":0,"d":"€ 0.00"},{"v":0,"d":"€ 0.00"}]
[null,8036,{"$nulls":7},{"v":0,"d":"€ 0.00"},{"v":0,"d":"€ 0.00"}]
[null,8037,{"$nulls":7},{"v":0,"d":"€ 0.00"},{"v":0,"d":"€ 0.00"}]
[null,8038,{"$nulls":7},{"v":0,"d":"€ 0.00"},{"v":0,"d":"€ 0.00"}]
[null,8039,{"$nulls":7},{"v":0,"d":"€ 0.00"},{"v":0,"d":"€ 0.00"}]
[null,8040,{"$nulls":7},{"v":0,"d":"€ 0.00"},{"v":0,"d":"€ 0.00"}]
[null,8041,{"$nulls":7},{"v":0,"d":"€ 0.00"},{"v":0,"d":"€ 0.00"}]
[null,8042,{"$nulls":7},{"v":0,"d":"€ 0.00"},{"v":0,"d":"€ 0.00"}]
[null,8043,{"$nulls":7},{"v":0,"d":"€ 0.00"},{"v":0,"d":"€ 0.00"}]
[null,8044,{"$nulls":7},{"v":0,"d":"€ 0.00"},{"v":0,"d":"€ 0.00"}]
[null,8045,{"$nulls":7},{"v":0,"d":"€ 0.00"},{"v":0,"d":"€ 0.00"}]
[null,8046,{"$nulls":7},{"v":0,"d":"€ 0.00"},{"v":0,"d":"€ 0.00"}]
[null,8047,{"$nulls":7},{"v":0,"d":"€ 0.00"},{"v":0,"d":"€ 0.00"}]
[null,8048,{"$nulls":7},{"v":0,"d":"€ 0.00"},{"v":0,"d":"€ 0.00"}]
[null,8049,{"$nulls":7},{"v":0,"d":"€ 0.00"},{"v":0,"d":"€ 0.00"}]
[null,8050,{"$nulls":7},{"v":0,"d":"€ 0.00"},{"v":0,"d":"€ 0.00"}]
[null,8051,{"$nulls":7},{"v":0,"d":"€ 0.00"},{"v":0,"d":"€ 0.00"}]
[null,8052,{"$nulls":7},{"v":0,"d":"€ 0.00"},{"v":0,"d":"€ 0.00"}]
[null,8053,{"$nulls":7},{"v":0,"d":"€ 0.00"},{"v":0,"d":"€ 0.00"}]
[null,8054,{"$nulls":7},{"v":0,"d":"€ 0.00"},{"v":0,"d":"€ 0.00"}]
[null,8055,{"$nulls":7},{"v":0,"d":"€ 0.00"},{"v":0,"d":"€ 0.00"}]
[null,8056,{"$nulls":7},{"v":0,"d":"€ 0.00"},{"v":0,"d":"€ 0.00"}]
[null,8057,{"$nulls":7},{"v":0,"d":"€ 0.00"},{"v":0,"d":"€ 0.00"}]
[null,8058,{"$nulls":7},{"v":0,"d":"€ 0.00"},{"v":0,"d":"€ 0.00"}]
[null,8059,{"$nulls":7},{"v":0,"d":"€ 0.00"},{"v":0,"d":"€ 0.00"}]
[null,8060,{"$nulls":7},{"v":0,"d":"€ 0.00"},{"v":0,"d":"€ 0.00"}]
[null,8061,{"$nulls":7},{"v":0,"d":"€ 0.00"},{"v":0,"d":"€ 0.00"}]
[null,8062,{"$nulls":7},{"v":0,"d":"€ 0.00"},{"v":0,"d":"€ 0.00"}]
[null,8063,{"$nulls":7},{"v":0,"d":"€ 0.00"},{"v":0,"d":"€ 0.00"}]
[null,8064,{"$nulls":7},{"v":0,"d":"€ 0.00"},{"v":0,"d":"€ 0.00"}]
[null,8065,{"$nulls":7},{"v":0,"d":"€ 0.00"},{"v":0,"d":"€ 0.00"}]
[null,8066,{"$nulls":7},{"v":0,"d":"€ 0.00"},{"v":0,"d":"€ 0.00"}]
[null,8067,{"$nulls":7},{"v":0,"d":"€ 0.00"},{"v":0,"d":"€ 0.00"}]
[null,8068,{"$nulls":7},{"v":0,"d":"€ 0.00"},{"v":0,"d":"€ 0.00"}]
[null,8069,{"$nulls":7},{"v":0,"d":"€ 0.00"},{"v":0,"d":"€ 0.00"}]
[null,8070,{"$nulls":7},{"v":0,"d":"€ 0.00"},{"v":0,"d":"€ 0.00"}]
[null,8071,{"$nulls":7},{"v":0,"d":"€ 0.00"},{"v":0,"d":"€ 0.00"}]
[null,8072,{"$nulls":7},{"v":0,"d":"€ 0.00"},{"v":0,"d":"€ 0.00"}]
[null,8073,{"$nulls":7},{"v":0,"d":"€ 0.00"},{"v":0,"d":"€ 0.00"}]
[null,8074,{"$nulls":7},{"v":0,"d":"€ 0.00"},{"v":0,"d":"€ 0.00"}]
[null,8075,{"$nulls":7},{"v":0,"d":"€ 0.00"},{"v":0,"d":"€ 0.00"}]
[null,8076,{"$nulls":7},{"v":0,"d":"€ 0.00"},{"v":0,"d":"€ 0.00"}]
[null,8077,{"$nulls":7},{"v":0,"d":"€ 0.00"},{"v":0,"d":"€ 0.00"}]
[null,8078,{"$nulls":7},{"v":0,"d":"€ 0.00"},{"v":0,"d":"€ 0.00"}]
[null,8079,{"$nulls":7},{"v":0,"d":"€ 0.00"},{"v":0,"d":"€ 0.00"}]
[null,8080,{"$nulls":7},{"v":0,"d":"€ 0.00"},{"v":0,"d":"€ 0.00"}]
[null,8081,{"$nulls":7},{"v":0,"d":"€ 0.00"},{"v":0,"d":"€ 0.00"}]
[null,8082,{"$nulls":7},{"v":0,"d":"€ 0.00"},{"v":0,"d":"€ 0.00"}]
[null,8083,{"$nulls":7},{"$f":"IF(OR(ISBLANK(H8090)=TRUE,ISBLANK(I8090)=TRUE),,ROUND(H8090*I8090,2))","v":{"v":0,"d":"€ 0.00"}},{"$f":"G8090+J8090","v":{"v":0,"d":"€ 0.00"}}]
[null,8084,{"$nulls":7},{"v":0,"d":"€ 0.00"},{"v":0,"d":"€ 0.00"}]
[null,8085,{"$nulls":7},{"v":0,"d":"€ 0.00"},{"v":0,"d":"€ 0.00"}]
[null,8086,{"$nulls":7},{"v":0,"d":"€ 0.00"},{"v":0,"d":"€ 0.00"}]
[null,8087,{"$nulls":7},{"v":0,"d":"€ 0.00"},{"v":0,"d":"€ 0.00"}]
[null,8088,{"$nulls":7},{"v":0,"d":"€ 0.00"},{"v":0,"d":"€ 0.00"}]
[null,8089,{"$nulls":7},{"v":0,"d":"€ 0.00"},{"v":0,"d":"€ 0.00"}]
[null,8090,{"$nulls":7},{"v":0,"d":"€ 0.00"},{"v":0,"d":"€ 0.00"}]
[null,8091,{"$nulls":7},{"v":0,"d":"€ 0.00"},{"v":0,"d":"€ 0.00"}]
[null,8092,{"$nulls":7},{"v":0,"d":"€ 0.00"},{"v":0,"d":"€ 0.00"}]
[null,8093,{"$nulls":7},{"v":0,"d":"€ 0.00"},{"v":0,"d":"€ 0.00"}]
[null,8094,{"$nulls":7},{"v":0,"d":"€ 0.00"},{"v":0,"d":"€ 0.00"}]
[null,8095,{"$nulls":7},{"v":0,"d":"€ 0.00"},{"v":0,"d":"€ 0.00"}]
[null,8096,{"$nulls":7},{"v":0,"d":"€ 0.00"},{"v":0,"d":"€ 0.00"}]
[null,8097,{"$nulls":7},{"v":0,"d":"€ 0.00"},{"v":0,"d":"€ 0.00"}]
[null,8098,{"$nulls":7},{"v":0,"d":"€ 0.00"},{"v":0,"d":"€ 0.00"}]
[null,8099,{"$nulls":7},{"v":0,"d":"€ 0.00"},{"v":0,"d":"€ 0.00"}]
[null,8100,{"$nulls":7},{"v":0,"d":"€ 0.00"},{"v":0,"d":"€ 0.00"}]
[null,8101,{"$nulls":7},{"v":0,"d":"€ 0.00"},{"v":0,"d":"€ 0.00"}]
[null,8102,{"$nulls":7},{"v":0,"d":"€ 0.00"},{"v":0,"d":"€ 0.00"}]
[null,8103,{"$nulls":7},{"v":0,"d":"€ 0.00"},{"v":0,"d":"€ 0.00"}]
[null,8104,{"$nulls":7},{"v":0,"d":"€ 0.00"},{"v":0,"d":"€ 0.00"}]
[null,8105,{"$nulls":7},{"v":0,"d":"€ 0.00"},{"v":0,"d":"€ 0.00"}]
[null,8106,{"$nulls":7},{"v":0,"d":"€ 0.00"},{"v":0,"d":"€ 0.00"}]
[null,8107,{"$nulls":7},{"v":0,"d":"€ 0.00"},{"v":0,"d":"€ 0.00"}]
[null,8108,{"$nulls":7},{"v":0,"d":"€ 0.00"},{"v":0,"d":"€ 0.00"}]
[null,8109,{"$nulls":7},{"v":0,"d":"€ 0.00"},{"v":0,"d":"€ 0.00"}]
[null,8110,{"$nulls":7},{"v":0,"d":"€ 0.00"},{"v":0,"d":"€ 0.00"}]
[null,8111,{"$nulls":7},{"v":0,"d":"€ 0.00"},{"v":0,"d":"€ 0.00"}]
[null,8112,{"$nulls":7},{"v":0,"d":"€ 0.00"},{"v":0,"d":"€ 0.00"}]
[null,8113,{"$nulls":7},{"v":0,"d":"€ 0.00"},{"v":0,"d":"€ 0.00"}]
[null,8114,{"$nulls":7},{"v":0,"d":"€ 0.00"},{"v":0,"d":"€ 0.00"}]
[null,8115,{"$nulls":7},{"v":0,"d":"€ 0.00"},{"v":0,"d":"€ 0.00"}]
[null,8116,{"$nulls":7},{"v":0,"d":"€ 0.00"},{"v":0,"d":"€ 0.00"}]
[null,8117,{"$nulls":7},{"v":0,"d":"€ 0.00"},{"v":0,"d":"€ 0.00"}]
[null,8118,{"$nulls":7},{"v":0,"d":"€ 0.00"},{"v":0,"d":"€ 0.00"}]
[null,8119,{"$nulls":7},{"v":0,"d":"€ 0.00"},{"v":0,"d":"€ 0.00"}]
[null,8120,{"$nulls":7},{"v":0,"d":"€ 0.00"},{"v":0,"d":"€ 0.00"}]
[null,8121,{"$nulls":7},{"v":0,"d":"€ 0.00"},{"v":0,"d":"€ 0.00"}]
[null,8122,{"$nulls":7},{"v":0,"d":"€ 0.00"},{"v":0,"d":"€ 0.00"}]
[null,8123,{"$nulls":7},{"v":0,"d":"€ 0.00"},{"v":0,"d":"€ 0.00"}]
[null,8124,{"$nulls":7},{"v":0,"d":"€ 0.00"},{"v":0,"d":"€ 0.00"}]
[null,8125,{"$nulls":7},{"v":0,"d":"€ 0.00"},{"v":0,"d":"€ 0.00"}]
[null,8126,{"$nulls":7},{"v":0,"d":"€ 0.00"},{"v":0,"d":"€ 0.00"}]
[null,8127,{"$nulls":7},{"v":0,"d":"€ 0.00"},{"v":0,"d":"€ 0.00"}]
[null,8128,{"$nulls":7},{"v":0,"d":"€ 0.00"},{"v":0,"d":"€ 0.00"}]
[null,8129,{"$nulls":7},{"v":0,"d":"€ 0.00"},{"v":0,"d":"€ 0.00"}]
[null,8130,{"$nulls":7},{"v":0,"d":"€ 0.00"},{"v":0,"d":"€ 0.00"}]
[null,8131,{"$nulls":7},{"v":0,"d":"€ 0.00"},{"v":0,"d":"€ 0.00"}]
[null,8132,{"$nulls":7},{"v":0,"d":"€ 0.00"},{"v":0,"d":"€ 0.00"}]
[null,8133,{"$nulls":7},{"v":0,"d":"€ 0.00"},{"v":0,"d":"€ 0.00"}]
[null,8134,{"$nulls":7},{"v":0,"d":"€ 0.00"},{"v":0,"d":"€ 0.00"}]
[null,8135,{"$nulls":7},{"v":0,"d":"€ 0.00"},{"v":0,"d":"€ 0.00"}]
[null,8136,{"$nulls":7},{"v":0,"d":"€ 0.00"},{"v":0,"d":"€ 0.00"}]
[null,8137,{"$nulls":7},{"v":0,"d":"€ 0.00"},{"v":0,"d":"€ 0.00"}]
[null,8138,{"$nulls":7},{"v":0,"d":"€ 0.00"},{"v":0,"d":"€ 0.00"}]
[null,8139,{"$nulls":7},{"v":0,"d":"€ 0.00"},{"v":0,"d":"€ 0.00"}]
[null,8140,{"$nulls":7},{"v":0,"d":"€ 0.00"},{"v":0,"d":"€ 0.00"}]
[null,8141,{"$nulls":7},{"v":0,"d":"€ 0.00"},{"v":0,"d":"€ 0.00"}]
[null,8142,{"$nulls":7},{"v":0,"d":"€ 0.00"},{"v":0,"d":"€ 0.00"}]
[null,8143,{"$nulls":7},{"v":0,"d":"€ 0.00"},{"v":0,"d":"€ 0.00"}]
[null,8144,{"$nulls":7},{"v":0,"d":"€ 0.00"},{"v":0,"d":"€ 0.00"}]
[null,8145,{"$nulls":7},{"v":0,"d":"€ 0.00"},{"v":0,"d":"€ 0.00"}]
[null,8146,{"$nulls":7},{"v":0,"d":"€ 0.00"},{"v":0,"d":"€ 0.00"}]
[null,8147,{"$nulls":7},{"$f":"IF(OR(ISBLANK(H8154)=TRUE,ISBLANK(I8154)=TRUE),,ROUND(H8154*I8154,2))","v":{"v":0,"d":"€ 0.00"}},{"$f":"G8154+J8154","v":{"v":0,"d":"€ 0.00"}}]
[null,8148,{"$nulls":7},{"v":0,"d":"€ 0.00"},{"v":0,"d":"€ 0.00"}]
[null,8149,{"$nulls":7},{"v":0,"d":"€ 0.00"},{"v":0,"d":"€ 0.00"}]
[null,8150,{"$nulls":7},{"v":0,"d":"€ 0.00"},{"v":0,"d":"€ 0.00"}]
[null,8151,{"$nulls":7},{"v":0,"d":"€ 0.00"},{"v":0,"d":"€ 0.00"}]
[null,8152,{"$nulls":7},{"v":0,"d":"€ 0.00"},{"v":0,"d":"€ 0.00"}]
[null,8153,{"$nulls":7},{"v":0,"d":"€ 0.00"},{"v":0,"d":"€ 0.00"}]
[null,8154,{"$nulls":7},{"v":0,"d":"€ 0.00"},{"v":0,"d":"€ 0.00"}]
[null,8155,{"$nulls":7},{"v":0,"d":"€ 0.00"},{"v":0,"d":"€ 0.00"}]
[null,8156,{"$nulls":7},{"v":0,"d":"€ 0.00"},{"v":0,"d":"€ 0.00"}]
[null,8157,{"$nulls":7},{"v":0,"d":"€ 0.00"},{"v":0,"d":"€ 0.00"}]
[null,8158,{"$nulls":7},{"v":0,"d":"€ 0.00"},{"v":0,"d":"€ 0.00"}]
[null,8159,{"$nulls":7},{"v":0,"d":"€ 0.00"},{"v":0,"d":"€ 0.00"}]
[null,8160,{"$nulls":7},{"v":0,"d":"€ 0.00"},{"v":0,"d":"€ 0.00"}]
[null,8161,{"$nulls":7},{"v":0,"d":"€ 0.00"},{"v":0,"d":"€ 0.00"}]
[null,8162,{"$nulls":7},{"v":0,"d":"€ 0.00"},{"v":0,"d":"€ 0.00"}]
[null,8163,{"$nulls":7},{"v":0,"d":"€ 0.00"},{"v":0,"d":"€ 0.00"}]
[null,8164,{"$nulls":7},{"v":0,"d":"€ 0.00"},{"v":0,"d":"€ 0.00"}]
[null,8165,{"$nulls":7},{"v":0,"d":"€ 0.00"},{"v":0,"d":"€ 0.00"}]
[null,8166,{"$nulls":7},{"v":0,"d":"€ 0.00"},{"v":0,"d":"€ 0.00"}]
[null,8167,{"$nulls":7},{"v":0,"d":"€ 0.00"},{"v":0,"d":"€ 0.00"}]
[null,8168,{"$nulls":7},{"v":0,"d":"€ 0.00"},{"v":0,"d":"€ 0.00"}]
[null,8169,{"$nulls":7},{"v":0,"d":"€ 0.00"},{"v":0,"d":"€ 0.00"}]
[null,8170,{"$nulls":7},{"v":0,"d":"€ 0.00"},{"v":0,"d":"€ 0.00"}]
[null,8171,{"$nulls":7},{"v":0,"d":"€ 0.00"},{"v":0,"d":"€ 0.00"}]
[null,8172,{"$nulls":7},{"v":0,"d":"€ 0.00"},{"v":0,"d":"€ 0.00"}]
[null,8173,{"$nulls":7},{"v":0,"d":"€ 0.00"},{"v":0,"d":"€ 0.00"}]
[null,8174,{"$nulls":7},{"v":0,"d":"€ 0.00"},{"v":0,"d":"€ 0.00"}]
[null,8175,{"$nulls":7},{"v":0,"d":"€ 0.00"},{"v":0,"d":"€ 0.00"}]
[null,8176,{"$nulls":7},{"v":0,"d":"€ 0.00"},{"v":0,"d":"€ 0.00"}]
[null,8177,{"$nulls":7},{"v":0,"d":"€ 0.00"},{"v":0,"d":"€ 0.00"}]
[null,8178,{"$nulls":7},{"v":0,"d":"€ 0.00"},{"v":0,"d":"€ 0.00"}]
[null,8179,{"$nulls":7},{"v":0,"d":"€ 0.00"},{"v":0,"d":"€ 0.00"}]
[null,8180,{"$nulls":7},{"v":0,"d":"€ 0.00"},{"v":0,"d":"€ 0.00"}]
[null,8181,{"$nulls":7},{"v":0,"d":"€ 0.00"},{"v":0,"d":"€ 0.00"}]
[null,8182,{"$nulls":7},{"v":0,"d":"€ 0.00"},{"v":0,"d":"€ 0.00"}]
[null,8183,{"$nulls":7},{"v":0,"d":"€ 0.00"},{"v":0,"d":"€ 0.00"}]
[null,8184,{"$nulls":7},{"v":0,"d":"€ 0.00"},{"v":0,"d":"€ 0.00"}]
[null,8185,{"$nulls":7},{"v":0,"d":"€ 0.00"},{"v":0,"d":"€ 0.00"}]
[null,8186,{"$nulls":7},{"v":0,"d":"€ 0.00"},{"v":0,"d":"€ 0.00"}]
[null,8187,{"$nulls":7},{"v":0,"d":"€ 0.00"},{"v":0,"d":"€ 0.00"}]
[null,8188,{"$nulls":7},{"v":0,"d":"€ 0.00"},{"v":0,"d":"€ 0.00"}]
[null,8189,{"$nulls":7},{"v":0,"d":"€ 0.00"},{"v":0,"d":"€ 0.00"}]
[null,8190,{"$nulls":7},{"v":0,"d":"€ 0.00"},{"v":0,"d":"€ 0.00"}]
[null,8191,{"$nulls":7},{"v":0,"d":"€ 0.00"},{"v":0,"d":"€ 0.00"}]
[null,8192,{"$nulls":7},{"v":0,"d":"€ 0.00"},{"v":0,"d":"€ 0.00"}]
[null,8193,{"$nulls":7},{"v":0,"d":"€ 0.00"},{"v":0,"d":"€ 0.00"}]
[null,8194,{"$nulls":7},{"v":0,"d":"€ 0.00"},{"v":0,"d":"€ 0.00"}]
[null,8195,{"$nulls":7},{"v":0,"d":"€ 0.00"},{"v":0,"d":"€ 0.00"}]
[null,8196,{"$nulls":7},{"v":0,"d":"€ 0.00"},{"v":0,"d":"€ 0.00"}]
[null,8197,{"$nulls":7},{"v":0,"d":"€ 0.00"},{"v":0,"d":"€ 0.00"}]
[null,8198,{"$nulls":7},{"v":0,"d":"€ 0.00"},{"v":0,"d":"€ 0.00"}]
[null,8199,{"$nulls":7},{"v":0,"d":"€ 0.00"},{"v":0,"d":"€ 0.00"}]
[null,8200,{"$nulls":7},{"v":0,"d":"€ 0.00"},{"v":0,"d":"€ 0.00"}]
[null,8201,{"$nulls":7},{"v":0,"d":"€ 0.00"},{"v":0,"d":"€ 0.00"}]
[null,8202,{"$nulls":7},{"v":0,"d":"€ 0.00"},{"v":0,"d":"€ 0.00"}]
[null,8203,{"$nulls":7},{"v":0,"d":"€ 0.00"},{"v":0,"d":"€ 0.00"}]
[null,8204,{"$nulls":7},{"v":0,"d":"€ 0.00"},{"v":0,"d":"€ 0.00"}]
[null,8205,{"$nulls":7},{"v":0,"d":"€ 0.00"},{"v":0,"d":"€ 0.00"}]
[null,8206,{"$nulls":7},{"v":0,"d":"€ 0.00"},{"v":0,"d":"€ 0.00"}]
[null,8207,{"$nulls":7},{"v":0,"d":"€ 0.00"},{"v":0,"d":"€ 0.00"}]
[null,8208,{"$nulls":7},{"v":0,"d":"€ 0.00"},{"v":0,"d":"€ 0.00"}]
[null,8209,{"$nulls":7},{"v":0,"d":"€ 0.00"},{"v":0,"d":"€ 0.00"}]
[null,8210,{"$nulls":7},{"v":0,"d":"€ 0.00"},{"v":0,"d":"€ 0.00"}]
[null,8211,{"$nulls":7},{"$f":"IF(OR(ISBLANK(H8218)=TRUE,ISBLANK(I8218)=TRUE),,ROUND(H8218*I8218,2))","v":{"v":0,"d":"€ 0.00"}},{"$f":"G8218+J8218","v":{"v":0,"d":"€ 0.00"}}]
[null,8212,{"$nulls":7},{"v":0,"d":"€ 0.00"},{"v":0,"d":"€ 0.00"}]
[null,8213,{"$nulls":7},{"v":0,"d":"€ 0.00"},{"v":0,"d":"€ 0.00"}]
[null,8214,{"$nulls":7},{"v":0,"d":"€ 0.00"},{"v":0,"d":"€ 0.00"}]
[null,8215,{"$nulls":7},{"v":0,"d":"€ 0.00"},{"v":0,"d":"€ 0.00"}]
[null,8216,{"$nulls":7},{"v":0,"d":"€ 0.00"},{"v":0,"d":"€ 0.00"}]
[null,8217,{"$nulls":7},{"v":0,"d":"€ 0.00"},{"v":0,"d":"€ 0.00"}]
[null,8218,{"$nulls":7},{"v":0,"d":"€ 0.00"},{"v":0,"d":"€ 0.00"}]
[null,8219,{"$nulls":7},{"v":0,"d":"€ 0.00"},{"v":0,"d":"€ 0.00"}]
[null,8220,{"$nulls":7},{"v":0,"d":"€ 0.00"},{"v":0,"d":"€ 0.00"}]
[null,8221,{"$nulls":7},{"v":0,"d":"€ 0.00"},{"v":0,"d":"€ 0.00"}]
[null,8222,{"$nulls":7},{"v":0,"d":"€ 0.00"},{"v":0,"d":"€ 0.00"}]
[null,8223,{"$nulls":7},{"v":0,"d":"€ 0.00"},{"v":0,"d":"€ 0.00"}]
[null,8224,{"$nulls":7},{"v":0,"d":"€ 0.00"},{"v":0,"d":"€ 0.00"}]
[null,8225,{"$nulls":7},{"v":0,"d":"€ 0.00"},{"v":0,"d":"€ 0.00"}]
[null,8226,{"$nulls":7},{"v":0,"d":"€ 0.00"},{"v":0,"d":"€ 0.00"}]
[null,8227,{"$nulls":7},{"v":0,"d":"€ 0.00"},{"v":0,"d":"€ 0.00"}]
[null,8228,{"$nulls":7},{"v":0,"d":"€ 0.00"},{"v":0,"d":"€ 0.00"}]
[null,8229,{"$nulls":7},{"v":0,"d":"€ 0.00"},{"v":0,"d":"€ 0.00"}]
[null,8230,{"$nulls":7},{"v":0,"d":"€ 0.00"},{"v":0,"d":"€ 0.00"}]
[null,8231,{"$nulls":7},{"v":0,"d":"€ 0.00"},{"v":0,"d":"€ 0.00"}]
[null,8232,{"$nulls":7},{"v":0,"d":"€ 0.00"},{"v":0,"d":"€ 0.00"}]
[null,8233,{"$nulls":7},{"v":0,"d":"€ 0.00"},{"v":0,"d":"€ 0.00"}]
[null,8234,{"$nulls":7},{"v":0,"d":"€ 0.00"},{"v":0,"d":"€ 0.00"}]
[null,8235,{"$nulls":7},{"v":0,"d":"€ 0.00"},{"v":0,"d":"€ 0.00"}]
[null,8236,{"$nulls":7},{"v":0,"d":"€ 0.00"},{"v":0,"d":"€ 0.00"}]
[null,8237,{"$nulls":7},{"v":0,"d":"€ 0.00"},{"v":0,"d":"€ 0.00"}]
[null,8238,{"$nulls":7},{"v":0,"d":"€ 0.00"},{"v":0,"d":"€ 0.00"}]
[null,8239,{"$nulls":7},{"v":0,"d":"€ 0.00"},{"v":0,"d":"€ 0.00"}]
[null,8240,{"$nulls":7},{"v":0,"d":"€ 0.00"},{"v":0,"d":"€ 0.00"}]
[null,8241,{"$nulls":7},{"v":0,"d":"€ 0.00"},{"v":0,"d":"€ 0.00"}]
[null,8242,{"$nulls":7},{"v":0,"d":"€ 0.00"},{"v":0,"d":"€ 0.00"}]
[null,8243,{"$nulls":7},{"v":0,"d":"€ 0.00"},{"v":0,"d":"€ 0.00"}]
[null,8244,{"$nulls":7},{"v":0,"d":"€ 0.00"},{"v":0,"d":"€ 0.00"}]
[null,8245,{"$nulls":7},{"v":0,"d":"€ 0.00"},{"v":0,"d":"€ 0.00"}]
[null,8246,{"$nulls":7},{"v":0,"d":"€ 0.00"},{"v":0,"d":"€ 0.00"}]
[null,8247,{"$nulls":7},{"v":0,"d":"€ 0.00"},{"v":0,"d":"€ 0.00"}]
[null,8248,{"$nulls":7},{"v":0,"d":"€ 0.00"},{"v":0,"d":"€ 0.00"}]
[null,8249,{"$nulls":7},{"v":0,"d":"€ 0.00"},{"v":0,"d":"€ 0.00"}]
[null,8250,{"$nulls":7},{"v":0,"d":"€ 0.00"},{"v":0,"d":"€ 0.00"}]
[null,8251,{"$nulls":7},{"v":0,"d":"€ 0.00"},{"v":0,"d":"€ 0.00"}]
[null,8252,{"$nulls":7},{"v":0,"d":"€ 0.00"},{"v":0,"d":"€ 0.00"}]
[null,8253,{"$nulls":7},{"v":0,"d":"€ 0.00"},{"v":0,"d":"€ 0.00"}]
[null,8254,{"$nulls":7},{"v":0,"d":"€ 0.00"},{"v":0,"d":"€ 0.00"}]
[null,8255,{"$nulls":7},{"v":0,"d":"€ 0.00"},{"v":0,"d":"€ 0.00"}]
[null,8256,{"$nulls":7},{"v":0,"d":"€ 0.00"},{"v":0,"d":"€ 0.00"}]
[null,8257,{"$nulls":7},{"v":0,"d":"€ 0.00"},{"v":0,"d":"€ 0.00"}]
[null,8258,{"$nulls":7},{"v":0,"d":"€ 0.00"},{"v":0,"d":"€ 0.00"}]
[null,8259,{"$nulls":7},{"v":0,"d":"€ 0.00"},{"v":0,"d":"€ 0.00"}]
[null,8260,{"$nulls":7},{"v":0,"d":"€ 0.00"},{"v":0,"d":"€ 0.00"}]
[null,8261,{"$nulls":7},{"v":0,"d":"€ 0.00"},{"v":0,"d":"€ 0.00"}]
[null,8262,{"$nulls":7},{"v":0,"d":"€ 0.00"},{"v":0,"d":"€ 0.00"}]
[null,8263,{"$nulls":7},{"v":0,"d":"€ 0.00"},{"v":0,"d":"€ 0.00"}]
[null,8264,{"$nulls":7},{"v":0,"d":"€ 0.00"},{"v":0,"d":"€ 0.00"}]
[null,8265,{"$nulls":7},{"v":0,"d":"€ 0.00"},{"v":0,"d":"€ 0.00"}]
[null,8266,{"$nulls":7},{"v":0,"d":"€ 0.00"},{"v":0,"d":"€ 0.00"}]
[null,8267,{"$nulls":7},{"v":0,"d":"€ 0.00"},{"v":0,"d":"€ 0.00"}]
[null,8268,{"$nulls":7},{"v":0,"d":"€ 0.00"},{"v":0,"d":"€ 0.00"}]
[null,8269,{"$nulls":7},{"v":0,"d":"€ 0.00"},{"v":0,"d":"€ 0.00"}]
[null,8270,{"$nulls":7},{"v":0,"d":"€ 0.00"},{"v":0,"d":"€ 0.00"}]
[null,8271,{"$nulls":7},{"v":0,"d":"€ 0.00"},{"v":0,"d":"€ 0.00"}]
[null,8272,{"$nulls":7},{"v":0,"d":"€ 0.00"},{"v":0,"d":"€ 0.00"}]
[null,8273,{"$nulls":7},{"v":0,"d":"€ 0.00"},{"v":0,"d":"€ 0.00"}]
[null,8274,{"$nulls":7},{"v":0,"d":"€ 0.00"},{"v":0,"d":"€ 0.00"}]
[null,8275,{"$nulls":7},{"$f":"IF(OR(ISBLANK(H8282)=TRUE,ISBLANK(I8282)=TRUE),,ROUND(H8282*I8282,2))","v":{"v":0,"d":"€ 0.00"}},{"$f":"G8282+J8282","v":{"v":0,"d":"€ 0.00"}}]
[null,8276,{"$nulls":7},{"v":0,"d":"€ 0.00"},{"v":0,"d":"€ 0.00"}]
[null,8277,{"$nulls":7},{"v":0,"d":"€ 0.00"},{"v":0,"d":"€ 0.00"}]
[null,8278,{"$nulls":7},{"v":0,"d":"€ 0.00"},{"v":0,"d":"€ 0.00"}]
[null,8279,{"$nulls":7},{"v":0,"d":"€ 0.00"},{"v":0,"d":"€ 0.00"}]
[null,8280,{"$nulls":7},{"v":0,"d":"€ 0.00"},{"v":0,"d":"€ 0.00"}]
[null,8281,{"$nulls":7},{"v":0,"d":"€ 0.00"},{"v":0,"d":"€ 0.00"}]
[null,8282,{"$nulls":7},{"v":0,"d":"€ 0.00"},{"v":0,"d":"€ 0.00"}]
[null,8283,{"$nulls":7},{"v":0,"d":"€ 0.00"},{"v":0,"d":"€ 0.00"}]
[null,8284,{"$nulls":7},{"v":0,"d":"€ 0.00"},{"v":0,"d":"€ 0.00"}]
[null,8285,{"$nulls":7},{"v":0,"d":"€ 0.00"},{"v":0,"d":"€ 0.00"}]
[null,8286,{"$nulls":7},{"v":0,"d":"€ 0.00"},{"v":0,"d":"€ 0.00"}]
[null,8287,{"$nulls":7},{"v":0,"d":"€ 0.00"},{"v":0,"d":"€ 0.00"}]
[null,8288,{"$nulls":7},{"v":0,"d":"€ 0.00"},{"v":0,"d":"€ 0.00"}]
[null,8289,{"$nulls":7},{"v":0,"d":"€ 0.00"},{"v":0,"d":"€ 0.00"}]
[null,8290,{"$nulls":7},{"v":0,"d":"€ 0.00"},{"v":0,"d":"€ 0.00"}]
[null,8291,{"$nulls":7},{"v":0,"d":"€ 0.00"},{"v":0,"d":"€ 0.00"}]
[null,8292,{"$nulls":7},{"v":0,"d":"€ 0.00"},{"v":0,"d":"€ 0.00"}]
[null,8293,{"$nulls":7},{"v":0,"d":"€ 0.00"},{"v":0,"d":"€ 0.00"}]
[null,8294,{"$nulls":7},{"v":0,"d":"€ 0.00"},{"v":0,"d":"€ 0.00"}]
[null,8295,{"$nulls":7},{"v":0,"d":"€ 0.00"},{"v":0,"d":"€ 0.00"}]
[null,8296,{"$nulls":7},{"v":0,"d":"€ 0.00"},{"v":0,"d":"€ 0.00"}]
[null,8297,{"$nulls":7},{"v":0,"d":"€ 0.00"},{"v":0,"d":"€ 0.00"}]
[null,8298,{"$nulls":7},{"v":0,"d":"€ 0.00"},{"v":0,"d":"€ 0.00"}]
[null,8299,{"$nulls":7},{"v":0,"d":"€ 0.00"},{"v":0,"d":"€ 0.00"}]
[null,8300,{"$nulls":7},{"v":0,"d":"€ 0.00"},{"v":0,"d":"€ 0.00"}]
[null,8301,{"$nulls":7},{"v":0,"d":"€ 0.00"},{"v":0,"d":"€ 0.00"}]
[null,8302,{"$nulls":7},{"v":0,"d":"€ 0.00"},{"v":0,"d":"€ 0.00"}]
[null,8303,{"$nulls":7},{"v":0,"d":"€ 0.00"},{"v":0,"d":"€ 0.00"}]
[null,8304,{"$nulls":7},{"v":0,"d":"€ 0.00"},{"v":0,"d":"€ 0.00"}]
[null,8305,{"$nulls":7},{"v":0,"d":"€ 0.00"},{"v":0,"d":"€ 0.00"}]
[null,8306,{"$nulls":7},{"v":0,"d":"€ 0.00"},{"v":0,"d":"€ 0.00"}]
[null,8307,{"$nulls":7},{"v":0,"d":"€ 0.00"},{"v":0,"d":"€ 0.00"}]
[null,8308,{"$nulls":7},{"v":0,"d":"€ 0.00"},{"v":0,"d":"€ 0.00"}]
[null,8309,{"$nulls":7},{"v":0,"d":"€ 0.00"},{"v":0,"d":"€ 0.00"}]
[null,8310,{"$nulls":7},{"v":0,"d":"€ 0.00"},{"v":0,"d":"€ 0.00"}]
[null,8311,{"$nulls":7},{"v":0,"d":"€ 0.00"},{"v":0,"d":"€ 0.00"}]
[null,8312,{"$nulls":7},{"v":0,"d":"€ 0.00"},{"v":0,"d":"€ 0.00"}]
[null,8313,{"$nulls":7},{"v":0,"d":"€ 0.00"},{"v":0,"d":"€ 0.00"}]
[null,8314,{"$nulls":7},{"v":0,"d":"€ 0.00"},{"v":0,"d":"€ 0.00"}]
[null,8315,{"$nulls":7},{"v":0,"d":"€ 0.00"},{"v":0,"d":"€ 0.00"}]
[null,8316,{"$nulls":7},{"v":0,"d":"€ 0.00"},{"v":0,"d":"€ 0.00"}]
[null,8317,{"$nulls":7},{"v":0,"d":"€ 0.00"},{"v":0,"d":"€ 0.00"}]
[null,8318,{"$nulls":7},{"v":0,"d":"€ 0.00"},{"v":0,"d":"€ 0.00"}]
[null,8319,{"$nulls":7},{"v":0,"d":"€ 0.00"},{"v":0,"d":"€ 0.00"}]
[null,8320,{"$nulls":7},{"v":0,"d":"€ 0.00"},{"v":0,"d":"€ 0.00"}]
[null,8321,{"$nulls":7},{"v":0,"d":"€ 0.00"},{"v":0,"d":"€ 0.00"}]
[null,8322,{"$nulls":7},{"v":0,"d":"€ 0.00"},{"v":0,"d":"€ 0.00"}]
[null,8323,{"$nulls":7},{"v":0,"d":"€ 0.00"},{"v":0,"d":"€ 0.00"}]
[null,8324,{"$nulls":7},{"v":0,"d":"€ 0.00"},{"v":0,"d":"€ 0.00"}]
[null,8325,{"$nulls":7},{"v":0,"d":"€ 0.00"},{"v":0,"d":"€ 0.00"}]
[null,8326,{"$nulls":7},{"v":0,"d":"€ 0.00"},{"v":0,"d":"€ 0.00"}]
[null,8327,{"$nulls":7},{"v":0,"d":"€ 0.00"},{"v":0,"d":"€ 0.00"}]
[null,8328,{"$nulls":7},{"v":0,"d":"€ 0.00"},{"v":0,"d":"€ 0.00"}]
[null,8329,{"$nulls":7},{"v":0,"d":"€ 0.00"},{"v":0,"d":"€ 0.00"}]
[null,8330,{"$nulls":7},{"v":0,"d":"€ 0.00"},{"v":0,"d":"€ 0.00"}]
[null,8331,{"$nulls":7},{"v":0,"d":"€ 0.00"},{"v":0,"d":"€ 0.00"}]
[null,8332,{"$nulls":7},{"v":0,"d":"€ 0.00"},{"v":0,"d":"€ 0.00"}]
[null,8333,{"$nulls":7},{"v":0,"d":"€ 0.00"},{"v":0,"d":"€ 0.00"}]
[null,8334,{"$nulls":7},{"v":0,"d":"€ 0.00"},{"v":0,"d":"€ 0.00"}]
[null,8335,{"$nulls":7},{"v":0,"d":"€ 0.00"},{"v":0,"d":"€ 0.00"}]
[null,8336,{"$nulls":7},{"v":0,"d":"€ 0.00"},{"v":0,"d":"€ 0.00"}]
[null,8337,{"$nulls":7},{"v":0,"d":"€ 0.00"},{"v":0,"d":"€ 0.00"}]
[null,8338,{"$nulls":7},{"v":0,"d":"€ 0.00"},{"v":0,"d":"€ 0.00"}]
[null,8339,{"$nulls":7},{"$f":"IF(OR(ISBLANK(H8346)=TRUE,ISBLANK(I8346)=TRUE),,ROUND(H8346*I8346,2))","v":{"v":0,"d":"€ 0.00"}},{"$f":"G8346+J8346","v":{"v":0,"d":"€ 0.00"}}]
[null,8340,{"$nulls":7},{"v":0,"d":"€ 0.00"},{"v":0,"d":"€ 0.00"}]
[null,8341,{"$nulls":7},{"v":0,"d":"€ 0.00"},{"v":0,"d":"€ 0.00"}]
[null,8342,{"$nulls":7},{"v":0,"d":"€ 0.00"},{"v":0,"d":"€ 0.00"}]
[null,8343,{"$nulls":7},{"v":0,"d":"€ 0.00"},{"v":0,"d":"€ 0.00"}]
[null,8344,{"$nulls":7},{"v":0,"d":"€ 0.00"},{"v":0,"d":"€ 0.00"}]
[null,8345,{"$nulls":7},{"v":0,"d":"€ 0.00"},{"v":0,"d":"€ 0.00"}]
[null,8346,{"$nulls":7},{"v":0,"d":"€ 0.00"},{"v":0,"d":"€ 0.00"}]
[null,8347,{"$nulls":7},{"v":0,"d":"€ 0.00"},{"v":0,"d":"€ 0.00"}]
[null,8348,{"$nulls":7},{"v":0,"d":"€ 0.00"},{"v":0,"d":"€ 0.00"}]
[null,8349,{"$nulls":7},{"v":0,"d":"€ 0.00"},{"v":0,"d":"€ 0.00"}]
[null,8350,{"$nulls":7},{"v":0,"d":"€ 0.00"},{"v":0,"d":"€ 0.00"}]
[null,8351,{"$nulls":7},{"v":0,"d":"€ 0.00"},{"v":0,"d":"€ 0.00"}]
[null,8352,{"$nulls":7},{"v":0,"d":"€ 0.00"},{"v":0,"d":"€ 0.00"}]
[null,8353,{"$nulls":7},{"v":0,"d":"€ 0.00"},{"v":0,"d":"€ 0.00"}]
[null,8354,{"$nulls":7},{"v":0,"d":"€ 0.00"},{"v":0,"d":"€ 0.00"}]
[null,8355,{"$nulls":7},{"v":0,"d":"€ 0.00"},{"v":0,"d":"€ 0.00"}]
[null,8356,{"$nulls":7},{"v":0,"d":"€ 0.00"},{"v":0,"d":"€ 0.00"}]
[null,8357,{"$nulls":7},{"v":0,"d":"€ 0.00"},{"v":0,"d":"€ 0.00"}]
[null,8358,{"$nulls":7},{"v":0,"d":"€ 0.00"},{"v":0,"d":"€ 0.00"}]
[null,8359,{"$nulls":7},{"v":0,"d":"€ 0.00"},{"v":0,"d":"€ 0.00"}]
[null,8360,{"$nulls":7},{"v":0,"d":"€ 0.00"},{"v":0,"d":"€ 0.00"}]
[null,8361,{"$nulls":7},{"v":0,"d":"€ 0.00"},{"v":0,"d":"€ 0.00"}]
[null,8362,{"$nulls":7},{"v":0,"d":"€ 0.00"},{"v":0,"d":"€ 0.00"}]
[null,8363,{"$nulls":7},{"v":0,"d":"€ 0.00"},{"v":0,"d":"€ 0.00"}]
[null,8364,{"$nulls":7},{"v":0,"d":"€ 0.00"},{"v":0,"d":"€ 0.00"}]
[null,8365,{"$nulls":7},{"v":0,"d":"€ 0.00"},{"v":0,"d":"€ 0.00"}]
[null,8366,{"$nulls":7},{"v":0,"d":"€ 0.00"},{"v":0,"d":"€ 0.00"}]
[null,8367,{"$nulls":7},{"v":0,"d":"€ 0.00"},{"v":0,"d":"€ 0.00"}]
[null,8368,{"$nulls":7},{"v":0,"d":"€ 0.00"},{"v":0,"d":"€ 0.00"}]
[null,8369,{"$nulls":7},{"v":0,"d":"€ 0.00"},{"v":0,"d":"€ 0.00"}]
[null,8370,{"$nulls":7},{"v":0,"d":"€ 0.00"},{"v":0,"d":"€ 0.00"}]
[null,8371,{"$nulls":7},{"v":0,"d":"€ 0.00"},{"v":0,"d":"€ 0.00"}]
[null,8372,{"$nulls":7},{"v":0,"d":"€ 0.00"},{"v":0,"d":"€ 0.00"}]
[null,8373,{"$nulls":7},{"v":0,"d":"€ 0.00"},{"v":0,"d":"€ 0.00"}]
[null,8374,{"$nulls":7},{"v":0,"d":"€ 0.00"},{"v":0,"d":"€ 0.00"}]
[null,8375,{"$nulls":7},{"v":0,"d":"€ 0.00"},{"v":0,"d":"€ 0.00"}]
[null,8376,{"$nulls":7},{"v":0,"d":"€ 0.00"},{"v":0,"d":"€ 0.00"}]
[null,8377,{"$nulls":7},{"v":0,"d":"€ 0.00"},{"v":0,"d":"€ 0.00"}]
[null,8378,{"$nulls":7},{"v":0,"d":"€ 0.00"},{"v":0,"d":"€ 0.00"}]
[null,8379,{"$nulls":7},{"v":0,"d":"€ 0.00"},{"v":0,"d":"€ 0.00"}]
[null,8380,{"$nulls":7},{"v":0,"d":"€ 0.00"},{"v":0,"d":"€ 0.00"}]
[null,8381,{"$nulls":7},{"v":0,"d":"€ 0.00"},{"v":0,"d":"€ 0.00"}]
[null,8382,{"$nulls":7},{"v":0,"d":"€ 0.00"},{"v":0,"d":"€ 0.00"}]
[null,8383,{"$nulls":7},{"v":0,"d":"€ 0.00"},{"v":0,"d":"€ 0.00"}]
[null,8384,{"$nulls":7},{"v":0,"d":"€ 0.00"},{"v":0,"d":"€ 0.00"}]
[null,8385,{"$nulls":7},{"v":0,"d":"€ 0.00"},{"v":0,"d":"€ 0.00"}]
[null,8386,{"$nulls":7},{"v":0,"d":"€ 0.00"},{"v":0,"d":"€ 0.00"}]
[null,8387,{"$nulls":7},{"v":0,"d":"€ 0.00"},{"v":0,"d":"€ 0.00"}]
[null,8388,{"$nulls":7},{"v":0,"d":"€ 0.00"},{"v":0,"d":"€ 0.00"}]
[null,8389,{"$nulls":7},{"v":0,"d":"€ 0.00"},{"v":0,"d":"€ 0.00"}]
[null,8390,{"$nulls":7},{"v":0,"d":"€ 0.00"},{"v":0,"d":"€ 0.00"}]
[null,8391,{"$nulls":7},{"v":0,"d":"€ 0.00"},{"v":0,"d":"€ 0.00"}]
[null,8392,{"$nulls":7},{"v":0,"d":"€ 0.00"},{"v":0,"d":"€ 0.00"}]
[null,8393,{"$nulls":7},{"v":0,"d":"€ 0.00"},{"v":0,"d":"€ 0.00"}]
[null,8394,{"$nulls":7},{"v":0,"d":"€ 0.00"},{"v":0,"d":"€ 0.00"}]
[null,8395,{"$nulls":7},{"v":0,"d":"€ 0.00"},{"v":0,"d":"€ 0.00"}]
[null,8396,{"$nulls":7},{"v":0,"d":"€ 0.00"},{"v":0,"d":"€ 0.00"}]
[null,8397,{"$nulls":7},{"v":0,"d":"€ 0.00"},{"v":0,"d":"€ 0.00"}]
[null,8398,{"$nulls":7},{"v":0,"d":"€ 0.00"},{"v":0,"d":"€ 0.00"}]
[null,8399,{"$nulls":7},{"v":0,"d":"€ 0.00"},{"v":0,"d":"€ 0.00"}]
[null,8400,{"$nulls":7},{"v":0,"d":"€ 0.00"},{"v":0,"d":"€ 0.00"}]
[null,8401,{"$nulls":7},{"v":0,"d":"€ 0.00"},{"v":0,"d":"€ 0.00"}]
[null,8402,{"$nulls":7},{"v":0,"d":"€ 0.00"},{"v":0,"d":"€ 0.00"}]
[null,8403,{"$nulls":7},{"$f":"IF(OR(ISBLANK(H8410)=TRUE,ISBLANK(I8410)=TRUE),,ROUND(H8410*I8410,2))","v":{"v":0,"d":"€ 0.00"}},{"$f":"G8410+J8410","v":{"v":0,"d":"€ 0.00"}}]
[null,8404,{"$nulls":7},{"v":0,"d":"€ 0.00"},{"v":0,"d":"€ 0.00"}]
[null,8405,{"$nulls":7},{"v":0,"d":"€ 0.00"},{"v":0,"d":"€ 0.00"}]
[null,8406,{"$nulls":7},{"v":0,"d":"€ 0.00"},{"v":0,"d":"€ 0.00"}]
[null,8407,{"$nulls":7},{"v":0,"d":"€ 0.00"},{"v":0,"d":"€ 0.00"}]
[null,8408,{"$nulls":7},{"v":0,"d":"€ 0.00"},{"v":0,"d":"€ 0.00"}]
[null,8409,{"$nulls":7},{"v":0,"d":"€ 0.00"},{"v":0,"d":"€ 0.00"}]
[null,8410,{"$nulls":7},{"v":0,"d":"€ 0.00"},{"v":0,"d":"€ 0.00"}]
[null,8411,{"$nulls":7},{"v":0,"d":"€ 0.00"},{"v":0,"d":"€ 0.00"}]
[null,8412,{"$nulls":7},{"v":0,"d":"€ 0.00"},{"v":0,"d":"€ 0.00"}]
[null,8413,{"$nulls":7},{"v":0,"d":"€ 0.00"},{"v":0,"d":"€ 0.00"}]
[null,8414,{"$nulls":7},{"v":0,"d":"€ 0.00"},{"v":0,"d":"€ 0.00"}]
[null,8415,{"$nulls":7},{"v":0,"d":"€ 0.00"},{"v":0,"d":"€ 0.00"}]
[null,8416,{"$nulls":7},{"v":0,"d":"€ 0.00"},{"v":0,"d":"€ 0.00"}]
[null,8417,{"$nulls":7},{"v":0,"d":"€ 0.00"},{"v":0,"d":"€ 0.00"}]
[null,8418,{"$nulls":7},{"v":0,"d":"€ 0.00"},{"v":0,"d":"€ 0.00"}]
[null,8419,{"$nulls":7},{"v":0,"d":"€ 0.00"},{"v":0,"d":"€ 0.00"}]
[null,8420,{"$nulls":7},{"v":0,"d":"€ 0.00"},{"v":0,"d":"€ 0.00"}]
[null,8421,{"$nulls":7},{"v":0,"d":"€ 0.00"},{"v":0,"d":"€ 0.00"}]
[null,8422,{"$nulls":7},{"v":0,"d":"€ 0.00"},{"v":0,"d":"€ 0.00"}]
[null,8423,{"$nulls":7},{"v":0,"d":"€ 0.00"},{"v":0,"d":"€ 0.00"}]
[null,8424,{"$nulls":7},{"v":0,"d":"€ 0.00"},{"v":0,"d":"€ 0.00"}]
[null,8425,{"$nulls":7},{"v":0,"d":"€ 0.00"},{"v":0,"d":"€ 0.00"}]
[null,8426,{"$nulls":7},{"v":0,"d":"€ 0.00"},{"v":0,"d":"€ 0.00"}]
[null,8427,{"$nulls":7},{"v":0,"d":"€ 0.00"},{"v":0,"d":"€ 0.00"}]
[null,8428,{"$nulls":7},{"v":0,"d":"€ 0.00"},{"v":0,"d":"€ 0.00"}]
[null,8429,{"$nulls":7},{"v":0,"d":"€ 0.00"},{"v":0,"d":"€ 0.00"}]
[null,8430,{"$nulls":7},{"v":0,"d":"€ 0.00"},{"v":0,"d":"€ 0.00"}]
[null,8431,{"$nulls":7},{"v":0,"d":"€ 0.00"},{"v":0,"d":"€ 0.00"}]
[null,8432,{"$nulls":7},{"v":0,"d":"€ 0.00"},{"v":0,"d":"€ 0.00"}]
[null,8433,{"$nulls":7},{"v":0,"d":"€ 0.00"},{"v":0,"d":"€ 0.00"}]
[null,8434,{"$nulls":7},{"v":0,"d":"€ 0.00"},{"v":0,"d":"€ 0.00"}]
[null,8435,{"$nulls":7},{"v":0,"d":"€ 0.00"},{"v":0,"d":"€ 0.00"}]
[null,8436,{"$nulls":7},{"v":0,"d":"€ 0.00"},{"v":0,"d":"€ 0.00"}]
[null,8437,{"$nulls":7},{"v":0,"d":"€ 0.00"},{"v":0,"d":"€ 0.00"}]
[null,8438,{"$nulls":7},{"v":0,"d":"€ 0.00"},{"v":0,"d":"€ 0.00"}]
[null,8439,{"$nulls":7},{"v":0,"d":"€ 0.00"},{"v":0,"d":"€ 0.00"}]
[null,8440,{"$nulls":7},{"v":0,"d":"€ 0.00"},{"v":0,"d":"€ 0.00"}]
[null,8441,{"$nulls":7},{"v":0,"d":"€ 0.00"},{"v":0,"d":"€ 0.00"}]
[null,8442,{"$nulls":7},{"v":0,"d":"€ 0.00"},{"v":0,"d":"€ 0.00"}]
[null,8443,{"$nulls":7},{"v":0,"d":"€ 0.00"},{"v":0,"d":"€ 0.00"}]
[null,8444,{"$nulls":7},{"v":0,"d":"€ 0.00"},{"v":0,"d":"€ 0.00"}]
[null,8445,{"$nulls":7},{"v":0,"d":"€ 0.00"},{"v":0,"d":"€ 0.00"}]
[null,8446,{"$nulls":7},{"v":0,"d":"€ 0.00"},{"v":0,"d":"€ 0.00"}]
[null,8447,{"$nulls":7},{"v":0,"d":"€ 0.00"},{"v":0,"d":"€ 0.00"}]
[null,8448,{"$nulls":7},{"v":0,"d":"€ 0.00"},{"v":0,"d":"€ 0.00"}]
[null,8449,{"$nulls":7},{"v":0,"d":"€ 0.00"},{"v":0,"d":"€ 0.00"}]
[null,8450,{"$nulls":7},{"v":0,"d":"€ 0.00"},{"v":0,"d":"€ 0.00"}]
[null,8451,{"$nulls":7},{"v":0,"d":"€ 0.00"},{"v":0,"d":"€ 0.00"}]
[null,8452,{"$nulls":7},{"v":0,"d":"€ 0.00"},{"v":0,"d":"€ 0.00"}]
[null,8453,{"$nulls":7},{"v":0,"d":"€ 0.00"},{"v":0,"d":"€ 0.00"}]
[null,8454,{"$nulls":7},{"v":0,"d":"€ 0.00"},{"v":0,"d":"€ 0.00"}]
[null,8455,{"$nulls":7},{"v":0,"d":"€ 0.00"},{"v":0,"d":"€ 0.00"}]
[null,8456,{"$nulls":7},{"v":0,"d":"€ 0.00"},{"v":0,"d":"€ 0.00"}]
[null,8457,{"$nulls":7},{"v":0,"d":"€ 0.00"},{"v":0,"d":"€ 0.00"}]
[null,8458,{"$nulls":7},{"v":0,"d":"€ 0.00"},{"v":0,"d":"€ 0.00"}]
[null,8459,{"$nulls":7},{"v":0,"d":"€ 0.00"},{"v":0,"d":"€ 0.00"}]
[null,8460,{"$nulls":7},{"v":0,"d":"€ 0.00"},{"v":0,"d":"€ 0.00"}]
[null,8461,{"$nulls":7},{"v":0,"d":"€ 0.00"},{"v":0,"d":"€ 0.00"}]
[null,8462,{"$nulls":7},{"v":0,"d":"€ 0.00"},{"v":0,"d":"€ 0.00"}]
[null,8463,{"$nulls":7},{"v":0,"d":"€ 0.00"},{"v":0,"d":"€ 0.00"}]
[null,8464,{"$nulls":7},{"v":0,"d":"€ 0.00"},{"v":0,"d":"€ 0.00"}]
[null,8465,{"$nulls":7},{"v":0,"d":"€ 0.00"},{"v":0,"d":"€ 0.00"}]
[null,8466,{"$nulls":7},{"v":0,"d":"€ 0.00"},{"v":0,"d":"€ 0.00"}]
[null,8467,{"$nulls":7},{"$f":"IF(OR(ISBLANK(H8474)=TRUE,ISBLANK(I8474)=TRUE),,ROUND(H8474*I8474,2))","v":{"v":0,"d":"€ 0.00"}},{"$f":"G8474+J8474","v":{"v":0,"d":"€ 0.00"}}]
[null,8468,{"$nulls":7},{"v":0,"d":"€ 0.00"},{"v":0,"d":"€ 0.00"}]
[null,8469,{"$nulls":7},{"v":0,"d":"€ 0.00"},{"v":0,"d":"€ 0.00"}]
[null,8470,{"$nulls":7},{"v":0,"d":"€ 0.00"},{"v":0,"d":"€ 0.00"}]
[null,8471,{"$nulls":7},{"v":0,"d":"€ 0.00"},{"v":0,"d":"€ 0.00"}]
[null,8472,{"$nulls":7},{"v":0,"d":"€ 0.00"},{"v":0,"d":"€ 0.00"}]
[null,8473,{"$nulls":7},{"v":0,"d":"€ 0.00"},{"v":0,"d":"€ 0.00"}]
[null,8474,{"$nulls":7},{"v":0,"d":"€ 0.00"},{"v":0,"d":"€ 0.00"}]
[null,8475,{"$nulls":7},{"v":0,"d":"€ 0.00"},{"v":0,"d":"€ 0.00"}]
[null,8476,{"$nulls":7},{"v":0,"d":"€ 0.00"},{"v":0,"d":"€ 0.00"}]
[null,8477,{"$nulls":7},{"v":0,"d":"€ 0.00"},{"v":0,"d":"€ 0.00"}]
[null,8478,{"$nulls":7},{"v":0,"d":"€ 0.00"},{"v":0,"d":"€ 0.00"}]
[null,8479,{"$nulls":7},{"v":0,"d":"€ 0.00"},{"v":0,"d":"€ 0.00"}]
[null,8480,{"$nulls":7},{"v":0,"d":"€ 0.00"},{"v":0,"d":"€ 0.00"}]
[null,8481,{"$nulls":7},{"v":0,"d":"€ 0.00"},{"v":0,"d":"€ 0.00"}]
[null,8482,{"$nulls":7},{"v":0,"d":"€ 0.00"},{"v":0,"d":"€ 0.00"}]
[null,8483,{"$nulls":7},{"v":0,"d":"€ 0.00"},{"v":0,"d":"€ 0.00"}]
[null,8484,{"$nulls":7},{"v":0,"d":"€ 0.00"},{"v":0,"d":"€ 0.00"}]
[null,8485,{"$nulls":7},{"v":0,"d":"€ 0.00"},{"v":0,"d":"€ 0.00"}]
[null,8486,{"$nulls":7},{"v":0,"d":"€ 0.00"},{"v":0,"d":"€ 0.00"}]
[null,8487,{"$nulls":7},{"v":0,"d":"€ 0.00"},{"v":0,"d":"€ 0.00"}]
[null,8488,{"$nulls":7},{"v":0,"d":"€ 0.00"},{"v":0,"d":"€ 0.00"}]
[null,8489,{"$nulls":7},{"v":0,"d":"€ 0.00"},{"v":0,"d":"€ 0.00"}]
[null,8490,{"$nulls":7},{"v":0,"d":"€ 0.00"},{"v":0,"d":"€ 0.00"}]
[null,8491,{"$nulls":7},{"v":0,"d":"€ 0.00"},{"v":0,"d":"€ 0.00"}]
[null,8492,{"$nulls":7},{"v":0,"d":"€ 0.00"},{"v":0,"d":"€ 0.00"}]
[null,8493,{"$nulls":7},{"v":0,"d":"€ 0.00"},{"v":0,"d":"€ 0.00"}]
[null,8494,{"$nulls":7},{"v":0,"d":"€ 0.00"},{"v":0,"d":"€ 0.00"}]
[null,8495,{"$nulls":7},{"v":0,"d":"€ 0.00"},{"v":0,"d":"€ 0.00"}]
[null,8496,{"$nulls":7},{"v":0,"d":"€ 0.00"},{"v":0,"d":"€ 0.00"}]
[null,8497,{"$nulls":7},{"v":0,"d":"€ 0.00"},{"v":0,"d":"€ 0.00"}]
[null,8498,{"$nulls":7},{"v":0,"d":"€ 0.00"},{"v":0,"d":"€ 0.00"}]
[null,8499,{"$nulls":7},{"v":0,"d":"€ 0.00"},{"v":0,"d":"€ 0.00"}]
[null,8500,{"$nulls":7},{"v":0,"d":"€ 0.00"},{"v":0,"d":"€ 0.00"}]
[null,8501,{"$nulls":7},{"v":0,"d":"€ 0.00"},{"v":0,"d":"€ 0.00"}]
[null,8502,{"$nulls":7},{"v":0,"d":"€ 0.00"},{"v":0,"d":"€ 0.00"}]
[null,8503,{"$nulls":7},{"v":0,"d":"€ 0.00"},{"v":0,"d":"€ 0.00"}]
[null,8504,{"$nulls":7},{"v":0,"d":"€ 0.00"},{"v":0,"d":"€ 0.00"}]
[null,8505,{"$nulls":7},{"v":0,"d":"€ 0.00"},{"v":0,"d":"€ 0.00"}]
[null,8506,{"$nulls":7},{"v":0,"d":"€ 0.00"},{"v":0,"d":"€ 0.00"}]
[null,8507,{"$nulls":7},{"v":0,"d":"€ 0.00"},{"v":0,"d":"€ 0.00"}]
[null,8508,{"$nulls":7},{"v":0,"d":"€ 0.00"},{"v":0,"d":"€ 0.00"}]
[null,8509,{"$nulls":7},{"v":0,"d":"€ 0.00"},{"v":0,"d":"€ 0.00"}]
[null,8510,{"$nulls":7},{"v":0,"d":"€ 0.00"},{"v":0,"d":"€ 0.00"}]
[null,8511,{"$nulls":7},{"v":0,"d":"€ 0.00"},{"v":0,"d":"€ 0.00"}]
[null,8512,{"$nulls":7},{"v":0,"d":"€ 0.00"},{"v":0,"d":"€ 0.00"}]
[null,8513,{"$nulls":7},{"v":0,"d":"€ 0.00"},{"v":0,"d":"€ 0.00"}]
[null,8514,{"$nulls":7},{"v":0,"d":"€ 0.00"},{"v":0,"d":"€ 0.00"}]
[null,8515,{"$nulls":7},{"v":0,"d":"€ 0.00"},{"v":0,"d":"€ 0.00"}]
[null,8516,{"$nulls":7},{"v":0,"d":"€ 0.00"},{"v":0,"d":"€ 0.00"}]
[null,8517,{"$nulls":7},{"v":0,"d":"€ 0.00"},{"v":0,"d":"€ 0.00"}]
[null,8518,{"$nulls":7},{"v":0,"d":"€ 0.00"},{"v":0,"d":"€ 0.00"}]
[null,8519,{"$nulls":7},{"v":0,"d":"€ 0.00"},{"v":0,"d":"€ 0.00"}]
[null,8520,{"$nulls":7},{"v":0,"d":"€ 0.00"},{"v":0,"d":"€ 0.00"}]
[null,8521,{"$nulls":7},{"v":0,"d":"€ 0.00"},{"v":0,"d":"€ 0.00"}]
[null,8522,{"$nulls":7},{"v":0,"d":"€ 0.00"},{"v":0,"d":"€ 0.00"}]
[null,8523,{"$nulls":7},{"v":0,"d":"€ 0.00"},{"v":0,"d":"€ 0.00"}]
[null,8524,{"$nulls":7},{"v":0,"d":"€ 0.00"},{"v":0,"d":"€ 0.00"}]
[null,8525,{"$nulls":7},{"v":0,"d":"€ 0.00"},{"v":0,"d":"€ 0.00"}]
[null,8526,{"$nulls":7},{"v":0,"d":"€ 0.00"},{"v":0,"d":"€ 0.00"}]
[null,8527,{"$nulls":7},{"v":0,"d":"€ 0.00"},{"v":0,"d":"€ 0.00"}]
[null,8528,{"$nulls":7},{"v":0,"d":"€ 0.00"},{"v":0,"d":"€ 0.00"}]
[null,8529,{"$nulls":7},{"v":0,"d":"€ 0.00"},{"v":0,"d":"€ 0.00"}]
[null,8530,{"$nulls":7},{"v":0,"d":"€ 0.00"},{"v":0,"d":"€ 0.00"}]
[null,8531,{"$nulls":7},{"$f":"IF(OR(ISBLANK(H8538)=TRUE,ISBLANK(I8538)=TRUE),,ROUND(H8538*I8538,2))","v":{"v":0,"d":"€ 0.00"}},{"$f":"G8538+J8538","v":{"v":0,"d":"€ 0.00"}}]
[null,8532,{"$nulls":7},{"v":0,"d":"€ 0.00"},{"v":0,"d":"€ 0.00"}]
[null,8533,{"$nulls":7},{"v":0,"d":"€ 0.00"},{"v":0,"d":"€ 0.00"}]
[null,8534,{"$nulls":7},{"v":0,"d":"€ 0.00"},{"v":0,"d":"€ 0.00"}]
[null,8535,{"$nulls":7},{"v":0,"d":"€ 0.00"},{"v":0,"d":"€ 0.00"}]
[null,8536,{"$nulls":7},{"v":0,"d":"€ 0.00"},{"v":0,"d":"€ 0.00"}]
[null,8537,{"$nulls":7},{"v":0,"d":"€ 0.00"},{"v":0,"d":"€ 0.00"}]
[null,8538,{"$nulls":7},{"v":0,"d":"€ 0.00"},{"v":0,"d":"€ 0.00"}]
[null,8539,{"$nulls":7},{"v":0,"d":"€ 0.00"},{"v":0,"d":"€ 0.00"}]
[null,8540,{"$nulls":7},{"v":0,"d":"€ 0.00"},{"v":0,"d":"€ 0.00"}]
[null,8541,{"$nulls":7},{"v":0,"d":"€ 0.00"},{"v":0,"d":"€ 0.00"}]
[null,8542,{"$nulls":7},{"v":0,"d":"€ 0.00"},{"v":0,"d":"€ 0.00"}]
[null,8543,{"$nulls":7},{"v":0,"d":"€ 0.00"},{"v":0,"d":"€ 0.00"}]
[null,8544,{"$nulls":7},{"v":0,"d":"€ 0.00"},{"v":0,"d":"€ 0.00"}]
[null,8545,{"$nulls":7},{"v":0,"d":"€ 0.00"},{"v":0,"d":"€ 0.00"}]
[null,8546,{"$nulls":7},{"v":0,"d":"€ 0.00"},{"v":0,"d":"€ 0.00"}]
[null,8547,{"$nulls":7},{"v":0,"d":"€ 0.00"},{"v":0,"d":"€ 0.00"}]
[null,8548,{"$nulls":7},{"v":0,"d":"€ 0.00"},{"v":0,"d":"€ 0.00"}]
[null,8549,{"$nulls":7},{"v":0,"d":"€ 0.00"},{"v":0,"d":"€ 0.00"}]
[null,8550,{"$nulls":7},{"v":0,"d":"€ 0.00"},{"v":0,"d":"€ 0.00"}]
[null,8551,{"$nulls":7},{"v":0,"d":"€ 0.00"},{"v":0,"d":"€ 0.00"}]
[null,8552,{"$nulls":7},{"v":0,"d":"€ 0.00"},{"v":0,"d":"€ 0.00"}]
[null,8553,{"$nulls":7},{"v":0,"d":"€ 0.00"},{"v":0,"d":"€ 0.00"}]
[null,8554,{"$nulls":7},{"v":0,"d":"€ 0.00"},{"v":0,"d":"€ 0.00"}]
[null,8555,{"$nulls":7},{"v":0,"d":"€ 0.00"},{"v":0,"d":"€ 0.00"}]
[null,8556,{"$nulls":7},{"v":0,"d":"€ 0.00"},{"v":0,"d":"€ 0.00"}]
[null,8557,{"$nulls":7},{"v":0,"d":"€ 0.00"},{"v":0,"d":"€ 0.00"}]
[null,8558,{"$nulls":7},{"v":0,"d":"€ 0.00"},{"v":0,"d":"€ 0.00"}]
[null,8559,{"$nulls":7},{"v":0,"d":"€ 0.00"},{"v":0,"d":"€ 0.00"}]
[null,8560,{"$nulls":7},{"v":0,"d":"€ 0.00"},{"v":0,"d":"€ 0.00"}]
[null,8561,{"$nulls":7},{"v":0,"d":"€ 0.00"},{"v":0,"d":"€ 0.00"}]
[null,8562,{"$nulls":7},{"v":0,"d":"€ 0.00"},{"v":0,"d":"€ 0.00"}]
[null,8563,{"$nulls":7},{"v":0,"d":"€ 0.00"},{"v":0,"d":"€ 0.00"}]
[null,8564,{"$nulls":7},{"v":0,"d":"€ 0.00"},{"v":0,"d":"€ 0.00"}]
[null,8565,{"$nulls":7},{"v":0,"d":"€ 0.00"},{"v":0,"d":"€ 0.00"}]
[null,8566,{"$nulls":7},{"v":0,"d":"€ 0.00"},{"v":0,"d":"€ 0.00"}]
[null,8567,{"$nulls":7},{"v":0,"d":"€ 0.00"},{"v":0,"d":"€ 0.00"}]
[null,8568,{"$nulls":7},{"v":0,"d":"€ 0.00"},{"v":0,"d":"€ 0.00"}]
[null,8569,{"$nulls":7},{"v":0,"d":"€ 0.00"},{"v":0,"d":"€ 0.00"}]
[null,8570,{"$nulls":7},{"v":0,"d":"€ 0.00"},{"v":0,"d":"€ 0.00"}]
[null,8571,{"$nulls":7},{"v":0,"d":"€ 0.00"},{"v":0,"d":"€ 0.00"}]
[null,8572,{"$nulls":7},{"v":0,"d":"€ 0.00"},{"v":0,"d":"€ 0.00"}]
[null,8573,{"$nulls":7},{"v":0,"d":"€ 0.00"},{"v":0,"d":"€ 0.00"}]
[null,8574,{"$nulls":7},{"v":0,"d":"€ 0.00"},{"v":0,"d":"€ 0.00"}]
[null,8575,{"$nulls":7},{"v":0,"d":"€ 0.00"},{"v":0,"d":"€ 0.00"}]
[null,8576,{"$nulls":7},{"v":0,"d":"€ 0.00"},{"v":0,"d":"€ 0.00"}]
[null,8577,{"$nulls":7},{"v":0,"d":"€ 0.00"},{"v":0,"d":"€ 0.00"}]
[null,8578,{"$nulls":7},{"v":0,"d":"€ 0.00"},{"v":0,"d":"€ 0.00"}]
[null,8579,{"$nulls":7},{"v":0,"d":"€ 0.00"},{"v":0,"d":"€ 0.00"}]
[null,8580,{"$nulls":7},{"v":0,"d":"€ 0.00"},{"v":0,"d":"€ 0.00"}]
[null,8581,{"$nulls":7},{"v":0,"d":"€ 0.00"},{"v":0,"d":"€ 0.00"}]
[null,8582,{"$nulls":7},{"v":0,"d":"€ 0.00"},{"v":0,"d":"€ 0.00"}]
[null,8583,{"$nulls":7},{"v":0,"d":"€ 0.00"},{"v":0,"d":"€ 0.00"}]
[null,8584,{"$nulls":7},{"v":0,"d":"€ 0.00"},{"v":0,"d":"€ 0.00"}]
[null,8585,{"$nulls":7},{"v":0,"d":"€ 0.00"},{"v":0,"d":"€ 0.00"}]
[null,8586,{"$nulls":7},{"v":0,"d":"€ 0.00"},{"v":0,"d":"€ 0.00"}]
[null,8587,{"$nulls":7},{"v":0,"d":"€ 0.00"},{"v":0,"d":"€ 0.00"}]
[null,8588,{"$nulls":7},{"v":0,"d":"€ 0.00"},{"v":0,"d":"€ 0.00"}]
[null,8589,{"$nulls":7},{"v":0,"d":"€ 0.00"},{"v":0,"d":"€ 0.00"}]
[null,8590,{"$nulls":7},{"v":0,"d":"€ 0.00"},{"v":0,"d":"€ 0.00"}]
[null,8591,{"$nulls":7},{"v":0,"d":"€ 0.00"},{"v":0,"d":"€ 0.00"}]
[null,8592,{"$nulls":7},{"v":0,"d":"€ 0.00"},{"v":0,"d":"€ 0.00"}]
[null,8593,{"$nulls":7},{"v":0,"d":"€ 0.00"},{"v":0,"d":"€ 0.00"}]
[null,8594,{"$nulls":7},{"v":0,"d":"€ 0.00"},{"v":0,"d":"€ 0.00"}]
[null,8595,{"$nulls":7},{"$f":"IF(OR(ISBLANK(H8602)=TRUE,ISBLANK(I8602)=TRUE),,ROUND(H8602*I8602,2))","v":{"v":0,"d":"€ 0.00"}},{"$f":"G8602+J8602","v":{"v":0,"d":"€ 0.00"}}]
[null,8596,{"$nulls":7},{"v":0,"d":"€ 0.00"},{"v":0,"d":"€ 0.00"}]
[null,8597,{"$nulls":7},{"v":0,"d":"€ 0.00"},{"v":0,"d":"€ 0.00"}]
[null,8598,{"$nulls":7},{"v":0,"d":"€ 0.00"},{"v":0,"d":"€ 0.00"}]
[null,8599,{"$nulls":7},{"v":0,"d":"€ 0.00"},{"v":0,"d":"€ 0.00"}]
[null,8600,{"$nulls":7},{"v":0,"d":"€ 0.00"},{"v":0,"d":"€ 0.00"}]
[null,8601,{"$nulls":7},{"v":0,"d":"€ 0.00"},{"v":0,"d":"€ 0.00"}]
[null,8602,{"$nulls":7},{"v":0,"d":"€ 0.00"},{"v":0,"d":"€ 0.00"}]
[null,8603,{"$nulls":7},{"v":0,"d":"€ 0.00"},{"v":0,"d":"€ 0.00"}]
[null,8604,{"$nulls":7},{"v":0,"d":"€ 0.00"},{"v":0,"d":"€ 0.00"}]
[null,8605,{"$nulls":7},{"v":0,"d":"€ 0.00"},{"v":0,"d":"€ 0.00"}]
[null,8606,{"$nulls":7},{"v":0,"d":"€ 0.00"},{"v":0,"d":"€ 0.00"}]
[null,8607,{"$nulls":7},{"v":0,"d":"€ 0.00"},{"v":0,"d":"€ 0.00"}]
[null,8608,{"$nulls":7},{"v":0,"d":"€ 0.00"},{"v":0,"d":"€ 0.00"}]
[null,8609,{"$nulls":7},{"v":0,"d":"€ 0.00"},{"v":0,"d":"€ 0.00"}]
[null,8610,{"$nulls":7},{"v":0,"d":"€ 0.00"},{"v":0,"d":"€ 0.00"}]
[null,8611,{"$nulls":7},{"v":0,"d":"€ 0.00"},{"v":0,"d":"€ 0.00"}]
[null,8612,{"$nulls":7},{"v":0,"d":"€ 0.00"},{"v":0,"d":"€ 0.00"}]
[null,8613,{"$nulls":7},{"v":0,"d":"€ 0.00"},{"v":0,"d":"€ 0.00"}]
[null,8614,{"$nulls":7},{"v":0,"d":"€ 0.00"},{"v":0,"d":"€ 0.00"}]
[null,8615,{"$nulls":7},{"v":0,"d":"€ 0.00"},{"v":0,"d":"€ 0.00"}]
[null,8616,{"$nulls":7},{"v":0,"d":"€ 0.00"},{"v":0,"d":"€ 0.00"}]
[null,8617,{"$nulls":7},{"v":0,"d":"€ 0.00"},{"v":0,"d":"€ 0.00"}]
[null,8618,{"$nulls":7},{"v":0,"d":"€ 0.00"},{"v":0,"d":"€ 0.00"}]
[null,8619,{"$nulls":7},{"v":0,"d":"€ 0.00"},{"v":0,"d":"€ 0.00"}]
[null,8620,{"$nulls":7},{"v":0,"d":"€ 0.00"},{"v":0,"d":"€ 0.00"}]
[null,8621,{"$nulls":7},{"v":0,"d":"€ 0.00"},{"v":0,"d":"€ 0.00"}]
[null,8622,{"$nulls":7},{"v":0,"d":"€ 0.00"},{"v":0,"d":"€ 0.00"}]
[null,8623,{"$nulls":7},{"v":0,"d":"€ 0.00"},{"v":0,"d":"€ 0.00"}]
[null,8624,{"$nulls":7},{"v":0,"d":"€ 0.00"},{"v":0,"d":"€ 0.00"}]
[null,8625,{"$nulls":7},{"v":0,"d":"€ 0.00"},{"v":0,"d":"€ 0.00"}]
[null,8626,{"$nulls":7},{"v":0,"d":"€ 0.00"},{"v":0,"d":"€ 0.00"}]
[null,8627,{"$nulls":7},{"v":0,"d":"€ 0.00"},{"v":0,"d":"€ 0.00"}]
[null,8628,{"$nulls":7},{"v":0,"d":"€ 0.00"},{"v":0,"d":"€ 0.00"}]
[null,8629,{"$nulls":7},{"v":0,"d":"€ 0.00"},{"v":0,"d":"€ 0.00"}]
[null,8630,{"$nulls":7},{"v":0,"d":"€ 0.00"},{"v":0,"d":"€ 0.00"}]
[null,8631,{"$nulls":7},{"v":0,"d":"€ 0.00"},{"v":0,"d":"€ 0.00"}]
[null,8632,{"$nulls":7},{"v":0,"d":"€ 0.00"},{"v":0,"d":"€ 0.00"}]
[null,8633,{"$nulls":7},{"v":0,"d":"€ 0.00"},{"v":0,"d":"€ 0.00"}]
[null,8634,{"$nulls":7},{"v":0,"d":"€ 0.00"},{"v":0,"d":"€ 0.00"}]
[null,8635,{"$nulls":7},{"v":0,"d":"€ 0.00"},{"v":0,"d":"€ 0.00"}]
[null,8636,{"$nulls":7},{"v":0,"d":"€ 0.00"},{"v":0,"d":"€ 0.00"}]
[null,8637,{"$nulls":7},{"v":0,"d":"€ 0.00"},{"v":0,"d":"€ 0.00"}]
[null,8638,{"$nulls":7},{"v":0,"d":"€ 0.00"},{"v":0,"d":"€ 0.00"}]
[null,8639,{"$nulls":7},{"v":0,"d":"€ 0.00"},{"v":0,"d":"€ 0.00"}]
[null,8640,{"$nulls":7},{"v":0,"d":"€ 0.00"},{"v":0,"d":"€ 0.00"}]
[null,8641,{"$nulls":7},{"v":0,"d":"€ 0.00"},{"v":0,"d":"€ 0.00"}]
[null,8642,{"$nulls":7},{"v":0,"d":"€ 0.00"},{"v":0,"d":"€ 0.00"}]
[null,8643,{"$nulls":7},{"v":0,"d":"€ 0.00"},{"v":0,"d":"€ 0.00"}]
[null,8644,{"$nulls":7},{"v":0,"d":"€ 0.00"},{"v":0,"d":"€ 0.00"}]
[null,8645,{"$nulls":7},{"v":0,"d":"€ 0.00"},{"v":0,"d":"€ 0.00"}]
[null,8646,{"$nulls":7},{"v":0,"d":"€ 0.00"},{"v":0,"d":"€ 0.00"}]
[null,8647,{"$nulls":7},{"v":0,"d":"€ 0.00"},{"v":0,"d":"€ 0.00"}]
[null,8648,{"$nulls":7},{"v":0,"d":"€ 0.00"},{"v":0,"d":"€ 0.00"}]
[null,8649,{"$nulls":7},{"v":0,"d":"€ 0.00"},{"v":0,"d":"€ 0.00"}]
[null,8650,{"$nulls":7},{"v":0,"d":"€ 0.00"},{"v":0,"d":"€ 0.00"}]
[null,8651,{"$nulls":7},{"v":0,"d":"€ 0.00"},{"v":0,"d":"€ 0.00"}]
[null,8652,{"$nulls":7},{"v":0,"d":"€ 0.00"},{"v":0,"d":"€ 0.00"}]
[null,8653,{"$nulls":7},{"v":0,"d":"€ 0.00"},{"v":0,"d":"€ 0.00"}]
[null,8654,{"$nulls":7},{"v":0,"d":"€ 0.00"},{"v":0,"d":"€ 0.00"}]
[null,8655,{"$nulls":7},{"v":0,"d":"€ 0.00"},{"v":0,"d":"€ 0.00"}]
[null,8656,{"$nulls":7},{"v":0,"d":"€ 0.00"},{"v":0,"d":"€ 0.00"}]
[null,8657,{"$nulls":7},{"v":0,"d":"€ 0.00"},{"v":0,"d":"€ 0.00"}]
[null,8658,{"$nulls":7},{"v":0,"d":"€ 0.00"},{"v":0,"d":"€ 0.00"}]
[null,8659,{"$nulls":7},{"$f":"IF(OR(ISBLANK(H8666)=TRUE,ISBLANK(I8666)=TRUE),,ROUND(H8666*I8666,2))","v":{"v":0,"d":"€ 0.00"}},{"$f":"G8666+J8666","v":{"v":0,"d":"€ 0.00"}}]
[null,8660,{"$nulls":7},{"v":0,"d":"€ 0.00"},{"v":0,"d":"€ 0.00"}]
[null,8661,{"$nulls":7},{"v":0,"d":"€ 0.00"},{"v":0,"d":"€ 0.00"}]
[null,8662,{"$nulls":7},{"v":0,"d":"€ 0.00"},{"v":0,"d":"€ 0.00"}]
[null,8663,{"$nulls":7},{"v":0,"d":"€ 0.00"},{"v":0,"d":"€ 0.00"}]
[null,8664,{"$nulls":7},{"v":0,"d":"€ 0.00"},{"v":0,"d":"€ 0.00"}]
[null,8665,{"$nulls":7},{"v":0,"d":"€ 0.00"},{"v":0,"d":"€ 0.00"}]
[null,8666,{"$nulls":7},{"v":0,"d":"€ 0.00"},{"v":0,"d":"€ 0.00"}]
[null,8667,{"$nulls":7},{"v":0,"d":"€ 0.00"},{"v":0,"d":"€ 0.00"}]
[null,8668,{"$nulls":7},{"v":0,"d":"€ 0.00"},{"v":0,"d":"€ 0.00"}]
[null,8669,{"$nulls":7},{"v":0,"d":"€ 0.00"},{"v":0,"d":"€ 0.00"}]
[null,8670,{"$nulls":7},{"v":0,"d":"€ 0.00"},{"v":0,"d":"€ 0.00"}]
[null,8671,{"$nulls":7},{"v":0,"d":"€ 0.00"},{"v":0,"d":"€ 0.00"}]
[null,8672,{"$nulls":7},{"v":0,"d":"€ 0.00"},{"v":0,"d":"€ 0.00"}]
[null,8673,{"$nulls":7},{"v":0,"d":"€ 0.00"},{"v":0,"d":"€ 0.00"}]
[null,8674,{"$nulls":7},{"v":0,"d":"€ 0.00"},{"v":0,"d":"€ 0.00"}]
[null,8675,{"$nulls":7},{"v":0,"d":"€ 0.00"},{"v":0,"d":"€ 0.00"}]
[null,8676,{"$nulls":7},{"v":0,"d":"€ 0.00"},{"v":0,"d":"€ 0.00"}]
[null,8677,{"$nulls":7},{"v":0,"d":"€ 0.00"},{"v":0,"d":"€ 0.00"}]
[null,8678,{"$nulls":7},{"v":0,"d":"€ 0.00"},{"v":0,"d":"€ 0.00"}]
[null,8679,{"$nulls":7},{"v":0,"d":"€ 0.00"},{"v":0,"d":"€ 0.00"}]
[null,8680,{"$nulls":7},{"v":0,"d":"€ 0.00"},{"v":0,"d":"€ 0.00"}]
[null,8681,{"$nulls":7},{"v":0,"d":"€ 0.00"},{"v":0,"d":"€ 0.00"}]
[null,8682,{"$nulls":7},{"v":0,"d":"€ 0.00"},{"v":0,"d":"€ 0.00"}]
[null,8683,{"$nulls":7},{"v":0,"d":"€ 0.00"},{"v":0,"d":"€ 0.00"}]
[null,8684,{"$nulls":7},{"v":0,"d":"€ 0.00"},{"v":0,"d":"€ 0.00"}]
[null,8685,{"$nulls":7},{"v":0,"d":"€ 0.00"},{"v":0,"d":"€ 0.00"}]
[null,8686,{"$nulls":7},{"v":0,"d":"€ 0.00"},{"v":0,"d":"€ 0.00"}]
[null,8687,{"$nulls":7},{"v":0,"d":"€ 0.00"},{"v":0,"d":"€ 0.00"}]
[null,8688,{"$nulls":7},{"v":0,"d":"€ 0.00"},{"v":0,"d":"€ 0.00"}]
[null,8689,{"$nulls":7},{"v":0,"d":"€ 0.00"},{"v":0,"d":"€ 0.00"}]
[null,8690,{"$nulls":7},{"v":0,"d":"€ 0.00"},{"v":0,"d":"€ 0.00"}]
[null,8691,{"$nulls":7},{"v":0,"d":"€ 0.00"},{"v":0,"d":"€ 0.00"}]
[null,8692,{"$nulls":7},{"v":0,"d":"€ 0.00"},{"v":0,"d":"€ 0.00"}]
[null,8693,{"$nulls":7},{"v":0,"d":"€ 0.00"},{"v":0,"d":"€ 0.00"}]
[null,8694,{"$nulls":7},{"v":0,"d":"€ 0.00"},{"v":0,"d":"€ 0.00"}]
[null,8695,{"$nulls":7},{"v":0,"d":"€ 0.00"},{"v":0,"d":"€ 0.00"}]
[null,8696,{"$nulls":7},{"v":0,"d":"€ 0.00"},{"v":0,"d":"€ 0.00"}]
[null,8697,{"$nulls":7},{"v":0,"d":"€ 0.00"},{"v":0,"d":"€ 0.00"}]
[null,8698,{"$nulls":7},{"v":0,"d":"€ 0.00"},{"v":0,"d":"€ 0.00"}]
[null,8699,{"$nulls":7},{"v":0,"d":"€ 0.00"},{"v":0,"d":"€ 0.00"}]
[null,8700,{"$nulls":7},{"v":0,"d":"€ 0.00"},{"v":0,"d":"€ 0.00"}]
[null,8701,{"$nulls":7},{"v":0,"d":"€ 0.00"},{"v":0,"d":"€ 0.00"}]
[null,8702,{"$nulls":7},{"v":0,"d":"€ 0.00"},{"v":0,"d":"€ 0.00"}]
[null,8703,{"$nulls":7},{"v":0,"d":"€ 0.00"},{"v":0,"d":"€ 0.00"}]
[null,8704,{"$nulls":7},{"v":0,"d":"€ 0.00"},{"v":0,"d":"€ 0.00"}]
[null,8705,{"$nulls":7},{"v":0,"d":"€ 0.00"},{"v":0,"d":"€ 0.00"}]
[null,8706,{"$nulls":7},{"v":0,"d":"€ 0.00"},{"v":0,"d":"€ 0.00"}]
[null,8707,{"$nulls":7},{"v":0,"d":"€ 0.00"},{"v":0,"d":"€ 0.00"}]
[null,8708,{"$nulls":7},{"v":0,"d":"€ 0.00"},{"v":0,"d":"€ 0.00"}]
[null,8709,{"$nulls":7},{"v":0,"d":"€ 0.00"},{"v":0,"d":"€ 0.00"}]
[null,8710,{"$nulls":7},{"v":0,"d":"€ 0.00"},{"v":0,"d":"€ 0.00"}]
[null,8711,{"$nulls":7},{"v":0,"d":"€ 0.00"},{"v":0,"d":"€ 0.00"}]
[null,8712,{"$nulls":7},{"v":0,"d":"€ 0.00"},{"v":0,"d":"€ 0.00"}]
[null,8713,{"$nulls":7},{"v":0,"d":"€ 0.00"},{"v":0,"d":"€ 0.00"}]
[null,8714,{"$nulls":7},{"v":0,"d":"€ 0.00"},{"v":0,"d":"€ 0.00"}]
[null,8715,{"$nulls":7},{"v":0,"d":"€ 0.00"},{"v":0,"d":"€ 0.00"}]
[null,8716,{"$nulls":7},{"v":0,"d":"€ 0.00"},{"v":0,"d":"€ 0.00"}]
[null,8717,{"$nulls":7},{"v":0,"d":"€ 0.00"},{"v":0,"d":"€ 0.00"}]
[null,8718,{"$nulls":7},{"v":0,"d":"€ 0.00"},{"v":0,"d":"€ 0.00"}]
[null,8719,{"$nulls":7},{"v":0,"d":"€ 0.00"},{"v":0,"d":"€ 0.00"}]
[null,8720,{"$nulls":7},{"v":0,"d":"€ 0.00"},{"v":0,"d":"€ 0.00"}]
[null,8721,{"$nulls":7},{"v":0,"d":"€ 0.00"},{"v":0,"d":"€ 0.00"}]
[null,8722,{"$nulls":7},{"v":0,"d":"€ 0.00"},{"v":0,"d":"€ 0.00"}]
[null,8723,{"$nulls":7},{"$f":"IF(OR(ISBLANK(H8730)=TRUE,ISBLANK(I8730)=TRUE),,ROUND(H8730*I8730,2))","v":{"v":0,"d":"€ 0.00"}},{"$f":"G8730+J8730","v":{"v":0,"d":"€ 0.00"}}]
[null,8724,{"$nulls":7},{"v":0,"d":"€ 0.00"},{"v":0,"d":"€ 0.00"}]
[null,8725,{"$nulls":7},{"v":0,"d":"€ 0.00"},{"v":0,"d":"€ 0.00"}]
[null,8726,{"$nulls":7},{"v":0,"d":"€ 0.00"},{"v":0,"d":"€ 0.00"}]
[null,8727,{"$nulls":7},{"v":0,"d":"€ 0.00"},{"v":0,"d":"€ 0.00"}]
[null,8728,{"$nulls":7},{"v":0,"d":"€ 0.00"},{"v":0,"d":"€ 0.00"}]
[null,8729,{"$nulls":7},{"v":0,"d":"€ 0.00"},{"v":0,"d":"€ 0.00"}]
[null,8730,{"$nulls":7},{"v":0,"d":"€ 0.00"},{"v":0,"d":"€ 0.00"}]
[null,8731,{"$nulls":7},{"v":0,"d":"€ 0.00"},{"v":0,"d":"€ 0.00"}]
[null,8732,{"$nulls":7},{"v":0,"d":"€ 0.00"},{"v":0,"d":"€ 0.00"}]
[null,8733,{"$nulls":7},{"v":0,"d":"€ 0.00"},{"v":0,"d":"€ 0.00"}]
[null,8734,{"$nulls":7},{"v":0,"d":"€ 0.00"},{"v":0,"d":"€ 0.00"}]
[null,8735,{"$nulls":7},{"v":0,"d":"€ 0.00"},{"v":0,"d":"€ 0.00"}]
[null,8736,{"$nulls":7},{"v":0,"d":"€ 0.00"},{"v":0,"d":"€ 0.00"}]
[null,8737,{"$nulls":7},{"v":0,"d":"€ 0.00"},{"v":0,"d":"€ 0.00"}]
[null,8738,{"$nulls":7},{"v":0,"d":"€ 0.00"},{"v":0,"d":"€ 0.00"}]
[null,8739,{"$nulls":7},{"v":0,"d":"€ 0.00"},{"v":0,"d":"€ 0.00"}]
[null,8740,{"$nulls":7},{"v":0,"d":"€ 0.00"},{"v":0,"d":"€ 0.00"}]
[null,8741,{"$nulls":7},{"v":0,"d":"€ 0.00"},{"v":0,"d":"€ 0.00"}]
[null,8742,{"$nulls":7},{"v":0,"d":"€ 0.00"},{"v":0,"d":"€ 0.00"}]
[null,8743,{"$nulls":7},{"v":0,"d":"€ 0.00"},{"v":0,"d":"€ 0.00"}]
[null,8744,{"$nulls":7},{"v":0,"d":"€ 0.00"},{"v":0,"d":"€ 0.00"}]
[null,8745,{"$nulls":7},{"v":0,"d":"€ 0.00"},{"v":0,"d":"€ 0.00"}]
[null,8746,{"$nulls":7},{"v":0,"d":"€ 0.00"},{"v":0,"d":"€ 0.00"}]
[null,8747,{"$nulls":7},{"v":0,"d":"€ 0.00"},{"v":0,"d":"€ 0.00"}]
[null,8748,{"$nulls":7},{"v":0,"d":"€ 0.00"},{"v":0,"d":"€ 0.00"}]
[null,8749,{"$nulls":7},{"v":0,"d":"€ 0.00"},{"v":0,"d":"€ 0.00"}]
[null,8750,{"$nulls":7},{"v":0,"d":"€ 0.00"},{"v":0,"d":"€ 0.00"}]
[null,8751,{"$nulls":7},{"v":0,"d":"€ 0.00"},{"v":0,"d":"€ 0.00"}]
[null,8752,{"$nulls":7},{"v":0,"d":"€ 0.00"},{"v":0,"d":"€ 0.00"}]
[null,8753,{"$nulls":7},{"v":0,"d":"€ 0.00"},{"v":0,"d":"€ 0.00"}]
[null,8754,{"$nulls":7},{"v":0,"d":"€ 0.00"},{"v":0,"d":"€ 0.00"}]
[null,8755,{"$nulls":7},{"v":0,"d":"€ 0.00"},{"v":0,"d":"€ 0.00"}]
[null,8756,{"$nulls":7},{"v":0,"d":"€ 0.00"},{"v":0,"d":"€ 0.00"}]
[null,8757,{"$nulls":7},{"v":0,"d":"€ 0.00"},{"v":0,"d":"€ 0.00"}]
[null,8758,{"$nulls":7},{"v":0,"d":"€ 0.00"},{"v":0,"d":"€ 0.00"}]
[null,8759,{"$nulls":7},{"v":0,"d":"€ 0.00"},{"v":0,"d":"€ 0.00"}]
[null,8760,{"$nulls":7},{"v":0,"d":"€ 0.00"},{"v":0,"d":"€ 0.00"}]
[null,8761,{"$nulls":7},{"v":0,"d":"€ 0.00"},{"v":0,"d":"€ 0.00"}]
[null,8762,{"$nulls":7},{"v":0,"d":"€ 0.00"},{"v":0,"d":"€ 0.00"}]
[null,8763,{"$nulls":7},{"v":0,"d":"€ 0.00"},{"v":0,"d":"€ 0.00"}]
[null,8764,{"$nulls":7},{"v":0,"d":"€ 0.00"},{"v":0,"d":"€ 0.00"}]
[null,8765,{"$nulls":7},{"v":0,"d":"€ 0.00"},{"v":0,"d":"€ 0.00"}]
[null,8766,{"$nulls":7},{"v":0,"d":"€ 0.00"},{"v":0,"d":"€ 0.00"}]
[null,8767,{"$nulls":7},{"v":0,"d":"€ 0.00"},{"v":0,"d":"€ 0.00"}]
[null,8768,{"$nulls":7},{"v":0,"d":"€ 0.00"},{"v":0,"d":"€ 0.00"}]
[null,8769,{"$nulls":7},{"v":0,"d":"€ 0.00"},{"v":0,"d":"€ 0.00"}]
[null,8770,{"$nulls":7},{"v":0,"d":"€ 0.00"},{"v":0,"d":"€ 0.00"}]
[null,8771,{"$nulls":7},{"v":0,"d":"€ 0.00"},{"v":0,"d":"€ 0.00"}]
[null,8772,{"$nulls":7},{"v":0,"d":"€ 0.00"},{"v":0,"d":"€ 0.00"}]
[null,8773,{"$nulls":7},{"v":0,"d":"€ 0.00"},{"v":0,"d":"€ 0.00"}]
[null,8774,{"$nulls":7},{"v":0,"d":"€ 0.00"},{"v":0,"d":"€ 0.00"}]
[null,8775,{"$nulls":7},{"v":0,"d":"€ 0.00"},{"v":0,"d":"€ 0.00"}]
[null,8776,{"$nulls":7},{"v":0,"d":"€ 0.00"},{"v":0,"d":"€ 0.00"}]
[null,8777,{"$nulls":7},{"v":0,"d":"€ 0.00"},{"v":0,"d":"€ 0.00"}]
[null,8778,{"$nulls":7},{"v":0,"d":"€ 0.00"},{"v":0,"d":"€ 0.00"}]
[null,8779,{"$nulls":7},{"v":0,"d":"€ 0.00"},{"v":0,"d":"€ 0.00"}]
[null,8780,{"$nulls":7},{"v":0,"d":"€ 0.00"},{"v":0,"d":"€ 0.00"}]
[null,8781,{"$nulls":7},{"v":0,"d":"€ 0.00"},{"v":0,"d":"€ 0.00"}]
[null,8782,{"$nulls":7},{"v":0,"d":"€ 0.00"},{"v":0,"d":"€ 0.00"}]
[null,8783,{"$nulls":7},{"v":0,"d":"€ 0.00"},{"v":0,"d":"€ 0.00"}]
[null,8784,{"$nulls":7},{"v":0,"d":"€ 0.00"},{"v":0,"d":"€ 0.00"}]
[null,8785,{"$nulls":7},{"v":0,"d":"€ 0.00"},{"v":0,"d":"€ 0.00"}]
[null,8786,{"$nulls":7},{"v":0,"d":"€ 0.00"},{"v":0,"d":"€ 0.00"}]
[null,8787,{"$nulls":7},{"$f":"IF(OR(ISBLANK(H8794)=TRUE,ISBLANK(I8794)=TRUE),,ROUND(H8794*I8794,2))","v":{"v":0,"d":"€ 0.00"}},{"$f":"G8794+J8794","v":{"v":0,"d":"€ 0.00"}}]
[null,8788,{"$nulls":7},{"v":0,"d":"€ 0.00"},{"v":0,"d":"€ 0.00"}]
[null,8789,{"$nulls":7},{"v":0,"d":"€ 0.00"},{"v":0,"d":"€ 0.00"}]
[null,8790,{"$nulls":7},{"v":0,"d":"€ 0.00"},{"v":0,"d":"€ 0.00"}]
[null,8791,{"$nulls":7},{"v":0,"d":"€ 0.00"},{"v":0,"d":"€ 0.00"}]
[null,8792,{"$nulls":7},{"v":0,"d":"€ 0.00"},{"v":0,"d":"€ 0.00"}]
[null,8793,{"$nulls":7},{"v":0,"d":"€ 0.00"},{"v":0,"d":"€ 0.00"}]
[null,8794,{"$nulls":7},{"v":0,"d":"€ 0.00"},{"v":0,"d":"€ 0.00"}]
[null,8795,{"$nulls":7},{"v":0,"d":"€ 0.00"},{"v":0,"d":"€ 0.00"}]
[null,8796,{"$nulls":7},{"v":0,"d":"€ 0.00"},{"v":0,"d":"€ 0.00"}]
[null,8797,{"$nulls":7},{"v":0,"d":"€ 0.00"},{"v":0,"d":"€ 0.00"}]
[null,8798,{"$nulls":7},{"v":0,"d":"€ 0.00"},{"v":0,"d":"€ 0.00"}]
[null,8799,{"$nulls":7},{"v":0,"d":"€ 0.00"},{"v":0,"d":"€ 0.00"}]
[null,8800,{"$nulls":7},{"v":0,"d":"€ 0.00"},{"v":0,"d":"€ 0.00"}]
[null,8801,{"$nulls":7},{"v":0,"d":"€ 0.00"},{"v":0,"d":"€ 0.00"}]
[null,8802,{"$nulls":7},{"v":0,"d":"€ 0.00"},{"v":0,"d":"€ 0.00"}]
[null,8803,{"$nulls":7},{"v":0,"d":"€ 0.00"},{"v":0,"d":"€ 0.00"}]
[null,8804,{"$nulls":7},{"v":0,"d":"€ 0.00"},{"v":0,"d":"€ 0.00"}]
[null,8805,{"$nulls":7},{"v":0,"d":"€ 0.00"},{"v":0,"d":"€ 0.00"}]
[null,8806,{"$nulls":7},{"v":0,"d":"€ 0.00"},{"v":0,"d":"€ 0.00"}]
[null,8807,{"$nulls":7},{"v":0,"d":"€ 0.00"},{"v":0,"d":"€ 0.00"}]
[null,8808,{"$nulls":7},{"v":0,"d":"€ 0.00"},{"v":0,"d":"€ 0.00"}]
[null,8809,{"$nulls":7},{"v":0,"d":"€ 0.00"},{"v":0,"d":"€ 0.00"}]
[null,8810,{"$nulls":7},{"v":0,"d":"€ 0.00"},{"v":0,"d":"€ 0.00"}]
[null,8811,{"$nulls":7},{"v":0,"d":"€ 0.00"},{"v":0,"d":"€ 0.00"}]
[null,8812,{"$nulls":7},{"v":0,"d":"€ 0.00"},{"v":0,"d":"€ 0.00"}]
[null,8813,{"$nulls":7},{"v":0,"d":"€ 0.00"},{"v":0,"d":"€ 0.00"}]
[null,8814,{"$nulls":7},{"v":0,"d":"€ 0.00"},{"v":0,"d":"€ 0.00"}]
[null,8815,{"$nulls":7},{"v":0,"d":"€ 0.00"},{"v":0,"d":"€ 0.00"}]
[null,8816,{"$nulls":7},{"v":0,"d":"€ 0.00"},{"v":0,"d":"€ 0.00"}]
[null,8817,{"$nulls":7},{"v":0,"d":"€ 0.00"},{"v":0,"d":"€ 0.00"}]
[null,8818,{"$nulls":7},{"v":0,"d":"€ 0.00"},{"v":0,"d":"€ 0.00"}]
[null,8819,{"$nulls":7},{"v":0,"d":"€ 0.00"},{"v":0,"d":"€ 0.00"}]
[null,8820,{"$nulls":7},{"v":0,"d":"€ 0.00"},{"v":0,"d":"€ 0.00"}]
[null,8821,{"$nulls":7},{"v":0,"d":"€ 0.00"},{"v":0,"d":"€ 0.00"}]
[null,8822,{"$nulls":7},{"v":0,"d":"€ 0.00"},{"v":0,"d":"€ 0.00"}]
[null,8823,{"$nulls":7},{"v":0,"d":"€ 0.00"},{"v":0,"d":"€ 0.00"}]
[null,8824,{"$nulls":7},{"v":0,"d":"€ 0.00"},{"v":0,"d":"€ 0.00"}]
[null,8825,{"$nulls":7},{"v":0,"d":"€ 0.00"},{"v":0,"d":"€ 0.00"}]
[null,8826,{"$nulls":7},{"v":0,"d":"€ 0.00"},{"v":0,"d":"€ 0.00"}]
[null,8827,{"$nulls":7},{"v":0,"d":"€ 0.00"},{"v":0,"d":"€ 0.00"}]
[null,8828,{"$nulls":7},{"v":0,"d":"€ 0.00"},{"v":0,"d":"€ 0.00"}]
[null,8829,{"$nulls":7},{"v":0,"d":"€ 0.00"},{"v":0,"d":"€ 0.00"}]
[null,8830,{"$nulls":7},{"v":0,"d":"€ 0.00"},{"v":0,"d":"€ 0.00"}]
[null,8831,{"$nulls":7},{"v":0,"d":"€ 0.00"},{"v":0,"d":"€ 0.00"}]
[null,8832,{"$nulls":7},{"v":0,"d":"€ 0.00"},{"v":0,"d":"€ 0.00"}]
[null,8833,{"$nulls":7},{"v":0,"d":"€ 0.00"},{"v":0,"d":"€ 0.00"}]
[null,8834,{"$nulls":7},{"v":0,"d":"€ 0.00"},{"v":0,"d":"€ 0.00"}]
[null,8835,{"$nulls":7},{"v":0,"d":"€ 0.00"},{"v":0,"d":"€ 0.00"}]
[null,8836,{"$nulls":7},{"v":0,"d":"€ 0.00"},{"v":0,"d":"€ 0.00"}]
[null,8837,{"$nulls":7},{"v":0,"d":"€ 0.00"},{"v":0,"d":"€ 0.00"}]
[null,8838,{"$nulls":7},{"v":0,"d":"€ 0.00"},{"v":0,"d":"€ 0.00"}]
[null,8839,{"$nulls":7},{"v":0,"d":"€ 0.00"},{"v":0,"d":"€ 0.00"}]
[null,8840,{"$nulls":7},{"v":0,"d":"€ 0.00"},{"v":0,"d":"€ 0.00"}]
[null,8841,{"$nulls":7},{"v":0,"d":"€ 0.00"},{"v":0,"d":"€ 0.00"}]
[null,8842,{"$nulls":7},{"v":0,"d":"€ 0.00"},{"v":0,"d":"€ 0.00"}]
[null,8843,{"$nulls":7},{"v":0,"d":"€ 0.00"},{"v":0,"d":"€ 0.00"}]
[null,8844,{"$nulls":7},{"v":0,"d":"€ 0.00"},{"v":0,"d":"€ 0.00"}]
[null,8845,{"$nulls":7},{"v":0,"d":"€ 0.00"},{"v":0,"d":"€ 0.00"}]
[null,8846,{"$nulls":7},{"v":0,"d":"€ 0.00"},{"v":0,"d":"€ 0.00"}]
[null,8847,{"$nulls":7},{"v":0,"d":"€ 0.00"},{"v":0,"d":"€ 0.00"}]
[null,8848,{"$nulls":7},{"v":0,"d":"€ 0.00"},{"v":0,"d":"€ 0.00"}]
[null,8849,{"$nulls":7},{"v":0,"d":"€ 0.00"},{"v":0,"d":"€ 0.00"}]
[null,8850,{"$nulls":7},{"v":0,"d":"€ 0.00"},{"v":0,"d":"€ 0.00"}]
[null,8851,{"$nulls":7},{"$f":"IF(OR(ISBLANK(H8858)=TRUE,ISBLANK(I8858)=TRUE),,ROUND(H8858*I8858,2))","v":{"v":0,"d":"€ 0.00"}},{"$f":"G8858+J8858","v":{"v":0,"d":"€ 0.00"}}]
[null,8852,{"$nulls":7},{"v":0,"d":"€ 0.00"},{"v":0,"d":"€ 0.00"}]
[null,8853,{"$nulls":7},{"v":0,"d":"€ 0.00"},{"v":0,"d":"€ 0.00"}]
[null,8854,{"$nulls":7},{"v":0,"d":"€ 0.00"},{"v":0,"d":"€ 0.00"}]
[null,8855,{"$nulls":7},{"v":0,"d":"€ 0.00"},{"v":0,"d":"€ 0.00"}]
[null,8856,{"$nulls":7},{"v":0,"d":"€ 0.00"},{"v":0,"d":"€ 0.00"}]
[null,8857,{"$nulls":7},{"v":0,"d":"€ 0.00"},{"v":0,"d":"€ 0.00"}]
[null,8858,{"$nulls":7},{"v":0,"d":"€ 0.00"},{"v":0,"d":"€ 0.00"}]
[null,8859,{"$nulls":7},{"v":0,"d":"€ 0.00"},{"v":0,"d":"€ 0.00"}]
[null,8860,{"$nulls":7},{"v":0,"d":"€ 0.00"},{"v":0,"d":"€ 0.00"}]
[null,8861,{"$nulls":7},{"v":0,"d":"€ 0.00"},{"v":0,"d":"€ 0.00"}]
[null,8862,{"$nulls":7},{"v":0,"d":"€ 0.00"},{"v":0,"d":"€ 0.00"}]
[null,8863,{"$nulls":7},{"v":0,"d":"€ 0.00"},{"v":0,"d":"€ 0.00"}]
[null,8864,{"$nulls":7},{"v":0,"d":"€ 0.00"},{"v":0,"d":"€ 0.00"}]
[null,8865,{"$nulls":7},{"v":0,"d":"€ 0.00"},{"v":0,"d":"€ 0.00"}]
[null,8866,{"$nulls":7},{"v":0,"d":"€ 0.00"},{"v":0,"d":"€ 0.00"}]
[null,8867,{"$nulls":7},{"v":0,"d":"€ 0.00"},{"v":0,"d":"€ 0.00"}]
[null,8868,{"$nulls":7},{"v":0,"d":"€ 0.00"},{"v":0,"d":"€ 0.00"}]
[null,8869,{"$nulls":7},{"v":0,"d":"€ 0.00"},{"v":0,"d":"€ 0.00"}]
[null,8870,{"$nulls":7},{"v":0,"d":"€ 0.00"},{"v":0,"d":"€ 0.00"}]
[null,8871,{"$nulls":7},{"v":0,"d":"€ 0.00"},{"v":0,"d":"€ 0.00"}]
[null,8872,{"$nulls":7},{"v":0,"d":"€ 0.00"},{"v":0,"d":"€ 0.00"}]
[null,8873,{"$nulls":7},{"v":0,"d":"€ 0.00"},{"v":0,"d":"€ 0.00"}]
[null,8874,{"$nulls":7},{"v":0,"d":"€ 0.00"},{"v":0,"d":"€ 0.00"}]
[null,8875,{"$nulls":7},{"v":0,"d":"€ 0.00"},{"v":0,"d":"€ 0.00"}]
[null,8876,{"$nulls":7},{"v":0,"d":"€ 0.00"},{"v":0,"d":"€ 0.00"}]
[null,8877,{"$nulls":7},{"v":0,"d":"€ 0.00"},{"v":0,"d":"€ 0.00"}]
[null,8878,{"$nulls":7},{"v":0,"d":"€ 0.00"},{"v":0,"d":"€ 0.00"}]
[null,8879,{"$nulls":7},{"v":0,"d":"€ 0.00"},{"v":0,"d":"€ 0.00"}]
[null,8880,{"$nulls":7},{"v":0,"d":"€ 0.00"},{"v":0,"d":"€ 0.00"}]
[null,8881,{"$nulls":7},{"v":0,"d":"€ 0.00"},{"v":0,"d":"€ 0.00"}]
[null,8882,{"$nulls":7},{"v":0,"d":"€ 0.00"},{"v":0,"d":"€ 0.00"}]
[null,8883,{"$nulls":7},{"v":0,"d":"€ 0.00"},{"v":0,"d":"€ 0.00"}]
[null,8884,{"$nulls":7},{"v":0,"d":"€ 0.00"},{"v":0,"d":"€ 0.00"}]
[null,8885,{"$nulls":7},{"v":0,"d":"€ 0.00"},{"v":0,"d":"€ 0.00"}]
[null,8886,{"$nulls":7},{"v":0,"d":"€ 0.00"},{"v":0,"d":"€ 0.00"}]
[null,8887,{"$nulls":7},{"v":0,"d":"€ 0.00"},{"v":0,"d":"€ 0.00"}]
[null,8888,{"$nulls":7},{"v":0,"d":"€ 0.00"},{"v":0,"d":"€ 0.00"}]
[null,8889,{"$nulls":7},{"v":0,"d":"€ 0.00"},{"v":0,"d":"€ 0.00"}]
[null,8890,{"$nulls":7},{"v":0,"d":"€ 0.00"},{"v":0,"d":"€ 0.00"}]
[null,8891,{"$nulls":7},{"v":0,"d":"€ 0.00"},{"v":0,"d":"€ 0.00"}]
[null,8892,{"$nulls":7},{"v":0,"d":"€ 0.00"},{"v":0,"d":"€ 0.00"}]
[null,8893,{"$nulls":7},{"v":0,"d":"€ 0.00"},{"v":0,"d":"€ 0.00"}]
[null,8894,{"$nulls":7},{"v":0,"d":"€ 0.00"},{"v":0,"d":"€ 0.00"}]
[null,8895,{"$nulls":7},{"v":0,"d":"€ 0.00"},{"v":0,"d":"€ 0.00"}]
[null,8896,{"$nulls":7},{"v":0,"d":"€ 0.00"},{"v":0,"d":"€ 0.00"}]
[null,8897,{"$nulls":7},{"v":0,"d":"€ 0.00"},{"v":0,"d":"€ 0.00"}]
[null,8898,{"$nulls":7},{"v":0,"d":"€ 0.00"},{"v":0,"d":"€ 0.00"}]
[null,8899,{"$nulls":7},{"v":0,"d":"€ 0.00"},{"v":0,"d":"€ 0.00"}]
[null,8900,{"$nulls":7},{"v":0,"d":"€ 0.00"},{"v":0,"d":"€ 0.00"}]
[null,8901,{"$nulls":7},{"v":0,"d":"€ 0.00"},{"v":0,"d":"€ 0.00"}]
[null,8902,{"$nulls":7},{"v":0,"d":"€ 0.00"},{"v":0,"d":"€ 0.00"}]
[null,8903,{"$nulls":7},{"v":0,"d":"€ 0.00"},{"v":0,"d":"€ 0.00"}]
[null,8904,{"$nulls":7},{"v":0,"d":"€ 0.00"},{"v":0,"d":"€ 0.00"}]
[null,8905,{"$nulls":7},{"v":0,"d":"€ 0.00"},{"v":0,"d":"€ 0.00"}]
[null,8906,{"$nulls":7},{"v":0,"d":"€ 0.00"},{"v":0,"d":"€ 0.00"}]
[null,8907,{"$nulls":7},{"v":0,"d":"€ 0.00"},{"v":0,"d":"€ 0.00"}]
[null,8908,{"$nulls":7},{"v":0,"d":"€ 0.00"},{"v":0,"d":"€ 0.00"}]
[null,8909,{"$nulls":7},{"v":0,"d":"€ 0.00"},{"v":0,"d":"€ 0.00"}]
[null,8910,{"$nulls":7},{"v":0,"d":"€ 0.00"},{"v":0,"d":"€ 0.00"}]
[null,8911,{"$nulls":7},{"v":0,"d":"€ 0.00"},{"v":0,"d":"€ 0.00"}]
[null,8912,{"$nulls":7},{"v":0,"d":"€ 0.00"},{"v":0,"d":"€ 0.00"}]
[null,8913,{"$nulls":7},{"v":0,"d":"€ 0.00"},{"v":0,"d":"€ 0.00"}]
[null,8914,{"$nulls":7},{"v":0,"d":"€ 0.00"},{"v":0,"d":"€ 0.00"}]
[null,8915,{"$nulls":7},{"$f":"IF(OR(ISBLANK(H8922)=TRUE,ISBLANK(I8922)=TRUE),,ROUND(H8922*I8922,2))","v":{"v":0,"d":"€ 0.00"}},{"$f":"G8922+J8922","v":{"v":0,"d":"€ 0.00"}}]
[null,8916,{"$nulls":7},{"v":0,"d":"€ 0.00"},{"v":0,"d":"€ 0.00"}]
[null,8917,{"$nulls":7},{"v":0,"d":"€ 0.00"},{"v":0,"d":"€ 0.00"}]
[null,8918,{"$nulls":7},{"v":0,"d":"€ 0.00"},{"v":0,"d":"€ 0.00"}]
[null,8919,{"$nulls":7},{"v":0,"d":"€ 0.00"},{"v":0,"d":"€ 0.00"}]
[null,8920,{"$nulls":7},{"v":0,"d":"€ 0.00"},{"v":0,"d":"€ 0.00"}]
[null,8921,{"$nulls":7},{"v":0,"d":"€ 0.00"},{"v":0,"d":"€ 0.00"}]
[null,8922,{"$nulls":7},{"v":0,"d":"€ 0.00"},{"v":0,"d":"€ 0.00"}]
[null,8923,{"$nulls":7},{"v":0,"d":"€ 0.00"},{"v":0,"d":"€ 0.00"}]
[null,8924,{"$nulls":7},{"v":0,"d":"€ 0.00"},{"v":0,"d":"€ 0.00"}]
[null,8925,{"$nulls":7},{"v":0,"d":"€ 0.00"},{"v":0,"d":"€ 0.00"}]
[null,8926,{"$nulls":7},{"v":0,"d":"€ 0.00"},{"v":0,"d":"€ 0.00"}]
[null,8927,{"$nulls":7},{"v":0,"d":"€ 0.00"},{"v":0,"d":"€ 0.00"}]
[null,8928,{"$nulls":7},{"v":0,"d":"€ 0.00"},{"v":0,"d":"€ 0.00"}]
[null,8929,{"$nulls":7},{"v":0,"d":"€ 0.00"},{"v":0,"d":"€ 0.00"}]
[null,8930,{"$nulls":7},{"v":0,"d":"€ 0.00"},{"v":0,"d":"€ 0.00"}]
[null,8931,{"$nulls":7},{"v":0,"d":"€ 0.00"},{"v":0,"d":"€ 0.00"}]
[null,8932,{"$nulls":7},{"v":0,"d":"€ 0.00"},{"v":0,"d":"€ 0.00"}]
[null,8933,{"$nulls":7},{"v":0,"d":"€ 0.00"},{"v":0,"d":"€ 0.00"}]
[null,8934,{"$nulls":7},{"v":0,"d":"€ 0.00"},{"v":0,"d":"€ 0.00"}]
[null,8935,{"$nulls":7},{"v":0,"d":"€ 0.00"},{"v":0,"d":"€ 0.00"}]
[null,8936,{"$nulls":7},{"v":0,"d":"€ 0.00"},{"v":0,"d":"€ 0.00"}]
[null,8937,{"$nulls":7},{"v":0,"d":"€ 0.00"},{"v":0,"d":"€ 0.00"}]
[null,8938,{"$nulls":7},{"v":0,"d":"€ 0.00"},{"v":0,"d":"€ 0.00"}]
[null,8939,{"$nulls":7},{"v":0,"d":"€ 0.00"},{"v":0,"d":"€ 0.00"}]
[null,8940,{"$nulls":7},{"v":0,"d":"€ 0.00"},{"v":0,"d":"€ 0.00"}]
[null,8941,{"$nulls":7},{"v":0,"d":"€ 0.00"},{"v":0,"d":"€ 0.00"}]
[null,8942,{"$nulls":7},{"v":0,"d":"€ 0.00"},{"v":0,"d":"€ 0.00"}]
[null,8943,{"$nulls":7},{"v":0,"d":"€ 0.00"},{"v":0,"d":"€ 0.00"}]
[null,8944,{"$nulls":7},{"v":0,"d":"€ 0.00"},{"v":0,"d":"€ 0.00"}]
[null,8945,{"$nulls":7},{"v":0,"d":"€ 0.00"},{"v":0,"d":"€ 0.00"}]
[null,8946,{"$nulls":7},{"v":0,"d":"€ 0.00"},{"v":0,"d":"€ 0.00"}]
[null,8947,{"$nulls":7},{"v":0,"d":"€ 0.00"},{"v":0,"d":"€ 0.00"}]
[null,8948,{"$nulls":7},{"v":0,"d":"€ 0.00"},{"v":0,"d":"€ 0.00"}]
[null,8949,{"$nulls":7},{"v":0,"d":"€ 0.00"},{"v":0,"d":"€ 0.00"}]
[null,8950,{"$nulls":7},{"v":0,"d":"€ 0.00"},{"v":0,"d":"€ 0.00"}]
[null,8951,{"$nulls":7},{"v":0,"d":"€ 0.00"},{"v":0,"d":"€ 0.00"}]
[null,8952,{"$nulls":7},{"v":0,"d":"€ 0.00"},{"v":0,"d":"€ 0.00"}]
[null,8953,{"$nulls":7},{"v":0,"d":"€ 0.00"},{"v":0,"d":"€ 0.00"}]
[null,8954,{"$nulls":7},{"v":0,"d":"€ 0.00"},{"v":0,"d":"€ 0.00"}]
[null,8955,{"$nulls":7},{"v":0,"d":"€ 0.00"},{"v":0,"d":"€ 0.00"}]
[null,8956,{"$nulls":7},{"v":0,"d":"€ 0.00"},{"v":0,"d":"€ 0.00"}]
[null,8957,{"$nulls":7},{"v":0,"d":"€ 0.00"},{"v":0,"d":"€ 0.00"}]
[null,8958,{"$nulls":7},{"v":0,"d":"€ 0.00"},{"v":0,"d":"€ 0.00"}]
[null,8959,{"$nulls":7},{"v":0,"d":"€ 0.00"},{"v":0,"d":"€ 0.00"}]
[null,8960,{"$nulls":7},{"v":0,"d":"€ 0.00"},{"v":0,"d":"€ 0.00"}]
[null,8961,{"$nulls":7},{"v":0,"d":"€ 0.00"},{"v":0,"d":"€ 0.00"}]
[null,8962,{"$nulls":7},{"v":0,"d":"€ 0.00"},{"v":0,"d":"€ 0.00"}]
[null,8963,{"$nulls":7},{"v":0,"d":"€ 0.00"},{"v":0,"d":"€ 0.00"}]
[null,8964,{"$nulls":7},{"v":0,"d":"€ 0.00"},{"v":0,"d":"€ 0.00"}]
[null,8965,{"$nulls":7},{"v":0,"d":"€ 0.00"},{"v":0,"d":"€ 0.00"}]
[null,8966,{"$nulls":7},{"v":0,"d":"€ 0.00"},{"v":0,"d":"€ 0.00"}]
[null,8967,{"$nulls":7},{"v":0,"d":"€ 0.00"},{"v":0,"d":"€ 0.00"}]
[null,8968,{"$nulls":7},{"v":0,"d":"€ 0.00"},{"v":0,"d":"€ 0.00"}]
[null,8969,{"$nulls":7},{"v":0,"d":"€ 0.00"},{"v":0,"d":"€ 0.00"}]
[null,8970,{"$nulls":7},{"v":0,"d":"€ 0.00"},{"v":0,"d":"€ 0.00"}]
[null,8971,{"$nulls":7},{"v":0,"d":"€ 0.00"},{"v":0,"d":"€ 0.00"}]
[null,8972,{"$nulls":7},{"v":0,"d":"€ 0.00"},{"v":0,"d":"€ 0.00"}]
[null,8973,{"$nulls":7},{"v":0,"d":"€ 0.00"},{"v":0,"d":"€ 0.00"}]
[null,8974,{"$nulls":7},{"v":0,"d":"€ 0.00"},{"v":0,"d":"€ 0.00"}]
[null,8975,{"$nulls":7},{"v":0,"d":"€ 0.00"},{"v":0,"d":"€ 0.00"}]
[null,8976,{"$nulls":7},{"v":0,"d":"€ 0.00"},{"v":0,"d":"€ 0.00"}]
[null,8977,{"$nulls":7},{"v":0,"d":"€ 0.00"},{"v":0,"d":"€ 0.00"}]
[null,8978,{"$nulls":7},{"v":0,"d":"€ 0.00"},{"v":0,"d":"€ 0.00"}]
[null,8979,{"$nulls":7},{"$f":"IF(OR(ISBLANK(H8986)=TRUE,ISBLANK(I8986)=TRUE),,ROUND(H8986*I8986,2))","v":{"v":0,"d":"€ 0.00"}},{"$f":"G8986+J8986","v":{"v":0,"d":"€ 0.00"}}]
[null,8980,{"$nulls":7},{"v":0,"d":"€ 0.00"},{"v":0,"d":"€ 0.00"}]
[null,8981,{"$nulls":7},{"v":0,"d":"€ 0.00"},{"v":0,"d":"€ 0.00"}]
[null,8982,{"$nulls":7},{"v":0,"d":"€ 0.00"},{"v":0,"d":"€ 0.00"}]
[null,8983,{"$nulls":7},{"v":0,"d":"€ 0.00"},{"v":0,"d":"€ 0.00"}]
[null,8984,{"$nulls":7},{"v":0,"d":"€ 0.00"},{"v":0,"d":"€ 0.00"}]
[null,8985,{"$nulls":7},{"v":0,"d":"€ 0.00"},{"v":0,"d":"€ 0.00"}]
[null,8986,{"$nulls":7},{"v":0,"d":"€ 0.00"},{"v":0,"d":"€ 0.00"}]
[null,8987,{"$nulls":7},{"v":0,"d":"€ 0.00"},{"v":0,"d":"€ 0.00"}]
[null,8988,{"$nulls":7},{"v":0,"d":"€ 0.00"},{"v":0,"d":"€ 0.00"}]
[null,8989,{"$nulls":7},{"v":0,"d":"€ 0.00"},{"v":0,"d":"€ 0.00"}]
[null,8990,{"$nulls":7},{"v":0,"d":"€ 0.00"},{"v":0,"d":"€ 0.00"}]
[null,8991,{"$nulls":7},{"v":0,"d":"€ 0.00"},{"v":0,"d":"€ 0.00"}]
[null,8992,{"$nulls":7},{"v":0,"d":"€ 0.00"},{"v":0,"d":"€ 0.00"}]
[null,8993,{"$nulls":7},{"v":0,"d":"€ 0.00"},{"v":0,"d":"€ 0.00"}]
[null,8994,{"$nulls":7},{"v":0,"d":"€ 0.00"},{"v":0,"d":"€ 0.00"}]
[null,8995,{"$nulls":7},{"v":0,"d":"€ 0.00"},{"v":0,"d":"€ 0.00"}]
[null,8996,{"$nulls":7},{"v":0,"d":"€ 0.00"},{"v":0,"d":"€ 0.00"}]
[null,8997,{"$nulls":7},{"v":0,"d":"€ 0.00"},{"v":0,"d":"€ 0.00"}]
[null,8998,{"$nulls":7},{"v":0,"d":"€ 0.00"},{"v":0,"d":"€ 0.00"}]
[null,8999,{"$nulls":7},{"v":0,"d":"€ 0.00"},{"v":0,"d":"€ 0.00"}]
[null,9000,{"$nulls":7},{"v":0,"d":"€ 0.00"},{"v":0,"d":"€ 0.00"}]
[null,9001,{"$nulls":7},{"v":0,"d":"€ 0.00"},{"v":0,"d":"€ 0.00"}]
[null,9002,{"$nulls":7},{"v":0,"d":"€ 0.00"},{"v":0,"d":"€ 0.00"}]
[null,9003,{"$nulls":7},{"v":0,"d":"€ 0.00"},{"v":0,"d":"€ 0.00"}]
[null,9004,{"$nulls":7},{"v":0,"d":"€ 0.00"},{"v":0,"d":"€ 0.00"}]
[null,9005,{"$nulls":7},{"v":0,"d":"€ 0.00"},{"v":0,"d":"€ 0.00"}]
[null,9006,{"$nulls":7},{"v":0,"d":"€ 0.00"},{"v":0,"d":"€ 0.00"}]
[null,9007,{"$nulls":7},{"v":0,"d":"€ 0.00"},{"v":0,"d":"€ 0.00"}]
[null,9008,{"$nulls":7},{"v":0,"d":"€ 0.00"},{"v":0,"d":"€ 0.00"}]
[null,9009,{"$nulls":7},{"v":0,"d":"€ 0.00"},{"v":0,"d":"€ 0.00"}]
[null,9010,{"$nulls":7},{"v":0,"d":"€ 0.00"},{"v":0,"d":"€ 0.00"}]
[null,9011,{"$nulls":7},{"v":0,"d":"€ 0.00"},{"v":0,"d":"€ 0.00"}]
[null,9012,{"$nulls":7},{"v":0,"d":"€ 0.00"},{"v":0,"d":"€ 0.00"}]
[null,9013,{"$nulls":7},{"v":0,"d":"€ 0.00"},{"v":0,"d":"€ 0.00"}]
[null,9014,{"$nulls":7},{"v":0,"d":"€ 0.00"},{"v":0,"d":"€ 0.00"}]
[null,9015,{"$nulls":7},{"v":0,"d":"€ 0.00"},{"v":0,"d":"€ 0.00"}]
[null,9016,{"$nulls":7},{"v":0,"d":"€ 0.00"},{"v":0,"d":"€ 0.00"}]
[null,9017,{"$nulls":7},{"v":0,"d":"€ 0.00"},{"v":0,"d":"€ 0.00"}]
[null,9018,{"$nulls":7},{"v":0,"d":"€ 0.00"},{"v":0,"d":"€ 0.00"}]
[null,9019,{"$nulls":7},{"v":0,"d":"€ 0.00"},{"v":0,"d":"€ 0.00"}]
[null,9020,{"$nulls":7},{"v":0,"d":"€ 0.00"},{"v":0,"d":"€ 0.00"}]
[null,9021,{"$nulls":7},{"v":0,"d":"€ 0.00"},{"v":0,"d":"€ 0.00"}]
[null,9022,{"$nulls":7},{"v":0,"d":"€ 0.00"},{"v":0,"d":"€ 0.00"}]
[null,9023,{"$nulls":7},{"v":0,"d":"€ 0.00"},{"v":0,"d":"€ 0.00"}]
[null,9024,{"$nulls":7},{"v":0,"d":"€ 0.00"},{"v":0,"d":"€ 0.00"}]
[null,9025,{"$nulls":7},{"v":0,"d":"€ 0.00"},{"v":0,"d":"€ 0.00"}]
[null,9026,{"$nulls":7},{"v":0,"d":"€ 0.00"},{"v":0,"d":"€ 0.00"}]
[null,9027,{"$nulls":7},{"v":0,"d":"€ 0.00"},{"v":0,"d":"€ 0.00"}]
[null,9028,{"$nulls":7},{"v":0,"d":"€ 0.00"},{"v":0,"d":"€ 0.00"}]
[null,9029,{"$nulls":7},{"v":0,"d":"€ 0.00"},{"v":0,"d":"€ 0.00"}]
[null,9030,{"$nulls":7},{"v":0,"d":"€ 0.00"},{"v":0,"d":"€ 0.00"}]
[null,9031,{"$nulls":7},{"v":0,"d":"€ 0.00"},{"v":0,"d":"€ 0.00"}]
[null,9032,{"$nulls":7},{"v":0,"d":"€ 0.00"},{"v":0,"d":"€ 0.00"}]
[null,9033,{"$nulls":7},{"v":0,"d":"€ 0.00"},{"v":0,"d":"€ 0.00"}]
[null,9034,{"$nulls":7},{"v":0,"d":"€ 0.00"},{"v":0,"d":"€ 0.00"}]
[null,9035,{"$nulls":7},{"v":0,"d":"€ 0.00"},{"v":0,"d":"€ 0.00"}]
[null,9036,{"$nulls":7},{"v":0,"d":"€ 0.00"},{"v":0,"d":"€ 0.00"}]
[null,9037,{"$nulls":7},{"v":0,"d":"€ 0.00"},{"v":0,"d":"€ 0.00"}]
[null,9038,{"$nulls":7},{"v":0,"d":"€ 0.00"},{"v":0,"d":"€ 0.00"}]
[null,9039,{"$nulls":7},{"v":0,"d":"€ 0.00"},{"v":0,"d":"€ 0.00"}]
[null,9040,{"$nulls":7},{"v":0,"d":"€ 0.00"},{"v":0,"d":"€ 0.00"}]
[null,9041,{"$nulls":7},{"v":0,"d":"€ 0.00"},{"v":0,"d":"€ 0.00"}]
[null,9042,{"$nulls":7},{"v":0,"d":"€ 0.00"},{"v":0,"d":"€ 0.00"}]
[null,9043,{"$nulls":7},{"$f":"IF(OR(ISBLANK(H9050)=TRUE,ISBLANK(I9050)=TRUE),,ROUND(H9050*I9050,2))","v":{"v":0,"d":"€ 0.00"}},{"$f":"G9050+J9050","v":{"v":0,"d":"€ 0.00"}}]
[null,9044,{"$nulls":7},{"v":0,"d":"€ 0.00"},{"v":0,"d":"€ 0.00"}]
[null,9045,{"$nulls":7},{"v":0,"d":"€ 0.00"},{"v":0,"d":"€ 0.00"}]
[null,9046,{"$nulls":7},{"v":0,"d":"€ 0.00"},{"v":0,"d":"€ 0.00"}]
[null,9047,{"$nulls":7},{"v":0,"d":"€ 0.00"},{"v":0,"d":"€ 0.00"}]
[null,9048,{"$nulls":7},{"v":0,"d":"€ 0.00"},{"v":0,"d":"€ 0.00"}]
[null,9049,{"$nulls":7},{"v":0,"d":"€ 0.00"},{"v":0,"d":"€ 0.00"}]
[null,9050,{"$nulls":7},{"v":0,"d":"€ 0.00"},{"v":0,"d":"€ 0.00"}]
[null,9051,{"$nulls":7},{"v":0,"d":"€ 0.00"},{"v":0,"d":"€ 0.00"}]
[null,9052,{"$nulls":7},{"v":0,"d":"€ 0.00"},{"v":0,"d":"€ 0.00"}]
[null,9053,{"$nulls":7},{"v":0,"d":"€ 0.00"},{"v":0,"d":"€ 0.00"}]
[null,9054,{"$nulls":7},{"v":0,"d":"€ 0.00"},{"v":0,"d":"€ 0.00"}]
[null,9055,{"$nulls":7},{"v":0,"d":"€ 0.00"},{"v":0,"d":"€ 0.00"}]
[null,9056,{"$nulls":7},{"v":0,"d":"€ 0.00"},{"v":0,"d":"€ 0.00"}]
[null,9057,{"$nulls":7},{"v":0,"d":"€ 0.00"},{"v":0,"d":"€ 0.00"}]
[null,9058,{"$nulls":7},{"v":0,"d":"€ 0.00"},{"v":0,"d":"€ 0.00"}]
[null,9059,{"$nulls":7},{"v":0,"d":"€ 0.00"},{"v":0,"d":"€ 0.00"}]
[null,9060,{"$nulls":7},{"v":0,"d":"€ 0.00"},{"v":0,"d":"€ 0.00"}]
[null,9061,{"$nulls":7},{"v":0,"d":"€ 0.00"},{"v":0,"d":"€ 0.00"}]
[null,9062,{"$nulls":7},{"v":0,"d":"€ 0.00"},{"v":0,"d":"€ 0.00"}]
[null,9063,{"$nulls":7},{"v":0,"d":"€ 0.00"},{"v":0,"d":"€ 0.00"}]
[null,9064,{"$nulls":7},{"v":0,"d":"€ 0.00"},{"v":0,"d":"€ 0.00"}]
[null,9065,{"$nulls":7},{"v":0,"d":"€ 0.00"},{"v":0,"d":"€ 0.00"}]
[null,9066,{"$nulls":7},{"v":0,"d":"€ 0.00"},{"v":0,"d":"€ 0.00"}]
[null,9067,{"$nulls":7},{"v":0,"d":"€ 0.00"},{"v":0,"d":"€ 0.00"}]
[null,9068,{"$nulls":7},{"v":0,"d":"€ 0.00"},{"v":0,"d":"€ 0.00"}]
[null,9069,{"$nulls":7},{"v":0,"d":"€ 0.00"},{"v":0,"d":"€ 0.00"}]
[null,9070,{"$nulls":7},{"v":0,"d":"€ 0.00"},{"v":0,"d":"€ 0.00"}]
[null,9071,{"$nulls":7},{"v":0,"d":"€ 0.00"},{"v":0,"d":"€ 0.00"}]
[null,9072,{"$nulls":7},{"v":0,"d":"€ 0.00"},{"v":0,"d":"€ 0.00"}]
[null,9073,{"$nulls":7},{"v":0,"d":"€ 0.00"},{"v":0,"d":"€ 0.00"}]
[null,9074,{"$nulls":7},{"v":0,"d":"€ 0.00"},{"v":0,"d":"€ 0.00"}]
[null,9075,{"$nulls":7},{"v":0,"d":"€ 0.00"},{"v":0,"d":"€ 0.00"}]
[null,9076,{"$nulls":7},{"v":0,"d":"€ 0.00"},{"v":0,"d":"€ 0.00"}]
[null,9077,{"$nulls":7},{"v":0,"d":"€ 0.00"},{"v":0,"d":"€ 0.00"}]
[null,9078,{"$nulls":7},{"v":0,"d":"€ 0.00"},{"v":0,"d":"€ 0.00"}]
[null,9079,{"$nulls":7},{"v":0,"d":"€ 0.00"},{"v":0,"d":"€ 0.00"}]
[null,9080,{"$nulls":7},{"v":0,"d":"€ 0.00"},{"v":0,"d":"€ 0.00"}]
[null,9081,{"$nulls":7},{"v":0,"d":"€ 0.00"},{"v":0,"d":"€ 0.00"}]
[null,9082,{"$nulls":7},{"v":0,"d":"€ 0.00"},{"v":0,"d":"€ 0.00"}]
[null,9083,{"$nulls":7},{"v":0,"d":"€ 0.00"},{"v":0,"d":"€ 0.00"}]
[null,9084,{"$nulls":7},{"v":0,"d":"€ 0.00"},{"v":0,"d":"€ 0.00"}]
[null,9085,{"$nulls":7},{"v":0,"d":"€ 0.00"},{"v":0,"d":"€ 0.00"}]
[null,9086,{"$nulls":7},{"v":0,"d":"€ 0.00"},{"v":0,"d":"€ 0.00"}]
[null,9087,{"$nulls":7},{"v":0,"d":"€ 0.00"},{"v":0,"d":"€ 0.00"}]
[null,9088,{"$nulls":7},{"v":0,"d":"€ 0.00"},{"v":0,"d":"€ 0.00"}]
[null,9089,{"$nulls":7},{"v":0,"d":"€ 0.00"},{"v":0,"d":"€ 0.00"}]
[null,9090,{"$nulls":7},{"v":0,"d":"€ 0.00"},{"v":0,"d":"€ 0.00"}]
[null,9091,{"$nulls":7},{"v":0,"d":"€ 0.00"},{"v":0,"d":"€ 0.00"}]
[null,9092,{"$nulls":7},{"v":0,"d":"€ 0.00"},{"v":0,"d":"€ 0.00"}]
[null,9093,{"$nulls":7},{"v":0,"d":"€ 0.00"},{"v":0,"d":"€ 0.00"}]
[null,9094,{"$nulls":7},{"v":0,"d":"€ 0.00"},{"v":0,"d":"€ 0.00"}]
[null,9095,{"$nulls":7},{"v":0,"d":"€ 0.00"},{"v":0,"d":"€ 0.00"}]
[null,9096,{"$nulls":7},{"v":0,"d":"€ 0.00"},{"v":0,"d":"€ 0.00"}]
[null,9097,{"$nulls":7},{"v":0,"d":"€ 0.00"},{"v":0,"d":"€ 0.00"}]
[null,9098,{"$nulls":7},{"v":0,"d":"€ 0.00"},{"v":0,"d":"€ 0.00"}]
[null,9099,{"$nulls":7},{"v":0,"d":"€ 0.00"},{"v":0,"d":"€ 0.00"}]
[null,9100,{"$nulls":7},{"v":0,"d":"€ 0.00"},{"v":0,"d":"€ 0.00"}]
[null,9101,{"$nulls":7},{"v":0,"d":"€ 0.00"},{"v":0,"d":"€ 0.00"}]
[null,9102,{"$nulls":7},{"v":0,"d":"€ 0.00"},{"v":0,"d":"€ 0.00"}]
[null,9103,{"$nulls":7},{"v":0,"d":"€ 0.00"},{"v":0,"d":"€ 0.00"}]
[null,9104,{"$nulls":7},{"v":0,"d":"€ 0.00"},{"v":0,"d":"€ 0.00"}]
[null,9105,{"$nulls":7},{"v":0,"d":"€ 0.00"},{"v":0,"d":"€ 0.00"}]
[null,9106,{"$nulls":7},{"v":0,"d":"€ 0.00"},{"v":0,"d":"€ 0.00"}]
[null,9107,{"$nulls":7},{"$f":"IF(OR(ISBLANK(H9114)=TRUE,ISBLANK(I9114)=TRUE),,ROUND(H9114*I9114,2))","v":{"v":0,"d":"€ 0.00"}},{"$f":"G9114+J9114","v":{"v":0,"d":"€ 0.00"}}]
[null,9108,{"$nulls":7},{"v":0,"d":"€ 0.00"},{"v":0,"d":"€ 0.00"}]
[null,9109,{"$nulls":7},{"v":0,"d":"€ 0.00"},{"v":0,"d":"€ 0.00"}]
[null,9110,{"$nulls":7},{"v":0,"d":"€ 0.00"},{"v":0,"d":"€ 0.00"}]
[null,9111,{"$nulls":7},{"v":0,"d":"€ 0.00"},{"v":0,"d":"€ 0.00"}]
[null,9112,{"$nulls":7},{"v":0,"d":"€ 0.00"},{"v":0,"d":"€ 0.00"}]
[null,9113,{"$nulls":7},{"v":0,"d":"€ 0.00"},{"v":0,"d":"€ 0.00"}]
[null,9114,{"$nulls":7},{"v":0,"d":"€ 0.00"},{"v":0,"d":"€ 0.00"}]
[null,9115,{"$nulls":7},{"v":0,"d":"€ 0.00"},{"v":0,"d":"€ 0.00"}]
[null,9116,{"$nulls":7},{"v":0,"d":"€ 0.00"},{"v":0,"d":"€ 0.00"}]
[null,9117,{"$nulls":7},{"v":0,"d":"€ 0.00"},{"v":0,"d":"€ 0.00"}]
[null,9118,{"$nulls":7},{"v":0,"d":"€ 0.00"},{"v":0,"d":"€ 0.00"}]
[null,9119,{"$nulls":7},{"v":0,"d":"€ 0.00"},{"v":0,"d":"€ 0.00"}]
[null,9120,{"$nulls":7},{"v":0,"d":"€ 0.00"},{"v":0,"d":"€ 0.00"}]
[null,9121,{"$nulls":7},{"v":0,"d":"€ 0.00"},{"v":0,"d":"€ 0.00"}]
[null,9122,{"$nulls":7},{"v":0,"d":"€ 0.00"},{"v":0,"d":"€ 0.00"}]
[null,9123,{"$nulls":7},{"v":0,"d":"€ 0.00"},{"v":0,"d":"€ 0.00"}]
[null,9124,{"$nulls":7},{"v":0,"d":"€ 0.00"},{"v":0,"d":"€ 0.00"}]
[null,9125,{"$nulls":7},{"v":0,"d":"€ 0.00"},{"v":0,"d":"€ 0.00"}]
[null,9126,{"$nulls":7},{"v":0,"d":"€ 0.00"},{"v":0,"d":"€ 0.00"}]
[null,9127,{"$nulls":7},{"v":0,"d":"€ 0.00"},{"v":0,"d":"€ 0.00"}]
[null,9128,{"$nulls":7},{"v":0,"d":"€ 0.00"},{"v":0,"d":"€ 0.00"}]
[null,9129,{"$nulls":7},{"v":0,"d":"€ 0.00"},{"v":0,"d":"€ 0.00"}]
[null,9130,{"$nulls":7},{"v":0,"d":"€ 0.00"},{"v":0,"d":"€ 0.00"}]
[null,9131,{"$nulls":7},{"v":0,"d":"€ 0.00"},{"v":0,"d":"€ 0.00"}]
[null,9132,{"$nulls":7},{"v":0,"d":"€ 0.00"},{"v":0,"d":"€ 0.00"}]
[null,9133,{"$nulls":7},{"v":0,"d":"€ 0.00"},{"v":0,"d":"€ 0.00"}]
[null,9134,{"$nulls":7},{"v":0,"d":"€ 0.00"},{"v":0,"d":"€ 0.00"}]
[null,9135,{"$nulls":7},{"v":0,"d":"€ 0.00"},{"v":0,"d":"€ 0.00"}]
[null,9136,{"$nulls":7},{"v":0,"d":"€ 0.00"},{"v":0,"d":"€ 0.00"}]
[null,9137,{"$nulls":7},{"v":0,"d":"€ 0.00"},{"v":0,"d":"€ 0.00"}]
[null,9138,{"$nulls":7},{"v":0,"d":"€ 0.00"},{"v":0,"d":"€ 0.00"}]
[null,9139,{"$nulls":7},{"v":0,"d":"€ 0.00"},{"v":0,"d":"€ 0.00"}]
[null,9140,{"$nulls":7},{"v":0,"d":"€ 0.00"},{"v":0,"d":"€ 0.00"}]
[null,9141,{"$nulls":7},{"v":0,"d":"€ 0.00"},{"v":0,"d":"€ 0.00"}]
[null,9142,{"$nulls":7},{"v":0,"d":"€ 0.00"},{"v":0,"d":"€ 0.00"}]
[null,9143,{"$nulls":7},{"v":0,"d":"€ 0.00"},{"v":0,"d":"€ 0.00"}]
[null,9144,{"$nulls":7},{"v":0,"d":"€ 0.00"},{"v":0,"d":"€ 0.00"}]
[null,9145,{"$nulls":7},{"v":0,"d":"€ 0.00"},{"v":0,"d":"€ 0.00"}]
[null,9146,{"$nulls":7},{"v":0,"d":"€ 0.00"},{"v":0,"d":"€ 0.00"}]
[null,9147,{"$nulls":7},{"v":0,"d":"€ 0.00"},{"v":0,"d":"€ 0.00"}]
[null,9148,{"$nulls":7},{"v":0,"d":"€ 0.00"},{"v":0,"d":"€ 0.00"}]
[null,9149,{"$nulls":7},{"v":0,"d":"€ 0.00"},{"v":0,"d":"€ 0.00"}]
[null,9150,{"$nulls":7},{"v":0,"d":"€ 0.00"},{"v":0,"d":"€ 0.00"}]
[null,9151,{"$nulls":7},{"v":0,"d":"€ 0.00"},{"v":0,"d":"€ 0.00"}]
[null,9152,{"$nulls":7},{"v":0,"d":"€ 0.00"},{"v":0,"d":"€ 0.00"}]
[null,9153,{"$nulls":7},{"v":0,"d":"€ 0.00"},{"v":0,"d":"€ 0.00"}]
[null,9154,{"$nulls":7},{"v":0,"d":"€ 0.00"},{"v":0,"d":"€ 0.00"}]
[null,9155,{"$nulls":7},{"v":0,"d":"€ 0.00"},{"v":0,"d":"€ 0.00"}]
[null,9156,{"$nulls":7},{"v":0,"d":"€ 0.00"},{"v":0,"d":"€ 0.00"}]
[null,9157,{"$nulls":7},{"v":0,"d":"€ 0.00"},{"v":0,"d":"€ 0.00"}]
[null,9158,{"$nulls":7},{"v":0,"d":"€ 0.00"},{"v":0,"d":"€ 0.00"}]
[null,9159,{"$nulls":7},{"v":0,"d":"€ 0.00"},{"v":0,"d":"€ 0.00"}]
[null,9160,{"$nulls":7},{"v":0,"d":"€ 0.00"},{"v":0,"d":"€ 0.00"}]
[null,9161,{"$nulls":7},{"v":0,"d":"€ 0.00"},{"v":0,"d":"€ 0.00"}]
[null,9162,{"$nulls":7},{"v":0,"d":"€ 0.00"},{"v":0,"d":"€ 0.00"}]
[null,9163,{"$nulls":7},{"v":0,"d":"€ 0.00"},{"v":0,"d":"€ 0.00"}]
[null,9164,{"$nulls":7},{"v":0,"d":"€ 0.00"},{"v":0,"d":"€ 0.00"}]
[null,9165,{"$nulls":7},{"v":0,"d":"€ 0.00"},{"v":0,"d":"€ 0.00"}]
[null,9166,{"$nulls":7},{"v":0,"d":"€ 0.00"},{"v":0,"d":"€ 0.00"}]
[null,9167,{"$nulls":7},{"v":0,"d":"€ 0.00"},{"v":0,"d":"€ 0.00"}]
[null,9168,{"$nulls":7},{"v":0,"d":"€ 0.00"},{"v":0,"d":"€ 0.00"}]
[null,9169,{"$nulls":7},{"v":0,"d":"€ 0.00"},{"v":0,"d":"€ 0.00"}]
[null,9170,{"$nulls":7},{"v":0,"d":"€ 0.00"},{"v":0,"d":"€ 0.00"}]
[null,9171,{"$nulls":7},{"$f":"IF(OR(ISBLANK(H9178)=TRUE,ISBLANK(I9178)=TRUE),,ROUND(H9178*I9178,2))","v":{"v":0,"d":"€ 0.00"}},{"$f":"G9178+J9178","v":{"v":0,"d":"€ 0.00"}}]
[null,9172,{"$nulls":7},{"v":0,"d":"€ 0.00"},{"v":0,"d":"€ 0.00"}]
[null,9173,{"$nulls":7},{"v":0,"d":"€ 0.00"},{"v":0,"d":"€ 0.00"}]
[null,9174,{"$nulls":7},{"v":0,"d":"€ 0.00"},{"v":0,"d":"€ 0.00"}]
[null,9175,{"$nulls":7},{"v":0,"d":"€ 0.00"},{"v":0,"d":"€ 0.00"}]
[null,9176,{"$nulls":7},{"v":0,"d":"€ 0.00"},{"v":0,"d":"€ 0.00"}]
[null,9177,{"$nulls":7},{"v":0,"d":"€ 0.00"},{"v":0,"d":"€ 0.00"}]
[null,9178,{"$nulls":7},{"v":0,"d":"€ 0.00"},{"v":0,"d":"€ 0.00"}]
[null,9179,{"$nulls":7},{"v":0,"d":"€ 0.00"},{"v":0,"d":"€ 0.00"}]
[null,9180,{"$nulls":7},{"v":0,"d":"€ 0.00"},{"v":0,"d":"€ 0.00"}]
[null,9181,{"$nulls":7},{"v":0,"d":"€ 0.00"},{"v":0,"d":"€ 0.00"}]
[null,9182,{"$nulls":7},{"v":0,"d":"€ 0.00"},{"v":0,"d":"€ 0.00"}]
[null,9183,{"$nulls":7},{"v":0,"d":"€ 0.00"},{"v":0,"d":"€ 0.00"}]
[null,9184,{"$nulls":7},{"v":0,"d":"€ 0.00"},{"v":0,"d":"€ 0.00"}]
[null,9185,{"$nulls":7},{"v":0,"d":"€ 0.00"},{"v":0,"d":"€ 0.00"}]
[null,9186,{"$nulls":7},{"v":0,"d":"€ 0.00"},{"v":0,"d":"€ 0.00"}]
[null,9187,{"$nulls":7},{"v":0,"d":"€ 0.00"},{"v":0,"d":"€ 0.00"}]
[null,9188,{"$nulls":7},{"v":0,"d":"€ 0.00"},{"v":0,"d":"€ 0.00"}]
[null,9189,{"$nulls":7},{"v":0,"d":"€ 0.00"},{"v":0,"d":"€ 0.00"}]
[null,9190,{"$nulls":7},{"v":0,"d":"€ 0.00"},{"v":0,"d":"€ 0.00"}]
[null,9191,{"$nulls":7},{"v":0,"d":"€ 0.00"},{"v":0,"d":"€ 0.00"}]
[null,9192,{"$nulls":7},{"v":0,"d":"€ 0.00"},{"v":0,"d":"€ 0.00"}]
[null,9193,{"$nulls":7},{"v":0,"d":"€ 0.00"},{"v":0,"d":"€ 0.00"}]
[null,9194,{"$nulls":7},{"v":0,"d":"€ 0.00"},{"v":0,"d":"€ 0.00"}]
[null,9195,{"$nulls":7},{"v":0,"d":"€ 0.00"},{"v":0,"d":"€ 0.00"}]
[null,9196,{"$nulls":7},{"v":0,"d":"€ 0.00"},{"v":0,"d":"€ 0.00"}]
[null,9197,{"$nulls":7},{"v":0,"d":"€ 0.00"},{"v":0,"d":"€ 0.00"}]
[null,9198,{"$nulls":7},{"v":0,"d":"€ 0.00"},{"v":0,"d":"€ 0.00"}]
[null,9199,{"$nulls":7},{"v":0,"d":"€ 0.00"},{"v":0,"d":"€ 0.00"}]
[null,9200,{"$nulls":7},{"v":0,"d":"€ 0.00"},{"v":0,"d":"€ 0.00"}]
[null,9201,{"$nulls":7},{"v":0,"d":"€ 0.00"},{"v":0,"d":"€ 0.00"}]
[null,9202,{"$nulls":7},{"v":0,"d":"€ 0.00"},{"v":0,"d":"€ 0.00"}]
[null,9203,{"$nulls":7},{"v":0,"d":"€ 0.00"},{"v":0,"d":"€ 0.00"}]
[null,9204,{"$nulls":7},{"v":0,"d":"€ 0.00"},{"v":0,"d":"€ 0.00"}]
[null,9205,{"$nulls":7},{"v":0,"d":"€ 0.00"},{"v":0,"d":"€ 0.00"}]
[null,9206,{"$nulls":7},{"v":0,"d":"€ 0.00"},{"v":0,"d":"€ 0.00"}]
[null,9207,{"$nulls":7},{"v":0,"d":"€ 0.00"},{"v":0,"d":"€ 0.00"}]
[null,9208,{"$nulls":7},{"v":0,"d":"€ 0.00"},{"v":0,"d":"€ 0.00"}]
[null,9209,{"$nulls":7},{"v":0,"d":"€ 0.00"},{"v":0,"d":"€ 0.00"}]
[null,9210,{"$nulls":7},{"v":0,"d":"€ 0.00"},{"v":0,"d":"€ 0.00"}]
[null,9211,{"$nulls":7},{"v":0,"d":"€ 0.00"},{"v":0,"d":"€ 0.00"}]
[null,9212,{"$nulls":7},{"v":0,"d":"€ 0.00"},{"v":0,"d":"€ 0.00"}]
[null,9213,{"$nulls":7},{"v":0,"d":"€ 0.00"},{"v":0,"d":"€ 0.00"}]
[null,9214,{"$nulls":7},{"v":0,"d":"€ 0.00"},{"v":0,"d":"€ 0.00"}]
[null,9215,{"$nulls":7},{"v":0,"d":"€ 0.00"},{"v":0,"d":"€ 0.00"}]
[null,9216,{"$nulls":7},{"v":0,"d":"€ 0.00"},{"v":0,"d":"€ 0.00"}]
[null,9217,{"$nulls":7},{"v":0,"d":"€ 0.00"},{"v":0,"d":"€ 0.00"}]
[null,9218,{"$nulls":7},{"v":0,"d":"€ 0.00"},{"v":0,"d":"€ 0.00"}]
[null,9219,{"$nulls":7},{"v":0,"d":"€ 0.00"},{"v":0,"d":"€ 0.00"}]
[null,9220,{"$nulls":7},{"v":0,"d":"€ 0.00"},{"v":0,"d":"€ 0.00"}]
[null,9221,{"$nulls":7},{"v":0,"d":"€ 0.00"},{"v":0,"d":"€ 0.00"}]
[null,9222,{"$nulls":7},{"v":0,"d":"€ 0.00"},{"v":0,"d":"€ 0.00"}]
[null,9223,{"$nulls":7},{"v":0,"d":"€ 0.00"},{"v":0,"d":"€ 0.00"}]
[null,9224,{"$nulls":7},{"v":0,"d":"€ 0.00"},{"v":0,"d":"€ 0.00"}]
[null,9225,{"$nulls":7},{"v":0,"d":"€ 0.00"},{"v":0,"d":"€ 0.00"}]
[null,9226,{"$nulls":7},{"v":0,"d":"€ 0.00"},{"v":0,"d":"€ 0.00"}]
[null,9227,{"$nulls":7},{"v":0,"d":"€ 0.00"},{"v":0,"d":"€ 0.00"}]
[null,9228,{"$nulls":7},{"v":0,"d":"€ 0.00"},{"v":0,"d":"€ 0.00"}]
[null,9229,{"$nulls":7},{"v":0,"d":"€ 0.00"},{"v":0,"d":"€ 0.00"}]
[null,9230,{"$nulls":7},{"v":0,"d":"€ 0.00"},{"v":0,"d":"€ 0.00"}]
[null,9231,{"$nulls":7},{"v":0,"d":"€ 0.00"},{"v":0,"d":"€ 0.00"}]
[null,9232,{"$nulls":7},{"v":0,"d":"€ 0.00"},{"v":0,"d":"€ 0.00"}]
[null,9233,{"$nulls":7},{"v":0,"d":"€ 0.00"},{"v":0,"d":"€ 0.00"}]
[null,9234,{"$nulls":7},{"v":0,"d":"€ 0.00"},{"v":0,"d":"€ 0.00"}]
[null,9235,{"$nulls":7},{"$f":"IF(OR(ISBLANK(H9242)=TRUE,ISBLANK(I9242)=TRUE),,ROUND(H9242*I9242,2))","v":{"v":0,"d":"€ 0.00"}},{"$f":"G9242+J9242","v":{"v":0,"d":"€ 0.00"}}]
[null,9236,{"$nulls":7},{"v":0,"d":"€ 0.00"},{"v":0,"d":"€ 0.00"}]
[null,9237,{"$nulls":7},{"v":0,"d":"€ 0.00"},{"v":0,"d":"€ 0.00"}]
[null,9238,{"$nulls":7},{"v":0,"d":"€ 0.00"},{"v":0,"d":"€ 0.00"}]
[null,9239,{"$nulls":7},{"v":0,"d":"€ 0.00"},{"v":0,"d":"€ 0.00"}]
[null,9240,{"$nulls":7},{"v":0,"d":"€ 0.00"},{"v":0,"d":"€ 0.00"}]
[null,9241,{"$nulls":7},{"v":0,"d":"€ 0.00"},{"v":0,"d":"€ 0.00"}]
[null,9242,{"$nulls":7},{"v":0,"d":"€ 0.00"},{"v":0,"d":"€ 0.00"}]
[null,9243,{"$nulls":7},{"v":0,"d":"€ 0.00"},{"v":0,"d":"€ 0.00"}]
[null,9244,{"$nulls":7},{"v":0,"d":"€ 0.00"},{"v":0,"d":"€ 0.00"}]
[null,9245,{"$nulls":7},{"v":0,"d":"€ 0.00"},{"v":0,"d":"€ 0.00"}]
[null,9246,{"$nulls":7},{"v":0,"d":"€ 0.00"},{"v":0,"d":"€ 0.00"}]
[null,9247,{"$nulls":7},{"v":0,"d":"€ 0.00"},{"v":0,"d":"€ 0.00"}]
[null,9248,{"$nulls":7},{"v":0,"d":"€ 0.00"},{"v":0,"d":"€ 0.00"}]
[null,9249,{"$nulls":7},{"v":0,"d":"€ 0.00"},{"v":0,"d":"€ 0.00"}]
[null,9250,{"$nulls":7},{"v":0,"d":"€ 0.00"},{"v":0,"d":"€ 0.00"}]
[null,9251,{"$nulls":7},{"v":0,"d":"€ 0.00"},{"v":0,"d":"€ 0.00"}]
[null,9252,{"$nulls":7},{"v":0,"d":"€ 0.00"},{"v":0,"d":"€ 0.00"}]
[null,9253,{"$nulls":7},{"v":0,"d":"€ 0.00"},{"v":0,"d":"€ 0.00"}]
[null,9254,{"$nulls":7},{"v":0,"d":"€ 0.00"},{"v":0,"d":"€ 0.00"}]
[null,9255,{"$nulls":7},{"v":0,"d":"€ 0.00"},{"v":0,"d":"€ 0.00"}]
[null,9256,{"$nulls":7},{"v":0,"d":"€ 0.00"},{"v":0,"d":"€ 0.00"}]
[null,9257,{"$nulls":7},{"v":0,"d":"€ 0.00"},{"v":0,"d":"€ 0.00"}]
[null,9258,{"$nulls":7},{"v":0,"d":"€ 0.00"},{"v":0,"d":"€ 0.00"}]
[null,9259,{"$nulls":7},{"v":0,"d":"€ 0.00"},{"v":0,"d":"€ 0.00"}]
[null,9260,{"$nulls":7},{"v":0,"d":"€ 0.00"},{"v":0,"d":"€ 0.00"}]
[null,9261,{"$nulls":7},{"v":0,"d":"€ 0.00"},{"v":0,"d":"€ 0.00"}]
[null,9262,{"$nulls":7},{"v":0,"d":"€ 0.00"},{"v":0,"d":"€ 0.00"}]
[null,9263,{"$nulls":7},{"v":0,"d":"€ 0.00"},{"v":0,"d":"€ 0.00"}]
[null,9264,{"$nulls":7},{"v":0,"d":"€ 0.00"},{"v":0,"d":"€ 0.00"}]
[null,9265,{"$nulls":7},{"v":0,"d":"€ 0.00"},{"v":0,"d":"€ 0.00"}]
[null,9266,{"$nulls":7},{"v":0,"d":"€ 0.00"},{"v":0,"d":"€ 0.00"}]
[null,9267,{"$nulls":7},{"v":0,"d":"€ 0.00"},{"v":0,"d":"€ 0.00"}]
[null,9268,{"$nulls":7},{"v":0,"d":"€ 0.00"},{"v":0,"d":"€ 0.00"}]
[null,9269,{"$nulls":7},{"v":0,"d":"€ 0.00"},{"v":0,"d":"€ 0.00"}]
[null,9270,{"$nulls":7},{"v":0,"d":"€ 0.00"},{"v":0,"d":"€ 0.00"}]
[null,9271,{"$nulls":7},{"v":0,"d":"€ 0.00"},{"v":0,"d":"€ 0.00"}]
[null,9272,{"$nulls":7},{"v":0,"d":"€ 0.00"},{"v":0,"d":"€ 0.00"}]
[null,9273,{"$nulls":7},{"v":0,"d":"€ 0.00"},{"v":0,"d":"€ 0.00"}]
[null,9274,{"$nulls":7},{"v":0,"d":"€ 0.00"},{"v":0,"d":"€ 0.00"}]
[null,9275,{"$nulls":7},{"v":0,"d":"€ 0.00"},{"v":0,"d":"€ 0.00"}]
[null,9276,{"$nulls":7},{"v":0,"d":"€ 0.00"},{"v":0,"d":"€ 0.00"}]
[null,9277,{"$nulls":7},{"v":0,"d":"€ 0.00"},{"v":0,"d":"€ 0.00"}]
[null,9278,{"$nulls":7},{"v":0,"d":"€ 0.00"},{"v":0,"d":"€ 0.00"}]
[null,9279,{"$nulls":7},{"v":0,"d":"€ 0.00"},{"v":0,"d":"€ 0.00"}]
[null,9280,{"$nulls":7},{"v":0,"d":"€ 0.00"},{"v":0,"d":"€ 0.00"}]
[null,9281,{"$nulls":7},{"v":0,"d":"€ 0.00"},{"v":0,"d":"€ 0.00"}]
[null,9282,{"$nulls":7},{"v":0,"d":"€ 0.00"},{"v":0,"d":"€ 0.00"}]
[null,9283,{"$nulls":7},{"v":0,"d":"€ 0.00"},{"v":0,"d":"€ 0.00"}]
[null,9284,{"$nulls":7},{"v":0,"d":"€ 0.00"},{"v":0,"d":"€ 0.00"}]
[null,9285,{"$nulls":7},{"v":0,"d":"€ 0.00"},{"v":0,"d":"€ 0.00"}]
[null,9286,{"$nulls":7},{"v":0,"d":"€ 0.00"},{"v":0,"d":"€ 0.00"}]
[null,9287,{"$nulls":7},{"v":0,"d":"€ 0.00"},{"v":0,"d":"€ 0.00"}]
[null,9288,{"$nulls":7},{"v":0,"d":"€ 0.00"},{"v":0,"d":"€ 0.00"}]
[null,9289,{"$nulls":7},{"v":0,"d":"€ 0.00"},{"v":0,"d":"€ 0.00"}]
[null,9290,{"$nulls":7},{"v":0,"d":"€ 0.00"},{"v":0,"d":"€ 0.00"}]
[null,9291,{"$nulls":7},{"v":0,"d":"€ 0.00"},{"v":0,"d":"€ 0.00"}]
[null,9292,{"$nulls":7},{"v":0,"d":"€ 0.00"},{"v":0,"d":"€ 0.00"}]
[null,9293,{"$nulls":7},{"v":0,"d":"€ 0.00"},{"v":0,"d":"€ 0.00"}]
[null,9294,{"$nulls":7},{"v":0,"d":"€ 0.00"},{"v":0,"d":"€ 0.00"}]
[null,9295,{"$nulls":7},{"v":0,"d":"€ 0.00"},{"v":0,"d":"€ 0.00"}]
[null,9296,{"$nulls":7},{"v":0,"d":"€ 0.00"},{"v":0,"d":"€ 0.00"}]
[null,9297,{"$nulls":7},{"v":0,"d":"€ 0.00"},{"v":0,"d":"€ 0.00"}]
[null,9298,{"$nulls":7},{"v":0,"d":"€ 0.00"},{"v":0,"d":"€ 0.00"}]
[null,9299,{"$nulls":7},{"$f":"IF(OR(ISBLANK(H9306)=TRUE,ISBLANK(I9306)=TRUE),,ROUND(H9306*I9306,2))","v":{"v":0,"d":"€ 0.00"}},{"$f":"G9306+J9306","v":{"v":0,"d":"€ 0.00"}}]
[null,9300,{"$nulls":7},{"v":0,"d":"€ 0.00"},{"v":0,"d":"€ 0.00"}]
[null,9301,{"$nulls":7},{"v":0,"d":"€ 0.00"},{"v":0,"d":"€ 0.00"}]
[null,9302,{"$nulls":7},{"v":0,"d":"€ 0.00"},{"v":0,"d":"€ 0.00"}]
[null,9303,{"$nulls":7},{"v":0,"d":"€ 0.00"},{"v":0,"d":"€ 0.00"}]
[null,9304,{"$nulls":7},{"v":0,"d":"€ 0.00"},{"v":0,"d":"€ 0.00"}]
[null,9305,{"$nulls":7},{"v":0,"d":"€ 0.00"},{"v":0,"d":"€ 0.00"}]
[null,9306,{"$nulls":7},{"v":0,"d":"€ 0.00"},{"v":0,"d":"€ 0.00"}]
[null,9307,{"$nulls":7},{"v":0,"d":"€ 0.00"},{"v":0,"d":"€ 0.00"}]
[null,9308,{"$nulls":7},{"v":0,"d":"€ 0.00"},{"v":0,"d":"€ 0.00"}]
[null,9309,{"$nulls":7},{"v":0,"d":"€ 0.00"},{"v":0,"d":"€ 0.00"}]
[null,9310,{"$nulls":7},{"v":0,"d":"€ 0.00"},{"v":0,"d":"€ 0.00"}]
[null,9311,{"$nulls":7},{"v":0,"d":"€ 0.00"},{"v":0,"d":"€ 0.00"}]
[null,9312,{"$nulls":7},{"v":0,"d":"€ 0.00"},{"v":0,"d":"€ 0.00"}]
[null,9313,{"$nulls":7},{"v":0,"d":"€ 0.00"},{"v":0,"d":"€ 0.00"}]
[null,9314,{"$nulls":7},{"v":0,"d":"€ 0.00"},{"v":0,"d":"€ 0.00"}]
[null,9315,{"$nulls":7},{"v":0,"d":"€ 0.00"},{"v":0,"d":"€ 0.00"}]
[null,9316,{"$nulls":7},{"v":0,"d":"€ 0.00"},{"v":0,"d":"€ 0.00"}]
[null,9317,{"$nulls":7},{"v":0,"d":"€ 0.00"},{"v":0,"d":"€ 0.00"}]
[null,9318,{"$nulls":7},{"v":0,"d":"€ 0.00"},{"v":0,"d":"€ 0.00"}]
[null,9319,{"$nulls":7},{"v":0,"d":"€ 0.00"},{"v":0,"d":"€ 0.00"}]
[null,9320,{"$nulls":7},{"v":0,"d":"€ 0.00"},{"v":0,"d":"€ 0.00"}]
[null,9321,{"$nulls":7},{"v":0,"d":"€ 0.00"},{"v":0,"d":"€ 0.00"}]
[null,9322,{"$nulls":7},{"v":0,"d":"€ 0.00"},{"v":0,"d":"€ 0.00"}]
[null,9323,{"$nulls":7},{"v":0,"d":"€ 0.00"},{"v":0,"d":"€ 0.00"}]
[null,9324,{"$nulls":7},{"v":0,"d":"€ 0.00"},{"v":0,"d":"€ 0.00"}]
[null,9325,{"$nulls":7},{"v":0,"d":"€ 0.00"},{"v":0,"d":"€ 0.00"}]
[null,9326,{"$nulls":7},{"v":0,"d":"€ 0.00"},{"v":0,"d":"€ 0.00"}]
[null,9327,{"$nulls":7},{"v":0,"d":"€ 0.00"},{"v":0,"d":"€ 0.00"}]
[null,9328,{"$nulls":7},{"v":0,"d":"€ 0.00"},{"v":0,"d":"€ 0.00"}]
[null,9329,{"$nulls":7},{"v":0,"d":"€ 0.00"},{"v":0,"d":"€ 0.00"}]
[null,9330,{"$nulls":7},{"v":0,"d":"€ 0.00"},{"v":0,"d":"€ 0.00"}]
[null,9331,{"$nulls":7},{"v":0,"d":"€ 0.00"},{"v":0,"d":"€ 0.00"}]
[null,9332,{"$nulls":7},{"v":0,"d":"€ 0.00"},{"v":0,"d":"€ 0.00"}]
[null,9333,{"$nulls":7},{"v":0,"d":"€ 0.00"},{"v":0,"d":"€ 0.00"}]
[null,9334,{"$nulls":7},{"v":0,"d":"€ 0.00"},{"v":0,"d":"€ 0.00"}]
[null,9335,{"$nulls":7},{"v":0,"d":"€ 0.00"},{"v":0,"d":"€ 0.00"}]
[null,9336,{"$nulls":7},{"v":0,"d":"€ 0.00"},{"v":0,"d":"€ 0.00"}]
[null,9337,{"$nulls":7},{"v":0,"d":"€ 0.00"},{"v":0,"d":"€ 0.00"}]
[null,9338,{"$nulls":7},{"v":0,"d":"€ 0.00"},{"v":0,"d":"€ 0.00"}]
[null,9339,{"$nulls":7},{"v":0,"d":"€ 0.00"},{"v":0,"d":"€ 0.00"}]
[null,9340,{"$nulls":7},{"v":0,"d":"€ 0.00"},{"v":0,"d":"€ 0.00"}]
[null,9341,{"$nulls":7},{"v":0,"d":"€ 0.00"},{"v":0,"d":"€ 0.00"}]
[null,9342,{"$nulls":7},{"v":0,"d":"€ 0.00"},{"v":0,"d":"€ 0.00"}]
[null,9343,{"$nulls":7},{"v":0,"d":"€ 0.00"},{"v":0,"d":"€ 0.00"}]
[null,9344,{"$nulls":7},{"v":0,"d":"€ 0.00"},{"v":0,"d":"€ 0.00"}]
[null,9345,{"$nulls":7},{"v":0,"d":"€ 0.00"},{"v":0,"d":"€ 0.00"}]
[null,9346,{"$nulls":7},{"v":0,"d":"€ 0.00"},{"v":0,"d":"€ 0.00"}]
[null,9347,{"$nulls":7},{"v":0,"d":"€ 0.00"},{"v":0,"d":"€ 0.00"}]
[null,9348,{"$nulls":7},{"v":0,"d":"€ 0.00"},{"v":0,"d":"€ 0.00"}]
[null,9349,{"$nulls":7},{"v":0,"d":"€ 0.00"},{"v":0,"d":"€ 0.00"}]
[null,9350,{"$nulls":7},{"v":0,"d":"€ 0.00"},{"v":0,"d":"€ 0.00"}]
[null,9351,{"$nulls":7},{"v":0,"d":"€ 0.00"},{"v":0,"d":"€ 0.00"}]
[null,9352,{"$nulls":7},{"v":0,"d":"€ 0.00"},{"v":0,"d":"€ 0.00"}]
[null,9353,{"$nulls":7},{"v":0,"d":"€ 0.00"},{"v":0,"d":"€ 0.00"}]
[null,9354,{"$nulls":7},{"v":0,"d":"€ 0.00"},{"v":0,"d":"€ 0.00"}]
[null,9355,{"$nulls":7},{"v":0,"d":"€ 0.00"},{"v":0,"d":"€ 0.00"}]
[null,9356,{"$nulls":7},{"v":0,"d":"€ 0.00"},{"v":0,"d":"€ 0.00"}]
[null,9357,{"$nulls":7},{"v":0,"d":"€ 0.00"},{"v":0,"d":"€ 0.00"}]
[null,9358,{"$nulls":7},{"v":0,"d":"€ 0.00"},{"v":0,"d":"€ 0.00"}]
[null,9359,{"$nulls":7},{"v":0,"d":"€ 0.00"},{"v":0,"d":"€ 0.00"}]
[null,9360,{"$nulls":7},{"v":0,"d":"€ 0.00"},{"v":0,"d":"€ 0.00"}]
[null,9361,{"$nulls":7},{"v":0,"d":"€ 0.00"},{"v":0,"d":"€ 0.00"}]
[null,9362,{"$nulls":7},{"v":0,"d":"€ 0.00"},{"v":0,"d":"€ 0.00"}]
[null,9363,{"$nulls":7},{"$f":"IF(OR(ISBLANK(H9370)=TRUE,ISBLANK(I9370)=TRUE),,ROUND(H9370*I9370,2))","v":{"v":0,"d":"€ 0.00"}},{"$f":"G9370+J9370","v":{"v":0,"d":"€ 0.00"}}]
[null,9364,{"$nulls":7},{"v":0,"d":"€ 0.00"},{"v":0,"d":"€ 0.00"}]
[null,9365,{"$nulls":7},{"v":0,"d":"€ 0.00"},{"v":0,"d":"€ 0.00"}]
[null,9366,{"$nulls":7},{"v":0,"d":"€ 0.00"},{"v":0,"d":"€ 0.00"}]
[null,9367,{"$nulls":7},{"v":0,"d":"€ 0.00"},{"v":0,"d":"€ 0.00"}]
[null,9368,{"$nulls":7},{"v":0,"d":"€ 0.00"},{"v":0,"d":"€ 0.00"}]
[null,9369,{"$nulls":7},{"v":0,"d":"€ 0.00"},{"v":0,"d":"€ 0.00"}]
[null,9370,{"$nulls":7},{"v":0,"d":"€ 0.00"},{"v":0,"d":"€ 0.00"}]
[null,9371,{"$nulls":7},{"v":0,"d":"€ 0.00"},{"v":0,"d":"€ 0.00"}]
[null,9372,{"$nulls":7},{"v":0,"d":"€ 0.00"},{"v":0,"d":"€ 0.00"}]
[null,9373,{"$nulls":7},{"v":0,"d":"€ 0.00"},{"v":0,"d":"€ 0.00"}]
[null,9374,{"$nulls":7},{"v":0,"d":"€ 0.00"},{"v":0,"d":"€ 0.00"}]
[null,9375,{"$nulls":7},{"v":0,"d":"€ 0.00"},{"v":0,"d":"€ 0.00"}]
[null,9376,{"$nulls":7},{"v":0,"d":"€ 0.00"},{"v":0,"d":"€ 0.00"}]
[null,9377,{"$nulls":7},{"v":0,"d":"€ 0.00"},{"v":0,"d":"€ 0.00"}]
[null,9378,{"$nulls":7},{"v":0,"d":"€ 0.00"},{"v":0,"d":"€ 0.00"}]
[null,9379,{"$nulls":7},{"v":0,"d":"€ 0.00"},{"v":0,"d":"€ 0.00"}]
[null,9380,{"$nulls":7},{"v":0,"d":"€ 0.00"},{"v":0,"d":"€ 0.00"}]
[null,9381,{"$nulls":7},{"v":0,"d":"€ 0.00"},{"v":0,"d":"€ 0.00"}]
[null,9382,{"$nulls":7},{"v":0,"d":"€ 0.00"},{"v":0,"d":"€ 0.00"}]
[null,9383,{"$nulls":7},{"v":0,"d":"€ 0.00"},{"v":0,"d":"€ 0.00"}]
[null,9384,{"$nulls":7},{"v":0,"d":"€ 0.00"},{"v":0,"d":"€ 0.00"}]
[null,9385,{"$nulls":7},{"v":0,"d":"€ 0.00"},{"v":0,"d":"€ 0.00"}]
[null,9386,{"$nulls":7},{"v":0,"d":"€ 0.00"},{"v":0,"d":"€ 0.00"}]
[null,9387,{"$nulls":7},{"v":0,"d":"€ 0.00"},{"v":0,"d":"€ 0.00"}]
[null,9388,{"$nulls":7},{"v":0,"d":"€ 0.00"},{"v":0,"d":"€ 0.00"}]
[null,9389,{"$nulls":7},{"v":0,"d":"€ 0.00"},{"v":0,"d":"€ 0.00"}]
[null,9390,{"$nulls":7},{"v":0,"d":"€ 0.00"},{"v":0,"d":"€ 0.00"}]
[null,9391,{"$nulls":7},{"v":0,"d":"€ 0.00"},{"v":0,"d":"€ 0.00"}]
[null,9392,{"$nulls":7},{"v":0,"d":"€ 0.00"},{"v":0,"d":"€ 0.00"}]
[null,9393,{"$nulls":7},{"v":0,"d":"€ 0.00"},{"v":0,"d":"€ 0.00"}]
[null,9394,{"$nulls":7},{"v":0,"d":"€ 0.00"},{"v":0,"d":"€ 0.00"}]
[null,9395,{"$nulls":7},{"v":0,"d":"€ 0.00"},{"v":0,"d":"€ 0.00"}]
[null,9396,{"$nulls":7},{"v":0,"d":"€ 0.00"},{"v":0,"d":"€ 0.00"}]
[null,9397,{"$nulls":7},{"v":0,"d":"€ 0.00"},{"v":0,"d":"€ 0.00"}]
[null,9398,{"$nulls":7},{"v":0,"d":"€ 0.00"},{"v":0,"d":"€ 0.00"}]
[null,9399,{"$nulls":7},{"v":0,"d":"€ 0.00"},{"v":0,"d":"€ 0.00"}]
[null,9400,{"$nulls":7},{"v":0,"d":"€ 0.00"},{"v":0,"d":"€ 0.00"}]
[null,9401,{"$nulls":7},{"v":0,"d":"€ 0.00"},{"v":0,"d":"€ 0.00"}]
[null,9402,{"$nulls":7},{"v":0,"d":"€ 0.00"},{"v":0,"d":"€ 0.00"}]
[null,9403,{"$nulls":7},{"v":0,"d":"€ 0.00"},{"v":0,"d":"€ 0.00"}]
[null,9404,{"$nulls":7},{"v":0,"d":"€ 0.00"},{"v":0,"d":"€ 0.00"}]
[null,9405,{"$nulls":7},{"v":0,"d":"€ 0.00"},{"v":0,"d":"€ 0.00"}]
[null,9406,{"$nulls":7},{"v":0,"d":"€ 0.00"},{"v":0,"d":"€ 0.00"}]
[null,9407,{"$nulls":7},{"v":0,"d":"€ 0.00"},{"v":0,"d":"€ 0.00"}]
[null,9408,{"$nulls":7},{"v":0,"d":"€ 0.00"},{"v":0,"d":"€ 0.00"}]
[null,9409,{"$nulls":7},{"v":0,"d":"€ 0.00"},{"v":0,"d":"€ 0.00"}]
[null,9410,{"$nulls":7},{"v":0,"d":"€ 0.00"},{"v":0,"d":"€ 0.00"}]
[null,9411,{"$nulls":7},{"v":0,"d":"€ 0.00"},{"v":0,"d":"€ 0.00"}]
[null,9412,{"$nulls":7},{"v":0,"d":"€ 0.00"},{"v":0,"d":"€ 0.00"}]
[null,9413,{"$nulls":7},{"v":0,"d":"€ 0.00"},{"v":0,"d":"€ 0.00"}]
[null,9414,{"$nulls":7},{"v":0,"d":"€ 0.00"},{"v":0,"d":"€ 0.00"}]
[null,9415,{"$nulls":7},{"v":0,"d":"€ 0.00"},{"v":0,"d":"€ 0.00"}]
[null,9416,{"$nulls":7},{"v":0,"d":"€ 0.00"},{"v":0,"d":"€ 0.00"}]
[null,9417,{"$nulls":7},{"v":0,"d":"€ 0.00"},{"v":0,"d":"€ 0.00"}]
[null,9418,{"$nulls":7},{"v":0,"d":"€ 0.00"},{"v":0,"d":"€ 0.00"}]
[null,9419,{"$nulls":7},{"v":0,"d":"€ 0.00"},{"v":0,"d":"€ 0.00"}]
[null,9420,{"$nulls":7},{"v":0,"d":"€ 0.00"},{"v":0,"d":"€ 0.00"}]
[null,9421,{"$nulls":7},{"v":0,"d":"€ 0.00"},{"v":0,"d":"€ 0.00"}]
[null,9422,{"$nulls":7},{"v":0,"d":"€ 0.00"},{"v":0,"d":"€ 0.00"}]
[null,9423,{"$nulls":7},{"v":0,"d":"€ 0.00"},{"v":0,"d":"€ 0.00"}]
[null,9424,{"$nulls":7},{"v":0,"d":"€ 0.00"},{"v":0,"d":"€ 0.00"}]
[null,9425,{"$nulls":7},{"v":0,"d":"€ 0.00"},{"v":0,"d":"€ 0.00"}]
[null,9426,{"$nulls":7},{"v":0,"d":"€ 0.00"},{"v":0,"d":"€ 0.00"}]
[null,9427,{"$nulls":7},{"$f":"IF(OR(ISBLANK(H9434)=TRUE,ISBLANK(I9434)=TRUE),,ROUND(H9434*I9434,2))","v":{"v":0,"d":"€ 0.00"}},{"$f":"G9434+J9434","v":{"v":0,"d":"€ 0.00"}}]
[null,9428,{"$nulls":7},{"v":0,"d":"€ 0.00"},{"v":0,"d":"€ 0.00"}]
[null,9429,{"$nulls":7},{"v":0,"d":"€ 0.00"},{"v":0,"d":"€ 0.00"}]
[null,9430,{"$nulls":7},{"v":0,"d":"€ 0.00"},{"v":0,"d":"€ 0.00"}]
[null,9431,{"$nulls":7},{"v":0,"d":"€ 0.00"},{"v":0,"d":"€ 0.00"}]
[null,9432,{"$nulls":7},{"v":0,"d":"€ 0.00"},{"v":0,"d":"€ 0.00"}]
[null,9433,{"$nulls":7},{"v":0,"d":"€ 0.00"},{"v":0,"d":"€ 0.00"}]
[null,9434,{"$nulls":7},{"v":0,"d":"€ 0.00"},{"v":0,"d":"€ 0.00"}]
[null,9435,{"$nulls":7},{"v":0,"d":"€ 0.00"},{"v":0,"d":"€ 0.00"}]
[null,9436,{"$nulls":7},{"v":0,"d":"€ 0.00"},{"v":0,"d":"€ 0.00"}]
[null,9437,{"$nulls":7},{"v":0,"d":"€ 0.00"},{"v":0,"d":"€ 0.00"}]
[null,9438,{"$nulls":7},{"v":0,"d":"€ 0.00"},{"v":0,"d":"€ 0.00"}]
[null,9439,{"$nulls":7},{"v":0,"d":"€ 0.00"},{"v":0,"d":"€ 0.00"}]
[null,9440,{"$nulls":7},{"v":0,"d":"€ 0.00"},{"v":0,"d":"€ 0.00"}]
[null,9441,{"$nulls":7},{"v":0,"d":"€ 0.00"},{"v":0,"d":"€ 0.00"}]
[null,9442,{"$nulls":7},{"v":0,"d":"€ 0.00"},{"v":0,"d":"€ 0.00"}]
[null,9443,{"$nulls":7},{"v":0,"d":"€ 0.00"},{"v":0,"d":"€ 0.00"}]
[null,9444,{"$nulls":7},{"v":0,"d":"€ 0.00"},{"v":0,"d":"€ 0.00"}]
[null,9445,{"$nulls":7},{"v":0,"d":"€ 0.00"},{"v":0,"d":"€ 0.00"}]
[null,9446,{"$nulls":7},{"v":0,"d":"€ 0.00"},{"v":0,"d":"€ 0.00"}]
[null,9447,{"$nulls":7},{"v":0,"d":"€ 0.00"},{"v":0,"d":"€ 0.00"}]
[null,9448,{"$nulls":7},{"v":0,"d":"€ 0.00"},{"v":0,"d":"€ 0.00"}]
[null,9449,{"$nulls":7},{"v":0,"d":"€ 0.00"},{"v":0,"d":"€ 0.00"}]
[null,9450,{"$nulls":7},{"v":0,"d":"€ 0.00"},{"v":0,"d":"€ 0.00"}]
[null,9451,{"$nulls":7},{"v":0,"d":"€ 0.00"},{"v":0,"d":"€ 0.00"}]
[null,9452,{"$nulls":7},{"v":0,"d":"€ 0.00"},{"v":0,"d":"€ 0.00"}]
[null,9453,{"$nulls":7},{"v":0,"d":"€ 0.00"},{"v":0,"d":"€ 0.00"}]
[null,9454,{"$nulls":7},{"v":0,"d":"€ 0.00"},{"v":0,"d":"€ 0.00"}]
[null,9455,{"$nulls":7},{"v":0,"d":"€ 0.00"},{"v":0,"d":"€ 0.00"}]
[null,9456,{"$nulls":7},{"v":0,"d":"€ 0.00"},{"v":0,"d":"€ 0.00"}]
[null,9457,{"$nulls":7},{"v":0,"d":"€ 0.00"},{"v":0,"d":"€ 0.00"}]
[null,9458,{"$nulls":7},{"v":0,"d":"€ 0.00"},{"v":0,"d":"€ 0.00"}]
[null,9459,{"$nulls":7},{"v":0,"d":"€ 0.00"},{"v":0,"d":"€ 0.00"}]
[null,9460,{"$nulls":7},{"v":0,"d":"€ 0.00"},{"v":0,"d":"€ 0.00"}]
[null,9461,{"$nulls":7},{"v":0,"d":"€ 0.00"},{"v":0,"d":"€ 0.00"}]
[null,9462,{"$nulls":7},{"v":0,"d":"€ 0.00"},{"v":0,"d":"€ 0.00"}]
[null,9463,{"$nulls":7},{"v":0,"d":"€ 0.00"},{"v":0,"d":"€ 0.00"}]
[null,9464,{"$nulls":7},{"v":0,"d":"€ 0.00"},{"v":0,"d":"€ 0.00"}]
[null,9465,{"$nulls":7},{"v":0,"d":"€ 0.00"},{"v":0,"d":"€ 0.00"}]
[null,9466,{"$nulls":7},{"v":0,"d":"€ 0.00"},{"v":0,"d":"€ 0.00"}]
[null,9467,{"$nulls":7},{"v":0,"d":"€ 0.00"},{"v":0,"d":"€ 0.00"}]
[null,9468,{"$nulls":7},{"v":0,"d":"€ 0.00"},{"v":0,"d":"€ 0.00"}]
[null,9469,{"$nulls":7},{"v":0,"d":"€ 0.00"},{"v":0,"d":"€ 0.00"}]
[null,9470,{"$nulls":7},{"v":0,"d":"€ 0.00"},{"v":0,"d":"€ 0.00"}]
[null,9471,{"$nulls":7},{"v":0,"d":"€ 0.00"},{"v":0,"d":"€ 0.00"}]
[null,9472,{"$nulls":7},{"v":0,"d":"€ 0.00"},{"v":0,"d":"€ 0.00"}]
[null,9473,{"$nulls":7},{"v":0,"d":"€ 0.00"},{"v":0,"d":"€ 0.00"}]
[null,9474,{"$nulls":7},{"v":0,"d":"€ 0.00"},{"v":0,"d":"€ 0.00"}]
[null,9475,{"$nulls":7},{"v":0,"d":"€ 0.00"},{"v":0,"d":"€ 0.00"}]
[null,9476,{"$nulls":7},{"v":0,"d":"€ 0.00"},{"v":0,"d":"€ 0.00"}]
[null,9477,{"$nulls":7},{"v":0,"d":"€ 0.00"},{"v":0,"d":"€ 0.00"}]
[null,9478,{"$nulls":7},{"v":0,"d":"€ 0.00"},{"v":0,"d":"€ 0.00"}]
[null,9479,{"$nulls":7},{"v":0,"d":"€ 0.00"},{"v":0,"d":"€ 0.00"}]
[null,9480,{"$nulls":7},{"v":0,"d":"€ 0.00"},{"v":0,"d":"€ 0.00"}]
[null,9481,{"$nulls":7},{"v":0,"d":"€ 0.00"},{"v":0,"d":"€ 0.00"}]
[null,9482,{"$nulls":7},{"v":0,"d":"€ 0.00"},{"v":0,"d":"€ 0.00"}]
[null,9483,{"$nulls":7},{"v":0,"d":"€ 0.00"},{"v":0,"d":"€ 0.00"}]
[null,9484,{"$nulls":7},{"v":0,"d":"€ 0.00"},{"v":0,"d":"€ 0.00"}]
[null,9485,{"$nulls":7},{"v":0,"d":"€ 0.00"},{"v":0,"d":"€ 0.00"}]
[null,9486,{"$nulls":7},{"v":0,"d":"€ 0.00"},{"v":0,"d":"€ 0.00"}]
[null,9487,{"$nulls":7},{"v":0,"d":"€ 0.00"},{"v":0,"d":"€ 0.00"}]
[null,9488,{"$nulls":7},{"v":0,"d":"€ 0.00"},{"v":0,"d":"€ 0.00"}]
[null,9489,{"$nulls":7},{"v":0,"d":"€ 0.00"},{"v":0,"d":"€ 0.00"}]
[null,9490,{"$nulls":7},{"v":0,"d":"€ 0.00"},{"v":0,"d":"€ 0.00"}]
[null,9491,{"$nulls":7},{"$f":"IF(OR(ISBLANK(H9498)=TRUE,ISBLANK(I9498)=TRUE),,ROUND(H9498*I9498,2))","v":{"v":0,"d":"€ 0.00"}},{"$f":"G9498+J9498","v":{"v":0,"d":"€ 0.00"}}]
[null,9492,{"$nulls":7},{"v":0,"d":"€ 0.00"},{"v":0,"d":"€ 0.00"}]
[null,9493,{"$nulls":7},{"v":0,"d":"€ 0.00"},{"v":0,"d":"€ 0.00"}]
[null,9494,{"$nulls":7},{"v":0,"d":"€ 0.00"},{"v":0,"d":"€ 0.00"}]
[null,9495,{"$nulls":7},{"v":0,"d":"€ 0.00"},{"v":0,"d":"€ 0.00"}]
[null,9496,{"$nulls":7},{"v":0,"d":"€ 0.00"},{"v":0,"d":"€ 0.00"}]
[null,9497,{"$nulls":7},{"v":0,"d":"€ 0.00"},{"v":0,"d":"€ 0.00"}]
[null,9498,{"$nulls":7},{"v":0,"d":"€ 0.00"},{"v":0,"d":"€ 0.00"}]
[null,9499,{"$nulls":7},{"v":0,"d":"€ 0.00"},{"v":0,"d":"€ 0.00"}]
[null,9500,{"$nulls":7},{"v":0,"d":"€ 0.00"},{"v":0,"d":"€ 0.00"}]
[null,9501,{"$nulls":7},{"v":0,"d":"€ 0.00"},{"v":0,"d":"€ 0.00"}]
[null,9502,{"$nulls":7},{"v":0,"d":"€ 0.00"},{"v":0,"d":"€ 0.00"}]
[null,9503,{"$nulls":7},{"v":0,"d":"€ 0.00"},{"v":0,"d":"€ 0.00"}]
[null,9504,{"$nulls":7},{"v":0,"d":"€ 0.00"},{"v":0,"d":"€ 0.00"}]
[null,9505,{"$nulls":7},{"v":0,"d":"€ 0.00"},{"v":0,"d":"€ 0.00"}]
[null,9506,{"$nulls":7},{"v":0,"d":"€ 0.00"},{"v":0,"d":"€ 0.00"}]
[null,9507,{"$nulls":7},{"v":0,"d":"€ 0.00"},{"v":0,"d":"€ 0.00"}]
[null,9508,{"$nulls":7},{"v":0,"d":"€ 0.00"},{"v":0,"d":"€ 0.00"}]
[null,9509,{"$nulls":7},{"v":0,"d":"€ 0.00"},{"v":0,"d":"€ 0.00"}]
[null,9510,{"$nulls":7},{"v":0,"d":"€ 0.00"},{"v":0,"d":"€ 0.00"}]
[null,9511,{"$nulls":7},{"v":0,"d":"€ 0.00"},{"v":0,"d":"€ 0.00"}]
[null,9512,{"$nulls":7},{"v":0,"d":"€ 0.00"},{"v":0,"d":"€ 0.00"}]
[null,9513,{"$nulls":7},{"v":0,"d":"€ 0.00"},{"v":0,"d":"€ 0.00"}]
[null,9514,{"$nulls":7},{"v":0,"d":"€ 0.00"},{"v":0,"d":"€ 0.00"}]
[null,9515,{"$nulls":7},{"v":0,"d":"€ 0.00"},{"v":0,"d":"€ 0.00"}]
[null,9516,{"$nulls":7},{"v":0,"d":"€ 0.00"},{"v":0,"d":"€ 0.00"}]
[null,9517,{"$nulls":7},{"v":0,"d":"€ 0.00"},{"v":0,"d":"€ 0.00"}]
[null,9518,{"$nulls":7},{"v":0,"d":"€ 0.00"},{"v":0,"d":"€ 0.00"}]
[null,9519,{"$nulls":7},{"v":0,"d":"€ 0.00"},{"v":0,"d":"€ 0.00"}]
[null,9520,{"$nulls":7},{"v":0,"d":"€ 0.00"},{"v":0,"d":"€ 0.00"}]
[null,9521,{"$nulls":7},{"v":0,"d":"€ 0.00"},{"v":0,"d":"€ 0.00"}]
[null,9522,{"$nulls":7},{"v":0,"d":"€ 0.00"},{"v":0,"d":"€ 0.00"}]
[null,9523,{"$nulls":7},{"v":0,"d":"€ 0.00"},{"v":0,"d":"€ 0.00"}]
[null,9524,{"$nulls":7},{"v":0,"d":"€ 0.00"},{"v":0,"d":"€ 0.00"}]
[null,9525,{"$nulls":7},{"v":0,"d":"€ 0.00"},{"v":0,"d":"€ 0.00"}]
[null,9526,{"$nulls":7},{"v":0,"d":"€ 0.00"},{"v":0,"d":"€ 0.00"}]
[null,9527,{"$nulls":7},{"v":0,"d":"€ 0.00"},{"v":0,"d":"€ 0.00"}]
[null,9528,{"$nulls":7},{"v":0,"d":"€ 0.00"},{"v":0,"d":"€ 0.00"}]
[null,9529,{"$nulls":7},{"v":0,"d":"€ 0.00"},{"v":0,"d":"€ 0.00"}]
[null,9530,{"$nulls":7},{"v":0,"d":"€ 0.00"},{"v":0,"d":"€ 0.00"}]
[null,9531,{"$nulls":7},{"v":0,"d":"€ 0.00"},{"v":0,"d":"€ 0.00"}]
[null,9532,{"$nulls":7},{"v":0,"d":"€ 0.00"},{"v":0,"d":"€ 0.00"}]
[null,9533,{"$nulls":7},{"v":0,"d":"€ 0.00"},{"v":0,"d":"€ 0.00"}]
[null,9534,{"$nulls":7},{"v":0,"d":"€ 0.00"},{"v":0,"d":"€ 0.00"}]
[null,9535,{"$nulls":7},{"v":0,"d":"€ 0.00"},{"v":0,"d":"€ 0.00"}]
[null,9536,{"$nulls":7},{"v":0,"d":"€ 0.00"},{"v":0,"d":"€ 0.00"}]
[null,9537,{"$nulls":7},{"v":0,"d":"€ 0.00"},{"v":0,"d":"€ 0.00"}]
[null,9538,{"$nulls":7},{"v":0,"d":"€ 0.00"},{"v":0,"d":"€ 0.00"}]
[null,9539,{"$nulls":7},{"v":0,"d":"€ 0.00"},{"v":0,"d":"€ 0.00"}]
[null,9540,{"$nulls":7},{"v":0,"d":"€ 0.00"},{"v":0,"d":"€ 0.00"}]
[null,9541,{"$nulls":7},{"v":0,"d":"€ 0.00"},{"v":0,"d":"€ 0.00"}]
[null,9542,{"$nulls":7},{"v":0,"d":"€ 0.00"},{"v":0,"d":"€ 0.00"}]
[null,9543,{"$nulls":7},{"v":0,"d":"€ 0.00"},{"v":0,"d":"€ 0.00"}]
[null,9544,{"$nulls":7},{"v":0,"d":"€ 0.00"},{"v":0,"d":"€ 0.00"}]
[null,9545,{"$nulls":7},{"v":0,"d":"€ 0.00"},{"v":0,"d":"€ 0.00"}]
[null,9546,{"$nulls":7},{"v":0,"d":"€ 0.00"},{"v":0,"d":"€ 0.00"}]
[null,9547,{"$nulls":7},{"v":0,"d":"€ 0.00"},{"v":0,"d":"€ 0.00"}]
[null,9548,{"$nulls":7},{"v":0,"d":"€ 0.00"},{"v":0,"d":"€ 0.00"}]
[null,9549,{"$nulls":7},{"v":0,"d":"€ 0.00"},{"v":0,"d":"€ 0.00"}]
[null,9550,{"$nulls":7},{"v":0,"d":"€ 0.00"},{"v":0,"d":"€ 0.00"}]
[null,9551,{"$nulls":7},{"v":0,"d":"€ 0.00"},{"v":0,"d":"€ 0.00"}]
[null,9552,{"$nulls":7},{"v":0,"d":"€ 0.00"},{"v":0,"d":"€ 0.00"}]
[null,9553,{"$nulls":7},{"v":0,"d":"€ 0.00"},{"v":0,"d":"€ 0.00"}]
[null,9554,{"$nulls":7},{"v":0,"d":"€ 0.00"},{"v":0,"d":"€ 0.00"}]
[null,9555,{"$nulls":7},{"$f":"IF(OR(ISBLANK(H9562)=TRUE,ISBLANK(I9562)=TRUE),,ROUND(H9562*I9562,2))","v":{"v":0,"d":"€ 0.00"}},{"$f":"G9562+J9562","v":{"v":0,"d":"€ 0.00"}}]
[null,9556,{"$nulls":7},{"v":0,"d":"€ 0.00"},{"v":0,"d":"€ 0.00"}]
[null,9557,{"$nulls":7},{"v":0,"d":"€ 0.00"},{"v":0,"d":"€ 0.00"}]
[null,9558,{"$nulls":7},{"v":0,"d":"€ 0.00"},{"v":0,"d":"€ 0.00"}]
[null,9559,{"$nulls":7},{"v":0,"d":"€ 0.00"},{"v":0,"d":"€ 0.00"}]
[null,9560,{"$nulls":7},{"v":0,"d":"€ 0.00"},{"v":0,"d":"€ 0.00"}]
[null,9561,{"$nulls":7},{"v":0,"d":"€ 0.00"},{"v":0,"d":"€ 0.00"}]
[null,9562,{"$nulls":7},{"v":0,"d":"€ 0.00"},{"v":0,"d":"€ 0.00"}]
[null,9563,{"$nulls":7},{"v":0,"d":"€ 0.00"},{"v":0,"d":"€ 0.00"}]
[null,9564,{"$nulls":7},{"v":0,"d":"€ 0.00"},{"v":0,"d":"€ 0.00"}]
[null,9565,{"$nulls":7},{"v":0,"d":"€ 0.00"},{"v":0,"d":"€ 0.00"}]
[null,9566,{"$nulls":7},{"v":0,"d":"€ 0.00"},{"v":0,"d":"€ 0.00"}]
[null,9567,{"$nulls":7},{"v":0,"d":"€ 0.00"},{"v":0,"d":"€ 0.00"}]
[null,9568,{"$nulls":7},{"v":0,"d":"€ 0.00"},{"v":0,"d":"€ 0.00"}]
[null,9569,{"$nulls":7},{"v":0,"d":"€ 0.00"},{"v":0,"d":"€ 0.00"}]
[null,9570,{"$nulls":7},{"v":0,"d":"€ 0.00"},{"v":0,"d":"€ 0.00"}]
[null,9571,{"$nulls":7},{"v":0,"d":"€ 0.00"},{"v":0,"d":"€ 0.00"}]
[null,9572,{"$nulls":7},{"v":0,"d":"€ 0.00"},{"v":0,"d":"€ 0.00"}]
[null,9573,{"$nulls":7},{"v":0,"d":"€ 0.00"},{"v":0,"d":"€ 0.00"}]
[null,9574,{"$nulls":7},{"v":0,"d":"€ 0.00"},{"v":0,"d":"€ 0.00"}]
[null,9575,{"$nulls":7},{"v":0,"d":"€ 0.00"},{"v":0,"d":"€ 0.00"}]
[null,9576,{"$nulls":7},{"v":0,"d":"€ 0.00"},{"v":0,"d":"€ 0.00"}]
[null,9577,{"$nulls":7},{"v":0,"d":"€ 0.00"},{"v":0,"d":"€ 0.00"}]
[null,9578,{"$nulls":7},{"v":0,"d":"€ 0.00"},{"v":0,"d":"€ 0.00"}]
[null,9579,{"$nulls":7},{"v":0,"d":"€ 0.00"},{"v":0,"d":"€ 0.00"}]
[null,9580,{"$nulls":7},{"v":0,"d":"€ 0.00"},{"v":0,"d":"€ 0.00"}]
[null,9581,{"$nulls":7},{"v":0,"d":"€ 0.00"},{"v":0,"d":"€ 0.00"}]
[null,9582,{"$nulls":7},{"v":0,"d":"€ 0.00"},{"v":0,"d":"€ 0.00"}]
[null,9583,{"$nulls":7},{"v":0,"d":"€ 0.00"},{"v":0,"d":"€ 0.00"}]
[null,9584,{"$nulls":7},{"v":0,"d":"€ 0.00"},{"v":0,"d":"€ 0.00"}]
[null,9585,{"$nulls":7},{"v":0,"d":"€ 0.00"},{"v":0,"d":"€ 0.00"}]
[null,9586,{"$nulls":7},{"v":0,"d":"€ 0.00"},{"v":0,"d":"€ 0.00"}]
[null,9587,{"$nulls":7},{"v":0,"d":"€ 0.00"},{"v":0,"d":"€ 0.00"}]
[null,9588,{"$nulls":7},{"v":0,"d":"€ 0.00"},{"v":0,"d":"€ 0.00"}]
[null,9589,{"$nulls":7},{"v":0,"d":"€ 0.00"},{"v":0,"d":"€ 0.00"}]
[null,9590,{"$nulls":7},{"v":0,"d":"€ 0.00"},{"v":0,"d":"€ 0.00"}]
[null,9591,{"$nulls":7},{"v":0,"d":"€ 0.00"},{"v":0,"d":"€ 0.00"}]
[null,9592,{"$nulls":7},{"v":0,"d":"€ 0.00"},{"v":0,"d":"€ 0.00"}]
[null,9593,{"$nulls":7},{"v":0,"d":"€ 0.00"},{"v":0,"d":"€ 0.00"}]
[null,9594,{"$nulls":7},{"v":0,"d":"€ 0.00"},{"v":0,"d":"€ 0.00"}]
[null,9595,{"$nulls":7},{"v":0,"d":"€ 0.00"},{"v":0,"d":"€ 0.00"}]
[null,9596,{"$nulls":7},{"v":0,"d":"€ 0.00"},{"v":0,"d":"€ 0.00"}]
[null,9597,{"$nulls":7},{"v":0,"d":"€ 0.00"},{"v":0,"d":"€ 0.00"}]
[null,9598,{"$nulls":7},{"v":0,"d":"€ 0.00"},{"v":0,"d":"€ 0.00"}]
[null,9599,{"$nulls":7},{"v":0,"d":"€ 0.00"},{"v":0,"d":"€ 0.00"}]
[null,9600,{"$nulls":7},{"v":0,"d":"€ 0.00"},{"v":0,"d":"€ 0.00"}]
[null,9601,{"$nulls":7},{"v":0,"d":"€ 0.00"},{"v":0,"d":"€ 0.00"}]
[null,9602,{"$nulls":7},{"v":0,"d":"€ 0.00"},{"v":0,"d":"€ 0.00"}]
[null,9603,{"$nulls":7},{"v":0,"d":"€ 0.00"},{"v":0,"d":"€ 0.00"}]
[null,9604,{"$nulls":7},{"v":0,"d":"€ 0.00"},{"v":0,"d":"€ 0.00"}]
[null,9605,{"$nulls":7},{"v":0,"d":"€ 0.00"},{"v":0,"d":"€ 0.00"}]
[null,9606,{"$nulls":7},{"v":0,"d":"€ 0.00"},{"v":0,"d":"€ 0.00"}]
[null,9607,{"$nulls":7},{"v":0,"d":"€ 0.00"},{"v":0,"d":"€ 0.00"}]
[null,9608,{"$nulls":7},{"v":0,"d":"€ 0.00"},{"v":0,"d":"€ 0.00"}]
[null,9609,{"$nulls":7},{"v":0,"d":"€ 0.00"},{"v":0,"d":"€ 0.00"}]
[null,9610,{"$nulls":7},{"v":0,"d":"€ 0.00"},{"v":0,"d":"€ 0.00"}]
[null,9611,{"$nulls":7},{"v":0,"d":"€ 0.00"},{"v":0,"d":"€ 0.00"}]
[null,9612,{"$nulls":7},{"v":0,"d":"€ 0.00"},{"v":0,"d":"€ 0.00"}]
[null,9613,{"$nulls":7},{"v":0,"d":"€ 0.00"},{"v":0,"d":"€ 0.00"}]
[null,9614,{"$nulls":7},{"v":0,"d":"€ 0.00"},{"v":0,"d":"€ 0.00"}]
[null,9615,{"$nulls":7},{"v":0,"d":"€ 0.00"},{"v":0,"d":"€ 0.00"}]
[null,9616,{"$nulls":7},{"v":0,"d":"€ 0.00"},{"v":0,"d":"€ 0.00"}]
[null,9617,{"$nulls":7},{"v":0,"d":"€ 0.00"},{"v":0,"d":"€ 0.00"}]
[null,9618,{"$nulls":7},{"v":0,"d":"€ 0.00"},{"v":0,"d":"€ 0.00"}]
[null,9619,{"$nulls":7},{"$f":"IF(OR(ISBLANK(H9626)=TRUE,ISBLANK(I9626)=TRUE),,ROUND(H9626*I9626,2))","v":{"v":0,"d":"€ 0.00"}},{"$f":"G9626+J9626","v":{"v":0,"d":"€ 0.00"}}]
[null,9620,{"$nulls":7},{"v":0,"d":"€ 0.00"},{"v":0,"d":"€ 0.00"}]
[null,9621,{"$nulls":7},{"v":0,"d":"€ 0.00"},{"v":0,"d":"€ 0.00"}]
[null,9622,{"$nulls":7},{"v":0,"d":"€ 0.00"},{"v":0,"d":"€ 0.00"}]
[null,9623,{"$nulls":7},{"v":0,"d":"€ 0.00"},{"v":0,"d":"€ 0.00"}]
[null,9624,{"$nulls":7},{"v":0,"d":"€ 0.00"},{"v":0,"d":"€ 0.00"}]
[null,9625,{"$nulls":7},{"v":0,"d":"€ 0.00"},{"v":0,"d":"€ 0.00"}]
[null,9626,{"$nulls":7},{"v":0,"d":"€ 0.00"},{"v":0,"d":"€ 0.00"}]
[null,9627,{"$nulls":7},{"v":0,"d":"€ 0.00"},{"v":0,"d":"€ 0.00"}]
[null,9628,{"$nulls":7},{"v":0,"d":"€ 0.00"},{"v":0,"d":"€ 0.00"}]
[null,9629,{"$nulls":7},{"v":0,"d":"€ 0.00"},{"v":0,"d":"€ 0.00"}]
[null,9630,{"$nulls":7},{"v":0,"d":"€ 0.00"},{"v":0,"d":"€ 0.00"}]
[null,9631,{"$nulls":7},{"v":0,"d":"€ 0.00"},{"v":0,"d":"€ 0.00"}]
[null,9632,{"$nulls":7},{"v":0,"d":"€ 0.00"},{"v":0,"d":"€ 0.00"}]
[null,9633,{"$nulls":7},{"v":0,"d":"€ 0.00"},{"v":0,"d":"€ 0.00"}]
[null,9634,{"$nulls":7},{"v":0,"d":"€ 0.00"},{"v":0,"d":"€ 0.00"}]
[null,9635,{"$nulls":7},{"v":0,"d":"€ 0.00"},{"v":0,"d":"€ 0.00"}]
[null,9636,{"$nulls":7},{"v":0,"d":"€ 0.00"},{"v":0,"d":"€ 0.00"}]
[null,9637,{"$nulls":7},{"v":0,"d":"€ 0.00"},{"v":0,"d":"€ 0.00"}]
[null,9638,{"$nulls":7},{"v":0,"d":"€ 0.00"},{"v":0,"d":"€ 0.00"}]
[null,9639,{"$nulls":7},{"v":0,"d":"€ 0.00"},{"v":0,"d":"€ 0.00"}]
[null,9640,{"$nulls":7},{"v":0,"d":"€ 0.00"},{"v":0,"d":"€ 0.00"}]
[null,9641,{"$nulls":7},{"v":0,"d":"€ 0.00"},{"v":0,"d":"€ 0.00"}]
[null,9642,{"$nulls":7},{"v":0,"d":"€ 0.00"},{"v":0,"d":"€ 0.00"}]
[null,9643,{"$nulls":7},{"v":0,"d":"€ 0.00"},{"v":0,"d":"€ 0.00"}]
[null,9644,{"$nulls":7},{"v":0,"d":"€ 0.00"},{"v":0,"d":"€ 0.00"}]
[null,9645,{"$nulls":7},{"v":0,"d":"€ 0.00"},{"v":0,"d":"€ 0.00"}]
[null,9646,{"$nulls":7},{"v":0,"d":"€ 0.00"},{"v":0,"d":"€ 0.00"}]
[null,9647,{"$nulls":7},{"v":0,"d":"€ 0.00"},{"v":0,"d":"€ 0.00"}]
[null,9648,{"$nulls":7},{"v":0,"d":"€ 0.00"},{"v":0,"d":"€ 0.00"}]
[null,9649,{"$nulls":7},{"v":0,"d":"€ 0.00"},{"v":0,"d":"€ 0.00"}]
[null,9650,{"$nulls":7},{"v":0,"d":"€ 0.00"},{"v":0,"d":"€ 0.00"}]
[null,9651,{"$nulls":7},{"v":0,"d":"€ 0.00"},{"v":0,"d":"€ 0.00"}]
[null,9652,{"$nulls":7},{"v":0,"d":"€ 0.00"},{"v":0,"d":"€ 0.00"}]
[null,9653,{"$nulls":7},{"v":0,"d":"€ 0.00"},{"v":0,"d":"€ 0.00"}]
[null,9654,{"$nulls":7},{"v":0,"d":"€ 0.00"},{"v":0,"d":"€ 0.00"}]
[null,9655,{"$nulls":7},{"v":0,"d":"€ 0.00"},{"v":0,"d":"€ 0.00"}]
[null,9656,{"$nulls":7},{"v":0,"d":"€ 0.00"},{"v":0,"d":"€ 0.00"}]
[null,9657,{"$nulls":7},{"v":0,"d":"€ 0.00"},{"v":0,"d":"€ 0.00"}]
[null,9658,{"$nulls":7},{"v":0,"d":"€ 0.00"},{"v":0,"d":"€ 0.00"}]
[null,9659,{"$nulls":7},{"v":0,"d":"€ 0.00"},{"v":0,"d":"€ 0.00"}]
[null,9660,{"$nulls":7},{"v":0,"d":"€ 0.00"},{"v":0,"d":"€ 0.00"}]
[null,9661,{"$nulls":7},{"v":0,"d":"€ 0.00"},{"v":0,"d":"€ 0.00"}]
[null,9662,{"$nulls":7},{"v":0,"d":"€ 0.00"},{"v":0,"d":"€ 0.00"}]
[null,9663,{"$nulls":7},{"v":0,"d":"€ 0.00"},{"v":0,"d":"€ 0.00"}]
[null,9664,{"$nulls":7},{"v":0,"d":"€ 0.00"},{"v":0,"d":"€ 0.00"}]
[null,9665,{"$nulls":7},{"v":0,"d":"€ 0.00"},{"v":0,"d":"€ 0.00"}]
[null,9666,{"$nulls":7},{"v":0,"d":"€ 0.00"},{"v":0,"d":"€ 0.00"}]
[null,9667,{"$nulls":7},{"v":0,"d":"€ 0.00"},{"v":0,"d":"€ 0.00"}]
[null,9668,{"$nulls":7},{"v":0,"d":"€ 0.00"},{"v":0,"d":"€ 0.00"}]
[null,9669,{"$nulls":7},{"v":0,"d":"€ 0.00"},{"v":0,"d":"€ 0.00"}]
[null,9670,{"$nulls":7},{"v":0,"d":"€ 0.00"},{"v":0,"d":"€ 0.00"}]
[null,9671,{"$nulls":7},{"v":0,"d":"€ 0.00"},{"v":0,"d":"€ 0.00"}]
[null,9672,{"$nulls":7},{"v":0,"d":"€ 0.00"},{"v":0,"d":"€ 0.00"}]
[null,9673,{"$nulls":7},{"v":0,"d":"€ 0.00"},{"v":0,"d":"€ 0.00"}]
[null,9674,{"$nulls":7},{"v":0,"d":"€ 0.00"},{"v":0,"d":"€ 0.00"}]
[null,9675,{"$nulls":7},{"v":0,"d":"€ 0.00"},{"v":0,"d":"€ 0.00"}]
[null,9676,{"$nulls":7},{"v":0,"d":"€ 0.00"},{"v":0,"d":"€ 0.00"}]
[null,9677,{"$nulls":7},{"v":0,"d":"€ 0.00"},{"v":0,"d":"€ 0.00"}]
[null,9678,{"$nulls":7},{"v":0,"d":"€ 0.00"},{"v":0,"d":"€ 0.00"}]
[null,9679,{"$nulls":7},{"v":0,"d":"€ 0.00"},{"v":0,"d":"€ 0.00"}]
[null,9680,{"$nulls":7},{"v":0,"d":"€ 0.00"},{"v":0,"d":"€ 0.00"}]
[null,9681,{"$nulls":7},{"v":0,"d":"€ 0.00"},{"v":0,"d":"€ 0.00"}]
[null,9682,{"$nulls":7},{"v":0,"d":"€ 0.00"},{"v":0,"d":"€ 0.00"}]
[null,9683,{"$nulls":7},{"$f":"IF(OR(ISBLANK(H9690)=TRUE,ISBLANK(I9690)=TRUE),,ROUND(H9690*I9690,2))","v":{"v":0,"d":"€ 0.00"}},{"$f":"G9690+J9690","v":{"v":0,"d":"€ 0.00"}}]
[null,9684,{"$nulls":7},{"v":0,"d":"€ 0.00"},{"v":0,"d":"€ 0.00"}]
[null,9685,{"$nulls":7},{"v":0,"d":"€ 0.00"},{"v":0,"d":"€ 0.00"}]
[null,9686,{"$nulls":7},{"v":0,"d":"€ 0.00"},{"v":0,"d":"€ 0.00"}]
[null,9687,{"$nulls":7},{"v":0,"d":"€ 0.00"},{"v":0,"d":"€ 0.00"}]
[null,9688,{"$nulls":7},{"v":0,"d":"€ 0.00"},{"v":0,"d":"€ 0.00"}]
[null,9689,{"$nulls":7},{"v":0,"d":"€ 0.00"},{"v":0,"d":"€ 0.00"}]
[null,9690,{"$nulls":7},{"v":0,"d":"€ 0.00"},{"v":0,"d":"€ 0.00"}]
[null,9691,{"$nulls":7},{"v":0,"d":"€ 0.00"},{"v":0,"d":"€ 0.00"}]
[null,9692,{"$nulls":7},{"v":0,"d":"€ 0.00"},{"v":0,"d":"€ 0.00"}]
[null,9693,{"$nulls":7},{"v":0,"d":"€ 0.00"},{"v":0,"d":"€ 0.00"}]
[null,9694,{"$nulls":7},{"v":0,"d":"€ 0.00"},{"v":0,"d":"€ 0.00"}]
[null,9695,{"$nulls":7},{"v":0,"d":"€ 0.00"},{"v":0,"d":"€ 0.00"}]
[null,9696,{"$nulls":7},{"v":0,"d":"€ 0.00"},{"v":0,"d":"€ 0.00"}]
[null,9697,{"$nulls":7},{"v":0,"d":"€ 0.00"},{"v":0,"d":"€ 0.00"}]
[null,9698,{"$nulls":7},{"v":0,"d":"€ 0.00"},{"v":0,"d":"€ 0.00"}]
[null,9699,{"$nulls":7},{"v":0,"d":"€ 0.00"},{"v":0,"d":"€ 0.00"}]
[null,9700,{"$nulls":7},{"v":0,"d":"€ 0.00"},{"v":0,"d":"€ 0.00"}]
[null,9701,{"$nulls":7},{"v":0,"d":"€ 0.00"},{"v":0,"d":"€ 0.00"}]
[null,9702,{"$nulls":7},{"v":0,"d":"€ 0.00"},{"v":0,"d":"€ 0.00"}]
[null,9703,{"$nulls":7},{"v":0,"d":"€ 0.00"},{"v":0,"d":"€ 0.00"}]
[null,9704,{"$nulls":7},{"v":0,"d":"€ 0.00"},{"v":0,"d":"€ 0.00"}]
[null,9705,{"$nulls":7},{"v":0,"d":"€ 0.00"},{"v":0,"d":"€ 0.00"}]
[null,9706,{"$nulls":7},{"v":0,"d":"€ 0.00"},{"v":0,"d":"€ 0.00"}]
[null,9707,{"$nulls":7},{"v":0,"d":"€ 0.00"},{"v":0,"d":"€ 0.00"}]
[null,9708,{"$nulls":7},{"v":0,"d":"€ 0.00"},{"v":0,"d":"€ 0.00"}]
[null,9709,{"$nulls":7},{"v":0,"d":"€ 0.00"},{"v":0,"d":"€ 0.00"}]
[null,9710,{"$nulls":7},{"v":0,"d":"€ 0.00"},{"v":0,"d":"€ 0.00"}]
[null,9711,{"$nulls":7},{"v":0,"d":"€ 0.00"},{"v":0,"d":"€ 0.00"}]
[null,9712,{"$nulls":7},{"v":0,"d":"€ 0.00"},{"v":0,"d":"€ 0.00"}]
[null,9713,{"$nulls":7},{"v":0,"d":"€ 0.00"},{"v":0,"d":"€ 0.00"}]
[null,9714,{"$nulls":7},{"v":0,"d":"€ 0.00"},{"v":0,"d":"€ 0.00"}]
[null,9715,{"$nulls":7},{"v":0,"d":"€ 0.00"},{"v":0,"d":"€ 0.00"}]
[null,9716,{"$nulls":7},{"v":0,"d":"€ 0.00"},{"v":0,"d":"€ 0.00"}]
[null,9717,{"$nulls":7},{"v":0,"d":"€ 0.00"},{"v":0,"d":"€ 0.00"}]
[null,9718,{"$nulls":7},{"v":0,"d":"€ 0.00"},{"v":0,"d":"€ 0.00"}]
[null,9719,{"$nulls":7},{"v":0,"d":"€ 0.00"},{"v":0,"d":"€ 0.00"}]
[null,9720,{"$nulls":7},{"v":0,"d":"€ 0.00"},{"v":0,"d":"€ 0.00"}]
[null,9721,{"$nulls":7},{"v":0,"d":"€ 0.00"},{"v":0,"d":"€ 0.00"}]
[null,9722,{"$nulls":7},{"v":0,"d":"€ 0.00"},{"v":0,"d":"€ 0.00"}]
[null,9723,{"$nulls":7},{"v":0,"d":"€ 0.00"},{"v":0,"d":"€ 0.00"}]
[null,9724,{"$nulls":7},{"v":0,"d":"€ 0.00"},{"v":0,"d":"€ 0.00"}]
[null,9725,{"$nulls":7},{"v":0,"d":"€ 0.00"},{"v":0,"d":"€ 0.00"}]
[null,9726,{"$nulls":7},{"v":0,"d":"€ 0.00"},{"v":0,"d":"€ 0.00"}]
[null,9727,{"$nulls":7},{"v":0,"d":"€ 0.00"},{"v":0,"d":"€ 0.00"}]
[null,9728,{"$nulls":7},{"v":0,"d":"€ 0.00"},{"v":0,"d":"€ 0.00"}]
[null,9729,{"$nulls":7},{"v":0,"d":"€ 0.00"},{"v":0,"d":"€ 0.00"}]
[null,9730,{"$nulls":7},{"v":0,"d":"€ 0.00"},{"v":0,"d":"€ 0.00"}]
[null,9731,{"$nulls":7},{"v":0,"d":"€ 0.00"},{"v":0,"d":"€ 0.00"}]
[null,9732,{"$nulls":7},{"v":0,"d":"€ 0.00"},{"v":0,"d":"€ 0.00"}]
[null,9733,{"$nulls":7},{"v":0,"d":"€ 0.00"},{"v":0,"d":"€ 0.00"}]
[null,9734,{"$nulls":7},{"v":0,"d":"€ 0.00"},{"v":0,"d":"€ 0.00"}]
[null,9735,{"$nulls":7},{"v":0,"d":"€ 0.00"},{"v":0,"d":"€ 0.00"}]
[null,9736,{"$nulls":7},{"v":0,"d":"€ 0.00"},{"v":0,"d":"€ 0.00"}]
[null,9737,{"$nulls":7},{"v":0,"d":"€ 0.00"},{"v":0,"d":"€ 0.00"}]
[null,9738,{"$nulls":7},{"v":0,"d":"€ 0.00"},{"v":0,"d":"€ 0.00"}]
[null,9739,{"$nulls":7},{"v":0,"d":"€ 0.00"},{"v":0,"d":"€ 0.00"}]
[null,9740,{"$nulls":7},{"v":0,"d":"€ 0.00"},{"v":0,"d":"€ 0.00"}]
[null,9741,{"$nulls":7},{"v":0,"d":"€ 0.00"},{"v":0,"d":"€ 0.00"}]
[null,9742,{"$nulls":7},{"v":0,"d":"€ 0.00"},{"v":0,"d":"€ 0.00"}]
[null,9743,{"$nulls":7},{"v":0,"d":"€ 0.00"},{"v":0,"d":"€ 0.00"}]
[null,9744,{"$nulls":7},{"v":0,"d":"€ 0.00"},{"v":0,"d":"€ 0.00"}]
[null,9745,{"$nulls":7},{"v":0,"d":"€ 0.00"},{"v":0,"d":"€ 0.00"}]
[null,9746,{"$nulls":7},{"v":0,"d":"€ 0.00"},{"v":0,"d":"€ 0.00"}]
[null,9747,{"$nulls":7},{"$f":"IF(OR(ISBLANK(H9754)=TRUE,ISBLANK(I9754)=TRUE),,ROUND(H9754*I9754,2))","v":{"v":0,"d":"€ 0.00"}},{"$f":"G9754+J9754","v":{"v":0,"d":"€ 0.00"}}]
[null,9748,{"$nulls":7},{"v":0,"d":"€ 0.00"},{"v":0,"d":"€ 0.00"}]
[null,9749,{"$nulls":7},{"v":0,"d":"€ 0.00"},{"v":0,"d":"€ 0.00"}]
[null,9750,{"$nulls":7},{"v":0,"d":"€ 0.00"},{"v":0,"d":"€ 0.00"}]
[null,9751,{"$nulls":7},{"v":0,"d":"€ 0.00"},{"v":0,"d":"€ 0.00"}]
[null,9752,{"$nulls":7},{"v":0,"d":"€ 0.00"},{"v":0,"d":"€ 0.00"}]
[null,9753,{"$nulls":7},{"v":0,"d":"€ 0.00"},{"v":0,"d":"€ 0.00"}]
[null,9754,{"$nulls":7},{"v":0,"d":"€ 0.00"},{"v":0,"d":"€ 0.00"}]
[null,9755,{"$nulls":7},{"v":0,"d":"€ 0.00"},{"v":0,"d":"€ 0.00"}]
[null,9756,{"$nulls":7},{"v":0,"d":"€ 0.00"},{"v":0,"d":"€ 0.00"}]
[null,9757,{"$nulls":7},{"v":0,"d":"€ 0.00"},{"v":0,"d":"€ 0.00"}]
[null,9758,{"$nulls":7},{"v":0,"d":"€ 0.00"},{"v":0,"d":"€ 0.00"}]
[null,9759,{"$nulls":7},{"v":0,"d":"€ 0.00"},{"v":0,"d":"€ 0.00"}]
[null,9760,{"$nulls":7},{"v":0,"d":"€ 0.00"},{"v":0,"d":"€ 0.00"}]
[null,9761,{"$nulls":7},{"v":0,"d":"€ 0.00"},{"v":0,"d":"€ 0.00"}]
[null,9762,{"$nulls":7},{"v":0,"d":"€ 0.00"},{"v":0,"d":"€ 0.00"}]
[null,9763,{"$nulls":7},{"v":0,"d":"€ 0.00"},{"v":0,"d":"€ 0.00"}]
[null,9764,{"$nulls":7},{"v":0,"d":"€ 0.00"},{"v":0,"d":"€ 0.00"}]
[null,9765,{"$nulls":7},{"v":0,"d":"€ 0.00"},{"v":0,"d":"€ 0.00"}]
[null,9766,{"$nulls":7},{"v":0,"d":"€ 0.00"},{"v":0,"d":"€ 0.00"}]
[null,9767,{"$nulls":7},{"v":0,"d":"€ 0.00"},{"v":0,"d":"€ 0.00"}]
[null,9768,{"$nulls":7},{"v":0,"d":"€ 0.00"},{"v":0,"d":"€ 0.00"}]
[null,9769,{"$nulls":7},{"v":0,"d":"€ 0.00"},{"v":0,"d":"€ 0.00"}]
[null,9770,{"$nulls":7},{"v":0,"d":"€ 0.00"},{"v":0,"d":"€ 0.00"}]
[null,9771,{"$nulls":7},{"v":0,"d":"€ 0.00"},{"v":0,"d":"€ 0.00"}]
[null,9772,{"$nulls":7},{"v":0,"d":"€ 0.00"},{"v":0,"d":"€ 0.00"}]
[null,9773,{"$nulls":7},{"v":0,"d":"€ 0.00"},{"v":0,"d":"€ 0.00"}]
[null,9774,{"$nulls":7},{"v":0,"d":"€ 0.00"},{"v":0,"d":"€ 0.00"}]
[null,9775,{"$nulls":7},{"v":0,"d":"€ 0.00"},{"v":0,"d":"€ 0.00"}]
[null,9776,{"$nulls":7},{"v":0,"d":"€ 0.00"},{"v":0,"d":"€ 0.00"}]
[null,9777,{"$nulls":7},{"v":0,"d":"€ 0.00"},{"v":0,"d":"€ 0.00"}]
[null,9778,{"$nulls":7},{"v":0,"d":"€ 0.00"},{"v":0,"d":"€ 0.00"}]
[null,9779,{"$nulls":7},{"v":0,"d":"€ 0.00"},{"v":0,"d":"€ 0.00"}]
[null,9780,{"$nulls":7},{"v":0,"d":"€ 0.00"},{"v":0,"d":"€ 0.00"}]
[null,9781,{"$nulls":7},{"v":0,"d":"€ 0.00"},{"v":0,"d":"€ 0.00"}]
[null,9782,{"$nulls":7},{"v":0,"d":"€ 0.00"},{"v":0,"d":"€ 0.00"}]
[null,9783,{"$nulls":7},{"v":0,"d":"€ 0.00"},{"v":0,"d":"€ 0.00"}]
[null,9784,{"$nulls":7},{"v":0,"d":"€ 0.00"},{"v":0,"d":"€ 0.00"}]
[null,9785,{"$nulls":7},{"v":0,"d":"€ 0.00"},{"v":0,"d":"€ 0.00"}]
[null,9786,{"$nulls":7},{"v":0,"d":"€ 0.00"},{"v":0,"d":"€ 0.00"}]
[null,9787,{"$nulls":7},{"v":0,"d":"€ 0.00"},{"v":0,"d":"€ 0.00"}]
[null,9788,{"$nulls":7},{"v":0,"d":"€ 0.00"},{"v":0,"d":"€ 0.00"}]
[null,9789,{"$nulls":7},{"v":0,"d":"€ 0.00"},{"v":0,"d":"€ 0.00"}]
[null,9790,{"$nulls":7},{"v":0,"d":"€ 0.00"},{"v":0,"d":"€ 0.00"}]
[null,9791,{"$nulls":7},{"v":0,"d":"€ 0.00"},{"v":0,"d":"€ 0.00"}]
[null,9792,{"$nulls":7},{"v":0,"d":"€ 0.00"},{"v":0,"d":"€ 0.00"}]
[null,9793,{"$nulls":7},{"v":0,"d":"€ 0.00"},{"v":0,"d":"€ 0.00"}]
[null,9794,{"$nulls":7},{"v":0,"d":"€ 0.00"},{"v":0,"d":"€ 0.00"}]
[null,9795,{"$nulls":7},{"v":0,"d":"€ 0.00"},{"v":0,"d":"€ 0.00"}]
[null,9796,{"$nulls":7},{"v":0,"d":"€ 0.00"},{"v":0,"d":"€ 0.00"}]
[null,9797,{"$nulls":7},{"v":0,"d":"€ 0.00"},{"v":0,"d":"€ 0.00"}]
[null,9798,{"$nulls":7},{"v":0,"d":"€ 0.00"},{"v":0,"d":"€ 0.00"}]
[null,9799,{"$nulls":7},{"v":0,"d":"€ 0.00"},{"v":0,"d":"€ 0.00"}]
[null,9800,{"$nulls":7},{"v":0,"d":"€ 0.00"},{"v":0,"d":"€ 0.00"}]
[null,9801,{"$nulls":7},{"v":0,"d":"€ 0.00"},{"v":0,"d":"€ 0.00"}]
[null,9802,{"$nulls":7},{"v":0,"d":"€ 0.00"},{"v":0,"d":"€ 0.00"}]
[null,9803,{"$nulls":7},{"v":0,"d":"€ 0.00"},{"v":0,"d":"€ 0.00"}]
[null,9804,{"$nulls":7},{"v":0,"d":"€ 0.00"},{"v":0,"d":"€ 0.00"}]
[null,9805,{"$nulls":7},{"v":0,"d":"€ 0.00"},{"v":0,"d":"€ 0.00"}]
[null,9806,{"$nulls":7},{"v":0,"d":"€ 0.00"},{"v":0,"d":"€ 0.00"}]
[null,9807,{"$nulls":7},{"v":0,"d":"€ 0.00"},{"v":0,"d":"€ 0.00"}]
[null,9808,{"$nulls":7},{"v":0,"d":"€ 0.00"},{"v":0,"d":"€ 0.00"}]
[null,9809,{"$nulls":7},{"v":0,"d":"€ 0.00"},{"v":0,"d":"€ 0.00"}]
[null,9810,{"$nulls":7},{"v":0,"d":"€ 0.00"},{"v":0,"d":"€ 0.00"}]
[null,9811,{"$nulls":7},{"$f":"IF(OR(ISBLANK(H9818)=TRUE,ISBLANK(I9818)=TRUE),,ROUND(H9818*I9818,2))","v":{"v":0,"d":"€ 0.00"}},{"$f":"G9818+J9818","v":{"v":0,"d":"€ 0.00"}}]
[null,9812,{"$nulls":7},{"v":0,"d":"€ 0.00"},{"v":0,"d":"€ 0.00"}]
[null,9813,{"$nulls":7},{"v":0,"d":"€ 0.00"},{"v":0,"d":"€ 0.00"}]
[null,9814,{"$nulls":7},{"v":0,"d":"€ 0.00"},{"v":0,"d":"€ 0.00"}]
[null,9815,{"$nulls":7},{"v":0,"d":"€ 0.00"},{"v":0,"d":"€ 0.00"}]
[null,9816,{"$nulls":7},{"v":0,"d":"€ 0.00"},{"v":0,"d":"€ 0.00"}]
[null,9817,{"$nulls":7},{"v":0,"d":"€ 0.00"},{"v":0,"d":"€ 0.00"}]
[null,9818,{"$nulls":7},{"v":0,"d":"€ 0.00"},{"v":0,"d":"€ 0.00"}]
[null,9819,{"$nulls":7},{"v":0,"d":"€ 0.00"},{"v":0,"d":"€ 0.00"}]
[null,9820,{"$nulls":7},{"v":0,"d":"€ 0.00"},{"v":0,"d":"€ 0.00"}]
[null,9821,{"$nulls":7},{"v":0,"d":"€ 0.00"},{"v":0,"d":"€ 0.00"}]
[null,9822,{"$nulls":7},{"v":0,"d":"€ 0.00"},{"v":0,"d":"€ 0.00"}]
[null,9823,{"$nulls":7},{"v":0,"d":"€ 0.00"},{"v":0,"d":"€ 0.00"}]
[null,9824,{"$nulls":7},{"v":0,"d":"€ 0.00"},{"v":0,"d":"€ 0.00"}]
[null,9825,{"$nulls":7},{"v":0,"d":"€ 0.00"},{"v":0,"d":"€ 0.00"}]
[null,9826,{"$nulls":7},{"v":0,"d":"€ 0.00"},{"v":0,"d":"€ 0.00"}]
[null,9827,{"$nulls":7},{"v":0,"d":"€ 0.00"},{"v":0,"d":"€ 0.00"}]
[null,9828,{"$nulls":7},{"v":0,"d":"€ 0.00"},{"v":0,"d":"€ 0.00"}]
[null,9829,{"$nulls":7},{"v":0,"d":"€ 0.00"},{"v":0,"d":"€ 0.00"}]
[null,9830,{"$nulls":7},{"v":0,"d":"€ 0.00"},{"v":0,"d":"€ 0.00"}]
[null,9831,{"$nulls":7},{"v":0,"d":"€ 0.00"},{"v":0,"d":"€ 0.00"}]
[null,9832,{"$nulls":7},{"v":0,"d":"€ 0.00"},{"v":0,"d":"€ 0.00"}]
[null,9833,{"$nulls":7},{"v":0,"d":"€ 0.00"},{"v":0,"d":"€ 0.00"}]
[null,9834,{"$nulls":7},{"v":0,"d":"€ 0.00"},{"v":0,"d":"€ 0.00"}]
[null,9835,{"$nulls":7},{"v":0,"d":"€ 0.00"},{"v":0,"d":"€ 0.00"}]
[null,9836,{"$nulls":7},{"v":0,"d":"€ 0.00"},{"v":0,"d":"€ 0.00"}]
[null,9837,{"$nulls":7},{"v":0,"d":"€ 0.00"},{"v":0,"d":"€ 0.00"}]
[null,9838,{"$nulls":7},{"v":0,"d":"€ 0.00"},{"v":0,"d":"€ 0.00"}]
[null,9839,{"$nulls":7},{"v":0,"d":"€ 0.00"},{"v":0,"d":"€ 0.00"}]
[null,9840,{"$nulls":7},{"v":0,"d":"€ 0.00"},{"v":0,"d":"€ 0.00"}]
[null,9841,{"$nulls":7},{"v":0,"d":"€ 0.00"},{"v":0,"d":"€ 0.00"}]
[null,9842,{"$nulls":7},{"v":0,"d":"€ 0.00"},{"v":0,"d":"€ 0.00"}]
[null,9843,{"$nulls":7},{"v":0,"d":"€ 0.00"},{"v":0,"d":"€ 0.00"}]
[null,9844,{"$nulls":7},{"v":0,"d":"€ 0.00"},{"v":0,"d":"€ 0.00"}]
[null,9845,{"$nulls":7},{"v":0,"d":"€ 0.00"},{"v":0,"d":"€ 0.00"}]
[null,9846,{"$nulls":7},{"v":0,"d":"€ 0.00"},{"v":0,"d":"€ 0.00"}]
[null,9847,{"$nulls":7},{"v":0,"d":"€ 0.00"},{"v":0,"d":"€ 0.00"}]
[null,9848,{"$nulls":7},{"v":0,"d":"€ 0.00"},{"v":0,"d":"€ 0.00"}]
[null,9849,{"$nulls":7},{"v":0,"d":"€ 0.00"},{"v":0,"d":"€ 0.00"}]
[null,9850,{"$nulls":7},{"v":0,"d":"€ 0.00"},{"v":0,"d":"€ 0.00"}]
[null,9851,{"$nulls":7},{"v":0,"d":"€ 0.00"},{"v":0,"d":"€ 0.00"}]
[null,9852,{"$nulls":7},{"v":0,"d":"€ 0.00"},{"v":0,"d":"€ 0.00"}]
[null,9853,{"$nulls":7},{"v":0,"d":"€ 0.00"},{"v":0,"d":"€ 0.00"}]
[null,9854,{"$nulls":7},{"v":0,"d":"€ 0.00"},{"v":0,"d":"€ 0.00"}]
[null,9855,{"$nulls":7},{"v":0,"d":"€ 0.00"},{"v":0,"d":"€ 0.00"}]
[null,9856,{"$nulls":7},{"v":0,"d":"€ 0.00"},{"v":0,"d":"€ 0.00"}]
[null,9857,{"$nulls":7},{"v":0,"d":"€ 0.00"},{"v":0,"d":"€ 0.00"}]
[null,9858,{"$nulls":7},{"v":0,"d":"€ 0.00"},{"v":0,"d":"€ 0.00"}]
[null,9859,{"$nulls":7},{"v":0,"d":"€ 0.00"},{"v":0,"d":"€ 0.00"}]
[null,9860,{"$nulls":7},{"v":0,"d":"€ 0.00"},{"v":0,"d":"€ 0.00"}]
[null,9861,{"$nulls":7},{"v":0,"d":"€ 0.00"},{"v":0,"d":"€ 0.00"}]
[null,9862,{"$nulls":7},{"v":0,"d":"€ 0.00"},{"v":0,"d":"€ 0.00"}]
[null,9863,{"$nulls":7},{"v":0,"d":"€ 0.00"},{"v":0,"d":"€ 0.00"}]
[null,9864,{"$nulls":7},{"v":0,"d":"€ 0.00"},{"v":0,"d":"€ 0.00"}]
[null,9865,{"$nulls":7},{"v":0,"d":"€ 0.00"},{"v":0,"d":"€ 0.00"}]
[null,9866,{"$nulls":7},{"v":0,"d":"€ 0.00"},{"v":0,"d":"€ 0.00"}]
[null,9867,{"$nulls":7},{"v":0,"d":"€ 0.00"},{"v":0,"d":"€ 0.00"}]
[null,9868,{"$nulls":7},{"v":0,"d":"€ 0.00"},{"v":0,"d":"€ 0.00"}]
[null,9869,{"$nulls":7},{"v":0,"d":"€ 0.00"},{"v":0,"d":"€ 0.00"}]
[null,9870,{"$nulls":7},{"v":0,"d":"€ 0.00"},{"v":0,"d":"€ 0.00"}]
[null,9871,{"$nulls":7},{"v":0,"d":"€ 0.00"},{"v":0,"d":"€ 0.00"}]
[null,9872,{"$nulls":7},{"v":0,"d":"€ 0.00"},{"v":0,"d":"€ 0.00"}]
[null,9873,{"$nulls":7},{"v":0,"d":"€ 0.00"},{"v":0,"d":"€ 0.00"}]
[null,9874,{"$nulls":7},{"v":0,"d":"€ 0.00"},{"v":0,"d":"€ 0.00"}]
[null,9875,{"$nulls":7},{"$f":"IF(OR(ISBLANK(H9882)=TRUE,ISBLANK(I9882)=TRUE),,ROUND(H9882*I9882,2))","v":{"v":0,"d":"€ 0.00"}},{"$f":"G9882+J9882","v":{"v":0,"d":"€ 0.00"}}]
[null,9876,{"$nulls":7},{"v":0,"d":"€ 0.00"},{"v":0,"d":"€ 0.00"}]
[null,9877,{"$nulls":7},{"v":0,"d":"€ 0.00"},{"v":0,"d":"€ 0.00"}]
[null,9878,{"$nulls":7},{"v":0,"d":"€ 0.00"},{"v":0,"d":"€ 0.00"}]
[null,9879,{"$nulls":7},{"v":0,"d":"€ 0.00"},{"v":0,"d":"€ 0.00"}]
[null,9880,{"$nulls":7},{"v":0,"d":"€ 0.00"},{"v":0,"d":"€ 0.00"}]
[null,9881,{"$nulls":7},{"v":0,"d":"€ 0.00"},{"v":0,"d":"€ 0.00"}]
[null,9882,{"$nulls":7},{"v":0,"d":"€ 0.00"},{"v":0,"d":"€ 0.00"}]
[null,9883,{"$nulls":7},{"v":0,"d":"€ 0.00"},{"v":0,"d":"€ 0.00"}]
[null,9884,{"$nulls":7},{"v":0,"d":"€ 0.00"},{"v":0,"d":"€ 0.00"}]
[null,9885,{"$nulls":7},{"v":0,"d":"€ 0.00"},{"v":0,"d":"€ 0.00"}]
[null,9886,{"$nulls":7},{"v":0,"d":"€ 0.00"},{"v":0,"d":"€ 0.00"}]
[null,9887,{"$nulls":7},{"v":0,"d":"€ 0.00"},{"v":0,"d":"€ 0.00"}]
[null,9888,{"$nulls":7},{"v":0,"d":"€ 0.00"},{"v":0,"d":"€ 0.00"}]
[null,9889,{"$nulls":7},{"v":0,"d":"€ 0.00"},{"v":0,"d":"€ 0.00"}]
[null,9890,{"$nulls":7},{"v":0,"d":"€ 0.00"},{"v":0,"d":"€ 0.00"}]
[null,9891,{"$nulls":7},{"v":0,"d":"€ 0.00"},{"v":0,"d":"€ 0.00"}]
[null,9892,{"$nulls":7},{"v":0,"d":"€ 0.00"},{"v":0,"d":"€ 0.00"}]
[null,9893,{"$nulls":7},{"v":0,"d":"€ 0.00"},{"v":0,"d":"€ 0.00"}]
[null,9894,{"$nulls":7},{"v":0,"d":"€ 0.00"},{"v":0,"d":"€ 0.00"}]
[null,9895,{"$nulls":7},{"v":0,"d":"€ 0.00"},{"v":0,"d":"€ 0.00"}]
[null,9896,{"$nulls":7},{"v":0,"d":"€ 0.00"},{"v":0,"d":"€ 0.00"}]
[null,9897,{"$nulls":7},{"v":0,"d":"€ 0.00"},{"v":0,"d":"€ 0.00"}]
[null,9898,{"$nulls":7},{"v":0,"d":"€ 0.00"},{"v":0,"d":"€ 0.00"}]
[null,9899,{"$nulls":7},{"v":0,"d":"€ 0.00"},{"v":0,"d":"€ 0.00"}]
[null,9900,{"$nulls":7},{"v":0,"d":"€ 0.00"},{"v":0,"d":"€ 0.00"}]
[null,9901,{"$nulls":7},{"v":0,"d":"€ 0.00"},{"v":0,"d":"€ 0.00"}]
[null,9902,{"$nulls":7},{"v":0,"d":"€ 0.00"},{"v":0,"d":"€ 0.00"}]
[null,9903,{"$nulls":7},{"v":0,"d":"€ 0.00"},{"v":0,"d":"€ 0.00"}]
[null,9904,{"$nulls":7},{"v":0,"d":"€ 0.00"},{"v":0,"d":"€ 0.00"}]
[null,9905,{"$nulls":7},{"v":0,"d":"€ 0.00"},{"v":0,"d":"€ 0.00"}]
[null,9906,{"$nulls":7},{"v":0,"d":"€ 0.00"},{"v":0,"d":"€ 0.00"}]
[null,9907,{"$nulls":7},{"v":0,"d":"€ 0.00"},{"v":0,"d":"€ 0.00"}]
[null,9908,{"$nulls":7},{"v":0,"d":"€ 0.00"},{"v":0,"d":"€ 0.00"}]
[null,9909,{"$nulls":7},{"v":0,"d":"€ 0.00"},{"v":0,"d":"€ 0.00"}]
[null,9910,{"$nulls":7},{"v":0,"d":"€ 0.00"},{"v":0,"d":"€ 0.00"}]
[null,9911,{"$nulls":7},{"v":0,"d":"€ 0.00"},{"v":0,"d":"€ 0.00"}]
[null,9912,{"$nulls":7},{"v":0,"d":"€ 0.00"},{"v":0,"d":"€ 0.00"}]
[null,9913,{"$nulls":7},{"v":0,"d":"€ 0.00"},{"v":0,"d":"€ 0.00"}]
[null,9914,{"$nulls":7},{"v":0,"d":"€ 0.00"},{"v":0,"d":"€ 0.00"}]
[null,9915,{"$nulls":7},{"v":0,"d":"€ 0.00"},{"v":0,"d":"€ 0.00"}]
[null,9916,{"$nulls":7},{"v":0,"d":"€ 0.00"},{"v":0,"d":"€ 0.00"}]
[null,9917,{"$nulls":7},{"v":0,"d":"€ 0.00"},{"v":0,"d":"€ 0.00"}]
[null,9918,{"$nulls":7},{"v":0,"d":"€ 0.00"},{"v":0,"d":"€ 0.00"}]
[null,9919,{"$nulls":7},{"v":0,"d":"€ 0.00"},{"v":0,"d":"€ 0.00"}]
[null,9920,{"$nulls":7},{"v":0,"d":"€ 0.00"},{"v":0,"d":"€ 0.00"}]
[null,9921,{"$nulls":7},{"v":0,"d":"€ 0.00"},{"v":0,"d":"€ 0.00"}]
[null,9922,{"$nulls":7},{"v":0,"d":"€ 0.00"},{"v":0,"d":"€ 0.00"}]
[null,9923,{"$nulls":7},{"v":0,"d":"€ 0.00"},{"v":0,"d":"€ 0.00"}]
[null,9924,{"$nulls":7},{"v":0,"d":"€ 0.00"},{"v":0,"d":"€ 0.00"}]
[null,9925,{"$nulls":7},{"v":0,"d":"€ 0.00"},{"v":0,"d":"€ 0.00"}]
[null,9926,{"$nulls":7},{"v":0,"d":"€ 0.00"},{"v":0,"d":"€ 0.00"}]
[null,9927,{"$nulls":7},{"v":0,"d":"€ 0.00"},{"v":0,"d":"€ 0.00"}]
[null,9928,{"$nulls":7},{"v":0,"d":"€ 0.00"},{"v":0,"d":"€ 0.00"}]
[null,9929,{"$nulls":7},{"v":0,"d":"€ 0.00"},{"v":0,"d":"€ 0.00"}]
[null,9930,{"$nulls":7},{"v":0,"d":"€ 0.00"},{"v":0,"d":"€ 0.00"}]
[null,9931,{"$nulls":7},{"v":0,"d":"€ 0.00"},{"v":0,"d":"€ 0.00"}]
[null,9932,{"$nulls":7},{"v":0,"d":"€ 0.00"},{"v":0,"d":"€ 0.00"}]
[null,9933,{"$nulls":7},{"v":0,"d":"€ 0.00"},{"v":0,"d":"€ 0.00"}]
[null,9934,{"$nulls":7},{"v":0,"d":"€ 0.00"},{"v":0,"d":"€ 0.00"}]
[null,9935,{"$nulls":7},{"v":0,"d":"€ 0.00"},{"v":0,"d":"€ 0.00"}]
[null,9936,{"$nulls":7},{"v":0,"d":"€ 0.00"},{"v":0,"d":"€ 0.00"}]
[null,9937,{"$nulls":7},{"v":0,"d":"€ 0.00"},{"v":0,"d":"€ 0.00"}]
[null,9938,{"$nulls":7},{"v":0,"d":"€ 0.00"},{"v":0,"d":"€ 0.00"}]
[null,9939,{"$nulls":7},{"$f":"IF(OR(ISBLANK(H9946)=TRUE,ISBLANK(I9946)=TRUE),,ROUND(H9946*I9946,2))","v":{"v":0,"d":"€ 0.00"}},{"$f":"G9946+J9946","v":{"v":0,"d":"€ 0.00"}}]
[null,9940,{"$nulls":7},{"v":0,"d":"€ 0.00"},{"v":0,"d":"€ 0.00"}]
[null,9941,{"$nulls":7},{"v":0,"d":"€ 0.00"},{"v":0,"d":"€ 0.00"}]
[null,9942,{"$nulls":7},{"v":0,"d":"€ 0.00"},{"v":0,"d":"€ 0.00"}]
[null,9943,{"$nulls":7},{"v":0,"d":"€ 0.00"},{"v":0,"d":"€ 0.00"}]
[null,9944,{"$nulls":7},{"v":0,"d":"€ 0.00"},{"v":0,"d":"€ 0.00"}]
[null,9945,{"$nulls":7},{"v":0,"d":"€ 0.00"},{"v":0,"d":"€ 0.00"}]
[null,9946,{"$nulls":7},{"$f":"IF(OR(ISBLANK(H9953)=TRUE,ISBLANK(I9953)=TRUE),,ROUND(H9953*I9953,2))","v":{"v":0,"d":"€ 0.00"}},{"$f":"G9953+J9953","v":{"v":0,"d":"€ 0.00"}}]
[null,9947,{"$nulls":7},{"v":0,"d":"€ 0.00"},{"v":0,"d":"€ 0.00"}]
[null,9948,{"$nulls":7},{"v":0,"d":"€ 0.00"},{"v":0,"d":"€ 0.00"}]
[null,9949,{"$nulls":7},{"v":0,"d":"€ 0.00"},{"v":0,"d":"€ 0.00"}]
[null,9950,{"$nulls":7},{"v":0,"d":"€ 0.00"},{"v":0,"d":"€ 0.00"}]
[null,9951,{"$nulls":7},{"v":0,"d":"€ 0.00"},{"v":0,"d":"€ 0.00"}]
[null,9952,{"$nulls":7},{"v":0,"d":"€ 0.00"},{"v":0,"d":"€ 0.00"}]
[null,9953,{"$nulls":7},{"v":0,"d":"€ 0.00"},{"v":0,"d":"€ 0.00"}]
[null,9954,{"$nulls":7},{"v":0,"d":"€ 0.00"},{"v":0,"d":"€ 0.00"}]
[null,9955,{"$nulls":7},{"v":0,"d":"€ 0.00"},{"v":0,"d":"€ 0.00"}]
[null,9956,{"$nulls":7},{"v":0,"d":"€ 0.00"},{"v":0,"d":"€ 0.00"}]
[null,9957,{"$nulls":7},{"v":0,"d":"€ 0.00"},{"v":0,"d":"€ 0.00"}]
[null,9958,{"$nulls":7},{"v":0,"d":"€ 0.00"},{"v":0,"d":"€ 0.00"}]
[null,9959,{"$nulls":7},{"v":0,"d":"€ 0.00"},{"v":0,"d":"€ 0.00"}]
[null,9960,{"$nulls":7},{"v":0,"d":"€ 0.00"},{"v":0,"d":"€ 0.00"}]
[null,9961,{"$nulls":7},{"v":0,"d":"€ 0.00"},{"v":0,"d":"€ 0.00"}]
[null,9962,{"$nulls":7},{"v":0,"d":"€ 0.00"},{"v":0,"d":"€ 0.00"}]
[null,9963,{"$nulls":7},{"v":0,"d":"€ 0.00"},{"v":0,"d":"€ 0.00"}]
[null,9964,{"$nulls":7},{"v":0,"d":"€ 0.00"},{"v":0,"d":"€ 0.00"}]
[null,9965,{"$nulls":7},{"v":0,"d":"€ 0.00"},{"v":0,"d":"€ 0.00"}]
[null,9966,{"$nulls":7},{"v":0,"d":"€ 0.00"},{"v":0,"d":"€ 0.00"}]
[null,9967,{"$nulls":7},{"v":0,"d":"€ 0.00"},{"v":0,"d":"€ 0.00"}]
[null,9968,{"$nulls":7},{"v":0,"d":"€ 0.00"},{"v":0,"d":"€ 0.00"}]
[null,9969,{"$nulls":7},{"v":0,"d":"€ 0.00"},{"v":0,"d":"€ 0.00"}]
[null,9970,{"$nulls":7},{"v":0,"d":"€ 0.00"},{"v":0,"d":"€ 0.00"}]
[null,9971,{"$nulls":7},{"v":0,"d":"€ 0.00"},{"v":0,"d":"€ 0.00"}]
[null,9972,{"$nulls":7},{"v":0,"d":"€ 0.00"},{"v":0,"d":"€ 0.00"}]
[null,9973,{"$nulls":7},{"v":0,"d":"€ 0.00"},{"v":0,"d":"€ 0.00"}]
[null,9974,{"$nulls":7},{"v":0,"d":"€ 0.00"},{"v":0,"d":"€ 0.00"}]
[null,9975,{"$nulls":7},{"v":0,"d":"€ 0.00"},{"v":0,"d":"€ 0.00"}]
[null,9976,{"$nulls":7},{"v":0,"d":"€ 0.00"},{"v":0,"d":"€ 0.00"}]
[null,9977,{"$nulls":7},{"v":0,"d":"€ 0.00"},{"v":0,"d":"€ 0.00"}]
[null,9978,{"$nulls":7},{"v":0,"d":"€ 0.00"},{"v":0,"d":"€ 0.00"}]
[null,9979,{"$nulls":7},{"v":0,"d":"€ 0.00"},{"v":0,"d":"€ 0.00"}]
[null,9980,{"$nulls":7},{"v":0,"d":"€ 0.00"},{"v":0,"d":"€ 0.00"}]
[null,9981,{"$nulls":7},{"v":0,"d":"€ 0.00"},{"v":0,"d":"€ 0.00"}]
[null,9982,{"$nulls":7},{"v":0,"d":"€ 0.00"},{"v":0,"d":"€ 0.00"}]
[null,9983,{"$nulls":7},{"v":0,"d":"€ 0.00"},{"v":0,"d":"€ 0.00"}]
[null,9984,{"$nulls":7},{"v":0,"d":"€ 0.00"},{"v":0,"d":"€ 0.00"}]
[null,9985,{"$nulls":7},{"v":0,"d":"€ 0.00"},{"v":0,"d":"€ 0.00"}]
[null,9986,{"$nulls":7},{"v":0,"d":"€ 0.00"},{"v":0,"d":"€ 0.00"}]
[null,9987,{"$nulls":7},{"v":0,"d":"€ 0.00"},{"v":0,"d":"€ 0.00"}]
[null,9988,{"$nulls":7},{"v":0,"d":"€ 0.00"},{"v":0,"d":"€ 0.00"}]
[null,9989,{"$nulls":7},{"v":0,"d":"€ 0.00"},{"v":0,"d":"€ 0.00"}]
[null,9990,{"$nulls":7},{"v":0,"d":"€ 0.00"},{"v":0,"d":"€ 0.00"}]
[null,9991,{"$nulls":7},{"v":0,"d":"€ 0.00"},{"v":0,"d":"€ 0.00"}]
[null,9992,{"$nulls":7},{"v":0,"d":"€ 0.00"},{"v":0,"d":"€ 0.00"}]
[null,9993,{"$nulls":7},{"$f":"IF(OR(ISBLANK(H10000)=TRUE,ISBLANK(I10000)=TRUE),,ROUND(H10000*I10000,2))","v":{"v":0,"d":"€ 0.00"}},{"v":0,"d":"€ 0.00"}]
[null,9994,{"$nulls":7},{"v":0,"d":"€ 0.00"},{"$f":"G10001+J10001","v":{"v":0,"d":"€ 0.00"}}]
[null,9995,{"$nulls":7},{"v":0,"d":"€ 0.00"},{"v":0,"d":"€ 0.00"}]
[null,9996,{"$nulls":7},{"v":0,"d":"€ 0.00"},{"v":0,"d":"€ 0.00"}]
[null,9997,{"$nulls":7},{"v":0,"d":"€ 0.00"},{"v":0,"d":"€ 0.00"}]
[null,9998,{"$nulls":7},{"v":0,"d":"€ 0.00"},{"v":0,"d":"€ 0.00"}]
[null,9999,{"$nulls":7},{"v":0,"d":"€ 0.00"},{"v":0,"d":"€ 0.00"}]
[null,10000,{"$nulls":7},{"v":0,"d":"€ 0.00"},{"v":0,"d":"€ 0.00"}]

{"sheet":"Vrijwilligerstotalen","index":4,"n_rows":1006,"n_cols":11,"rows_kept":1006,"merged":[[1,3,1,6],[2,3,2,6],[3,3,3,6]]}
[null,{"$f":"\"Vrijwilligerstotalen \"&Handleiding!F16","v":"Vrijwilligerstotalen 2024"}]
[null,{"$f":"IF(ISBLANK(Handleiding!F7)=TRUE,\"Naam sportclub\",Handleiding!F7)","v":"Naam sportclub"},{"$nulls":7},"Dagmaximum:",{"$f":"Handleiding!F19","v":{"v":41.48,"d":"€ 41.48"}}]
[null,{"$f":"IF(ISBLANK(Handleiding!F9)=TRUE,\"Rechtsvorm\",Handleiding!F9)","v":"Rechtsvorm"},{"$nulls":7},"Jaarmaximum:",{"$f":"Handleiding!F22","v":{"v":1659.29,"d":"€ 1,659.29"}}]
[null,{"$f":"IF(ISBLANK(Handleiding!F11)=TRUE,\"Straat & nr\",Handleiding!F11)&\", \"&IF(ISBLANK(Handleiding!F12)=TRUE,\"Postcode & gemeente\",Handleiding!F12)","v":"Straat & nr, Postcode & gemeente"},{"$nulls":7},"Kilometervergoeding:",{"$f":"Handleiding!F29","v":{"v":0.4269,"d":"€ 0.4269"}}]
[{"$nulls":9},"Uitzonderlijk aarmaximum:",{"$f":"Handleiding!F25","v":{"v":3047.43,"d":"€ 3,047.43"}}]
[null,"Nr","Naam en Voornaam",{"$f":"\"Forfaitaire onkostenvergoeding\"&CHAR(10)&\"(Jaarmax = \"&TEXT(Handleiding!F22,\"€ #.##0,00\")&\" of \"&TEXT(Handleiding!F25,\"€ #.##0,00\")&\")\"&CHAR(10)&CHAR(10)&\"Totaal: \"&TEXT(SUBTOTAL(9,$D$7:$D$1006),\"€ #.##0,00\")","v":"Forfaitaire onkostenvergoeding\n(Jaarmax = € 1.659,29 of € 3.047,43)\n\nTotaal: € 0,00"},{"$f":"\"Aantal km\"&CHAR(10)&\"(max 2.000km/jaar)\"&CHAR(10)&CHAR(10)&\"Totaal: \"&TEXT(SUBTOTAL(9,$E$7:$E$1006),\"#.##0,00\")&\" km\"","v":"Aantal km\n(max 2.000km/jaar)\n\nTotaal: 0,00 km"},{"$f":"\"Kilometervergoeding\"&CHAR(10)&CHAR(10)&CHAR(10)&\"Totaal: \"&TEXT(SUBTOTAL(9,$F$7:$F$1006),\"€ #.##0,00\")","v":"Kilometervergoeding\n\n\nTotaal: € 0,00"},{"$f":"\" \"&CHAR(10)&CHAR(10)&CHAR(10)&\"Totaal: \"&\nTEXT(SUBTOTAL(9,$G$7:$G$1006),\"€ #.##0,00\")","v":" \n\n\nTotaal: € 0,00"},"Voldoet deze vrijwilliger aan de voorwaarden voor het verhoogd jaarmaximum?"]
[null,1,{"$f":"IF(ISBLANK(Vrijwilligersregister!C7)=TRUE,\"\",Vrijwilligersregister!C7)","v":""},{"$f":"IF(ISBLANK(Vrijwilligersregister!C7)=TRUE,\"\",SUMIF('Nominatieve lijst'!$D$8:$D$10007,C7,'Nominatieve lijst'!$G$8:$G$10007))","v":""},{"$f":"IF(ISBLANK(Vrijwilligersregister!C7)=TRUE,\"\",SUMIF('Nominatieve lijst'!$D$8:$D$10007,C7,'Nominatieve lijst'!$H$8:$H$10007))","v":""},{"$f":"IF(ISBLANK(Vrijwilligersregister!C7)=TRUE,\"\",SUMIF('Nominatieve lijst'!$D$8:$D$10007,C7,'Nominatieve lijst'!$J$8:$J$10007))","v":""},{"$f":"IF(ISBLANK(Vrijwilligersregister!C7)=TRUE,\"\",D7+F7)","v":""},{"$f":"Vrijwilligersregister!L7","v":0},null,"Ja"]
[null,2,{"$f":"IF(ISBLANK(Vrijwilligersregister!C8)=TRUE,\"\",Vrijwilligersregister!C8)","v":""},{"$f":"IF(ISBLANK(Vrijwilligersregister!C8)=TRUE,\"\",SUMIF('Nominatieve lijst'!$D$8:$D$10007,C8,'Nominatieve lijst'!$G$8:$G$10007))","v":""},{"$f":"IF(ISBLANK(Vrijwilligersregister!C8)=TRUE,\"\",SUMIF('Nominatieve lijst'!$D$8:$D$10007,C8,'Nominatieve lijst'!$H$8:$H$10007))","v":""},{"$f":"IF(ISBLANK(Vrijwilligersregister!C8)=TRUE,\"\",SUMIF('Nominatieve lijst'!$D$8:$D$10007,C8,'Nominatieve lijst'!$J$8:$J$10007))","v":""},{"$f":"IF(ISBLANK(Vrijwilligersregister!C8)=TRUE,\"\",D8+F8)","v":""},{"$f":"Vrijwilligersregister!L8","v":0},null,"Nee"]
[null,3,{"$f":"IF(ISBLANK(Vrijwilligersregister!C9)=TRUE,\"\",Vrijwilligersregister!C9)","v":""},{"$f":"IF(ISBLANK(Vrijwilligersregister!C9)=TRUE,\"\",SUMIF('Nominatieve lijst'!$D$8:$D$10007,C9,'Nominatieve lijst'!$G$8:$G$10007))","v":""},{"$f":"IF(ISBLANK(Vrijwilligersregister!C9)=TRUE,\"\",SUMIF('Nominatieve lijst'!$D$8:$D$10007,C9,'Nominatieve lijst'!$H$8:$H$10007))","v":""},{"$f":"IF(ISBLANK(Vrijwilligersregister!C9)=TRUE,\"\",SUMIF('Nominatieve lijst'!$D$8:$D$10007,C9,'Nominatieve lijst'!$J$8:$J$10007))","v":""},{"$f":"IF(ISBLANK(Vrijwilligersregister!C9)=TRUE,\"\",D9+F9)","v":""},{"$f":"Vrijwilligersregister!L9","v":0}]
[null,4,{"$f":"IF(ISBLANK(Vrijwilligersregister!C10)=TRUE,\"\",Vrijwilligersregister!C10)","v":""},{"$f":"IF(ISBLANK(Vrijwilligersregister!C10)=TRUE,\"\",SUMIF('Nominatieve lijst'!$D$8:$D$10007,C10,'Nominatieve lijst'!$G$8:$G$10007))","v":""},{"$f":"IF(ISBLANK(Vrijwilligersregister!C10)=TRUE,\"\",SUMIF('Nominatieve lijst'!$D$8:$D$10007,C10,'Nominatieve lijst'!$H$8:$H$10007))","v":""},{"$f":"IF(ISBLANK(Vrijwilligersregister!C10)=TRUE,\"\",SUMIF('Nominatieve lijst'!$D$8:$D$10007,C10,'Nominatieve lijst'!$J$8:$J$10007))","v":""},{"$f":"IF(ISBLANK(Vrijwilligersregister!C10)=TRUE,\"\",D10+F10)","v":""},{"$f":"Vrijwilligersregister!L10","v":0}]
[null,5,{"$f":"IF(ISBLANK(Vrijwilligersregister!C11)=TRUE,\"\",Vrijwilligersregister!C11)","v":""},{"$f":"IF(ISBLANK(Vrijwilligersregister!C11)=TRUE,\"\",SUMIF('Nominatieve lijst'!$D$8:$D$10007,C11,'Nominatieve lijst'!$G$8:$G$10007))","v":""},{"$f":"IF(ISBLANK(Vrijwilligersregister!C11)=TRUE,\"\",SUMIF('Nominatieve lijst'!$D$8:$D$10007,C11,'Nominatieve lijst'!$H$8:$H$10007))","v":""},{"$f":"IF(ISBLANK(Vrijwilligersregister!C11)=TRUE,\"\",SUMIF('Nominatieve lijst'!$D$8:$D$10007,C11,'Nominatieve lijst'!$J$8:$J$10007))","v":""},{"$f":"IF(ISBLANK(Vrijwilligersregister!C11)=TRUE,\"\",D11+F11)","v":""},{"$f":"Vrijwilligersregister!L11","v":0}]
[null,6,{"$f":"IF(ISBLANK(Vrijwilligersregister!C12)=TRUE,\"\",Vrijwilligersregister!C12)","v":""},{"$f":"IF(ISBLANK(Vrijwilligersregister!C12)=TRUE,\"\",SUMIF('Nominatieve lijst'!$D$8:$D$10007,C12,'Nominatieve lijst'!$G$8:$G$10007))","v":""},{"$f":"IF(ISBLANK(Vrijwilligersregister!C12)=TRUE,\"\",SUMIF('Nominatieve lijst'!$D$8:$D$10007,C12,'Nominatieve lijst'!$H$8:$H$10007))","v":""},{"$f":"IF(ISBLANK(Vrijwilligersregister!C12)=TRUE,\"\",SUMIF('Nominatieve lijst'!$D$8:$D$10007,C12,'Nominatieve lijst'!$J$8:$J$10007))","v":""},{"$f":"IF(ISBLANK(Vrijwilligersregister!C12)=TRUE,\"\",D12+F12)","v":""},{"$f":"Vrijwilligersregister!L12","v":0}]
[null,7,{"$f":"IF(ISBLANK(Vrijwilligersregister!C13)=TRUE,\"\",Vrijwilligersregister!C13)","v":""},{"$f":"IF(ISBLANK(Vrijwilligersregister!C13)=TRUE,\"\",SUMIF('Nominatieve lijst'!$D$8:$D$10007,C13,'Nominatieve lijst'!$G$8:$G$10007))","v":""},{"$f":"IF(ISBLANK(Vrijwilligersregister!C13)=TRUE,\"\",SUMIF('Nominatieve lijst'!$D$8:$D$10007,C13,'Nominatieve lijst'!$H$8:$H$10007))","v":""},{"$f":"IF(ISBLANK(Vrijwilligersregister!C13)=TRUE,\"\",SUMIF('Nominatieve lijst'!$D$8:$D$10007,C13,'Nominatieve lijst'!$J$8:$J$10007))","v":""},{"$f":"IF(ISBLANK(Vrijwilligersregister!C13)=TRUE,\"\",D13+F13)","v":""},{"$f":"Vrijwilligersregister!L13","v":0}]
[null,8,{"$f":"IF(ISBLANK(Vrijwilligersregister!C14)=TRUE,\"\",Vrijwilligersregister!C14)","v":""},{"$f":"IF(ISBLANK(Vrijwilligersregister!C14)=TRUE,\"\",SUMIF('Nominatieve lijst'!$D$8:$D$10007,C14,'Nominatieve lijst'!$G$8:$G$10007))","v":""},{"$f":"IF(ISBLANK(Vrijwilligersregister!C14)=TRUE,\"\",SUMIF('Nominatieve lijst'!$D$8:$D$10007,C14,'Nominatieve lijst'!$H$8:$H$10007))","v":""},{"$f":"IF(ISBLANK(Vrijwilligersregister!C14)=TRUE,\"\",SUMIF('Nominatieve lijst'!$D$8:$D$10007,C14,'Nominatieve lijst'!$J$8:$J$10007))","v":""},{"$f":"IF(ISBLANK(Vrijwilligersregister!C14)=TRUE,\"\",D14+F14)","v":""},{"$f":"Vrijwilligersregister!L14","v":0}]
[null,9,{"$f":"IF(ISBLANK(Vrijwilligersregister!C15)=TRUE,\"\",Vrijwilligersregister!C15)","v":""},{"$f":"IF(ISBLANK(Vrijwilligersregister!C15)=TRUE,\"\",SUMIF('Nominatieve lijst'!$D$8:$D$10007,C15,'Nominatieve lijst'!$G$8:$G$10007))","v":""},{"$f":"IF(ISBLANK(Vrijwilligersregister!C15)=TRUE,\"\",SUMIF('Nominatieve lijst'!$D$8:$D$10007,C15,'Nominatieve lijst'!$H$8:$H$10007))","v":""},{"$f":"IF(ISBLANK(Vrijwilligersregister!C15)=TRUE,\"\",SUMIF('Nominatieve lijst'!$D$8:$D$10007,C15,'Nominatieve lijst'!$J$8:$J$10007))","v":""},{"$f":"IF(ISBLANK(Vrijwilligersregister!C15)=TRUE,\"\",D15+F15)","v":""},{"$f":"Vrijwilligersregister!L15","v":0}]
[null,10,{"$f":"IF(ISBLANK(Vrijwilligersregister!C16)=TRUE,\"\",Vrijwilligersregister!C16)","v":""},{"$f":"IF(ISBLANK(Vrijwilligersregister!C16)=TRUE,\"\",SUMIF('Nominatieve lijst'!$D$8:$D$10007,C16,'Nominatieve lijst'!$G$8:$G$10007))","v":""},{"$f":"IF(ISBLANK(Vrijwilligersregister!C16)=TRUE,\"\",SUMIF('Nominatieve lijst'!$D$8:$D$10007,C16,'Nominatieve lijst'!$H$8:$H$10007))","v":""},{"$f":"IF(ISBLANK(Vrijwilligersregister!C16)=TRUE,\"\",SUMIF('Nominatieve lijst'!$D$8:$D$10007,C16,'Nominatieve lijst'!$J$8:$J$10007))","v":""},{"$f":"IF(ISBLANK(Vrijwilligersregister!C16)=TRUE,\"\",D16+F16)","v":""},{"$f":"Vrijwilligersregister!L16","v":0}]
[null,11,{"$f":"IF(ISBLANK(Vrijwilligersregister!C17)=TRUE,\"\",Vrijwilligersregister!C17)","v":""},{"$f":"IF(ISBLANK(Vrijwilligersregister!C17)=TRUE,\"\",SUMIF('Nominatieve lijst'!$D$8:$D$10007,C17,'Nominatieve lijst'!$G$8:$G$10007))","v":""},{"$f":"IF(ISBLANK(Vrijwilligersregister!C17)=TRUE,\"\",SUMIF('Nominatieve lijst'!$D$8:$D$10007,C17,'Nominatieve lijst'!$H$8:$H$10007))","v":""},{"$f":"IF(ISBLANK(Vrijwilligersregister!C17)=TRUE,\"\",SUMIF('Nominatieve lijst'!$D$8:$D$10007,C17,'Nominatieve lijst'!$J$8:$J$10007))","v":""},{"$f":"IF(ISBLANK(Vrijwilligersregister!C17)=TRUE,\"\",D17+F17)","v":""},{"$f":"Vrijwilligersregister!L17","v":0}]
[null,12,{"$f":"IF(ISBLANK(Vrijwilligersregister!C18)=TRUE,\"\",Vrijwilligersregister!C18)","v":""},{"$f":"IF(ISBLANK(Vrijwilligersregister!C18)=TRUE,\"\",SUMIF('Nominatieve lijst'!$D$8:$D$10007,C18,'Nominatieve lijst'!$G$8:$G$10007))","v":""},{"$f":"IF(ISBLANK(Vrijwilligersregister!C18)=TRUE,\"\",SUMIF('Nominatieve lijst'!$D$8:$D$10007,C18,'Nominatieve lijst'!$H$8:$H$10007))","v":""},{"$f":"IF(ISBLANK(Vrijwilligersregister!C18)=TRUE,\"\",SUMIF('Nominatieve lijst'!$D$8:$D$10007,C18,'Nominatieve lijst'!$J$8:$J$10007))","v":""},{"$f":"IF(ISBLANK(Vrijwilligersregister!C18)=TRUE,\"\",D18+F18)","v":""},{"$f":"Vrijwilligersregister!L18","v":0}]
[null,13,{"$f":"IF(ISBLANK(Vrijwilligersregister!C19)=TRUE,\"\",Vrijwilligersregister!C19)","v":""},{"$f":"IF(ISBLANK(Vrijwilligersregister!C19)=TRUE,\"\",SUMIF('Nominatieve lijst'!$D$8:$D$10007,C19,'Nominatieve lijst'!$G$8:$G$10007))","v":""},{"$f":"IF(ISBLANK(Vrijwilligersregister!C19)=TRUE,\"\",SUMIF('Nominatieve lijst'!$D$8:$D$10007,C19,'Nominatieve lijst'!$H$8:$H$10007))","v":""},{"$f":"IF(ISBLANK(Vrijwilligersregister!C19)=TRUE,\"\",SUMIF('Nominatieve lijst'!$D$8:$D$10007,C19,'Nominatieve lijst'!$J$8:$J$10007))","v":""},{"$f":"IF(ISBLANK(Vrijwilligersregister!C19)=TRUE,\"\",D19+F19)","v":""},{"$f":"Vrijwilligersregister!L19","v":0}]
[null,14,{"$f":"IF(ISBLANK(Vrijwilligersregister!C20)=TRUE,\"\",Vrijwilligersregister!C20)","v":""},{"$f":"IF(ISBLANK(Vrijwilligersregister!C20)=TRUE,\"\",SUMIF('Nominatieve lijst'!$D$8:$D$10007,C20,'Nominatieve lijst'!$G$8:$G$10007))","v":""},{"$f":"IF(ISBLANK(Vrijwilligersregister!C20)=TRUE,\"\",SUMIF('Nominatieve lijst'!$D$8:$D$10007,C20,'Nominatieve lijst'!$H$8:$H$10007))","v":""},{"$f":"IF(ISBLANK(Vrijwilligersregister!C20)=TRUE,\"\",SUMIF('Nominatieve lijst'!$D$8:$D$10007,C20,'Nominatieve lijst'!$J$8:$J$10007))","v":""},{"$f":"IF(ISBLANK(Vrijwilligersregister!C20)=TRUE,\"\",D20+F20)","v":""},{"$f":"Vrijwilligersregister!L20","v":0}]
[null,15,{"$f":"IF(ISBLANK(Vrijwilligersregister!C21)=TRUE,\"\",Vrijwilligersregister!C21)","v":""},{"$f":"IF(ISBLANK(Vrijwilligersregister!C21)=TRUE,\"\",SUMIF('Nominatieve lijst'!$D$8:$D$10007,C21,'Nominatieve lijst'!$G$8:$G$10007))","v":""},{"$f":"IF(ISBLANK(Vrijwilligersregister!C21)=TRUE,\"\",SUMIF('Nominatieve lijst'!$D$8:$D$10007,C21,'Nominatieve lijst'!$H$8:$H$10007))","v":""},{"$f":"IF(ISBLANK(Vrijwilligersregister!C21)=TRUE,\"\",SUMIF('Nominatieve lijst'!$D$8:$D$10007,C21,'Nominatieve lijst'!$J$8:$J$10007))","v":""},{"$f":"IF(ISBLANK(Vrijwilligersregister!C21)=TRUE,\"\",D21+F21)","v":""},{"$f":"Vrijwilligersregister!L21","v":0}]
[null,16,{"$f":"IF(ISBLANK(Vrijwilligersregister!C22)=TRUE,\"\",Vrijwilligersregister!C22)","v":""},{"$f":"IF(ISBLANK(Vrijwilligersregister!C22)=TRUE,\"\",SUMIF('Nominatieve lijst'!$D$8:$D$10007,C22,'Nominatieve lijst'!$G$8:$G$10007))","v":""},{"$f":"IF(ISBLANK(Vrijwilligersregister!C22)=TRUE,\"\",SUMIF('Nominatieve lijst'!$D$8:$D$10007,C22,'Nominatieve lijst'!$H$8:$H$10007))","v":""},{"$f":"IF(ISBLANK(Vrijwilligersregister!C22)=TRUE,\"\",SUMIF('Nominatieve lijst'!$D$8:$D$10007,C22,'Nominatieve lijst'!$J$8:$J$10007))","v":""},{"$f":"IF(ISBLANK(Vrijwilligersregister!C22)=TRUE,\"\",D22+F22)","v":""},{"$f":"Vrijwilligersregister!L22","v":0}]
[null,17,{"$f":"IF(ISBLANK(Vrijwilligersregister!C23)=TRUE,\"\",Vrijwilligersregister!C23)","v":""},{"$f":"IF(ISBLANK(Vrijwilligersregister!C23)=TRUE,\"\",SUMIF('Nominatieve lijst'!$D$8:$D$10007,C23,'Nominatieve lijst'!$G$8:$G$10007))","v":""},{"$f":"IF(ISBLANK(Vrijwilligersregister!C23)=TRUE,\"\",SUMIF('Nominatieve lijst'!$D$8:$D$10007,C23,'Nominatieve lijst'!$H$8:$H$10007))","v":""},{"$f":"IF(ISBLANK(Vrijwilligersregister!C23)=TRUE,\"\",SUMIF('Nominatieve lijst'!$D$8:$D$10007,C23,'Nominatieve lijst'!$J$8:$J$10007))","v":""},{"$f":"IF(ISBLANK(Vrijwilligersregister!C23)=TRUE,\"\",D23+F23)","v":""},{"$f":"Vrijwilligersregister!L23","v":0}]
[null,18,{"$f":"IF(ISBLANK(Vrijwilligersregister!C24)=TRUE,\"\",Vrijwilligersregister!C24)","v":""},{"$f":"IF(ISBLANK(Vrijwilligersregister!C24)=TRUE,\"\",SUMIF('Nominatieve lijst'!$D$8:$D$10007,C24,'Nominatieve lijst'!$G$8:$G$10007))","v":""},{"$f":"IF(ISBLANK(Vrijwilligersregister!C24)=TRUE,\"\",SUMIF('Nominatieve lijst'!$D$8:$D$10007,C24,'Nominatieve lijst'!$H$8:$H$10007))","v":""},{"$f":"IF(ISBLANK(Vrijwilligersregister!C24)=TRUE,\"\",SUMIF('Nominatieve lijst'!$D$8:$D$10007,C24,'Nominatieve lijst'!$J$8:$J$10007))","v":""},{"$f":"IF(ISBLANK(Vrijwilligersregister!C24)=TRUE,\"\",D24+F24)","v":""},{"$f":"Vrijwilligersregister!L24","v":0}]
[null,19,{"$f":"IF(ISBLANK(Vrijwilligersregister!C25)=TRUE,\"\",Vrijwilligersregister!C25)","v":""},{"$f":"IF(ISBLANK(Vrijwilligersregister!C25)=TRUE,\"\",SUMIF('Nominatieve lijst'!$D$8:$D$10007,C25,'Nominatieve lijst'!$G$8:$G$10007))","v":""},{"$f":"IF(ISBLANK(Vrijwilligersregister!C25)=TRUE,\"\",SUMIF('Nominatieve lijst'!$D$8:$D$10007,C25,'Nominatieve lijst'!$H$8:$H$10007))","v":""},{"$f":"IF(ISBLANK(Vrijwilligersregister!C25)=TRUE,\"\",SUMIF('Nominatieve lijst'!$D$8:$D$10007,C25,'Nominatieve lijst'!$J$8:$J$10007))","v":""},{"$f":"IF(ISBLANK(Vrijwilligersregister!C25)=TRUE,\"\",D25+F25)","v":""},{"$f":"Vrijwilligersregister!L25","v":0}]
[null,20,{"$f":"IF(ISBLANK(Vrijwilligersregister!C26)=TRUE,\"\",Vrijwilligersregister!C26)","v":""},{"$f":"IF(ISBLANK(Vrijwilligersregister!C26)=TRUE,\"\",SUMIF('Nominatieve lijst'!$D$8:$D$10007,C26,'Nominatieve lijst'!$G$8:$G$10007))","v":""},{"$f":"IF(ISBLANK(Vrijwilligersregister!C26)=TRUE,\"\",SUMIF('Nominatieve lijst'!$D$8:$D$10007,C26,'Nominatieve lijst'!$H$8:$H$10007))","v":""},{"$f":"IF(ISBLANK(Vrijwilligersregister!C26)=TRUE,\"\",SUMIF('Nominatieve lijst'!$D$8:$D$10007,C26,'Nominatieve lijst'!$J$8:$J$10007))","v":""},{"$f":"IF(ISBLANK(Vrijwilligersregister!C26)=TRUE,\"\",D26+F26)","v":""},{"$f":"Vrijwilligersregister!L26","v":0}]
[null,21,{"$f":"IF(ISBLANK(Vrijwilligersregister!C27)=TRUE,\"\",Vrijwilligersregister!C27)","v":""},{"$f":"IF(ISBLANK(Vrijwilligersregister!C27)=TRUE,\"\",SUMIF('Nominatieve lijst'!$D$8:$D$10007,C27,'Nominatieve lijst'!$G$8:$G$10007))","v":""},{"$f":"IF(ISBLANK(Vrijwilligersregister!C27)=TRUE,\"\",SUMIF('Nominatieve lijst'!$D$8:$D$10007,C27,'Nominatieve lijst'!$H$8:$H$10007))","v":""},{"$f":"IF(ISBLANK(Vrijwilligersregister!C27)=TRUE,\"\",SUMIF('Nominatieve lijst'!$D$8:$D$10007,C27,'Nominatieve lijst'!$J$8:$J$10007))","v":""},{"$f":"IF(ISBLANK(Vrijwilligersregister!C27)=TRUE,\"\",D27+F27)","v":""},{"$f":"Vrijwilligersregister!L27","v":0}]
[null,22,{"$f":"IF(ISBLANK(Vrijwilligersregister!C28)=TRUE,\"\",Vrijwilligersregister!C28)","v":""},{"$f":"IF(ISBLANK(Vrijwilligersregister!C28)=TRUE,\"\",SUMIF('Nominatieve lijst'!$D$8:$D$10007,C28,'Nominatieve lijst'!$G$8:$G$10007))","v":""},{"$f":"IF(ISBLANK(Vrijwilligersregister!C28)=TRUE,\"\",SUMIF('Nominatieve lijst'!$D$8:$D$10007,C28,'Nominatieve lijst'!$H$8:$H$10007))","v":""},{"$f":"IF(ISBLANK(Vrijwilligersregister!C28)=TRUE,\"\",SUMIF('Nominatieve lijst'!$D$8:$D$10007,C28,'Nominatieve lijst'!$J$8:$J$10007))","v":""},{"$f":"IF(ISBLANK(Vrijwilligersregister!C28)=TRUE,\"\",D28+F28)","v":""},{"$f":"Vrijwilligersregister!L28","v":0}]
[null,23,{"$f":"IF(ISBLANK(Vrijwilligersregister!C29)=TRUE,\"\",Vrijwilligersregister!C29)","v":""},{"$f":"IF(ISBLANK(Vrijwilligersregister!C29)=TRUE,\"\",SUMIF('Nominatieve lijst'!$D$8:$D$10007,C29,'Nominatieve lijst'!$G$8:$G$10007))","v":""},{"$f":"IF(ISBLANK(Vrijwilligersregister!C29)=TRUE,\"\",SUMIF('Nominatieve lijst'!$D$8:$D$10007,C29,'Nominatieve lijst'!$H$8:$H$10007))","v":""},{"$f":"IF(ISBLANK(Vrijwilligersregister!C29)=TRUE,\"\",SUMIF('Nominatieve lijst'!$D$8:$D$10007,C29,'Nominatieve lijst'!$J$8:$J$10007))","v":""},{"$f":"IF(ISBLANK(Vrijwilligersregister!C29)=TRUE,\"\",D29+F29)","v":""},{"$f":"Vrijwilligersregister!L29","v":0}]
[null,24,{"$f":"IF(ISBLANK(Vrijwilligersregister!C30)=TRUE,\"\",Vrijwilligersregister!C30)","v":""},{"$f":"IF(ISBLANK(Vrijwilligersregister!C30)=TRUE,\"\",SUMIF('Nominatieve lijst'!$D$8:$D$10007,C30,'Nominatieve lijst'!$G$8:$G$10007))","v":""},{"$f":"IF(ISBLANK(Vrijwilligersregister!C30)=TRUE,\"\",SUMIF('Nominatieve lijst'!$D$8:$D$10007,C30,'Nominatieve lijst'!$H$8:$H$10007))","v":""},{"$f":"IF(ISBLANK(Vrijwilligersregister!C30)=TRUE,\"\",SUMIF('Nominatieve lijst'!$D$8:$D$10007,C30,'Nominatieve lijst'!$J$8:$J$10007))","v":""},{"$f":"IF(ISBLANK(Vrijwilligersregister!C30)=TRUE,\"\",D30+F30)","v":""},{"$f":"Vrijwilligersregister!L30","v":0}]
[null,25,{"$f":"IF(ISBLANK(Vrijwilligersregister!C31)=TRUE,\"\",Vrijwilligersregister!C31)","v":""},{"$f":"IF(ISBLANK(Vrijwilligersregister!C31)=TRUE,\"\",SUMIF('Nominatieve lijst'!$D$8:$D$10007,C31,'Nominatieve lijst'!$G$8:$G$10007))","v":""},{"$f":"IF(ISBLANK(Vrijwilligersregister!C31)=TRUE,\"\",SUMIF('Nominatieve lijst'!$D$8:$D$10007,C31,'Nominatieve lijst'!$H$8:$H$10007))","v":""},{"$f":"IF(ISBLANK(Vrijwilligersregister!C31)=TRUE,\"\",SUMIF('Nominatieve lijst'!$D$8:$D$10007,C31,'Nominatieve lijst'!$J$8:$J$10007))","v":""},{"$f":"IF(ISBLANK(Vrijwilligersregister!C31)=TRUE,\"\",D31+F31)","v":""},{"$f":"Vrijwilligersregister!L31","v":0}]
[null,26,{"$f":"IF(ISBLANK(Vrijwilligersregister!C32)=TRUE,\"\",Vrijwilligersregister!C32)","v":""},{"$f":"IF(ISBLANK(Vrijwilligersregister!C32)=TRUE,\"\",SUMIF('Nominatieve lijst'!$D$8:$D$10007,C32,'Nominatieve lijst'!$G$8:$G$10007))","v":""},{"$f":"IF(ISBLANK(Vrijwilligersregister!C32)=TRUE,\"\",SUMIF('Nominatieve lijst'!$D$8:$D$10007,C32,'Nominatieve lijst'!$H$8:$H$10007))","v":""},{"$f":"IF(ISBLANK(Vrijwilligersregister!C32)=TRUE,\"\",SUMIF('Nominatieve lijst'!$D$8:$D$10007,C32,'Nominatieve lijst'!$J$8:$J$10007))","v":""},{"$f":"IF(ISBLANK(Vrijwilligersregister!C32)=TRUE,\"\",D32+F32)","v":""},{"$f":"Vrijwilligersregister!L32","v":0}]
[null,27,{"$f":"IF(ISBLANK(Vrijwilligersregister!C33)=TRUE,\"\",Vrijwilligersregister!C33)","v":""},{"$f":"IF(ISBLANK(Vrijwilligersregister!C33)=TRUE,\"\",SUMIF('Nominatieve lijst'!$D$8:$D$10007,C33,'Nominatieve lijst'!$G$8:$G$10007))","v":""},{"$f":"IF(ISBLANK(Vrijwilligersregister!C33)=TRUE,\"\",SUMIF('Nominatieve lijst'!$D$8:$D$10007,C33,'Nominatieve lijst'!$H$8:$H$10007))","v":""},{"$f":"IF(ISBLANK(Vrijwilligersregister!C33)=TRUE,\"\",SUMIF('Nominatieve lijst'!$D$8:$D$10007,C33,'Nominatieve lijst'!$J$8:$J$10007))","v":""},{"$f":"IF(ISBLANK(Vrijwilligersregister!C33)=TRUE,\"\",D33+F33)","v":""},{"$f":"Vrijwilligersregister!L33","v":0}]
[null,28,{"$f":"IF(ISBLANK(Vrijwilligersregister!C34)=TRUE,\"\",Vrijwilligersregister!C34)","v":""},{"$f":"IF(ISBLANK(Vrijwilligersregister!C34)=TRUE,\"\",SUMIF('Nominatieve lijst'!$D$8:$D$10007,C34,'Nominatieve lijst'!$G$8:$G$10007))","v":""},{"$f":"IF(ISBLANK(Vrijwilligersregister!C34)=TRUE,\"\",SUMIF('Nominatieve lijst'!$D$8:$D$10007,C34,'Nominatieve lijst'!$H$8:$H$10007))","v":""},{"$f":"IF(ISBLANK(Vrijwilligersregister!C34)=TRUE,\"\",SUMIF('Nominatieve lijst'!$D$8:$D$10007,C34,'Nominatieve lijst'!$J$8:$J$10007))","v":""},{"$f":"IF(ISBLANK(Vrijwilligersregister!C34)=TRUE,\"\",D34+F34)","v":""},{"$f":"Vrijwilligersregister!L34","v":0}]
[null,29,{"$f":"IF(ISBLANK(Vrijwilligersregister!C35)=TRUE,\"\",Vrijwilligersregister!C35)","v":""},{"$f":"IF(ISBLANK(Vrijwilligersregister!C35)=TRUE,\"\",SUMIF('Nominatieve lijst'!$D$8:$D$10007,C35,'Nominatieve lijst'!$G$8:$G$10007))","v":""},{"$f":"IF(ISBLANK(Vrijwilligersregister!C35)=TRUE,\"\",SUMIF('Nominatieve lijst'!$D$8:$D$10007,C35,'Nominatieve lijst'!$H$8:$H$10007))","v":""},{"$f":"IF(ISBLANK(Vrijwilligersregister!C35)=TRUE,\"\",SUMIF('Nominatieve lijst'!$D$8:$D$10007,C35,'Nominatieve lijst'!$J$8:$J$10007))","v":""},{"$f":"IF(ISBLANK(Vrijwilligersregister!C35)=TRUE,\"\",D35+F35)","v":""},{"$f":"Vrijwilligersregister!L35","v":0}]
[null,30,{"$f":"IF(ISBLANK(Vrijwilligersregister!C36)=TRUE,\"\",Vrijwilligersregister!C36)","v":""},{"$f":"IF(ISBLANK(Vrijwilligersregister!C36)=TRUE,\"\",SUMIF('Nominatieve lijst'!$D$8:$D$10007,C36,'Nominatieve lijst'!$G$8:$G$10007))","v":""},{"$f":"IF(ISBLANK(Vrijwilligersregister!C36)=TRUE,\"\",SUMIF('Nominatieve lijst'!$D$8:$D$10007,C36,'Nominatieve lijst'!$H$8:$H$10007))","v":""},{"$f":"IF(ISBLANK(Vrijwilligersregister!C36)=TRUE,\"\",SUMIF('Nominatieve lijst'!$D$8:$D$10007,C36,'Nominatieve lijst'!$J$8:$J$10007))","v":""},{"$f":"IF(ISBLANK(Vrijwilligersregister!C36)=TRUE,\"\",D36+F36)","v":""},{"$f":"Vrijwilligersregister!L36","v":0}]
[null,31,{"$f":"IF(ISBLANK(Vrijwilligersregister!C37)=TRUE,\"\",Vrijwilligersregister!C37)","v":""},{"$f":"IF(ISBLANK(Vrijwilligersregister!C37)=TRUE,\"\",SUMIF('Nominatieve lijst'!$D$8:$D$10007,C37,'Nominatieve lijst'!$G$8:$G$10007))","v":""},{"$f":"IF(ISBLANK(Vrijwilligersregister!C37)=TRUE,\"\",SUMIF('Nominatieve lijst'!$D$8:$D$10007,C37,'Nominatieve lijst'!$H$8:$H$10007))","v":""},{"$f":"IF(ISBLANK(Vrijwilligersregister!C37)=TRUE,\"\",SUMIF('Nominatieve lijst'!$D$8:$D$10007,C37,'Nominatieve lijst'!$J$8:$J$10007))","v":""},{"$f":"IF(ISBLANK(Vrijwilligersregister!C37)=TRUE,\"\",D37+F37)","v":""},{"$f":"Vrijwilligersregister!L37","v":0}]
[null,32,{"$f":"IF(ISBLANK(Vrijwilligersregister!C38)=TRUE,\"\",Vrijwilligersregister!C38)","v":""},{"$f":"IF(ISBLANK(Vrijwilligersregister!C38)=TRUE,\"\",SUMIF('Nominatieve lijst'!$D$8:$D$10007,C38,'Nominatieve lijst'!$G$8:$G$10007))","v":""},{"$f":"IF(ISBLANK(Vrijwilligersregister!C38)=TRUE,\"\",SUMIF('Nominatieve lijst'!$D$8:$D$10007,C38,'Nominatieve lijst'!$H$8:$H$10007))","v":""},{"$f":"IF(ISBLANK(Vrijwilligersregister!C38)=TRUE,\"\",SUMIF('Nominatieve lijst'!$D$8:$D$10007,C38,'Nominatieve lijst'!$J$8:$J$10007))","v":""},{"$f":"IF(ISBLANK(Vrijwilligersregister!C38)=TRUE,\"\",D38+F38)","v":""},{"$f":"Vrijwilligersregister!L38","v":0}]
[null,33,{"$f":"IF(ISBLANK(Vrijwilligersregister!C39)=TRUE,\"\",Vrijwilligersregister!C39)","v":""},{"$f":"IF(ISBLANK(Vrijwilligersregister!C39)=TRUE,\"\",SUMIF('Nominatieve lijst'!$D$8:$D$10007,C39,'Nominatieve lijst'!$G$8:$G$10007))","v":""},{"$f":"IF(ISBLANK(Vrijwilligersregister!C39)=TRUE,\"\",SUMIF('Nominatieve lijst'!$D$8:$D$10007,C39,'Nominatieve lijst'!$H$8:$H$10007))","v":""},{"$f":"IF(ISBLANK(Vrijwilligersregister!C39)=TRUE,\"\",SUMIF('Nominatieve lijst'!$D$8:$D$10007,C39,'Nominatieve lijst'!$J$8:$J$10007))","v":""},{"$f":"IF(ISBLANK(Vrijwilligersregister!C39)=TRUE,\"\",D39+F39)","v":""},{"$f":"Vrijwilligersregister!L39","v":0}]
[null,34,{"$f":"IF(ISBLANK(Vrijwilligersregister!C40)=TRUE,\"\",Vrijwilligersregister!C40)","v":""},{"$f":"IF(ISBLANK(Vrijwilligersregister!C40)=TRUE,\"\",SUMIF('Nominatieve lijst'!$D$8:$D$10007,C40,'Nominatieve lijst'!$G$8:$G$10007))","v":""},{"$f":"IF(ISBLANK(Vrijwilligersregister!C40)=TRUE,\"\",SUMIF('Nominatieve lijst'!$D$8:$D$10007,C40,'Nominatieve lijst'!$H$8:$H$10007))","v":""},{"$f":"IF(ISBLANK(Vrijwilligersregister!C40)=TRUE,\"\",SUMIF('Nominatieve lijst'!$D$8:$D$10007,C40,'Nominatieve lijst'!$J$8:$J$10007))","v":""},{"$f":"IF(ISBLANK(Vrijwilligersregister!C40)=TRUE,\"\",D40+F40)","v":""},{"$f":"Vrijwilligersregister!L40","v":0}]
[null,35,{"$f":"IF(ISBLANK(Vrijwilligersregister!C41)=TRUE,\"\",Vrijwilligersregister!C41)","v":""},{"$f":"IF(ISBLANK(Vrijwilligersregister!C41)=TRUE,\"\",SUMIF('Nominatieve lijst'!$D$8:$D$10007,C41,'Nominatieve lijst'!$G$8:$G$10007))","v":""},{"$f":"IF(ISBLANK(Vrijwilligersregister!C41)=TRUE,\"\",SUMIF('Nominatieve lijst'!$D$8:$D$10007,C41,'Nominatieve lijst'!$H$8:$H$10007))","v":""},{"$f":"IF(ISBLANK(Vrijwilligersregister!C41)=TRUE,\"\",SUMIF('Nominatieve lijst'!$D$8:$D$10007,C41,'Nominatieve lijst'!$J$8:$J$10007))","v":""},{"$f":"IF(ISBLANK(Vrijwilligersregister!C41)=TRUE,\"\",D41+F41)","v":""},{"$f":"Vrijwilligersregister!L41","v":0}]
[null,36,{"$f":"IF(ISBLANK(Vrijwilligersregister!C42)=TRUE,\"\",Vrijwilligersregister!C42)","v":""},{"$f":"IF(ISBLANK(Vrijwilligersregister!C42)=TRUE,\"\",SUMIF('Nominatieve lijst'!$D$8:$D$10007,C42,'Nominatieve lijst'!$G$8:$G$10007))","v":""},{"$f":"IF(ISBLANK(Vrijwilligersregister!C42)=TRUE,\"\",SUMIF('Nominatieve lijst'!$D$8:$D$10007,C42,'Nominatieve lijst'!$H$8:$H$10007))","v":""},{"$f":"IF(ISBLANK(Vrijwilligersregister!C42)=TRUE,\"\",SUMIF('Nominatieve lijst'!$D$8:$D$10007,C42,'Nominatieve lijst'!$J$8:$J$10007))","v":""},{"$f":"IF(ISBLANK(Vrijwilligersregister!C42)=TRUE,\"\",D42+F42)","v":""},{"$f":"Vrijwilligersregister!L42","v":0}]
[null,37,{"$f":"IF(ISBLANK(Vrijwilligersregister!C43)=TRUE,\"\",Vrijwilligersregister!C43)","v":""},{"$f":"IF(ISBLANK(Vrijwilligersregister!C43)=TRUE,\"\",SUMIF('Nominatieve lijst'!$D$8:$D$10007,C43,'Nominatieve lijst'!$G$8:$G$10007))","v":""},{"$f":"IF(ISBLANK(Vrijwilligersregister!C43)=TRUE,\"\",SUMIF('Nominatieve lijst'!$D$8:$D$10007,C43,'Nominatieve lijst'!$H$8:$H$10007))","v":""},{"$f":"IF(ISBLANK(Vrijwilligersregister!C43)=TRUE,\"\",SUMIF('Nominatieve lijst'!$D$8:$D$10007,C43,'Nominatieve lijst'!$J$8:$J$10007))","v":""},{"$f":"IF(ISBLANK(Vrijwilligersregister!C43)=TRUE,\"\",D43+F43)","v":""},{"$f":"Vrijwilligersregister!L43","v":0}]
[null,38,{"$f":"IF(ISBLANK(Vrijwilligersregister!C44)=TRUE,\"\",Vrijwilligersregister!C44)","v":""},{"$f":"IF(ISBLANK(Vrijwilligersregister!C44)=TRUE,\"\",SUMIF('Nominatieve lijst'!$D$8:$D$10007,C44,'Nominatieve lijst'!$G$8:$G$10007))","v":""},{"$f":"IF(ISBLANK(Vrijwilligersregister!C44)=TRUE,\"\",SUMIF('Nominatieve lijst'!$D$8:$D$10007,C44,'Nominatieve lijst'!$H$8:$H$10007))","v":""},{"$f":"IF(ISBLANK(Vrijwilligersregister!C44)=TRUE,\"\",SUMIF('Nominatieve lijst'!$D$8:$D$10007,C44,'Nominatieve lijst'!$J$8:$J$10007))","v":""},{"$f":"IF(ISBLANK(Vrijwilligersregister!C44)=TRUE,\"\",D44+F44)","v":""},{"$f":"Vrijwilligersregister!L44","v":0}]
[null,39,{"$f":"IF(ISBLANK(Vrijwilligersregister!C45)=TRUE,\"\",Vrijwilligersregister!C45)","v":""},{"$f":"IF(ISBLANK(Vrijwilligersregister!C45)=TRUE,\"\",SUMIF('Nominatieve lijst'!$D$8:$D$10007,C45,'Nominatieve lijst'!$G$8:$G$10007))","v":""},{"$f":"IF(ISBLANK(Vrijwilligersregister!C45)=TRUE,\"\",SUMIF('Nominatieve lijst'!$D$8:$D$10007,C45,'Nominatieve lijst'!$H$8:$H$10007))","v":""},{"$f":"IF(ISBLANK(Vrijwilligersregister!C45)=TRUE,\"\",SUMIF('Nominatieve lijst'!$D$8:$D$10007,C45,'Nominatieve lijst'!$J$8:$J$10007))","v":""},{"$f":"IF(ISBLANK(Vrijwilligersregister!C45)=TRUE,\"\",D45+F45)","v":""},{"$f":"Vrijwilligersregister!L45","v":0}]
[null,40,{"$f":"IF(ISBLANK(Vrijwilligersregister!C46)=TRUE,\"\",Vrijwilligersregister!C46)","v":""},{"$f":"IF(ISBLANK(Vrijwilligersregister!C46)=TRUE,\"\",SUMIF('Nominatieve lijst'!$D$8:$D$10007,C46,'Nominatieve lijst'!$G$8:$G$10007))","v":""},{"$f":"IF(ISBLANK(Vrijwilligersregister!C46)=TRUE,\"\",SUMIF('Nominatieve lijst'!$D$8:$D$10007,C46,'Nominatieve lijst'!$H$8:$H$10007))","v":""},{"$f":"IF(ISBLANK(Vrijwilligersregister!C46)=TRUE,\"\",SUMIF('Nominatieve lijst'!$D$8:$D$10007,C46,'Nominatieve lijst'!$J$8:$J$10007))","v":""},{"$f":"IF(ISBLANK(Vrijwilligersregister!C46)=TRUE,\"\",D46+F46)","v":""},{"$f":"Vrijwilligersregister!L46","v":0}]
[null,41,{"$f":"IF(ISBLANK(Vrijwilligersregister!C47)=TRUE,\"\",Vrijwilligersregister!C47)","v":""},{"$f":"IF(ISBLANK(Vrijwilligersregister!C47)=TRUE,\"\",SUMIF('Nominatieve lijst'!$D$8:$D$10007,C47,'Nominatieve lijst'!$G$8:$G$10007))","v":""},{"$f":"IF(ISBLANK(Vrijwilligersregister!C47)=TRUE,\"\",SUMIF('Nominatieve lijst'!$D$8:$D$10007,C47,'Nominatieve lijst'!$H$8:$H$10007))","v":""},{"$f":"IF(ISBLANK(Vrijwilligersregister!C47)=TRUE,\"\",SUMIF('Nominatieve lijst'!$D$8:$D$10007,C47,'Nominatieve lijst'!$J$8:$J$10007))","v":""},{"$f":"IF(ISBLANK(Vrijwilligersregister!C47)=TRUE,\"\",D47+F47)","v":""},{"$f":"Vrijwilligersregister!L47","v":0}]
[null,42,{"$f":"IF(ISBLANK(Vrijwilligersregister!C48)=TRUE,\"\",Vrijwilligersregister!C48)","v":""},{"$f":"IF(ISBLANK(Vrijwilligersregister!C48)=TRUE,\"\",SUMIF('Nominatieve lijst'!$D$8:$D$10007,C48,'Nominatieve lijst'!$G$8:$G$10007))","v":""},{"$f":"IF(ISBLANK(Vrijwilligersregister!C48)=TRUE,\"\",SUMIF('Nominatieve lijst'!$D$8:$D$10007,C48,'Nominatieve lijst'!$H$8:$H$10007))","v":""},{"$f":"IF(ISBLANK(Vrijwilligersregister!C48)=TRUE,\"\",SUMIF('Nominatieve lijst'!$D$8:$D$10007,C48,'Nominatieve lijst'!$J$8:$J$10007))","v":""},{"$f":"IF(ISBLANK(Vrijwilligersregister!C48)=TRUE,\"\",D48+F48)","v":""},{"$f":"Vrijwilligersregister!L48","v":0}]
[null,43,{"$f":"IF(ISBLANK(Vrijwilligersregister!C49)=TRUE,\"\",Vrijwilligersregister!C49)","v":""},{"$f":"IF(ISBLANK(Vrijwilligersregister!C49)=TRUE,\"\",SUMIF('Nominatieve lijst'!$D$8:$D$10007,C49,'Nominatieve lijst'!$G$8:$G$10007))","v":""},{"$f":"IF(ISBLANK(Vrijwilligersregister!C49)=TRUE,\"\",SUMIF('Nominatieve lijst'!$D$8:$D$10007,C49,'Nominatieve lijst'!$H$8:$H$10007))","v":""},{"$f":"IF(ISBLANK(Vrijwilligersregister!C49)=TRUE,\"\",SUMIF('Nominatieve lijst'!$D$8:$D$10007,C49,'Nominatieve lijst'!$J$8:$J$10007))","v":""},{"$f":"IF(ISBLANK(Vrijwilligersregister!C49)=TRUE,\"\",D49+F49)","v":""},{"$f":"Vrijwilligersregister!L49","v":0}]
[null,44,{"$f":"IF(ISBLANK(Vrijwilligersregister!C50)=TRUE,\"\",Vrijwilligersregister!C50)","v":""},{"$f":"IF(ISBLANK(Vrijwilligersregister!C50)=TRUE,\"\",SUMIF('Nominatieve lijst'!$D$8:$D$10007,C50,'Nominatieve lijst'!$G$8:$G$10007))","v":""},{"$f":"IF(ISBLANK(Vrijwilligersregister!C50)=TRUE,\"\",SUMIF('Nominatieve lijst'!$D$8:$D$10007,C50,'Nominatieve lijst'!$H$8:$H$10007))","v":""},{"$f":"IF(ISBLANK(Vrijwilligersregister!C50)=TRUE,\"\",SUMIF('Nominatieve lijst'!$D$8:$D$10007,C50,'Nominatieve lijst'!$J$8:$J$10007))","v":""},{"$f":"IF(ISBLANK(Vrijwilligersregister!C50)=TRUE,\"\",D50+F50)","v":""},{"$f":"Vrijwilligersregister!L50","v":0}]
[null,45,{"$f":"IF(ISBLANK(Vrijwilligersregister!C51)=TRUE,\"\",Vrijwilligersregister!C51)","v":""},{"$f":"IF(ISBLANK(Vrijwilligersregister!C51)=TRUE,\"\",SUMIF('Nominatieve lijst'!$D$8:$D$10007,C51,'Nominatieve lijst'!$G$8:$G$10007))","v":""},{"$f":"IF(ISBLANK(Vrijwilligersregister!C51)=TRUE,\"\",SUMIF('Nominatieve lijst'!$D$8:$D$10007,C51,'Nominatieve lijst'!$H$8:$H$10007))","v":""},{"$f":"IF(ISBLANK(Vrijwilligersregister!C51)=TRUE,\"\",SUMIF('Nominatieve lijst'!$D$8:$D$10007,C51,'Nominatieve lijst'!$J$8:$J$10007))","v":""},{"$f":"IF(ISBLANK(Vrijwilligersregister!C51)=TRUE,\"\",D51+F51)","v":""},{"$f":"Vrijwilligersregister!L51","v":0}]
[null,46,{"$f":"IF(ISBLANK(Vrijwilligersregister!C52)=TRUE,\"\",Vrijwilligersregister!C52)","v":""},{"$f":"IF(ISBLANK(Vrijwilligersregister!C52)=TRUE,\"\",SUMIF('Nominatieve lijst'!$D$8:$D$10007,C52,'Nominatieve lijst'!$G$8:$G$10007))","v":""},{"$f":"IF(ISBLANK(Vrijwilligersregister!C52)=TRUE,\"\",SUMIF('Nominatieve lijst'!$D$8:$D$10007,C52,'Nominatieve lijst'!$H$8:$H$10007))","v":""},{"$f":"IF(ISBLANK(Vrijwilligersregister!C52)=TRUE,\"\",SUMIF('Nominatieve lijst'!$D$8:$D$10007,C52,'Nominatieve lijst'!$J$8:$J$10007))","v":""},{"$f":"IF(ISBLANK(Vrijwilligersregister!C52)=TRUE,\"\",D52+F52)","v":""},{"$f":"Vrijwilligersregister!L52","v":0}]
[null,47,{"$f":"IF(ISBLANK(Vrijwilligersregister!C53)=TRUE,\"\",Vrijwilligersregister!C53)","v":""},{"$f":"IF(ISBLANK(Vrijwilligersregister!C53)=TRUE,\"\",SUMIF('Nominatieve lijst'!$D$8:$D$10007,C53,'Nominatieve lijst'!$G$8:$G$10007))","v":""},{"$f":"IF(ISBLANK(Vrijwilligersregister!C53)=TRUE,\"\",SUMIF('Nominatieve lijst'!$D$8:$D$10007,C53,'Nominatieve lijst'!$H$8:$H$10007))","v":""},{"$f":"IF(ISBLANK(Vrijwilligersregister!C53)=TRUE,\"\",SUMIF('Nominatieve lijst'!$D$8:$D$10007,C53,'Nominatieve lijst'!$J$8:$J$10007))","v":""},{"$f":"IF(ISBLANK(Vrijwilligersregister!C53)=TRUE,\"\",D53+F53)","v":""},{"$f":"Vrijwilligersregister!L53","v":0}]
[null,48,{"$f":"IF(ISBLANK(Vrijwilligersregister!C54)=TRUE,\"\",Vrijwilligersregister!C54)","v":""},{"$f":"IF(ISBLANK(Vrijwilligersregister!C54)=TRUE,\"\",SUMIF('Nominatieve lijst'!$D$8:$D$10007,C54,'Nominatieve lijst'!$G$8:$G$10007))","v":""},{"$f":"IF(ISBLANK(Vrijwilligersregister!C54)=TRUE,\"\",SUMIF('Nominatieve lijst'!$D$8:$D$10007,C54,'Nominatieve lijst'!$H$8:$H$10007))","v":""},{"$f":"IF(ISBLANK(Vrijwilligersregister!C54)=TRUE,\"\",SUMIF('Nominatieve lijst'!$D$8:$D$10007,C54,'Nominatieve lijst'!$J$8:$J$10007))","v":""},{"$f":"IF(ISBLANK(Vrijwilligersregister!C54)=TRUE,\"\",D54+F54)","v":""},{"$f":"Vrijwilligersregister!L54","v":0}]
[null,49,{"$f":"IF(ISBLANK(Vrijwilligersregister!C55)=TRUE,\"\",Vrijwilligersregister!C55)","v":""},{"$f":"IF(ISBLANK(Vrijwilligersregister!C55)=TRUE,\"\",SUMIF('Nominatieve lijst'!$D$8:$D$10007,C55,'Nominatieve lijst'!$G$8:$G$10007))","v":""},{"$f":"IF(ISBLANK(Vrijwilligersregister!C55)=TRUE,\"\",SUMIF('Nominatieve lijst'!$D$8:$D$10007,C55,'Nominatieve lijst'!$H$8:$H$10007))","v":""},{"$f":"IF(ISBLANK(Vrijwilligersregister!C55)=TRUE,\"\",SUMIF('Nominatieve lijst'!$D$8:$D$10007,C55,'Nominatieve lijst'!$J$8:$J$10007))","v":""},{"$f":"IF(ISBLANK(Vrijwilligersregister!C55)=TRUE,\"\",D55+F55)","v":""},{"$f":"Vrijwilligersregister!L55","v":0}]
[null,50,{"$f":"IF(ISBLANK(Vrijwilligersregister!C56)=TRUE,\"\",Vrijwilligersregister!C56)","v":""},{"$f":"IF(ISBLANK(Vrijwilligersregister!C56)=TRUE,\"\",SUMIF('Nominatieve lijst'!$D$8:$D$10007,C56,'Nominatieve lijst'!$G$8:$G$10007))","v":""},{"$f":"IF(ISBLANK(Vrijwilligersregister!C56)=TRUE,\"\",SUMIF('Nominatieve lijst'!$D$8:$D$10007,C56,'Nominatieve lijst'!$H$8:$H$10007))","v":""},{"$f":"IF(ISBLANK(Vrijwilligersregister!C56)=TRUE,\"\",SUMIF('Nominatieve lijst'!$D$8:$D$10007,C56,'Nominatieve lijst'!$J$8:$J$10007))","v":""},{"$f":"IF(ISBLANK(Vrijwilligersregister!C56)=TRUE,\"\",D56+F56)","v":""},{"$f":"Vrijwilligersregister!L56","v":0}]
[null,51,{"$f":"IF(ISBLANK(Vrijwilligersregister!C57)=TRUE,\"\",Vrijwilligersregister!C57)","v":""},{"$f":"IF(ISBLANK(Vrijwilligersregister!C57)=TRUE,\"\",SUMIF('Nominatieve lijst'!$D$8:$D$10007,C57,'Nominatieve lijst'!$G$8:$G$10007))","v":""},{"$f":"IF(ISBLANK(Vrijwilligersregister!C57)=TRUE,\"\",SUMIF('Nominatieve lijst'!$D$8:$D$10007,C57,'Nominatieve lijst'!$H$8:$H$10007))","v":""},{"$f":"IF(ISBLANK(Vrijwilligersregister!C57)=TRUE,\"\",SUMIF('Nominatieve lijst'!$D$8:$D$10007,C57,'Nominatieve lijst'!$J$8:$J$10007))","v":""},{"$f":"IF(ISBLANK(Vrijwilligersregister!C57)=TRUE,\"\",D57+F57)","v":""},{"$f":"Vrijwilligersregister!L57","v":0}]
[null,52,{"$f":"IF(ISBLANK(Vrijwilligersregister!C58)=TRUE,\"\",Vrijwilligersregister!C58)","v":""},{"$f":"IF(ISBLANK(Vrijwilligersregister!C58)=TRUE,\"\",SUMIF('Nominatieve lijst'!$D$8:$D$10007,C58,'Nominatieve lijst'!$G$8:$G$10007))","v":""},{"$f":"IF(ISBLANK(Vrijwilligersregister!C58)=TRUE,\"\",SUMIF('Nominatieve lijst'!$D$8:$D$10007,C58,'Nominatieve lijst'!$H$8:$H$10007))","v":""},{"$f":"IF(ISBLANK(Vrijwilligersregister!C58)=TRUE,\"\",SUMIF('Nominatieve lijst'!$D$8:$D$10007,C58,'Nominatieve lijst'!$J$8:$J$10007))","v":""},{"$f":"IF(ISBLANK(Vrijwilligersregister!C58)=TRUE,\"\",D58+F58)","v":""},{"$f":"Vrijwilligersregister!L58","v":0}]
[null,53,{"$f":"IF(ISBLANK(Vrijwilligersregister!C59)=TRUE,\"\",Vrijwilligersregister!C59)","v":""},{"$f":"IF(ISBLANK(Vrijwilligersregister!C59)=TRUE,\"\",SUMIF('Nominatieve lijst'!$D$8:$D$10007,C59,'Nominatieve lijst'!$G$8:$G$10007))","v":""},{"$f":"IF(ISBLANK(Vrijwilligersregister!C59)=TRUE,\"\",SUMIF('Nominatieve lijst'!$D$8:$D$10007,C59,'Nominatieve lijst'!$H$8:$H$10007))","v":""},{"$f":"IF(ISBLANK(Vrijwilligersregister!C59)=TRUE,\"\",SUMIF('Nominatieve lijst'!$D$8:$D$10007,C59,'Nominatieve lijst'!$J$8:$J$10007))","v":""},{"$f":"IF(ISBLANK(Vrijwilligersregister!C59)=TRUE,\"\",D59+F59)","v":""},{"$f":"Vrijwilligersregister!L59","v":0}]
[null,54,{"$f":"IF(ISBLANK(Vrijwilligersregister!C60)=TRUE,\"\",Vrijwilligersregister!C60)","v":""},{"$f":"IF(ISBLANK(Vrijwilligersregister!C60)=TRUE,\"\",SUMIF('Nominatieve lijst'!$D$8:$D$10007,C60,'Nominatieve lijst'!$G$8:$G$10007))","v":""},{"$f":"IF(ISBLANK(Vrijwilligersregister!C60)=TRUE,\"\",SUMIF('Nominatieve lijst'!$D$8:$D$10007,C60,'Nominatieve lijst'!$H$8:$H$10007))","v":""},{"$f":"IF(ISBLANK(Vrijwilligersregister!C60)=TRUE,\"\",SUMIF('Nominatieve lijst'!$D$8:$D$10007,C60,'Nominatieve lijst'!$J$8:$J$10007))","v":""},{"$f":"IF(ISBLANK(Vrijwilligersregister!C60)=TRUE,\"\",D60+F60)","v":""},{"$f":"Vrijwilligersregister!L60","v":0}]
[null,55,{"$f":"IF(ISBLANK(Vrijwilligersregister!C61)=TRUE,\"\",Vrijwilligersregister!C61)","v":""},{"$f":"IF(ISBLANK(Vrijwilligersregister!C61)=TRUE,\"\",SUMIF('Nominatieve lijst'!$D$8:$D$10007,C61,'Nominatieve lijst'!$G$8:$G$10007))","v":""},{"$f":"IF(ISBLANK(Vrijwilligersregister!C61)=TRUE,\"\",SUMIF('Nominatieve lijst'!$D$8:$D$10007,C61,'Nominatieve lijst'!$H$8:$H$10007))","v":""},{"$f":"IF(ISBLANK(Vrijwilligersregister!C61)=TRUE,\"\",SUMIF('Nominatieve lijst'!$D$8:$D$10007,C61,'Nominatieve lijst'!$J$8:$J$10007))","v":""},{"$f":"IF(ISBLANK(Vrijwilligersregister!C61)=TRUE,\"\",D61+F61)","v":""},{"$f":"Vrijwilligersregister!L61","v":0}]
[null,56,{"$f":"IF(ISBLANK(Vrijwilligersregister!C62)=TRUE,\"\",Vrijwilligersregister!C62)","v":""},{"$f":"IF(ISBLANK(Vrijwilligersregister!C62)=TRUE,\"\",SUMIF('Nominatieve lijst'!$D$8:$D$10007,C62,'Nominatieve lijst'!$G$8:$G$10007))","v":""},{"$f":"IF(ISBLANK(Vrijwilligersregister!C62)=TRUE,\"\",SUMIF('Nominatieve lijst'!$D$8:$D$10007,C62,'Nominatieve lijst'!$H$8:$H$10007))","v":""},{"$f":"IF(ISBLANK(Vrijwilligersregister!C62)=TRUE,\"\",SUMIF('Nominatieve lijst'!$D$8:$D$10007,C62,'Nominatieve lijst'!$J$8:$J$10007))","v":""},{"$f":"IF(ISBLANK(Vrijwilligersregister!C62)=TRUE,\"\",D62+F62)","v":""},{"$f":"Vrijwilligersregister!L62","v":0}]
[null,57,{"$f":"IF(ISBLANK(Vrijwilligersregister!C63)=TRUE,\"\",Vrijwilligersregister!C63)","v":""},{"$f":"IF(ISBLANK(Vrijwilligersregister!C63)=TRUE,\"\",SUMIF('Nominatieve lijst'!$D$8:$D$10007,C63,'Nominatieve lijst'!$G$8:$G$10007))","v":""},{"$f":"IF(ISBLANK(Vrijwilligersregister!C63)=TRUE,\"\",SUMIF('Nominatieve lijst'!$D$8:$D$10007,C63,'Nominatieve lijst'!$H$8:$H$10007))","v":""},{"$f":"IF(ISBLANK(Vrijwilligersregister!C63)=TRUE,\"\",SUMIF('Nominatieve lijst'!$D$8:$D$10007,C63,'Nominatieve lijst'!$J$8:$J$10007))","v":""},{"$f":"IF(ISBLANK(Vrijwilligersregister!C63)=TRUE,\"\",D63+F63)","v":""},{"$f":"Vrijwilligersregister!L63","v":0}]
[null,58,{"$f":"IF(ISBLANK(Vrijwilligersregister!C64)=TRUE,\"\",Vrijwilligersregister!C64)","v":""},{"$f":"IF(ISBLANK(Vrijwilligersregister!C64)=TRUE,\"\",SUMIF('Nominatieve lijst'!$D$8:$D$10007,C64,'Nominatieve lijst'!$G$8:$G$10007))","v":""},{"$f":"IF(ISBLANK(Vrijwilligersregister!C64)=TRUE,\"\",SUMIF('Nominatieve lijst'!$D$8:$D$10007,C64,'Nominatieve lijst'!$H$8:$H$10007))","v":""},{"$f":"IF(ISBLANK(Vrijwilligersregister!C64)=TRUE,\"\",SUMIF('Nominatieve lijst'!$D$8:$D$10007,C64,'Nominatieve lijst'!$J$8:$J$10007))","v":""},{"$f":"IF(ISBLANK(Vrijwilligersregister!C64)=TRUE,\"\",D64+F64)","v":""},{"$f":"Vrijwilligersregister!L64","v":0}]
[null,59,{"$f":"IF(ISBLANK(Vrijwilligersregister!C65)=TRUE,\"\",Vrijwilligersregister!C65)","v":""},{"$f":"IF(ISBLANK(Vrijwilligersregister!C65)=TRUE,\"\",SUMIF('Nominatieve lijst'!$D$8:$D$10007,C65,'Nominatieve lijst'!$G$8:$G$10007))","v":""},{"$f":"IF(ISBLANK(Vrijwilligersregister!C65)=TRUE,\"\",SUMIF('Nominatieve lijst'!$D$8:$D$10007,C65,'Nominatieve lijst'!$H$8:$H$10007))","v":""},{"$f":"IF(ISBLANK(Vrijwilligersregister!C65)=TRUE,\"\",SUMIF('Nominatieve lijst'!$D$8:$D$10007,C65,'Nominatieve lijst'!$J$8:$J$10007))","v":""},{"$f":"IF(ISBLANK(Vrijwilligersregister!C65)=TRUE,\"\",D65+F65)","v":""},{"$f":"Vrijwilligersregister!L65","v":0}]
[null,60,{"$f":"IF(ISBLANK(Vrijwilligersregister!C66)=TRUE,\"\",Vrijwilligersregister!C66)","v":""},{"$f":"IF(ISBLANK(Vrijwilligersregister!C66)=TRUE,\"\",SUMIF('Nominatieve lijst'!$D$8:$D$10007,C66,'Nominatieve lijst'!$G$8:$G$10007))","v":""},{"$f":"IF(ISBLANK(Vrijwilligersregister!C66)=TRUE,\"\",SUMIF('Nominatieve lijst'!$D$8:$D$10007,C66,'Nominatieve lijst'!$H$8:$H$10007))","v":""},{"$f":"IF(ISBLANK(Vrijwilligersregister!C66)=TRUE,\"\",SUMIF('Nominatieve lijst'!$D$8:$D$10007,C66,'Nominatieve lijst'!$J$8:$J$10007))","v":""},{"$f":"IF(ISBLANK(Vrijwilligersregister!C66)=TRUE,\"\",D66+F66)","v":""},{"$f":"Vrijwilligersregister!L66","v":0}]
[null,61,{"$f":"IF(ISBLANK(Vrijwilligersregister!C67)=TRUE,\"\",Vrijwilligersregister!C67)","v":""},{"$f":"IF(ISBLANK(Vrijwilligersregister!C67)=TRUE,\"\",SUMIF('Nominatieve lijst'!$D$8:$D$10007,C67,'Nominatieve lijst'!$G$8:$G$10007))","v":""},{"$f":"IF(ISBLANK(Vrijwilligersregister!C67)=TRUE,\"\",SUMIF('Nominatieve lijst'!$D$8:$D$10007,C67,'Nominatieve lijst'!$H$8:$H$10007))","v":""},{"$f":"IF(ISBLANK(Vrijwilligersregister!C67)=TRUE,\"\",SUMIF('Nominatieve lijst'!$D$8:$D$10007,C67,'Nominatieve lijst'!$J$8:$J$10007))","v":""},{"$f":"IF(ISBLANK(Vrijwilligersregister!C67)=TRUE,\"\",D67+F67)","v":""},{"$f":"Vrijwilligersregister!L67","v":0}]
[null,62,{"$f":"IF(ISBLANK(Vrijwilligersregister!C68)=TRUE,\"\",Vrijwilligersregister!C68)","v":""},{"$f":"IF(ISBLANK(Vrijwilligersregister!C68)=TRUE,\"\",SUMIF('Nominatieve lijst'!$D$8:$D$10007,C68,'Nominatieve lijst'!$G$8:$G$10007))","v":""},{"$f":"IF(ISBLANK(Vrijwilligersregister!C68)=TRUE,\"\",SUMIF('Nominatieve lijst'!$D$8:$D$10007,C68,'Nominatieve lijst'!$H$8:$H$10007))","v":""},{"$f":"IF(ISBLANK(Vrijwilligersregister!C68)=TRUE,\"\",SUMIF('Nominatieve lijst'!$D$8:$D$10007,C68,'Nominatieve lijst'!$J$8:$J$10007))","v":""},{"$f":"IF(ISBLANK(Vrijwilligersregister!C68)=TRUE,\"\",D68+F68)","v":""},{"$f":"Vrijwilligersregister!L68","v":0}]
[null,63,{"$f":"IF(ISBLANK(Vrijwilligersregister!C69)=TRUE,\"\",Vrijwilligersregister!C69)","v":""},{"$f":"IF(ISBLANK(Vrijwilligersregister!C69)=TRUE,\"\",SUMIF('Nominatieve lijst'!$D$8:$D$10007,C69,'Nominatieve lijst'!$G$8:$G$10007))","v":""},{"$f":"IF(ISBLANK(Vrijwilligersregister!C69)=TRUE,\"\",SUMIF('Nominatieve lijst'!$D$8:$D$10007,C69,'Nominatieve lijst'!$H$8:$H$10007))","v":""},{"$f":"IF(ISBLANK(Vrijwilligersregister!C69)=TRUE,\"\",SUMIF('Nominatieve lijst'!$D$8:$D$10007,C69,'Nominatieve lijst'!$J$8:$J$10007))","v":""},{"$f":"IF(ISBLANK(Vrijwilligersregister!C69)=TRUE,\"\",D69+F69)","v":""},{"$f":"Vrijwilligersregister!L69","v":0}]
[null,64,{"$f":"IF(ISBLANK(Vrijwilligersregister!C70)=TRUE,\"\",Vrijwilligersregister!C70)","v":""},{"$f":"IF(ISBLANK(Vrijwilligersregister!C70)=TRUE,\"\",SUMIF('Nominatieve lijst'!$D$8:$D$10007,C70,'Nominatieve lijst'!$G$8:$G$10007))","v":""},{"$f":"IF(ISBLANK(Vrijwilligersregister!C70)=TRUE,\"\",SUMIF('Nominatieve lijst'!$D$8:$D$10007,C70,'Nominatieve lijst'!$H$8:$H$10007))","v":""},{"$f":"IF(ISBLANK(Vrijwilligersregister!C70)=TRUE,\"\",SUMIF('Nominatieve lijst'!$D$8:$D$10007,C70,'Nominatieve lijst'!$J$8:$J$10007))","v":""},{"$f":"IF(ISBLANK(Vrijwilligersregister!C70)=TRUE,\"\",D70+F70)","v":""},{"$f":"Vrijwilligersregister!L70","v":0}]
[null,65,{"$f":"IF(ISBLANK(Vrijwilligersregister!C71)=TRUE,\"\",Vrijwilligersregister!C71)","v":""},{"$f":"IF(ISBLANK(Vrijwilligersregister!C71)=TRUE,\"\",SUMIF('Nominatieve lijst'!$D$8:$D$10007,C71,'Nominatieve lijst'!$G$8:$G$10007))","v":""},{"$f":"IF(ISBLANK(Vrijwilligersregister!C71)=TRUE,\"\",SUMIF('Nominatieve lijst'!$D$8:$D$10007,C71,'Nominatieve lijst'!$H$8:$H$10007))","v":""},{"$f":"IF(ISBLANK(Vrijwilligersregister!C71)=TRUE,\"\",SUMIF('Nominatieve lijst'!$D$8:$D$10007,C71,'Nominatieve lijst'!$J$8:$J$10007))","v":""},{"$f":"IF(ISBLANK(Vrijwilligersregister!C71)=TRUE,\"\",D71+F71)","v":""},{"$f":"Vrijwilligersregister!L71","v":0}]
[null,66,{"$f":"IF(ISBLANK(Vrijwilligersregister!C72)=TRUE,\"\",Vrijwilligersregister!C72)","v":""},{"$f":"IF(ISBLANK(Vrijwilligersregister!C72)=TRUE,\"\",SUMIF('Nominatieve lijst'!$D$8:$D$10007,C72,'Nominatieve lijst'!$G$8:$G$10007))","v":""},{"$f":"IF(ISBLANK(Vrijwilligersregister!C72)=TRUE,\"\",SUMIF('Nominatieve lijst'!$D$8:$D$10007,C72,'Nominatieve lijst'!$H$8:$H$10007))","v":""},{"$f":"IF(ISBLANK(Vrijwilligersregister!C72)=TRUE,\"\",SUMIF('Nominatieve lijst'!$D$8:$D$10007,C72,'Nominatieve lijst'!$J$8:$J$10007))","v":""},{"$f":"IF(ISBLANK(Vrijwilligersregister!C72)=TRUE,\"\",D72+F72)","v":""},{"$f":"Vrijwilligersregister!L72","v":0}]
[null,67,{"$f":"IF(ISBLANK(Vrijwilligersregister!C73)=TRUE,\"\",Vrijwilligersregister!C73)","v":""},{"$f":"IF(ISBLANK(Vrijwilligersregister!C73)=TRUE,\"\",SUMIF('Nominatieve lijst'!$D$8:$D$10007,C73,'Nominatieve lijst'!$G$8:$G$10007))","v":""},{"$f":"IF(ISBLANK(Vrijwilligersregister!C73)=TRUE,\"\",SUMIF('Nominatieve lijst'!$D$8:$D$10007,C73,'Nominatieve lijst'!$H$8:$H$10007))","v":""},{"$f":"IF(ISBLANK(Vrijwilligersregister!C73)=TRUE,\"\",SUMIF('Nominatieve lijst'!$D$8:$D$10007,C73,'Nominatieve lijst'!$J$8:$J$10007))","v":""},{"$f":"IF(ISBLANK(Vrijwilligersregister!C73)=TRUE,\"\",D73+F73)","v":""},{"$f":"Vrijwilligersregister!L73","v":0}]
[null,68,{"$f":"IF(ISBLANK(Vrijwilligersregister!C74)=TRUE,\"\",Vrijwilligersregister!C74)","v":""},{"$f":"IF(ISBLANK(Vrijwilligersregister!C74)=TRUE,\"\",SUMIF('Nominatieve lijst'!$D$8:$D$10007,C74,'Nominatieve lijst'!$G$8:$G$10007))","v":""},{"$f":"IF(ISBLANK(Vrijwilligersregister!C74)=TRUE,\"\",SUMIF('Nominatieve lijst'!$D$8:$D$10007,C74,'Nominatieve lijst'!$H$8:$H$10007))","v":""},{"$f":"IF(ISBLANK(Vrijwilligersregister!C74)=TRUE,\"\",SUMIF('Nominatieve lijst'!$D$8:$D$10007,C74,'Nominatieve lijst'!$J$8:$J$10007))","v":""},{"$f":"IF(ISBLANK(Vrijwilligersregister!C74)=TRUE,\"\",D74+F74)","v":""},{"$f":"Vrijwilligersregister!L74","v":0}]
[null,69,{"$f":"IF(ISBLANK(Vrijwilligersregister!C75)=TRUE,\"\",Vrijwilligersregister!C75)","v":""},{"$f":"IF(ISBLANK(Vrijwilligersregister!C75)=TRUE,\"\",SUMIF('Nominatieve lijst'!$D$8:$D$10007,C75,'Nominatieve lijst'!$G$8:$G$10007))","v":""},{"$f":"IF(ISBLANK(Vrijwilligersregister!C75)=TRUE,\"\",SUMIF('Nominatieve lijst'!$D$8:$D$10007,C75,'Nominatieve lijst'!$H$8:$H$10007))","v":""},{"$f":"IF(ISBLANK(Vrijwilligersregister!C75)=TRUE,\"\",SUMIF('Nominatieve lijst'!$D$8:$D$10007,C75,'Nominatieve lijst'!$J$8:$J$10007))","v":""},{"$f":"IF(ISBLANK(Vrijwilligersregister!C75)=TRUE,\"\",D75+F75)","v":""},{"$f":"Vrijwilligersregister!L75","v":0}]
[null,70,{"$f":"IF(ISBLANK(Vrijwilligersregister!C76)=TRUE,\"\",Vrijwilligersregister!C76)","v":""},{"$f":"IF(ISBLANK(Vrijwilligersregister!C76)=TRUE,\"\",SUMIF('Nominatieve lijst'!$D$8:$D$10007,C76,'Nominatieve lijst'!$G$8:$G$10007))","v":""},{"$f":"IF(ISBLANK(Vrijwilligersregister!C76)=TRUE,\"\",SUMIF('Nominatieve lijst'!$D$8:$D$10007,C76,'Nominatieve lijst'!$H$8:$H$10007))","v":""},{"$f":"IF(ISBLANK(Vrijwilligersregister!C76)=TRUE,\"\",SUMIF('Nominatieve lijst'!$D$8:$D$10007,C76,'Nominatieve lijst'!$J$8:$J$10007))","v":""},{"$f":"IF(ISBLANK(Vrijwilligersregister!C76)=TRUE,\"\",D76+F76)","v":""},{"$f":"Vrijwilligersregister!L76","v":0}]
[null,71,{"$f":"IF(ISBLANK(Vrijwilligersregister!C77)=TRUE,\"\",Vrijwilligersregister!C77)","v":""},{"$f":"IF(ISBLANK(Vrijwilligersregister!C77)=TRUE,\"\",SUMIF('Nominatieve lijst'!$D$8:$D$10007,C77,'Nominatieve lijst'!$G$8:$G$10007))","v":""},{"$f":"IF(ISBLANK(Vrijwilligersregister!C77)=TRUE,\"\",SUMIF('Nominatieve lijst'!$D$8:$D$10007,C77,'Nominatieve lijst'!$H$8:$H$10007))","v":""},{"$f":"IF(ISBLANK(Vrijwilligersregister!C77)=TRUE,\"\",SUMIF('Nominatieve lijst'!$D$8:$D$10007,C77,'Nominatieve lijst'!$J$8:$J$10007))","v":""},{"$f":"IF(ISBLANK(Vrijwilligersregister!C77)=TRUE,\"\",D77+F77)","v":""},{"$f":"Vrijwilligersregister!L77","v":0}]
[null,72,{"$f":"IF(ISBLANK(Vrijwilligersregister!C78)=TRUE,\"\",Vrijwilligersregister!C78)","v":""},{"$f":"IF(ISBLANK(Vrijwilligersregister!C78)=TRUE,\"\",SUMIF('Nominatieve lijst'!$D$8:$D$10007,C78,'Nominatieve lijst'!$G$8:$G$10007))","v":""},{"$f":"IF(ISBLANK(Vrijwilligersregister!C78)=TRUE,\"\",SUMIF('Nominatieve lijst'!$D$8:$D$10007,C78,'Nominatieve lijst'!$H$8:$H$10007))","v":""},{"$f":"IF(ISBLANK(Vrijwilligersregister!C78)=TRUE,\"\",SUMIF('Nominatieve lijst'!$D$8:$D$10007,C78,'Nominatieve lijst'!$J$8:$J$10007))","v":""},{"$f":"IF(ISBLANK(Vrijwilligersregister!C78)=TRUE,\"\",D78+F78)","v":""},{"$f":"Vrijwilligersregister!L78","v":0}]
[null,73,{"$f":"IF(ISBLANK(Vrijwilligersregister!C79)=TRUE,\"\",Vrijwilligersregister!C79)","v":""},{"$f":"IF(ISBLANK(Vrijwilligersregister!C79)=TRUE,\"\",SUMIF('Nominatieve lijst'!$D$8:$D$10007,C79,'Nominatieve lijst'!$G$8:$G$10007))","v":""},{"$f":"IF(ISBLANK(Vrijwilligersregister!C79)=TRUE,\"\",SUMIF('Nominatieve lijst'!$D$8:$D$10007,C79,'Nominatieve lijst'!$H$8:$H$10007))","v":""},{"$f":"IF(ISBLANK(Vrijwilligersregister!C79)=TRUE,\"\",SUMIF('Nominatieve lijst'!$D$8:$D$10007,C79,'Nominatieve lijst'!$J$8:$J$10007))","v":""},{"$f":"IF(ISBLANK(Vrijwilligersregister!C79)=TRUE,\"\",D79+F79)","v":""},{"$f":"Vrijwilligersregister!L79","v":0}]
[null,74,{"$f":"IF(ISBLANK(Vrijwilligersregister!C80)=TRUE,\"\",Vrijwilligersregister!C80)","v":""},{"$f":"IF(ISBLANK(Vrijwilligersregister!C80)=TRUE,\"\",SUMIF('Nominatieve lijst'!$D$8:$D$10007,C80,'Nominatieve lijst'!$G$8:$G$10007))","v":""},{"$f":"IF(ISBLANK(Vrijwilligersregister!C80)=TRUE,\"\",SUMIF('Nominatieve lijst'!$D$8:$D$10007,C80,'Nominatieve lijst'!$H$8:$H$10007))","v":""},{"$f":"IF(ISBLANK(Vrijwilligersregister!C80)=TRUE,\"\",SUMIF('Nominatieve lijst'!$D$8:$D$10007,C80,'Nominatieve lijst'!$J$8:$J$10007))","v":""},{"$f":"IF(ISBLANK(Vrijwilligersregister!C80)=TRUE,\"\",D80+F80)","v":""},{"$f":"Vrijwilligersregister!L80","v":0}]
[null,75,{"$f":"IF(ISBLANK(Vrijwilligersregister!C81)=TRUE,\"\",Vrijwilligersregister!C81)","v":""},{"$f":"IF(ISBLANK(Vrijwilligersregister!C81)=TRUE,\"\",SUMIF('Nominatieve lijst'!$D$8:$D$10007,C81,'Nominatieve lijst'!$G$8:$G$10007))","v":""},{"$f":"IF(ISBLANK(Vrijwilligersregister!C81)=TRUE,\"\",SUMIF('Nominatieve lijst'!$D$8:$D$10007,C81,'Nominatieve lijst'!$H$8:$H$10007))","v":""},{"$f":"IF(ISBLANK(Vrijwilligersregister!C81)=TRUE,\"\",SUMIF('Nominatieve lijst'!$D$8:$D$10007,C81,'Nominatieve lijst'!$J$8:$J$10007))","v":""},{"$f":"IF(ISBLANK(Vrijwilligersregister!C81)=TRUE,\"\",D81+F81)","v":""},{"$f":"Vrijwilligersregister!L81","v":0}]
[null,76,{"$f":"IF(ISBLANK(Vrijwilligersregister!C82)=TRUE,\"\",Vrijwilligersregister!C82)","v":""},{"$f":"IF(ISBLANK(Vrijwilligersregister!C82)=TRUE,\"\",SUMIF('Nominatieve lijst'!$D$8:$D$10007,C82,'Nominatieve lijst'!$G$8:$G$10007))","v":""},{"$f":"IF(ISBLANK(Vrijwilligersregister!C82)=TRUE,\"\",SUMIF('Nominatieve lijst'!$D$8:$D$10007,C82,'Nominatieve lijst'!$H$8:$H$10007))","v":""},{"$f":"IF(ISBLANK(Vrijwilligersregister!C82)=TRUE,\"\",SUMIF('Nominatieve lijst'!$D$8:$D$10007,C82,'Nominatieve lijst'!$J$8:$J$10007))","v":""},{"$f":"IF(ISBLANK(Vrijwilligersregister!C82)=TRUE,\"\",D82+F82)","v":""},{"$f":"Vrijwilligersregister!L82","v":0}]
[null,77,{"$f":"IF(ISBLANK(Vrijwilligersregister!C83)=TRUE,\"\",Vrijwilligersregister!C83)","v":""},{"$f":"IF(ISBLANK(Vrijwilligersregister!C83)=TRUE,\"\",SUMIF('Nominatieve lijst'!$D$8:$D$10007,C83,'Nominatieve lijst'!$G$8:$G$10007))","v":""},{"$f":"IF(ISBLANK(Vrijwilligersregister!C83)=TRUE,\"\",SUMIF('Nominatieve lijst'!$D$8:$D$10007,C83,'Nominatieve lijst'!$H$8:$H$10007))","v":""},{"$f":"IF(ISBLANK(Vrijwilligersregister!C83)=TRUE,\"\",SUMIF('Nominatieve lijst'!$D$8:$D$10007,C83,'Nominatieve lijst'!$J$8:$J$10007))","v":""},{"$f":"IF(ISBLANK(Vrijwilligersregister!C83)=TRUE,\"\",D83+F83)","v":""},{"$f":"Vrijwilligersregister!L83","v":0}]
[null,78,{"$f":"IF(ISBLANK(Vrijwilligersregister!C84)=TRUE,\"\",Vrijwilligersregister!C84)","v":""},{"$f":"IF(ISBLANK(Vrijwilligersregister!C84)=TRUE,\"\",SUMIF('Nominatieve lijst'!$D$8:$D$10007,C84,'Nominatieve lijst'!$G$8:$G$10007))","v":""},{"$f":"IF(ISBLANK(Vrijwilligersregister!C84)=TRUE,\"\",SUMIF('Nominatieve lijst'!$D$8:$D$10007,C84,'Nominatieve lijst'!$H$8:$H$10007))","v":""},{"$f":"IF(ISBLANK(Vrijwilligersregister!C84)=TRUE,\"\",SUMIF('Nominatieve lijst'!$D$8:$D$10007,C84,'Nominatieve lijst'!$J$8:$J$10007))","v":""},{"$f":"IF(ISBLANK(Vrijwilligersregister!C84)=TRUE,\"\",D84+F84)","v":""},{"$f":"Vrijwilligersregister!L84","v":0}]
[null,79,{"$f":"IF(ISBLANK(Vrijwilligersregister!C85)=TRUE,\"\",Vrijwilligersregister!C85)","v":""},{"$f":"IF(ISBLANK(Vrijwilligersregister!C85)=TRUE,\"\",SUMIF('Nominatieve lijst'!$D$8:$D$10007,C85,'Nominatieve lijst'!$G$8:$G$10007))","v":""},{"$f":"IF(ISBLANK(Vrijwilligersregister!C85)=TRUE,\"\",SUMIF('Nominatieve lijst'!$D$8:$D$10007,C85,'Nominatieve lijst'!$H$8:$H$10007))","v":""},{"$f":"IF(ISBLANK(Vrijwilligersregister!C85)=TRUE,\"\",SUMIF('Nominatieve lijst'!$D$8:$D$10007,C85,'Nominatieve lijst'!$J$8:$J$10007))","v":""},{"$f":"IF(ISBLANK(Vrijwilligersregister!C85)=TRUE,\"\",D85+F85)","v":""},{"$f":"Vrijwilligersregister!L85","v":0}]
[null,80,{"$f":"IF(ISBLANK(Vrijwilligersregister!C86)=TRUE,\"\",Vrijwilligersregister!C86)","v":""},{"$f":"IF(ISBLANK(Vrijwilligersregister!C86)=TRUE,\"\",SUMIF('Nominatieve lijst'!$D$8:$D$10007,C86,'Nominatieve lijst'!$G$8:$G$10007))","v":""},{"$f":"IF(ISBLANK(Vrijwilligersregister!C86)=TRUE,\"\",SUMIF('Nominatieve lijst'!$D$8:$D$10007,C86,'Nominatieve lijst'!$H$8:$H$10007))","v":""},{"$f":"IF(ISBLANK(Vrijwilligersregister!C86)=TRUE,\"\",SUMIF('Nominatieve lijst'!$D$8:$D$10007,C86,'Nominatieve lijst'!$J$8:$J$10007))","v":""},{"$f":"IF(ISBLANK(Vrijwilligersregister!C86)=TRUE,\"\",D86+F86)","v":""},{"$f":"Vrijwilligersregister!L86","v":0}]
[null,81,{"$f":"IF(ISBLANK(Vrijwilligersregister!C87)=TRUE,\"\",Vrijwilligersregister!C87)","v":""},{"$f":"IF(ISBLANK(Vrijwilligersregister!C87)=TRUE,\"\",SUMIF('Nominatieve lijst'!$D$8:$D$10007,C87,'Nominatieve lijst'!$G$8:$G$10007))","v":""},{"$f":"IF(ISBLANK(Vrijwilligersregister!C87)=TRUE,\"\",SUMIF('Nominatieve lijst'!$D$8:$D$10007,C87,'Nominatieve lijst'!$H$8:$H$10007))","v":""},{"$f":"IF(ISBLANK(Vrijwilligersregister!C87)=TRUE,\"\",SUMIF('Nominatieve lijst'!$D$8:$D$10007,C87,'Nominatieve lijst'!$J$8:$J$10007))","v":""},{"$f":"IF(ISBLANK(Vrijwilligersregister!C87)=TRUE,\"\",D87+F87)","v":""},{"$f":"Vrijwilligersregister!L87","v":0}]
[null,82,{"$f":"IF(ISBLANK(Vrijwilligersregister!C88)=TRUE,\"\",Vrijwilligersregister!C88)","v":""},{"$f":"IF(ISBLANK(Vrijwilligersregister!C88)=TRUE,\"\",SUMIF('Nominatieve lijst'!$D$8:$D$10007,C88,'Nominatieve lijst'!$G$8:$G$10007))","v":""},{"$f":"IF(ISBLANK(Vrijwilligersregister!C88)=TRUE,\"\",SUMIF('Nominatieve lijst'!$D$8:$D$10007,C88,'Nominatieve lijst'!$H$8:$H$10007))","v":""},{"$f":"IF(ISBLANK(Vrijwilligersregister!C88)=TRUE,\"\",SUMIF('Nominatieve lijst'!$D$8:$D$10007,C88,'Nominatieve lijst'!$J$8:$J$10007))","v":""},{"$f":"IF(ISBLANK(Vrijwilligersregister!C88)=TRUE,\"\",D88+F88)","v":""},{"$f":"Vrijwilligersregister!L88","v":0}]
[null,83,{"$f":"IF(ISBLANK(Vrijwilligersregister!C89)=TRUE,\"\",Vrijwilligersregister!C89)","v":""},{"$f":"IF(ISBLANK(Vrijwilligersregister!C89)=TRUE,\"\",SUMIF('Nominatieve lijst'!$D$8:$D$10007,C89,'Nominatieve lijst'!$G$8:$G$10007))","v":""},{"$f":"IF(ISBLANK(Vrijwilligersregister!C89)=TRUE,\"\",SUMIF('Nominatieve lijst'!$D$8:$D$10007,C89,'Nominatieve lijst'!$H$8:$H$10007))","v":""},{"$f":"IF(ISBLANK(Vrijwilligersregister!C89)=TRUE,\"\",SUMIF('Nominatieve lijst'!$D$8:$D$10007,C89,'Nominatieve lijst'!$J$8:$J$10007))","v":""},{"$f":"IF(ISBLANK(Vrijwilligersregister!C89)=TRUE,\"\",D89+F89)","v":""},{"$f":"Vrijwilligersregister!L89","v":0}]
[null,84,{"$f":"IF(ISBLANK(Vrijwilligersregister!C90)=TRUE,\"\",Vrijwilligersregister!C90)","v":""},{"$f":"IF(ISBLANK(Vrijwilligersregister!C90)=TRUE,\"\",SUMIF('Nominatieve lijst'!$D$8:$D$10007,C90,'Nominatieve lijst'!$G$8:$G$10007))","v":""},{"$f":"IF(ISBLANK(Vrijwilligersregister!C90)=TRUE,\"\",SUMIF('Nominatieve lijst'!$D$8:$D$10007,C90,'Nominatieve lijst'!$H$8:$H$10007))","v":""},{"$f":"IF(ISBLANK(Vrijwilligersregister!C90)=TRUE,\"\",SUMIF('Nominatieve lijst'!$D$8:$D$10007,C90,'Nominatieve lijst'!$J$8:$J$10007))","v":""},{"$f":"IF(ISBLANK(Vrijwilligersregister!C90)=TRUE,\"\",D90+F90)","v":""},{"$f":"Vrijwilligersregister!L90","v":0}]
[null,85,{"$f":"IF(ISBLANK(Vrijwilligersregister!C91)=TRUE,\"\",Vrijwilligersregister!C91)","v":""},{"$f":"IF(ISBLANK(Vrijwilligersregister!C91)=TRUE,\"\",SUMIF('Nominatieve lijst'!$D$8:$D$10007,C91,'Nominatieve lijst'!$G$8:$G$10007))","v":""},{"$f":"IF(ISBLANK(Vrijwilligersregister!C91)=TRUE,\"\",SUMIF('Nominatieve lijst'!$D$8:$D$10007,C91,'Nominatieve lijst'!$H$8:$H$10007))","v":""},{"$f":"IF(ISBLANK(Vrijwilligersregister!C91)=TRUE,\"\",SUMIF('Nominatieve lijst'!$D$8:$D$10007,C91,'Nominatieve lijst'!$J$8:$J$10007))","v":""},{"$f":"IF(ISBLANK(Vrijwilligersregister!C91)=TRUE,\"\",D91+F91)","v":""},{"$f":"Vrijwilligersregister!L91","v":0}]
[null,86,{"$f":"IF(ISBLANK(Vrijwilligersregister!C92)=TRUE,\"\",Vrijwilligersregister!C92)","v":""},{"$f":"IF(ISBLANK(Vrijwilligersregister!C92)=TRUE,\"\",SUMIF('Nominatieve lijst'!$D$8:$D$10007,C92,'Nominatieve lijst'!$G$8:$G$10007))","v":""},{"$f":"IF(ISBLANK(Vrijwilligersregister!C92)=TRUE,\"\",SUMIF('Nominatieve lijst'!$D$8:$D$10007,C92,'Nominatieve lijst'!$H$8:$H$10007))","v":""},{"$f":"IF(ISBLANK(Vrijwilligersregister!C92)=TRUE,\"\",SUMIF('Nominatieve lijst'!$D$8:$D$10007,C92,'Nominatieve lijst'!$J$8:$J$10007))","v":""},{"$f":"IF(ISBLANK(Vrijwilligersregister!C92)=TRUE,\"\",D92+F92)","v":""},{"$f":"Vrijwilligersregister!L92","v":0}]
[null,87,{"$f":"IF(ISBLANK(Vrijwilligersregister!C93)=TRUE,\"\",Vrijwilligersregister!C93)","v":""},{"$f":"IF(ISBLANK(Vrijwilligersregister!C93)=TRUE,\"\",SUMIF('Nominatieve lijst'!$D$8:$D$10007,C93,'Nominatieve lijst'!$G$8:$G$10007))","v":""},{"$f":"IF(ISBLANK(Vrijwilligersregister!C93)=TRUE,\"\",SUMIF('Nominatieve lijst'!$D$8:$D$10007,C93,'Nominatieve lijst'!$H$8:$H$10007))","v":""},{"$f":"IF(ISBLANK(Vrijwilligersregister!C93)=TRUE,\"\",SUMIF('Nominatieve lijst'!$D$8:$D$10007,C93,'Nominatieve lijst'!$J$8:$J$10007))","v":""},{"$f":"IF(ISBLANK(Vrijwilligersregister!C93)=TRUE,\"\",D93+F93)","v":""},{"$f":"Vrijwilligersregister!L93","v":0}]
[null,88,{"$f":"IF(ISBLANK(Vrijwilligersregister!C94)=TRUE,\"\",Vrijwilligersregister!C94)","v":""},{"$f":"IF(ISBLANK(Vrijwilligersregister!C94)=TRUE,\"\",SUMIF('Nominatieve lijst'!$D$8:$D$10007,C94,'Nominatieve lijst'!$G$8:$G$10007))","v":""},{"$f":"IF(ISBLANK(Vrijwilligersregister!C94)=TRUE,\"\",SUMIF('Nominatieve lijst'!$D$8:$D$10007,C94,'Nominatieve lijst'!$H$8:$H$10007))","v":""},{"$f":"IF(ISBLANK(Vrijwilligersregister!C94)=TRUE,\"\",SUMIF('Nominatieve lijst'!$D$8:$D$10007,C94,'Nominatieve lijst'!$J$8:$J$10007))","v":""},{"$f":"IF(ISBLANK(Vrijwilligersregister!C94)=TRUE,\"\",D94+F94)","v":""},{"$f":"Vrijwilligersregister!L94","v":0}]
[null,89,{"$f":"IF(ISBLANK(Vrijwilligersregister!C95)=TRUE,\"\",Vrijwilligersregister!C95)","v":""},{"$f":"IF(ISBLANK(Vrijwilligersregister!C95)=TRUE,\"\",SUMIF('Nominatieve lijst'!$D$8:$D$10007,C95,'Nominatieve lijst'!$G$8:$G$10007))","v":""},{"$f":"IF(ISBLANK(Vrijwilligersregister!C95)=TRUE,\"\",SUMIF('Nominatieve lijst'!$D$8:$D$10007,C95,'Nominatieve lijst'!$H$8:$H$10007))","v":""},{"$f":"IF(ISBLANK(Vrijwilligersregister!C95)=TRUE,\"\",SUMIF('Nominatieve lijst'!$D$8:$D$10007,C95,'Nominatieve lijst'!$J$8:$J$10007))","v":""},{"$f":"IF(ISBLANK(Vrijwilligersregister!C95)=TRUE,\"\",D95+F95)","v":""},{"$f":"Vrijwilligersregister!L95","v":0}]
[null,90,{"$f":"IF(ISBLANK(Vrijwilligersregister!C96)=TRUE,\"\",Vrijwilligersregister!C96)","v":""},{"$f":"IF(ISBLANK(Vrijwilligersregister!C96)=TRUE,\"\",SUMIF('Nominatieve lijst'!$D$8:$D$10007,C96,'Nominatieve lijst'!$G$8:$G$10007))","v":""},{"$f":"IF(ISBLANK(Vrijwilligersregister!C96)=TRUE,\"\",SUMIF('Nominatieve lijst'!$D$8:$D$10007,C96,'Nominatieve lijst'!$H$8:$H$10007))","v":""},{"$f":"IF(ISBLANK(Vrijwilligersregister!C96)=TRUE,\"\",SUMIF('Nominatieve lijst'!$D$8:$D$10007,C96,'Nominatieve lijst'!$J$8:$J$10007))","v":""},{"$f":"IF(ISBLANK(Vrijwilligersregister!C96)=TRUE,\"\",D96+F96)","v":""},{"$f":"Vrijwilligersregister!L96","v":0}]
[null,91,{"$f":"IF(ISBLANK(Vrijwilligersregister!C97)=TRUE,\"\",Vrijwilligersregister!C97)","v":""},{"$f":"IF(ISBLANK(Vrijwilligersregister!C97)=TRUE,\"\",SUMIF('Nominatieve lijst'!$D$8:$D$10007,C97,'Nominatieve lijst'!$G$8:$G$10007))","v":""},{"$f":"IF(ISBLANK(Vrijwilligersregister!C97)=TRUE,\"\",SUMIF('Nominatieve lijst'!$D$8:$D$10007,C97,'Nominatieve lijst'!$H$8:$H$10007))","v":""},{"$f":"IF(ISBLANK(Vrijwilligersregister!C97)=TRUE,\"\",SUMIF('Nominatieve lijst'!$D$8:$D$10007,C97,'Nominatieve lijst'!$J$8:$J$10007))","v":""},{"$f":"IF(ISBLANK(Vrijwilligersregister!C97)=TRUE,\"\",D97+F97)","v":""},{"$f":"Vrijwilligersregister!L97","v":0}]
[null,92,{"$f":"IF(ISBLANK(Vrijwilligersregister!C98)=TRUE,\"\",Vrijwilligersregister!C98)","v":""},{"$f":"IF(ISBLANK(Vrijwilligersregister!C98)=TRUE,\"\",SUMIF('Nominatieve lijst'!$D$8:$D$10007,C98,'Nominatieve lijst'!$G$8:$G$10007))","v":""},{"$f":"IF(ISBLANK(Vrijwilligersregister!C98)=TRUE,\"\",SUMIF('Nominatieve lijst'!$D$8:$D$10007,C98,'Nominatieve lijst'!$H$8:$H$10007))","v":""},{"$f":"IF(ISBLANK(Vrijwilligersregister!C98)=TRUE,\"\",SUMIF('Nominatieve lijst'!$D$8:$D$10007,C98,'Nominatieve lijst'!$J$8:$J$10007))","v":""},{"$f":"IF(ISBLANK(Vrijwilligersregister!C98)=TRUE,\"\",D98+F98)","v":""},{"$f":"Vrijwilligersregister!L98","v":0}]
[null,93,{"$f":"IF(ISBLANK(Vrijwilligersregister!C99)=TRUE,\"\",Vrijwilligersregister!C99)","v":""},{"$f":"IF(ISBLANK(Vrijwilligersregister!C99)=TRUE,\"\",SUMIF('Nominatieve lijst'!$D$8:$D$10007,C99,'Nominatieve lijst'!$G$8:$G$10007))","v":""},{"$f":"IF(ISBLANK(Vrijwilligersregister!C99)=TRUE,\"\",SUMIF('Nominatieve lijst'!$D$8:$D$10007,C99,'Nominatieve lijst'!$H$8:$H$10007))","v":""},{"$f":"IF(ISBLANK(Vrijwilligersregister!C99)=TRUE,\"\",SUMIF('Nominatieve lijst'!$D$8:$D$10007,C99,'Nominatieve lijst'!$J$8:$J$10007))","v":""},{"$f":"IF(ISBLANK(Vrijwilligersregister!C99)=TRUE,\"\",D99+F99)","v":""},{"$f":"Vrijwilligersregister!L99","v":0}]
[null,94,{"$f":"IF(ISBLANK(Vrijwilligersregister!C100)=TRUE,\"\",Vrijwilligersregister!C100)","v":""},{"$f":"IF(ISBLANK(Vrijwilligersregister!C100)=TRUE,\"\",SUMIF('Nominatieve lijst'!$D$8:$D$10007,C100,'Nominatieve lijst'!$G$8:$G$10007))","v":""},{"$f":"IF(ISBLANK(Vrijwilligersregister!C100)=TRUE,\"\",SUMIF('Nominatieve lijst'!$D$8:$D$10007,C100,'Nominatieve lijst'!$H$8:$H$10007))","v":""},{"$f":"IF(ISBLANK(Vrijwilligersregister!C100)=TRUE,\"\",SUMIF('Nominatieve lijst'!$D$8:$D$10007,C100,'Nominatieve lijst'!$J$8:$J$10007))","v":""},{"$f":"IF(ISBLANK(Vrijwilligersregister!C100)=TRUE,\"\",D100+F100)","v":""},{"$f":"Vrijwilligersregister!L100","v":0}]
[null,95,{"$f":"IF(ISBLANK(Vrijwilligersregister!C101)=TRUE,\"\",Vrijwilligersregister!C101)","v":""},{"$f":"IF(ISBLANK(Vrijwilligersregister!C101)=TRUE,\"\",SUMIF('Nominatieve lijst'!$D$8:$D$10007,C101,'Nominatieve lijst'!$G$8:$G$10007))","v":""},{"$f":"IF(ISBLANK(Vrijwilligersregister!C101)=TRUE,\"\",SUMIF('Nominatieve lijst'!$D$8:$D$10007,C101,'Nominatieve lijst'!$H$8:$H$10007))","v":""},{"$f":"IF(ISBLANK(Vrijwilligersregister!C101)=TRUE,\"\",SUMIF('Nominatieve lijst'!$D$8:$D$10007,C101,'Nominatieve lijst'!$J$8:$J$10007))","v":""},{"$f":"IF(ISBLANK(Vrijwilligersregister!C101)=TRUE,\"\",D101+F101)","v":""},{"$f":"Vrijwilligersregister!L101","v":0}]
[null,96,{"$f":"IF(ISBLANK(Vrijwilligersregister!C102)=TRUE,\"\",Vrijwilligersregister!C102)","v":""},{"$f":"IF(ISBLANK(Vrijwilligersregister!C102)=TRUE,\"\",SUMIF('Nominatieve lijst'!$D$8:$D$10007,C102,'Nominatieve lijst'!$G$8:$G$10007))","v":""},{"$f":"IF(ISBLANK(Vrijwilligersregister!C102)=TRUE,\"\",SUMIF('Nominatieve lijst'!$D$8:$D$10007,C102,'Nominatieve lijst'!$H$8:$H$10007))","v":""},{"$f":"IF(ISBLANK(Vrijwilligersregister!C102)=TRUE,\"\",SUMIF('Nominatieve lijst'!$D$8:$D$10007,C102,'Nominatieve lijst'!$J$8:$J$10007))","v":""},{"$f":"IF(ISBLANK(Vrijwilligersregister!C102)=TRUE,\"\",D102+F102)","v":""},{"$f":"Vrijwilligersregister!L102","v":0}]
[null,97,{"$f":"IF(ISBLANK(Vrijwilligersregister!C103)=TRUE,\"\",Vrijwilligersregister!C103)","v":""},{"$f":"IF(ISBLANK(Vrijwilligersregister!C103)=TRUE,\"\",SUMIF('Nominatieve lijst'!$D$8:$D$10007,C103,'Nominatieve lijst'!$G$8:$G$10007))","v":""},{"$f":"IF(ISBLANK(Vrijwilligersregister!C103)=TRUE,\"\",SUMIF('Nominatieve lijst'!$D$8:$D$10007,C103,'Nominatieve lijst'!$H$8:$H$10007))","v":""},{"$f":"IF(ISBLANK(Vrijwilligersregister!C103)=TRUE,\"\",SUMIF('Nominatieve lijst'!$D$8:$D$10007,C103,'Nominatieve lijst'!$J$8:$J$10007))","v":""},{"$f":"IF(ISBLANK(Vrijwilligersregister!C103)=TRUE,\"\",D103+F103)","v":""},{"$f":"Vrijwilligersregister!L103","v":0}]
[null,98,{"$f":"IF(ISBLANK(Vrijwilligersregister!C104)=TRUE,\"\",Vrijwilligersregister!C104)","v":""},{"$f":"IF(ISBLANK(Vrijwilligersregister!C104)=TRUE,\"\",SUMIF('Nominatieve lijst'!$D$8:$D$10007,C104,'Nominatieve lijst'!$G$8:$G$10007))","v":""},{"$f":"IF(ISBLANK(Vrijwilligersregister!C104)=TRUE,\"\",SUMIF('Nominatieve lijst'!$D$8:$D$10007,C104,'Nominatieve lijst'!$H$8:$H$10007))","v":""},{"$f":"IF(ISBLANK(Vrijwilligersregister!C104)=TRUE,\"\",SUMIF('Nominatieve lijst'!$D$8:$D$10007,C104,'Nominatieve lijst'!$J$8:$J$10007))","v":""},{"$f":"IF(ISBLANK(Vrijwilligersregister!C104)=TRUE,\"\",D104+F104)","v":""},{"$f":"Vrijwilligersregister!L104","v":0}]
[null,99,{"$f":"IF(ISBLANK(Vrijwilligersregister!C105)=TRUE,\"\",Vrijwilligersregister!C105)","v":""},{"$f":"IF(ISBLANK(Vrijwilligersregister!C105)=TRUE,\"\",SUMIF('Nominatieve lijst'!$D$8:$D$10007,C105,'Nominatieve lijst'!$G$8:$G$10007))","v":""},{"$f":"IF(ISBLANK(Vrijwilligersregister!C105)=TRUE,\"\",SUMIF('Nominatieve lijst'!$D$8:$D$10007,C105,'Nominatieve lijst'!$H$8:$H$10007))","v":""},{"$f":"IF(ISBLANK(Vrijwilligersregister!C105)=TRUE,\"\",SUMIF('Nominatieve lijst'!$D$8:$D$10007,C105,'Nominatieve lijst'!$J$8:$J$10007))","v":""},{"$f":"IF(ISBLANK(Vrijwilligersregister!C105)=TRUE,\"\",D105+F105)","v":""},{"$f":"Vrijwilligersregister!L105","v":0}]
[null,100,{"$f":"IF(ISBLANK(Vrijwilligersregister!C106)=TRUE,\"\",Vrijwilligersregister!C106)","v":""},{"$f":"IF(ISBLANK(Vrijwilligersregister!C106)=TRUE,\"\",SUMIF('Nominatieve lijst'!$D$8:$D$10007,C106,'Nominatieve lijst'!$G$8:$G$10007))","v":""},{"$f":"IF(ISBLANK(Vrijwilligersregister!C106)=TRUE,\"\",SUMIF('Nominatieve lijst'!$D$8:$D$10007,C106,'Nominatieve lijst'!$H$8:$H$10007))","v":""},{"$f":"IF(ISBLANK(Vrijwilligersregister!C106)=TRUE,\"\",SUMIF('Nominatieve lijst'!$D$8:$D$10007,C106,'Nominatieve lijst'!$J$8:$J$10007))","v":""},{"$f":"IF(ISBLANK(Vrijwilligersregister!C106)=TRUE,\"\",D106+F106)","v":""},{"$f":"Vrijwilligersregister!L106","v":0}]
[null,101,{"$f":"IF(ISBLANK(Vrijwilligersregister!C107)=TRUE,\"\",Vrijwilligersregister!C107)","v":""},{"$f":"IF(ISBLANK(Vrijwilligersregister!C107)=TRUE,\"\",SUMIF('Nominatieve lijst'!$D$8:$D$10007,C107,'Nominatieve lijst'!$G$8:$G$10007))","v":""},{"$f":"IF(ISBLANK(Vrijwilligersregister!C107)=TRUE,\"\",SUMIF('Nominatieve lijst'!$D$8:$D$10007,C107,'Nominatieve lijst'!$H$8:$H$10007))","v":""},{"$f":"IF(ISBLANK(Vrijwilligersregister!C107)=TRUE,\"\",SUMIF('Nominatieve lijst'!$D$8:$D$10007,C107,'Nominatieve lijst'!$J$8:$J$10007))","v":""},{"$f":"IF(ISBLANK(Vrijwilligersregister!C107)=TRUE,\"\",D107+F107)","v":""},{"$f":"Vrijwilligersregister!L107","v":0}]
[null,102,{"$f":"IF(ISBLANK(Vrijwilligersregister!C108)=TRUE,\"\",Vrijwilligersregister!C108)","v":""},{"$f":"IF(ISBLANK(Vrijwilligersregister!C108)=TRUE,\"\",SUMIF('Nominatieve lijst'!$D$8:$D$10007,C108,'Nominatieve lijst'!$G$8:$G$10007))","v":""},{"$f":"IF(ISBLANK(Vrijwilligersregister!C108)=TRUE,\"\",SUMIF('Nominatieve lijst'!$D$8:$D$10007,C108,'Nominatieve lijst'!$H$8:$H$10007))","v":""},{"$f":"IF(ISBLANK(Vrijwilligersregister!C108)=TRUE,\"\",SUMIF('Nominatieve lijst'!$D$8:$D$10007,C108,'Nominatieve lijst'!$J$8:$J$10007))","v":""},{"$f":"IF(ISBLANK(Vrijwilligersregister!C108)=TRUE,\"\",D108+F108)","v":""},{"$f":"Vrijwilligersregister!L108","v":0}]
[null,103,{"$f":"IF(ISBLANK(Vrijwilligersregister!C109)=TRUE,\"\",Vrijwilligersregister!C109)","v":""},{"$f":"IF(ISBLANK(Vrijwilligersregister!C109)=TRUE,\"\",SUMIF('Nominatieve lijst'!$D$8:$D$10007,C109,'Nominatieve lijst'!$G$8:$G$10007))","v":""},{"$f":"IF(ISBLANK(Vrijwilligersregister!C109)=TRUE,\"\",SUMIF('Nominatieve lijst'!$D$8:$D$10007,C109,'Nominatieve lijst'!$H$8:$H$10007))","v":""},{"$f":"IF(ISBLANK(Vrijwilligersregister!C109)=TRUE,\"\",SUMIF('Nominatieve lijst'!$D$8:$D$10007,C109,'Nominatieve lijst'!$J$8:$J$10007))","v":""},{"$f":"IF(ISBLANK(Vrijwilligersregister!C109)=TRUE,\"\",D109+F109)","v":""},{"$f":"Vrijwilligersregister!L109","v":0}]
[null,104,{"$f":"IF(ISBLANK(Vrijwilligersregister!C110)=TRUE,\"\",Vrijwilligersregister!C110)","v":""},{"$f":"IF(ISBLANK(Vrijwilligersregister!C110)=TRUE,\"\",SUMIF('Nominatieve lijst'!$D$8:$D$10007,C110,'Nominatieve lijst'!$G$8:$G$10007))","v":""},{"$f":"IF(ISBLANK(Vrijwilligersregister!C110)=TRUE,\"\",SUMIF('Nominatieve lijst'!$D$8:$D$10007,C110,'Nominatieve lijst'!$H$8:$H$10007))","v":""},{"$f":"IF(ISBLANK(Vrijwilligersregister!C110)=TRUE,\"\",SUMIF('Nominatieve lijst'!$D$8:$D$10007,C110,'Nominatieve lijst'!$J$8:$J$10007))","v":""},{"$f":"IF(ISBLANK(Vrijwilligersregister!C110)=TRUE,\"\",D110+F110)","v":""},{"$f":"Vrijwilligersregister!L110","v":0}]
[null,105,{"$f":"IF(ISBLANK(Vrijwilligersregister!C111)=TRUE,\"\",Vrijwilligersregister!C111)","v":""},{"$f":"IF(ISBLANK(Vrijwilligersregister!C111)=TRUE,\"\",SUMIF('Nominatieve lijst'!$D$8:$D$10007,C111,'Nominatieve lijst'!$G$8:$G$10007))","v":""},{"$f":"IF(ISBLANK(Vrijwilligersregister!C111)=TRUE,\"\",SUMIF('Nominatieve lijst'!$D$8:$D$10007,C111,'Nominatieve lijst'!$H$8:$H$10007))","v":""},{"$f":"IF(ISBLANK(Vrijwilligersregister!C111)=TRUE,\"\",SUMIF('Nominatieve lijst'!$D$8:$D$10007,C111,'Nominatieve lijst'!$J$8:$J$10007))","v":""},{"$f":"IF(ISBLANK(Vrijwilligersregister!C111)=TRUE,\"\",D111+F111)","v":""},{"$f":"Vrijwilligersregister!L111","v":0}]
[null,106,{"$f":"IF(ISBLANK(Vrijwilligersregister!C112)=TRUE,\"\",Vrijwilligersregister!C112)","v":""},{"$f":"IF(ISBLANK(Vrijwilligersregister!C112)=TRUE,\"\",SUMIF('Nominatieve lijst'!$D$8:$D$10007,C112,'Nominatieve lijst'!$G$8:$G$10007))","v":""},{"$f":"IF(ISBLANK(Vrijwilligersregister!C112)=TRUE,\"\",SUMIF('Nominatieve lijst'!$D$8:$D$10007,C112,'Nominatieve lijst'!$H$8:$H$10007))","v":""},{"$f":"IF(ISBLANK(Vrijwilligersregister!C112)=TRUE,\"\",SUMIF('Nominatieve lijst'!$D$8:$D$10007,C112,'Nominatieve lijst'!$J$8:$J$10007))","v":""},{"$f":"IF(ISBLANK(Vrijwilligersregister!C112)=TRUE,\"\",D112+F112)","v":""},{"$f":"Vrijwilligersregister!L112","v":0}]
[null,107,{"$f":"IF(ISBLANK(Vrijwilligersregister!C113)=TRUE,\"\",Vrijwilligersregister!C113)","v":""},{"$f":"IF(ISBLANK(Vrijwilligersregister!C113)=TRUE,\"\",SUMIF('Nominatieve lijst'!$D$8:$D$10007,C113,'Nominatieve lijst'!$G$8:$G$10007))","v":""},{"$f":"IF(ISBLANK(Vrijwilligersregister!C113)=TRUE,\"\",SUMIF('Nominatieve lijst'!$D$8:$D$10007,C113,'Nominatieve lijst'!$H$8:$H$10007))","v":""},{"$f":"IF(ISBLANK(Vrijwilligersregister!C113)=TRUE,\"\",SUMIF('Nominatieve lijst'!$D$8:$D$10007,C113,'Nominatieve lijst'!$J$8:$J$10007))","v":""},{"$f":"IF(ISBLANK(Vrijwilligersregister!C113)=TRUE,\"\",D113+F113)","v":""},{"$f":"Vrijwilligersregister!L113","v":0}]
[null,108,{"$f":"IF(ISBLANK(Vrijwilligersregister!C114)=TRUE,\"\",Vrijwilligersregister!C114)","v":""},{"$f":"IF(ISBLANK(Vrijwilligersregister!C114)=TRUE,\"\",SUMIF('Nominatieve lijst'!$D$8:$D$10007,C114,'Nominatieve lijst'!$G$8:$G$10007))","v":""},{"$f":"IF(ISBLANK(Vrijwilligersregister!C114)=TRUE,\"\",SUMIF('Nominatieve lijst'!$D$8:$D$10007,C114,'Nominatieve lijst'!$H$8:$H$10007))","v":""},{"$f":"IF(ISBLANK(Vrijwilligersregister!C114)=TRUE,\"\",SUMIF('Nominatieve lijst'!$D$8:$D$10007,C114,'Nominatieve lijst'!$J$8:$J$10007))","v":""},{"$f":"IF(ISBLANK(Vrijwilligersregister!C114)=TRUE,\"\",D114+F114)","v":""},{"$f":"Vrijwilligersregister!L114","v":0}]
[null,109,{"$f":"IF(ISBLANK(Vrijwilligersregister!C115)=TRUE,\"\",Vrijwilligersregister!C115)","v":""},{"$f":"IF(ISBLANK(Vrijwilligersregister!C115)=TRUE,\"\",SUMIF('Nominatieve lijst'!$D$8:$D$10007,C115,'Nominatieve lijst'!$G$8:$G$10007))","v":""},{"$f":"IF(ISBLANK(Vrijwilligersregister!C115)=TRUE,\"\",SUMIF('Nominatieve lijst'!$D$8:$D$10007,C115,'Nominatieve lijst'!$H$8:$H$10007))","v":""},{"$f":"IF(ISBLANK(Vrijwilligersregister!C115)=TRUE,\"\",SUMIF('Nominatieve lijst'!$D$8:$D$10007,C115,'Nominatieve lijst'!$J$8:$J$10007))","v":""},{"$f":"IF(ISBLANK(Vrijwilligersregister!C115)=TRUE,\"\",D115+F115)","v":""},{"$f":"Vrijwilligersregister!L115","v":0}]
[null,110,{"$f":"IF(ISBLANK(Vrijwilligersregister!C116)=TRUE,\"\",Vrijwilligersregister!C116)","v":""},{"$f":"IF(ISBLANK(Vrijwilligersregister!C116)=TRUE,\"\",SUMIF('Nominatieve lijst'!$D$8:$D$10007,C116,'Nominatieve lijst'!$G$8:$G$10007))","v":""},{"$f":"IF(ISBLANK(Vrijwilligersregister!C116)=TRUE,\"\",SUMIF('Nominatieve lijst'!$D$8:$D$10007,C116,'Nominatieve lijst'!$H$8:$H$10007))","v":""},{"$f":"IF(ISBLANK(Vrijwilligersregister!C116)=TRUE,\"\",SUMIF('Nominatieve lijst'!$D$8:$D$10007,C116,'Nominatieve lijst'!$J$8:$J$10007))","v":""},{"$f":"IF(ISBLANK(Vrijwilligersregister!C116)=TRUE,\"\",D116+F116)","v":""},{"$f":"Vrijwilligersregister!L116","v":0}]
[null,111,{"$f":"IF(ISBLANK(Vrijwilligersregister!C117)=TRUE,\"\",Vrijwilligersregister!C117)","v":""},{"$f":"IF(ISBLANK(Vrijwilligersregister!C117)=TRUE,\"\",SUMIF('Nominatieve lijst'!$D$8:$D$10007,C117,'Nominatieve lijst'!$G$8:$G$10007))","v":""},{"$f":"IF(ISBLANK(Vrijwilligersregister!C117)=TRUE,\"\",SUMIF('Nominatieve lijst'!$D$8:$D$10007,C117,'Nominatieve lijst'!$H$8:$H$10007))","v":""},{"$f":"IF(ISBLANK(Vrijwilligersregister!C117)=TRUE,\"\",SUMIF('Nominatieve lijst'!$D$8:$D$10007,C117,'Nominatieve lijst'!$J$8:$J$10007))","v":""},{"$f":"IF(ISBLANK(Vrijwilligersregister!C117)=TRUE,\"\",D117+F117)","v":""},{"$f":"Vrijwilligersregister!L117","v":0}]
[null,112,{"$f":"IF(ISBLANK(Vrijwilligersregister!C118)=TRUE,\"\",Vrijwilligersregister!C118)","v":""},{"$f":"IF(ISBLANK(Vrijwilligersregister!C118)=TRUE,\"\",SUMIF('Nominatieve lijst'!$D$8:$D$10007,C118,'Nominatieve lijst'!$G$8:$G$10007))","v":""},{"$f":"IF(ISBLANK(Vrijwilligersregister!C118)=TRUE,\"\",SUMIF('Nominatieve lijst'!$D$8:$D$10007,C118,'Nominatieve lijst'!$H$8:$H$10007))","v":""},{"$f":"IF(ISBLANK(Vrijwilligersregister!C118)=TRUE,\"\",SUMIF('Nominatieve lijst'!$D$8:$D$10007,C118,'Nominatieve lijst'!$J$8:$J$10007))","v":""},{"$f":"IF(ISBLANK(Vrijwilligersregister!C118)=TRUE,\"\",D118+F118)","v":""},{"$f":"Vrijwilligersregister!L118","v":0}]
[null,113,{"$f":"IF(ISBLANK(Vrijwilligersregister!C119)=TRUE,\"\",Vrijwilligersregister!C119)","v":""},{"$f":"IF(ISBLANK(Vrijwilligersregister!C119)=TRUE,\"\",SUMIF('Nominatieve lijst'!$D$8:$D$10007,C119,'Nominatieve lijst'!$G$8:$G$10007))","v":""},{"$f":"IF(ISBLANK(Vrijwilligersregister!C119)=TRUE,\"\",SUMIF('Nominatieve lijst'!$D$8:$D$10007,C119,'Nominatieve lijst'!$H$8:$H$10007))","v":""},{"$f":"IF(ISBLANK(Vrijwilligersregister!C119)=TRUE,\"\",SUMIF('Nominatieve lijst'!$D$8:$D$10007,C119,'Nominatieve lijst'!$J$8:$J$10007))","v":""},{"$f":"IF(ISBLANK(Vrijwilligersregister!C119)=TRUE,\"\",D119+F119)","v":""},{"$f":"Vrijwilligersregister!L119","v":0}]
[null,114,{"$f":"IF(ISBLANK(Vrijwilligersregister!C120)=TRUE,\"\",Vrijwilligersregister!C120)","v":""},{"$f":"IF(ISBLANK(Vrijwilligersregister!C120)=TRUE,\"\",SUMIF('Nominatieve lijst'!$D$8:$D$10007,C120,'Nominatieve lijst'!$G$8:$G$10007))","v":""},{"$f":"IF(ISBLANK(Vrijwilligersregister!C120)=TRUE,\"\",SUMIF('Nominatieve lijst'!$D$8:$D$10007,C120,'Nominatieve lijst'!$H$8:$H$10007))","v":""},{"$f":"IF(ISBLANK(Vrijwilligersregister!C120)=TRUE,\"\",SUMIF('Nominatieve lijst'!$D$8:$D$10007,C120,'Nominatieve lijst'!$J$8:$J$10007))","v":""},{"$f":"IF(ISBLANK(Vrijwilligersregister!C120)=TRUE,\"\",D120+F120)","v":""},{"$f":"Vrijwilligersregister!L120","v":0}]
[null,115,{"$f":"IF(ISBLANK(Vrijwilligersregister!C121)=TRUE,\"\",Vrijwilligersregister!C121)","v":""},{"$f":"IF(ISBLANK(Vrijwilligersregister!C121)=TRUE,\"\",SUMIF('Nominatieve lijst'!$D$8:$D$10007,C121,'Nominatieve lijst'!$G$8:$G$10007))","v":""},{"$f":"IF(ISBLANK(Vrijwilligersregister!C121)=TRUE,\"\",SUMIF('Nominatieve lijst'!$D$8:$D$10007,C121,'Nominatieve lijst'!$H$8:$H$10007))","v":""},{"$f":"IF(ISBLANK(Vrijwilligersregister!C121)=TRUE,\"\",SUMIF('Nominatieve lijst'!$D$8:$D$10007,C121,'Nominatieve lijst'!$J$8:$J$10007))","v":""},{"$f":"IF(ISBLANK(Vrijwilligersregister!C121)=TRUE,\"\",D121+F121)","v":""},{"$f":"Vrijwilligersregister!L121","v":0}]
[null,116,{"$f":"IF(ISBLANK(Vrijwilligersregister!C122)=TRUE,\"\",Vrijwilligersregister!C122)","v":""},{"$f":"IF(ISBLANK(Vrijwilligersregister!C122)=TRUE,\"\",SUMIF('Nominatieve lijst'!$D$8:$D$10007,C122,'Nominatieve lijst'!$G$8:$G$10007))","v":""},{"$f":"IF(ISBLANK(Vrijwilligersregister!C122)=TRUE,\"\",SUMIF('Nominatieve lijst'!$D$8:$D$10007,C122,'Nominatieve lijst'!$H$8:$H$10007))","v":""},{"$f":"IF(ISBLANK(Vrijwilligersregister!C122)=TRUE,\"\",SUMIF('Nominatieve lijst'!$D$8:$D$10007,C122,'Nominatieve lijst'!$J$8:$J$10007))","v":""},{"$f":"IF(ISBLANK(Vrijwilligersregister!C122)=TRUE,\"\",D122+F122)","v":""},{"$f":"Vrijwilligersregister!L122","v":0}]
[null,117,{"$f":"IF(ISBLANK(Vrijwilligersregister!C123)=TRUE,\"\",Vrijwilligersregister!C123)","v":""},{"$f":"IF(ISBLANK(Vrijwilligersregister!C123)=TRUE,\"\",SUMIF('Nominatieve lijst'!$D$8:$D$10007,C123,'Nominatieve lijst'!$G$8:$G$10007))","v":""},{"$f":"IF(ISBLANK(Vrijwilligersregister!C123)=TRUE,\"\",SUMIF('Nominatieve lijst'!$D$8:$D$10007,C123,'Nominatieve lijst'!$H$8:$H$10007))","v":""},{"$f":"IF(ISBLANK(Vrijwilligersregister!C123)=TRUE,\"\",SUMIF('Nominatieve lijst'!$D$8:$D$10007,C123,'Nominatieve lijst'!$J$8:$J$10007))","v":""},{"$f":"IF(ISBLANK(Vrijwilligersregister!C123)=TRUE,\"\",D123+F123)","v":""},{"$f":"Vrijwilligersregister!L123","v":0}]
[null,118,{"$f":"IF(ISBLANK(Vrijwilligersregister!C124)=TRUE,\"\",Vrijwilligersregister!C124)","v":""},{"$f":"IF(ISBLANK(Vrijwilligersregister!C124)=TRUE,\"\",SUMIF('Nominatieve lijst'!$D$8:$D$10007,C124,'Nominatieve lijst'!$G$8:$G$10007))","v":""},{"$f":"IF(ISBLANK(Vrijwilligersregister!C124)=TRUE,\"\",SUMIF('Nominatieve lijst'!$D$8:$D$10007,C124,'Nominatieve lijst'!$H$8:$H$10007))","v":""},{"$f":"IF(ISBLANK(Vrijwilligersregister!C124)=TRUE,\"\",SUMIF('Nominatieve lijst'!$D$8:$D$10007,C124,'Nominatieve lijst'!$J$8:$J$10007))","v":""},{"$f":"IF(ISBLANK(Vrijwilligersregister!C124)=TRUE,\"\",D124+F124)","v":""},{"$f":"Vrijwilligersregister!L124","v":0}]
[null,119,{"$f":"IF(ISBLANK(Vrijwilligersregister!C125)=TRUE,\"\",Vrijwilligersregister!C125)","v":""},{"$f":"IF(ISBLANK(Vrijwilligersregister!C125)=TRUE,\"\",SUMIF('Nominatieve lijst'!$D$8:$D$10007,C125,'Nominatieve lijst'!$G$8:$G$10007))","v":""},{"$f":"IF(ISBLANK(Vrijwilligersregister!C125)=TRUE,\"\",SUMIF('Nominatieve lijst'!$D$8:$D$10007,C125,'Nominatieve lijst'!$H$8:$H$10007))","v":""},{"$f":"IF(ISBLANK(Vrijwilligersregister!C125)=TRUE,\"\",SUMIF('Nominatieve lijst'!$D$8:$D$10007,C125,'Nominatieve lijst'!$J$8:$J$10007))","v":""},{"$f":"IF(ISBLANK(Vrijwilligersregister!C125)=TRUE,\"\",D125+F125)","v":""},{"$f":"Vrijwilligersregister!L125","v":0}]
[null,120,{"$f":"IF(ISBLANK(Vrijwilligersregister!C126)=TRUE,\"\",Vrijwilligersregister!C126)","v":""},{"$f":"IF(ISBLANK(Vrijwilligersregister!C126)=TRUE,\"\",SUMIF('Nominatieve lijst'!$D$8:$D$10007,C126,'Nominatieve lijst'!$G$8:$G$10007))","v":""},{"$f":"IF(ISBLANK(Vrijwilligersregister!C126)=TRUE,\"\",SUMIF('Nominatieve lijst'!$D$8:$D$10007,C126,'Nominatieve lijst'!$H$8:$H$10007))","v":""},{"$f":"IF(ISBLANK(Vrijwilligersregister!C126)=TRUE,\"\",SUMIF('Nominatieve lijst'!$D$8:$D$10007,C126,'Nominatieve lijst'!$J$8:$J$10007))","v":""},{"$f":"IF(ISBLANK(Vrijwilligersregister!C126)=TRUE,\"\",D126+F126)","v":""},{"$f":"Vrijwilligersregister!L126","v":0}]
[null,121,{"$f":"IF(ISBLANK(Vrijwilligersregister!C127)=TRUE,\"\",Vrijwilligersregister!C127)","v":""},{"$f":"IF(ISBLANK(Vrijwilligersregister!C127)=TRUE,\"\",SUMIF('Nominatieve lijst'!$D$8:$D$10007,C127,'Nominatieve lijst'!$G$8:$G$10007))","v":""},{"$f":"IF(ISBLANK(Vrijwilligersregister!C127)=TRUE,\"\",SUMIF('Nominatieve lijst'!$D$8:$D$10007,C127,'Nominatieve lijst'!$H$8:$H$10007))","v":""},{"$f":"IF(ISBLANK(Vrijwilligersregister!C127)=TRUE,\"\",SUMIF('Nominatieve lijst'!$D$8:$D$10007,C127,'Nominatieve lijst'!$J$8:$J$10007))","v":""},{"$f":"IF(ISBLANK(Vrijwilligersregister!C127)=TRUE,\"\",D127+F127)","v":""},{"$f":"Vrijwilligersregister!L127","v":0}]
[null,122,{"$f":"IF(ISBLANK(Vrijwilligersregister!C128)=TRUE,\"\",Vrijwilligersregister!C128)","v":""},{"$f":"IF(ISBLANK(Vrijwilligersregister!C128)=TRUE,\"\",SUMIF('Nominatieve lijst'!$D$8:$D$10007,C128,'Nominatieve lijst'!$G$8:$G$10007))","v":""},{"$f":"IF(ISBLANK(Vrijwilligersregister!C128)=TRUE,\"\",SUMIF('Nominatieve lijst'!$D$8:$D$10007,C128,'Nominatieve lijst'!$H$8:$H$10007))","v":""},{"$f":"IF(ISBLANK(Vrijwilligersregister!C128)=TRUE,\"\",SUMIF('Nominatieve lijst'!$D$8:$D$10007,C128,'Nominatieve lijst'!$J$8:$J$10007))","v":""},{"$f":"IF(ISBLANK(Vrijwilligersregister!C128)=TRUE,\"\",D128+F128)","v":""},{"$f":"Vrijwilligersregister!L128","v":0}]
[null,123,{"$f":"IF(ISBLANK(Vrijwilligersregister!C129)=TRUE,\"\",Vrijwilligersregister!C129)","v":""},{"$f":"IF(ISBLANK(Vrijwilligersregister!C129)=TRUE,\"\",SUMIF('Nominatieve lijst'!$D$8:$D$10007,C129,'Nominatieve lijst'!$G$8:$G$10007))","v":""},{"$f":"IF(ISBLANK(Vrijwilligersregister!C129)=TRUE,\"\",SUMIF('Nominatieve lijst'!$D$8:$D$10007,C129,'Nominatieve lijst'!$H$8:$H$10007))","v":""},{"$f":"IF(ISBLANK(Vrijwilligersregister!C129)=TRUE,\"\",SUMIF('Nominatieve lijst'!$D$8:$D$10007,C129,'Nominatieve lijst'!$J$8:$J$10007))","v":""},{"$f":"IF(ISBLANK(Vrijwilligersregister!C129)=TRUE,\"\",D129+F129)","v":""},{"$f":"Vrijwilligersregister!L129","v":0}]
[null,124,{"$f":"IF(ISBLANK(Vrijwilligersregister!C130)=TRUE,\"\",Vrijwilligersregister!C130)","v":""},{"$f":"IF(ISBLANK(Vrijwilligersregister!C130)=TRUE,\"\",SUMIF('Nominatieve lijst'!$D$8:$D$10007,C130,'Nominatieve lijst'!$G$8:$G$10007))","v":""},{"$f":"IF(ISBLANK(Vrijwilligersregister!C130)=TRUE,\"\",SUMIF('Nominatieve lijst'!$D$8:$D$10007,C130,'Nominatieve lijst'!$H$8:$H$10007))","v":""},{"$f":"IF(ISBLANK(Vrijwilligersregister!C130)=TRUE,\"\",SUMIF('Nominatieve lijst'!$D$8:$D$10007,C130,'Nominatieve lijst'!$J$8:$J$10007))","v":""},{"$f":"IF(ISBLANK(Vrijwilligersregister!C130)=TRUE,\"\",D130+F130)","v":""},{"$f":"Vrijwilligersregister!L130","v":0}]
[null,125,{"$f":"IF(ISBLANK(Vrijwilligersregister!C131)=TRUE,\"\",Vrijwilligersregister!C131)","v":""},{"$f":"IF(ISBLANK(Vrijwilligersregister!C131)=TRUE,\"\",SUMIF('Nominatieve lijst'!$D$8:$D$10007,C131,'Nominatieve lijst'!$G$8:$G$10007))","v":""},{"$f":"IF(ISBLANK(Vrijwilligersregister!C131)=TRUE,\"\",SUMIF('Nominatieve lijst'!$D$8:$D$10007,C131,'Nominatieve lijst'!$H$8:$H$10007))","v":""},{"$f":"IF(ISBLANK(Vrijwilligersregister!C131)=TRUE,\"\",SUMIF('Nominatieve lijst'!$D$8:$D$10007,C131,'Nominatieve lijst'!$J$8:$J$10007))","v":""},{"$f":"IF(ISBLANK(Vrijwilligersregister!C131)=TRUE,\"\",D131+F131)","v":""},{"$f":"Vrijwilligersregister!L131","v":0}]
[null,126,{"$f":"IF(ISBLANK(Vrijwilligersregister!C132)=TRUE,\"\",Vrijwilligersregister!C132)","v":""},{"$f":"IF(ISBLANK(Vrijwilligersregister!C132)=TRUE,\"\",SUMIF('Nominatieve lijst'!$D$8:$D$10007,C132,'Nominatieve lijst'!$G$8:$G$10007))","v":""},{"$f":"IF(ISBLANK(Vrijwilligersregister!C132)=TRUE,\"\",SUMIF('Nominatieve lijst'!$D$8:$D$10007,C132,'Nominatieve lijst'!$H$8:$H$10007))","v":""},{"$f":"IF(ISBLANK(Vrijwilligersregister!C132)=TRUE,\"\",SUMIF('Nominatieve lijst'!$D$8:$D$10007,C132,'Nominatieve lijst'!$J$8:$J$10007))","v":""},{"$f":"IF(ISBLANK(Vrijwilligersregister!C132)=TRUE,\"\",D132+F132)","v":""},{"$f":"Vrijwilligersregister!L132","v":0}]
[null,127,{"$f":"IF(ISBLANK(Vrijwilligersregister!C133)=TRUE,\"\",Vrijwilligersregister!C133)","v":""},{"$f":"IF(ISBLANK(Vrijwilligersregister!C133)=TRUE,\"\",SUMIF('Nominatieve lijst'!$D$8:$D$10007,C133,'Nominatieve lijst'!$G$8:$G$10007))","v":""},{"$f":"IF(ISBLANK(Vrijwilligersregister!C133)=TRUE,\"\",SUMIF('Nominatieve lijst'!$D$8:$D$10007,C133,'Nominatieve lijst'!$H$8:$H$10007))","v":""},{"$f":"IF(ISBLANK(Vrijwilligersregister!C133)=TRUE,\"\",SUMIF('Nominatieve lijst'!$D$8:$D$10007,C133,'Nominatieve lijst'!$J$8:$J$10007))","v":""},{"$f":"IF(ISBLANK(Vrijwilligersregister!C133)=TRUE,\"\",D133+F133)","v":""},{"$f":"Vrijwilligersregister!L133","v":0}]
[null,128,{"$f":"IF(ISBLANK(Vrijwilligersregister!C134)=TRUE,\"\",Vrijwilligersregister!C134)","v":""},{"$f":"IF(ISBLANK(Vrijwilligersregister!C134)=TRUE,\"\",SUMIF('Nominatieve lijst'!$D$8:$D$10007,C134,'Nominatieve lijst'!$G$8:$G$10007))","v":""},{"$f":"IF(ISBLANK(Vrijwilligersregister!C134)=TRUE,\"\",SUMIF('Nominatieve lijst'!$D$8:$D$10007,C134,'Nominatieve lijst'!$H$8:$H$10007))","v":""},{"$f":"IF(ISBLANK(Vrijwilligersregister!C134)=TRUE,\"\",SUMIF('Nominatieve lijst'!$D$8:$D$10007,C134,'Nominatieve lijst'!$J$8:$J$10007))","v":""},{"$f":"IF(ISBLANK(Vrijwilligersregister!C134)=TRUE,\"\",D134+F134)","v":""},{"$f":"Vrijwilligersregister!L134","v":0}]
[null,129,{"$f":"IF(ISBLANK(Vrijwilligersregister!C135)=TRUE,\"\",Vrijwilligersregister!C135)","v":""},{"$f":"IF(ISBLANK(Vrijwilligersregister!C135)=TRUE,\"\",SUMIF('Nominatieve lijst'!$D$8:$D$10007,C135,'Nominatieve lijst'!$G$8:$G$10007))","v":""},{"$f":"IF(ISBLANK(Vrijwilligersregister!C135)=TRUE,\"\",SUMIF('Nominatieve lijst'!$D$8:$D$10007,C135,'Nominatieve lijst'!$H$8:$H$10007))","v":""},{"$f":"IF(ISBLANK(Vrijwilligersregister!C135)=TRUE,\"\",SUMIF('Nominatieve lijst'!$D$8:$D$10007,C135,'Nominatieve lijst'!$J$8:$J$10007))","v":""},{"$f":"IF(ISBLANK(Vrijwilligersregister!C135)=TRUE,\"\",D135+F135)","v":""},{"$f":"Vrijwilligersregister!L135","v":0}]
[null,130,{"$f":"IF(ISBLANK(Vrijwilligersregister!C136)=TRUE,\"\",Vrijwilligersregister!C136)","v":""},{"$f":"IF(ISBLANK(Vrijwilligersregister!C136)=TRUE,\"\",SUMIF('Nominatieve lijst'!$D$8:$D$10007,C136,'Nominatieve lijst'!$G$8:$G$10007))","v":""},{"$f":"IF(ISBLANK(Vrijwilligersregister!C136)=TRUE,\"\",SUMIF('Nominatieve lijst'!$D$8:$D$10007,C136,'Nominatieve lijst'!$H$8:$H$10007))","v":""},{"$f":"IF(ISBLANK(Vrijwilligersregister!C136)=TRUE,\"\",SUMIF('Nominatieve lijst'!$D$8:$D$10007,C136,'Nominatieve lijst'!$J$8:$J$10007))","v":""},{"$f":"IF(ISBLANK(Vrijwilligersregister!C136)=TRUE,\"\",D136+F136)","v":""},{"$f":"Vrijwilligersregister!L136","v":0}]
[null,131,{"$f":"IF(ISBLANK(Vrijwilligersregister!C137)=TRUE,\"\",Vrijwilligersregister!C137)","v":""},{"$f":"IF(ISBLANK(Vrijwilligersregister!C137)=TRUE,\"\",SUMIF('Nominatieve lijst'!$D$8:$D$10007,C137,'Nominatieve lijst'!$G$8:$G$10007))","v":""},{"$f":"IF(ISBLANK(Vrijwilligersregister!C137)=TRUE,\"\",SUMIF('Nominatieve lijst'!$D$8:$D$10007,C137,'Nominatieve lijst'!$H$8:$H$10007))","v":""},{"$f":"IF(ISBLANK(Vrijwilligersregister!C137)=TRUE,\"\",SUMIF('Nominatieve lijst'!$D$8:$D$10007,C137,'Nominatieve lijst'!$J$8:$J$10007))","v":""},{"$f":"IF(ISBLANK(Vrijwilligersregister!C137)=TRUE,\"\",D137+F137)","v":""},{"$f":"Vrijwilligersregister!L137","v":0}]
[null,132,{"$f":"IF(ISBLANK(Vrijwilligersregister!C138)=TRUE,\"\",Vrijwilligersregister!C138)","v":""},{"$f":"IF(ISBLANK(Vrijwilligersregister!C138)=TRUE,\"\",SUMIF('Nominatieve lijst'!$D$8:$D$10007,C138,'Nominatieve lijst'!$G$8:$G$10007))","v":""},{"$f":"IF(ISBLANK(Vrijwilligersregister!C138)=TRUE,\"\",SUMIF('Nominatieve lijst'!$D$8:$D$10007,C138,'Nominatieve lijst'!$H$8:$H$10007))","v":""},{"$f":"IF(ISBLANK(Vrijwilligersregister!C138)=TRUE,\"\",SUMIF('Nominatieve lijst'!$D$8:$D$10007,C138,'Nominatieve lijst'!$J$8:$J$10007))","v":""},{"$f":"IF(ISBLANK(Vrijwilligersregister!C138)=TRUE,\"\",D138+F138)","v":""},{"$f":"Vrijwilligersregister!L138","v":0}]
[null,133,{"$f":"IF(ISBLANK(Vrijwilligersregister!C139)=TRUE,\"\",Vrijwilligersregister!C139)","v":""},{"$f":"IF(ISBLANK(Vrijwilligersregister!C139)=TRUE,\"\",SUMIF('Nominatieve lijst'!$D$8:$D$10007,C139,'Nominatieve lijst'!$G$8:$G$10007))","v":""},{"$f":"IF(ISBLANK(Vrijwilligersregister!C139)=TRUE,\"\",SUMIF('Nominatieve lijst'!$D$8:$D$10007,C139,'Nominatieve lijst'!$H$8:$H$10007))","v":""},{"$f":"IF(ISBLANK(Vrijwilligersregister!C139)=TRUE,\"\",SUMIF('Nominatieve lijst'!$D$8:$D$10007,C139,'Nominatieve lijst'!$J$8:$J$10007))","v":""},{"$f":"IF(ISBLANK(Vrijwilligersregister!C139)=TRUE,\"\",D139+F139)","v":""},{"$f":"Vrijwilligersregister!L139","v":0}]
[null,134,{"$f":"IF(ISBLANK(Vrijwilligersregister!C140)=TRUE,\"\",Vrijwilligersregister!C140)","v":""},{"$f":"IF(ISBLANK(Vrijwilligersregister!C140)=TRUE,\"\",SUMIF('Nominatieve lijst'!$D$8:$D$10007,C140,'Nominatieve lijst'!$G$8:$G$10007))","v":""},{"$f":"IF(ISBLANK(Vrijwilligersregister!C140)=TRUE,\"\",SUMIF('Nominatieve lijst'!$D$8:$D$10007,C140,'Nominatieve lijst'!$H$8:$H$10007))","v":""},{"$f":"IF(ISBLANK(Vrijwilligersregister!C140)=TRUE,\"\",SUMIF('Nominatieve lijst'!$D$8:$D$10007,C140,'Nominatieve lijst'!$J$8:$J$10007))","v":""},{"$f":"IF(ISBLANK(Vrijwilligersregister!C140)=TRUE,\"\",D140+F140)","v":""},{"$f":"Vrijwilligersregister!L140","v":0}]
[null,135,{"$f":"IF(ISBLANK(Vrijwilligersregister!C141)=TRUE,\"\",Vrijwilligersregister!C141)","v":""},{"$f":"IF(ISBLANK(Vrijwilligersregister!C141)=TRUE,\"\",SUMIF('Nominatieve lijst'!$D$8:$D$10007,C141,'Nominatieve lijst'!$G$8:$G$10007))","v":""},{"$f":"IF(ISBLANK(Vrijwilligersregister!C141)=TRUE,\"\",SUMIF('Nominatieve lijst'!$D$8:$D$10007,C141,'Nominatieve lijst'!$H$8:$H$10007))","v":""},{"$f":"IF(ISBLANK(Vrijwilligersregister!C141)=TRUE,\"\",SUMIF('Nominatieve lijst'!$D$8:$D$10007,C141,'Nominatieve lijst'!$J$8:$J$10007))","v":""},{"$f":"IF(ISBLANK(Vrijwilligersregister!C141)=TRUE,\"\",D141+F141)","v":""},{"$f":"Vrijwilligersregister!L141","v":0}]
[null,136,{"$f":"IF(ISBLANK(Vrijwilligersregister!C142)=TRUE,\"\",Vrijwilligersregister!C142)","v":""},{"$f":"IF(ISBLANK(Vrijwilligersregister!C142)=TRUE,\"\",SUMIF('Nominatieve lijst'!$D$8:$D$10007,C142,'Nominatieve lijst'!$G$8:$G$10007))","v":""},{"$f":"IF(ISBLANK(Vrijwilligersregister!C142)=TRUE,\"\",SUMIF('Nominatieve lijst'!$D$8:$D$10007,C142,'Nominatieve lijst'!$H$8:$H$10007))","v":""},{"$f":"IF(ISBLANK(Vrijwilligersregister!C142)=TRUE,\"\",SUMIF('Nominatieve lijst'!$D$8:$D$10007,C142,'Nominatieve lijst'!$J$8:$J$10007))","v":""},{"$f":"IF(ISBLANK(Vrijwilligersregister!C142)=TRUE,\"\",D142+F142)","v":""},{"$f":"Vrijwilligersregister!L142","v":0}]
[null,137,{"$f":"IF(ISBLANK(Vrijwilligersregister!C143)=TRUE,\"\",Vrijwilligersregister!C143)","v":""},{"$f":"IF(ISBLANK(Vrijwilligersregister!C143)=TRUE,\"\",SUMIF('Nominatieve lijst'!$D$8:$D$10007,C143,'Nominatieve lijst'!$G$8:$G$10007))","v":""},{"$f":"IF(ISBLANK(Vrijwilligersregister!C143)=TRUE,\"\",SUMIF('Nominatieve lijst'!$D$8:$D$10007,C143,'Nominatieve lijst'!$H$8:$H$10007))","v":""},{"$f":"IF(ISBLANK(Vrijwilligersregister!C143)=TRUE,\"\",SUMIF('Nominatieve lijst'!$D$8:$D$10007,C143,'Nominatieve lijst'!$J$8:$J$10007))","v":""},{"$f":"IF(ISBLANK(Vrijwilligersregister!C143)=TRUE,\"\",D143+F143)","v":""},{"$f":"Vrijwilligersregister!L143","v":0}]
[null,138,{"$f":"IF(ISBLANK(Vrijwilligersregister!C144)=TRUE,\"\",Vrijwilligersregister!C144)","v":""},{"$f":"IF(ISBLANK(Vrijwilligersregister!C144)=TRUE,\"\",SUMIF('Nominatieve lijst'!$D$8:$D$10007,C144,'Nominatieve lijst'!$G$8:$G$10007))","v":""},{"$f":"IF(ISBLANK(Vrijwilligersregister!C144)=TRUE,\"\",SUMIF('Nominatieve lijst'!$D$8:$D$10007,C144,'Nominatieve lijst'!$H$8:$H$10007))","v":""},{"$f":"IF(ISBLANK(Vrijwilligersregister!C144)=TRUE,\"\",SUMIF('Nominatieve lijst'!$D$8:$D$10007,C144,'Nominatieve lijst'!$J$8:$J$10007))","v":""},{"$f":"IF(ISBLANK(Vrijwilligersregister!C144)=TRUE,\"\",D144+F144)","v":""},{"$f":"Vrijwilligersregister!L144","v":0}]
[null,139,{"$f":"IF(ISBLANK(Vrijwilligersregister!C145)=TRUE,\"\",Vrijwilligersregister!C145)","v":""},{"$f":"IF(ISBLANK(Vrijwilligersregister!C145)=TRUE,\"\",SUMIF('Nominatieve lijst'!$D$8:$D$10007,C145,'Nominatieve lijst'!$G$8:$G$10007))","v":""},{"$f":"IF(ISBLANK(Vrijwilligersregister!C145)=TRUE,\"\",SUMIF('Nominatieve lijst'!$D$8:$D$10007,C145,'Nominatieve lijst'!$H$8:$H$10007))","v":""},{"$f":"IF(ISBLANK(Vrijwilligersregister!C145)=TRUE,\"\",SUMIF('Nominatieve lijst'!$D$8:$D$10007,C145,'Nominatieve lijst'!$J$8:$J$10007))","v":""},{"$f":"IF(ISBLANK(Vrijwilligersregister!C145)=TRUE,\"\",D145+F145)","v":""},{"$f":"Vrijwilligersregister!L145","v":0}]
[null,140,{"$f":"IF(ISBLANK(Vrijwilligersregister!C146)=TRUE,\"\",Vrijwilligersregister!C146)","v":""},{"$f":"IF(ISBLANK(Vrijwilligersregister!C146)=TRUE,\"\",SUMIF('Nominatieve lijst'!$D$8:$D$10007,C146,'Nominatieve lijst'!$G$8:$G$10007))","v":""},{"$f":"IF(ISBLANK(Vrijwilligersregister!C146)=TRUE,\"\",SUMIF('Nominatieve lijst'!$D$8:$D$10007,C146,'Nominatieve lijst'!$H$8:$H$10007))","v":""},{"$f":"IF(ISBLANK(Vrijwilligersregister!C146)=TRUE,\"\",SUMIF('Nominatieve lijst'!$D$8:$D$10007,C146,'Nominatieve lijst'!$J$8:$J$10007))","v":""},{"$f":"IF(ISBLANK(Vrijwilligersregister!C146)=TRUE,\"\",D146+F146)","v":""},{"$f":"Vrijwilligersregister!L146","v":0}]
[null,141,{"$f":"IF(ISBLANK(Vrijwilligersregister!C147)=TRUE,\"\",Vrijwilligersregister!C147)","v":""},{"$f":"IF(ISBLANK(Vrijwilligersregister!C147)=TRUE,\"\",SUMIF('Nominatieve lijst'!$D$8:$D$10007,C147,'Nominatieve lijst'!$G$8:$G$10007))","v":""},{"$f":"IF(ISBLANK(Vrijwilligersregister!C147)=TRUE,\"\",SUMIF('Nominatieve lijst'!$D$8:$D$10007,C147,'Nominatieve lijst'!$H$8:$H$10007))","v":""},{"$f":"IF(ISBLANK(Vrijwilligersregister!C147)=TRUE,\"\",SUMIF('Nominatieve lijst'!$D$8:$D$10007,C147,'Nominatieve lijst'!$J$8:$J$10007))","v":""},{"$f":"IF(ISBLANK(Vrijwilligersregister!C147)=TRUE,\"\",D147+F147)","v":""},{"$f":"Vrijwilligersregister!L147","v":0}]
[null,142,{"$f":"IF(ISBLANK(Vrijwilligersregister!C148)=TRUE,\"\",Vrijwilligersregister!C148)","v":""},{"$f":"IF(ISBLANK(Vrijwilligersregister!C148)=TRUE,\"\",SUMIF('Nominatieve lijst'!$D$8:$D$10007,C148,'Nominatieve lijst'!$G$8:$G$10007))","v":""},{"$f":"IF(ISBLANK(Vrijwilligersregister!C148)=TRUE,\"\",SUMIF('Nominatieve lijst'!$D$8:$D$10007,C148,'Nominatieve lijst'!$H$8:$H$10007))","v":""},{"$f":"IF(ISBLANK(Vrijwilligersregister!C148)=TRUE,\"\",SUMIF('Nominatieve lijst'!$D$8:$D$10007,C148,'Nominatieve lijst'!$J$8:$J$10007))","v":""},{"$f":"IF(ISBLANK(Vrijwilligersregister!C148)=TRUE,\"\",D148+F148)","v":""},{"$f":"Vrijwilligersregister!L148","v":0}]
[null,143,{"$f":"IF(ISBLANK(Vrijwilligersregister!C149)=TRUE,\"\",Vrijwilligersregister!C149)","v":""},{"$f":"IF(ISBLANK(Vrijwilligersregister!C149)=TRUE,\"\",SUMIF('Nominatieve lijst'!$D$8:$D$10007,C149,'Nominatieve lijst'!$G$8:$G$10007))","v":""},{"$f":"IF(ISBLANK(Vrijwilligersregister!C149)=TRUE,\"\",SUMIF('Nominatieve lijst'!$D$8:$D$10007,C149,'Nominatieve lijst'!$H$8:$H$10007))","v":""},{"$f":"IF(ISBLANK(Vrijwilligersregister!C149)=TRUE,\"\",SUMIF('Nominatieve lijst'!$D$8:$D$10007,C149,'Nominatieve lijst'!$J$8:$J$10007))","v":""},{"$f":"IF(ISBLANK(Vrijwilligersregister!C149)=TRUE,\"\",D149+F149)","v":""},{"$f":"Vrijwilligersregister!L149","v":0}]
[null,144,{"$f":"IF(ISBLANK(Vrijwilligersregister!C150)=TRUE,\"\",Vrijwilligersregister!C150)","v":""},{"$f":"IF(ISBLANK(Vrijwilligersregister!C150)=TRUE,\"\",SUMIF('Nominatieve lijst'!$D$8:$D$10007,C150,'Nominatieve lijst'!$G$8:$G$10007))","v":""},{"$f":"IF(ISBLANK(Vrijwilligersregister!C150)=TRUE,\"\",SUMIF('Nominatieve lijst'!$D$8:$D$10007,C150,'Nominatieve lijst'!$H$8:$H$10007))","v":""},{"$f":"IF(ISBLANK(Vrijwilligersregister!C150)=TRUE,\"\",SUMIF('Nominatieve lijst'!$D$8:$D$10007,C150,'Nominatieve lijst'!$J$8:$J$10007))","v":""},{"$f":"IF(ISBLANK(Vrijwilligersregister!C150)=TRUE,\"\",D150+F150)","v":""},{"$f":"Vrijwilligersregister!L150","v":0}]
[null,145,{"$f":"IF(ISBLANK(Vrijwilligersregister!C151)=TRUE,\"\",Vrijwilligersregister!C151)","v":""},{"$f":"IF(ISBLANK(Vrijwilligersregister!C151)=TRUE,\"\",SUMIF('Nominatieve lijst'!$D$8:$D$10007,C151,'Nominatieve lijst'!$G$8:$G$10007))","v":""},{"$f":"IF(ISBLANK(Vrijwilligersregister!C151)=TRUE,\"\",SUMIF('Nominatieve lijst'!$D$8:$D$10007,C151,'Nominatieve lijst'!$H$8:$H$10007))","v":""},{"$f":"IF(ISBLANK(Vrijwilligersregister!C151)=TRUE,\"\",SUMIF('Nominatieve lijst'!$D$8:$D$10007,C151,'Nominatieve lijst'!$J$8:$J$10007))","v":""},{"$f":"IF(ISBLANK(Vrijwilligersregister!C151)=TRUE,\"\",D151+F151)","v":""},{"$f":"Vrijwilligersregister!L151","v":0}]
[null,146,{"$f":"IF(ISBLANK(Vrijwilligersregister!C152)=TRUE,\"\",Vrijwilligersregister!C152)","v":""},{"$f":"IF(ISBLANK(Vrijwilligersregister!C152)=TRUE,\"\",SUMIF('Nominatieve lijst'!$D$8:$D$10007,C152,'Nominatieve lijst'!$G$8:$G$10007))","v":""},{"$f":"IF(ISBLANK(Vrijwilligersregister!C152)=TRUE,\"\",SUMIF('Nominatieve lijst'!$D$8:$D$10007,C152,'Nominatieve lijst'!$H$8:$H$10007))","v":""},{"$f":"IF(ISBLANK(Vrijwilligersregister!C152)=TRUE,\"\",SUMIF('Nominatieve lijst'!$D$8:$D$10007,C152,'Nominatieve lijst'!$J$8:$J$10007))","v":""},{"$f":"IF(ISBLANK(Vrijwilligersregister!C152)=TRUE,\"\",D152+F152)","v":""},{"$f":"Vrijwilligersregister!L152","v":0}]
[null,147,{"$f":"IF(ISBLANK(Vrijwilligersregister!C153)=TRUE,\"\",Vrijwilligersregister!C153)","v":""},{"$f":"IF(ISBLANK(Vrijwilligersregister!C153)=TRUE,\"\",SUMIF('Nominatieve lijst'!$D$8:$D$10007,C153,'Nominatieve lijst'!$G$8:$G$10007))","v":""},{"$f":"IF(ISBLANK(Vrijwilligersregister!C153)=TRUE,\"\",SUMIF('Nominatieve lijst'!$D$8:$D$10007,C153,'Nominatieve lijst'!$H$8:$H$10007))","v":""},{"$f":"IF(ISBLANK(Vrijwilligersregister!C153)=TRUE,\"\",SUMIF('Nominatieve lijst'!$D$8:$D$10007,C153,'Nominatieve lijst'!$J$8:$J$10007))","v":""},{"$f":"IF(ISBLANK(Vrijwilligersregister!C153)=TRUE,\"\",D153+F153)","v":""},{"$f":"Vrijwilligersregister!L153","v":0}]
[null,148,{"$f":"IF(ISBLANK(Vrijwilligersregister!C154)=TRUE,\"\",Vrijwilligersregister!C154)","v":""},{"$f":"IF(ISBLANK(Vrijwilligersregister!C154)=TRUE,\"\",SUMIF('Nominatieve lijst'!$D$8:$D$10007,C154,'Nominatieve lijst'!$G$8:$G$10007))","v":""},{"$f":"IF(ISBLANK(Vrijwilligersregister!C154)=TRUE,\"\",SUMIF('Nominatieve lijst'!$D$8:$D$10007,C154,'Nominatieve lijst'!$H$8:$H$10007))","v":""},{"$f":"IF(ISBLANK(Vrijwilligersregister!C154)=TRUE,\"\",SUMIF('Nominatieve lijst'!$D$8:$D$10007,C154,'Nominatieve lijst'!$J$8:$J$10007))","v":""},{"$f":"IF(ISBLANK(Vrijwilligersregister!C154)=TRUE,\"\",D154+F154)","v":""},{"$f":"Vrijwilligersregister!L154","v":0}]
[null,149,{"$f":"IF(ISBLANK(Vrijwilligersregister!C155)=TRUE,\"\",Vrijwilligersregister!C155)","v":""},{"$f":"IF(ISBLANK(Vrijwilligersregister!C155)=TRUE,\"\",SUMIF('Nominatieve lijst'!$D$8:$D$10007,C155,'Nominatieve lijst'!$G$8:$G$10007))","v":""},{"$f":"IF(ISBLANK(Vrijwilligersregister!C155)=TRUE,\"\",SUMIF('Nominatieve lijst'!$D$8:$D$10007,C155,'Nominatieve lijst'!$H$8:$H$10007))","v":""},{"$f":"IF(ISBLANK(Vrijwilligersregister!C155)=TRUE,\"\",SUMIF('Nominatieve lijst'!$D$8:$D$10007,C155,'Nominatieve lijst'!$J$8:$J$10007))","v":""},{"$f":"IF(ISBLANK(Vrijwilligersregister!C155)=TRUE,\"\",D155+F155)","v":""},{"$f":"Vrijwilligersregister!L155","v":0}]
[null,150,{"$f":"IF(ISBLANK(Vrijwilligersregister!C156)=TRUE,\"\",Vrijwilligersregister!C156)","v":""},{"$f":"IF(ISBLANK(Vrijwilligersregister!C156)=TRUE,\"\",SUMIF('Nominatieve lijst'!$D$8:$D$10007,C156,'Nominatieve lijst'!$G$8:$G$10007))","v":""},{"$f":"IF(ISBLANK(Vrijwilligersregister!C156)=TRUE,\"\",SUMIF('Nominatieve lijst'!$D$8:$D$10007,C156,'Nominatieve lijst'!$H$8:$H$10007))","v":""},{"$f":"IF(ISBLANK(Vrijwilligersregister!C156)=TRUE,\"\",SUMIF('Nominatieve lijst'!$D$8:$D$10007,C156,'Nominatieve lijst'!$J$8:$J$10007))","v":""},{"$f":"IF(ISBLANK(Vrijwilligersregister!C156)=TRUE,\"\",D156+F156)","v":""},{"$f":"Vrijwilligersregister!L156","v":0}]
[null,151,{"$f":"IF(ISBLANK(Vrijwilligersregister!C157)=TRUE,\"\",Vrijwilligersregister!C157)","v":""},{"$f":"IF(ISBLANK(Vrijwilligersregister!C157)=TRUE,\"\",SUMIF('Nominatieve lijst'!$D$8:$D$10007,C157,'Nominatieve lijst'!$G$8:$G$10007))","v":""},{"$f":"IF(ISBLANK(Vrijwilligersregister!C157)=TRUE,\"\",SUMIF('Nominatieve lijst'!$D$8:$D$10007,C157,'Nominatieve lijst'!$H$8:$H$10007))","v":""},{"$f":"IF(ISBLANK(Vrijwilligersregister!C157)=TRUE,\"\",SUMIF('Nominatieve lijst'!$D$8:$D$10007,C157,'Nominatieve lijst'!$J$8:$J$10007))","v":""},{"$f":"IF(ISBLANK(Vrijwilligersregister!C157)=TRUE,\"\",D157+F157)","v":""},{"$f":"Vrijwilligersregister!L157","v":0}]
[null,152,{"$f":"IF(ISBLANK(Vrijwilligersregister!C158)=TRUE,\"\",Vrijwilligersregister!C158)","v":""},{"$f":"IF(ISBLANK(Vrijwilligersregister!C158)=TRUE,\"\",SUMIF('Nominatieve lijst'!$D$8:$D$10007,C158,'Nominatieve lijst'!$G$8:$G$10007))","v":""},{"$f":"IF(ISBLANK(Vrijwilligersregister!C158)=TRUE,\"\",SUMIF('Nominatieve lijst'!$D$8:$D$10007,C158,'Nominatieve lijst'!$H$8:$H$10007))","v":""},{"$f":"IF(ISBLANK(Vrijwilligersregister!C158)=TRUE,\"\",SUMIF('Nominatieve lijst'!$D$8:$D$10007,C158,'Nominatieve lijst'!$J$8:$J$10007))","v":""},{"$f":"IF(ISBLANK(Vrijwilligersregister!C158)=TRUE,\"\",D158+F158)","v":""},{"$f":"Vrijwilligersregister!L158","v":0}]
[null,153,{"$f":"IF(ISBLANK(Vrijwilligersregister!C159)=TRUE,\"\",Vrijwilligersregister!C159)","v":""},{"$f":"IF(ISBLANK(Vrijwilligersregister!C159)=TRUE,\"\",SUMIF('Nominatieve lijst'!$D$8:$D$10007,C159,'Nominatieve lijst'!$G$8:$G$10007))","v":""},{"$f":"IF(ISBLANK(Vrijwilligersregister!C159)=TRUE,\"\",SUMIF('Nominatieve lijst'!$D$8:$D$10007,C159,'Nominatieve lijst'!$H$8:$H$10007))","v":""},{"$f":"IF(ISBLANK(Vrijwilligersregister!C159)=TRUE,\"\",SUMIF('Nominatieve lijst'!$D$8:$D$10007,C159,'Nominatieve lijst'!$J$8:$J$10007))","v":""},{"$f":"IF(ISBLANK(Vrijwilligersregister!C159)=TRUE,\"\",D159+F159)","v":""},{"$f":"Vrijwilligersregister!L159","v":0}]
[null,154,{"$f":"IF(ISBLANK(Vrijwilligersregister!C160)=TRUE,\"\",Vrijwilligersregister!C160)","v":""},{"$f":"IF(ISBLANK(Vrijwilligersregister!C160)=TRUE,\"\",SUMIF('Nominatieve lijst'!$D$8:$D$10007,C160,'Nominatieve lijst'!$G$8:$G$10007))","v":""},{"$f":"IF(ISBLANK(Vrijwilligersregister!C160)=TRUE,\"\",SUMIF('Nominatieve lijst'!$D$8:$D$10007,C160,'Nominatieve lijst'!$H$8:$H$10007))","v":""},{"$f":"IF(ISBLANK(Vrijwilligersregister!C160)=TRUE,\"\",SUMIF('Nominatieve lijst'!$D$8:$D$10007,C160,'Nominatieve lijst'!$J$8:$J$10007))","v":""},{"$f":"IF(ISBLANK(Vrijwilligersregister!C160)=TRUE,\"\",D160+F160)","v":""},{"$f":"Vrijwilligersregister!L160","v":0}]
[null,155,{"$f":"IF(ISBLANK(Vrijwilligersregister!C161)=TRUE,\"\",Vrijwilligersregister!C161)","v":""},{"$f":"IF(ISBLANK(Vrijwilligersregister!C161)=TRUE,\"\",SUMIF('Nominatieve lijst'!$D$8:$D$10007,C161,'Nominatieve lijst'!$G$8:$G$10007))","v":""},{"$f":"IF(ISBLANK(Vrijwilligersregister!C161)=TRUE,\"\",SUMIF('Nominatieve lijst'!$D$8:$D$10007,C161,'Nominatieve lijst'!$H$8:$H$10007))","v":""},{"$f":"IF(ISBLANK(Vrijwilligersregister!C161)=TRUE,\"\",SUMIF('Nominatieve lijst'!$D$8:$D$10007,C161,'Nominatieve lijst'!$J$8:$J$10007))","v":""},{"$f":"IF(ISBLANK(Vrijwilligersregister!C161)=TRUE,\"\",D161+F161)","v":""},{"$f":"Vrijwilligersregister!L161","v":0}]
[null,156,{"$f":"IF(ISBLANK(Vrijwilligersregister!C162)=TRUE,\"\",Vrijwilligersregister!C162)","v":""},{"$f":"IF(ISBLANK(Vrijwilligersregister!C162)=TRUE,\"\",SUMIF('Nominatieve lijst'!$D$8:$D$10007,C162,'Nominatieve lijst'!$G$8:$G$10007))","v":""},{"$f":"IF(ISBLANK(Vrijwilligersregister!C162)=TRUE,\"\",SUMIF('Nominatieve lijst'!$D$8:$D$10007,C162,'Nominatieve lijst'!$H$8:$H$10007))","v":""},{"$f":"IF(ISBLANK(Vrijwilligersregister!C162)=TRUE,\"\",SUMIF('Nominatieve lijst'!$D$8:$D$10007,C162,'Nominatieve lijst'!$J$8:$J$10007))","v":""},{"$f":"IF(ISBLANK(Vrijwilligersregister!C162)=TRUE,\"\",D162+F162)","v":""},{"$f":"Vrijwilligersregister!L162","v":0}]
[null,157,{"$f":"IF(ISBLANK(Vrijwilligersregister!C163)=TRUE,\"\",Vrijwilligersregister!C163)","v":""},{"$f":"IF(ISBLANK(Vrijwilligersregister!C163)=TRUE,\"\",SUMIF('Nominatieve lijst'!$D$8:$D$10007,C163,'Nominatieve lijst'!$G$8:$G$10007))","v":""},{"$f":"IF(ISBLANK(Vrijwilligersregister!C163)=TRUE,\"\",SUMIF('Nominatieve lijst'!$D$8:$D$10007,C163,'Nominatieve lijst'!$H$8:$H$10007))","v":""},{"$f":"IF(ISBLANK(Vrijwilligersregister!C163)=TRUE,\"\",SUMIF('Nominatieve lijst'!$D$8:$D$10007,C163,'Nominatieve lijst'!$J$8:$J$10007))","v":""},{"$f":"IF(ISBLANK(Vrijwilligersregister!C163)=TRUE,\"\",D163+F163)","v":""},{"$f":"Vrijwilligersregister!L163","v":0}]
[null,158,{"$f":"IF(ISBLANK(Vrijwilligersregister!C164)=TRUE,\"\",Vrijwilligersregister!C164)","v":""},{"$f":"IF(ISBLANK(Vrijwilligersregister!C164)=TRUE,\"\",SUMIF('Nominatieve lijst'!$D$8:$D$10007,C164,'Nominatieve lijst'!$G$8:$G$10007))","v":""},{"$f":"IF(ISBLANK(Vrijwilligersregister!C164)=TRUE,\"\",SUMIF('Nominatieve lijst'!$D$8:$D$10007,C164,'Nominatieve lijst'!$H$8:$H$10007))","v":""},{"$f":"IF(ISBLANK(Vrijwilligersregister!C164)=TRUE,\"\",SUMIF('Nominatieve lijst'!$D$8:$D$10007,C164,'Nominatieve lijst'!$J$8:$J$10007))","v":""},{"$f":"IF(ISBLANK(Vrijwilligersregister!C164)=TRUE,\"\",D164+F164)","v":""},{"$f":"Vrijwilligersregister!L164","v":0}]
[null,159,{"$f":"IF(ISBLANK(Vrijwilligersregister!C165)=TRUE,\"\",Vrijwilligersregister!C165)","v":""},{"$f":"IF(ISBLANK(Vrijwilligersregister!C165)=TRUE,\"\",SUMIF('Nominatieve lijst'!$D$8:$D$10007,C165,'Nominatieve lijst'!$G$8:$G$10007))","v":""},{"$f":"IF(ISBLANK(Vrijwilligersregister!C165)=TRUE,\"\",SUMIF('Nominatieve lijst'!$D$8:$D$10007,C165,'Nominatieve lijst'!$H$8:$H$10007))","v":""},{"$f":"IF(ISBLANK(Vrijwilligersregister!C165)=TRUE,\"\",SUMIF('Nominatieve lijst'!$D$8:$D$10007,C165,'Nominatieve lijst'!$J$8:$J$10007))","v":""},{"$f":"IF(ISBLANK(Vrijwilligersregister!C165)=TRUE,\"\",D165+F165)","v":""},{"$f":"Vrijwilligersregister!L165","v":0}]
[null,160,{"$f":"IF(ISBLANK(Vrijwilligersregister!C166)=TRUE,\"\",Vrijwilligersregister!C166)","v":""},{"$f":"IF(ISBLANK(Vrijwilligersregister!C166)=TRUE,\"\",SUMIF('Nominatieve lijst'!$D$8:$D$10007,C166,'Nominatieve lijst'!$G$8:$G$10007))","v":""},{"$f":"IF(ISBLANK(Vrijwilligersregister!C166)=TRUE,\"\",SUMIF('Nominatieve lijst'!$D$8:$D$10007,C166,'Nominatieve lijst'!$H$8:$H$10007))","v":""},{"$f":"IF(ISBLANK(Vrijwilligersregister!C166)=TRUE,\"\",SUMIF('Nominatieve lijst'!$D$8:$D$10007,C166,'Nominatieve lijst'!$J$8:$J$10007))","v":""},{"$f":"IF(ISBLANK(Vrijwilligersregister!C166)=TRUE,\"\",D166+F166)","v":""},{"$f":"Vrijwilligersregister!L166","v":0}]
[null,161,{"$f":"IF(ISBLANK(Vrijwilligersregister!C167)=TRUE,\"\",Vrijwilligersregister!C167)","v":""},{"$f":"IF(ISBLANK(Vrijwilligersregister!C167)=TRUE,\"\",SUMIF('Nominatieve lijst'!$D$8:$D$10007,C167,'Nominatieve lijst'!$G$8:$G$10007))","v":""},{"$f":"IF(ISBLANK(Vrijwilligersregister!C167)=TRUE,\"\",SUMIF('Nominatieve lijst'!$D$8:$D$10007,C167,'Nominatieve lijst'!$H$8:$H$10007))","v":""},{"$f":"IF(ISBLANK(Vrijwilligersregister!C167)=TRUE,\"\",SUMIF('Nominatieve lijst'!$D$8:$D$10007,C167,'Nominatieve lijst'!$J$8:$J$10007))","v":""},{"$f":"IF(ISBLANK(Vrijwilligersregister!C167)=TRUE,\"\",D167+F167)","v":""},{"$f":"Vrijwilligersregister!L167","v":0}]
[null,162,{"$f":"IF(ISBLANK(Vrijwilligersregister!C168)=TRUE,\"\",Vrijwilligersregister!C168)","v":""},{"$f":"IF(ISBLANK(Vrijwilligersregister!C168)=TRUE,\"\",SUMIF('Nominatieve lijst'!$D$8:$D$10007,C168,'Nominatieve lijst'!$G$8:$G$10007))","v":""},{"$f":"IF(ISBLANK(Vrijwilligersregister!C168)=TRUE,\"\",SUMIF('Nominatieve lijst'!$D$8:$D$10007,C168,'Nominatieve lijst'!$H$8:$H$10007))","v":""},{"$f":"IF(ISBLANK(Vrijwilligersregister!C168)=TRUE,\"\",SUMIF('Nominatieve lijst'!$D$8:$D$10007,C168,'Nominatieve lijst'!$J$8:$J$10007))","v":""},{"$f":"IF(ISBLANK(Vrijwilligersregister!C168)=TRUE,\"\",D168+F168)","v":""},{"$f":"Vrijwilligersregister!L168","v":0}]
[null,163,{"$f":"IF(ISBLANK(Vrijwilligersregister!C169)=TRUE,\"\",Vrijwilligersregister!C169)","v":""},{"$f":"IF(ISBLANK(Vrijwilligersregister!C169)=TRUE,\"\",SUMIF('Nominatieve lijst'!$D$8:$D$10007,C169,'Nominatieve lijst'!$G$8:$G$10007))","v":""},{"$f":"IF(ISBLANK(Vrijwilligersregister!C169)=TRUE,\"\",SUMIF('Nominatieve lijst'!$D$8:$D$10007,C169,'Nominatieve lijst'!$H$8:$H$10007))","v":""},{"$f":"IF(ISBLANK(Vrijwilligersregister!C169)=TRUE,\"\",SUMIF('Nominatieve lijst'!$D$8:$D$10007,C169,'Nominatieve lijst'!$J$8:$J$10007))","v":""},{"$f":"IF(ISBLANK(Vrijwilligersregister!C169)=TRUE,\"\",D169+F169)","v":""},{"$f":"Vrijwilligersregister!L169","v":0}]
[null,164,{"$f":"IF(ISBLANK(Vrijwilligersregister!C170)=TRUE,\"\",Vrijwilligersregister!C170)","v":""},{"$f":"IF(ISBLANK(Vrijwilligersregister!C170)=TRUE,\"\",SUMIF('Nominatieve lijst'!$D$8:$D$10007,C170,'Nominatieve lijst'!$G$8:$G$10007))","v":""},{"$f":"IF(ISBLANK(Vrijwilligersregister!C170)=TRUE,\"\",SUMIF('Nominatieve lijst'!$D$8:$D$10007,C170,'Nominatieve lijst'!$H$8:$H$10007))","v":""},{"$f":"IF(ISBLANK(Vrijwilligersregister!C170)=TRUE,\"\",SUMIF('Nominatieve lijst'!$D$8:$D$10007,C170,'Nominatieve lijst'!$J$8:$J$10007))","v":""},{"$f":"IF(ISBLANK(Vrijwilligersregister!C170)=TRUE,\"\",D170+F170)","v":""},{"$f":"Vrijwilligersregister!L170","v":0}]
[null,165,{"$f":"IF(ISBLANK(Vrijwilligersregister!C171)=TRUE,\"\",Vrijwilligersregister!C171)","v":""},{"$f":"IF(ISBLANK(Vrijwilligersregister!C171)=TRUE,\"\",SUMIF('Nominatieve lijst'!$D$8:$D$10007,C171,'Nominatieve lijst'!$G$8:$G$10007))","v":""},{"$f":"IF(ISBLANK(Vrijwilligersregister!C171)=TRUE,\"\",SUMIF('Nominatieve lijst'!$D$8:$D$10007,C171,'Nominatieve lijst'!$H$8:$H$10007))","v":""},{"$f":"IF(ISBLANK(Vrijwilligersregister!C171)=TRUE,\"\",SUMIF('Nominatieve lijst'!$D$8:$D$10007,C171,'Nominatieve lijst'!$J$8:$J$10007))","v":""},{"$f":"IF(ISBLANK(Vrijwilligersregister!C171)=TRUE,\"\",D171+F171)","v":""},{"$f":"Vrijwilligersregister!L171","v":0}]
[null,166,{"$f":"IF(ISBLANK(Vrijwilligersregister!C172)=TRUE,\"\",Vrijwilligersregister!C172)","v":""},{"$f":"IF(ISBLANK(Vrijwilligersregister!C172)=TRUE,\"\",SUMIF('Nominatieve lijst'!$D$8:$D$10007,C172,'Nominatieve lijst'!$G$8:$G$10007))","v":""},{"$f":"IF(ISBLANK(Vrijwilligersregister!C172)=TRUE,\"\",SUMIF('Nominatieve lijst'!$D$8:$D$10007,C172,'Nominatieve lijst'!$H$8:$H$10007))","v":""},{"$f":"IF(ISBLANK(Vrijwilligersregister!C172)=TRUE,\"\",SUMIF('Nominatieve lijst'!$D$8:$D$10007,C172,'Nominatieve lijst'!$J$8:$J$10007))","v":""},{"$f":"IF(ISBLANK(Vrijwilligersregister!C172)=TRUE,\"\",D172+F172)","v":""},{"$f":"Vrijwilligersregister!L172","v":0}]
[null,167,{"$f":"IF(ISBLANK(Vrijwilligersregister!C173)=TRUE,\"\",Vrijwilligersregister!C173)","v":""},{"$f":"IF(ISBLANK(Vrijwilligersregister!C173)=TRUE,\"\",SUMIF('Nominatieve lijst'!$D$8:$D$10007,C173,'Nominatieve lijst'!$G$8:$G$10007))","v":""},{"$f":"IF(ISBLANK(Vrijwilligersregister!C173)=TRUE,\"\",SUMIF('Nominatieve lijst'!$D$8:$D$10007,C173,'Nominatieve lijst'!$H$8:$H$10007))","v":""},{"$f":"IF(ISBLANK(Vrijwilligersregister!C173)=TRUE,\"\",SUMIF('Nominatieve lijst'!$D$8:$D$10007,C173,'Nominatieve lijst'!$J$8:$J$10007))","v":""},{"$f":"IF(ISBLANK(Vrijwilligersregister!C173)=TRUE,\"\",D173+F173)","v":""},{"$f":"Vrijwilligersregister!L173","v":0}]
[null,168,{"$f":"IF(ISBLANK(Vrijwilligersregister!C174)=TRUE,\"\",Vrijwilligersregister!C174)","v":""},{"$f":"IF(ISBLANK(Vrijwilligersregister!C174)=TRUE,\"\",SUMIF('Nominatieve lijst'!$D$8:$D$10007,C174,'Nominatieve lijst'!$G$8:$G$10007))","v":""},{"$f":"IF(ISBLANK(Vrijwilligersregister!C174)=TRUE,\"\",SUMIF('Nominatieve lijst'!$D$8:$D$10007,C174,'Nominatieve lijst'!$H$8:$H$10007))","v":""},{"$f":"IF(ISBLANK(Vrijwilligersregister!C174)=TRUE,\"\",SUMIF('Nominatieve lijst'!$D$8:$D$10007,C174,'Nominatieve lijst'!$J$8:$J$10007))","v":""},{"$f":"IF(ISBLANK(Vrijwilligersregister!C174)=TRUE,\"\",D174+F174)","v":""},{"$f":"Vrijwilligersregister!L174","v":0}]
[null,169,{"$f":"IF(ISBLANK(Vrijwilligersregister!C175)=TRUE,\"\",Vrijwilligersregister!C175)","v":""},{"$f":"IF(ISBLANK(Vrijwilligersregister!C175)=TRUE,\"\",SUMIF('Nominatieve lijst'!$D$8:$D$10007,C175,'Nominatieve lijst'!$G$8:$G$10007))","v":""},{"$f":"IF(ISBLANK(Vrijwilligersregister!C175)=TRUE,\"\",SUMIF('Nominatieve lijst'!$D$8:$D$10007,C175,'Nominatieve lijst'!$H$8:$H$10007))","v":""},{"$f":"IF(ISBLANK(Vrijwilligersregister!C175)=TRUE,\"\",SUMIF('Nominatieve lijst'!$D$8:$D$10007,C175,'Nominatieve lijst'!$J$8:$J$10007))","v":""},{"$f":"IF(ISBLANK(Vrijwilligersregister!C175)=TRUE,\"\",D175+F175)","v":""},{"$f":"Vrijwilligersregister!L175","v":0}]
[null,170,{"$f":"IF(ISBLANK(Vrijwilligersregister!C176)=TRUE,\"\",Vrijwilligersregister!C176)","v":""},{"$f":"IF(ISBLANK(Vrijwilligersregister!C176)=TRUE,\"\",SUMIF('Nominatieve lijst'!$D$8:$D$10007,C176,'Nominatieve lijst'!$G$8:$G$10007))","v":""},{"$f":"IF(ISBLANK(Vrijwilligersregister!C176)=TRUE,\"\",SUMIF('Nominatieve lijst'!$D$8:$D$10007,C176,'Nominatieve lijst'!$H$8:$H$10007))","v":""},{"$f":"IF(ISBLANK(Vrijwilligersregister!C176)=TRUE,\"\",SUMIF('Nominatieve lijst'!$D$8:$D$10007,C176,'Nominatieve lijst'!$J$8:$J$10007))","v":""},{"$f":"IF(ISBLANK(Vrijwilligersregister!C176)=TRUE,\"\",D176+F176)","v":""},{"$f":"Vrijwilligersregister!L176","v":0}]
[null,171,{"$f":"IF(ISBLANK(Vrijwilligersregister!C177)=TRUE,\"\",Vrijwilligersregister!C177)","v":""},{"$f":"IF(ISBLANK(Vrijwilligersregister!C177)=TRUE,\"\",SUMIF('Nominatieve lijst'!$D$8:$D$10007,C177,'Nominatieve lijst'!$G$8:$G$10007))","v":""},{"$f":"IF(ISBLANK(Vrijwilligersregister!C177)=TRUE,\"\",SUMIF('Nominatieve lijst'!$D$8:$D$10007,C177,'Nominatieve lijst'!$H$8:$H$10007))","v":""},{"$f":"IF(ISBLANK(Vrijwilligersregister!C177)=TRUE,\"\",SUMIF('Nominatieve lijst'!$D$8:$D$10007,C177,'Nominatieve lijst'!$J$8:$J$10007))","v":""},{"$f":"IF(ISBLANK(Vrijwilligersregister!C177)=TRUE,\"\",D177+F177)","v":""},{"$f":"Vrijwilligersregister!L177","v":0}]
[null,172,{"$f":"IF(ISBLANK(Vrijwilligersregister!C178)=TRUE,\"\",Vrijwilligersregister!C178)","v":""},{"$f":"IF(ISBLANK(Vrijwilligersregister!C178)=TRUE,\"\",SUMIF('Nominatieve lijst'!$D$8:$D$10007,C178,'Nominatieve lijst'!$G$8:$G$10007))","v":""},{"$f":"IF(ISBLANK(Vrijwilligersregister!C178)=TRUE,\"\",SUMIF('Nominatieve lijst'!$D$8:$D$10007,C178,'Nominatieve lijst'!$H$8:$H$10007))","v":""},{"$f":"IF(ISBLANK(Vrijwilligersregister!C178)=TRUE,\"\",SUMIF('Nominatieve lijst'!$D$8:$D$10007,C178,'Nominatieve lijst'!$J$8:$J$10007))","v":""},{"$f":"IF(ISBLANK(Vrijwilligersregister!C178)=TRUE,\"\",D178+F178)","v":""},{"$f":"Vrijwilligersregister!L178","v":0}]
[null,173,{"$f":"IF(ISBLANK(Vrijwilligersregister!C179)=TRUE,\"\",Vrijwilligersregister!C179)","v":""},{"$f":"IF(ISBLANK(Vrijwilligersregister!C179)=TRUE,\"\",SUMIF('Nominatieve lijst'!$D$8:$D$10007,C179,'Nominatieve lijst'!$G$8:$G$10007))","v":""},{"$f":"IF(ISBLANK(Vrijwilligersregister!C179)=TRUE,\"\",SUMIF('Nominatieve lijst'!$D$8:$D$10007,C179,'Nominatieve lijst'!$H$8:$H$10007))","v":""},{"$f":"IF(ISBLANK(Vrijwilligersregister!C179)=TRUE,\"\",SUMIF('Nominatieve lijst'!$D$8:$D$10007,C179,'Nominatieve lijst'!$J$8:$J$10007))","v":""},{"$f":"IF(ISBLANK(Vrijwilligersregister!C179)=TRUE,\"\",D179+F179)","v":""},{"$f":"Vrijwilligersregister!L179","v":0}]
[null,174,{"$f":"IF(ISBLANK(Vrijwilligersregister!C180)=TRUE,\"\",Vrijwilligersregister!C180)","v":""},{"$f":"IF(ISBLANK(Vrijwilligersregister!C180)=TRUE,\"\",SUMIF('Nominatieve lijst'!$D$8:$D$10007,C180,'Nominatieve lijst'!$G$8:$G$10007))","v":""},{"$f":"IF(ISBLANK(Vrijwilligersregister!C180)=TRUE,\"\",SUMIF('Nominatieve lijst'!$D$8:$D$10007,C180,'Nominatieve lijst'!$H$8:$H$10007))","v":""},{"$f":"IF(ISBLANK(Vrijwilligersregister!C180)=TRUE,\"\",SUMIF('Nominatieve lijst'!$D$8:$D$10007,C180,'Nominatieve lijst'!$J$8:$J$10007))","v":""},{"$f":"IF(ISBLANK(Vrijwilligersregister!C180)=TRUE,\"\",D180+F180)","v":""},{"$f":"Vrijwilligersregister!L180","v":0}]
[null,175,{"$f":"IF(ISBLANK(Vrijwilligersregister!C181)=TRUE,\"\",Vrijwilligersregister!C181)","v":""},{"$f":"IF(ISBLANK(Vrijwilligersregister!C181)=TRUE,\"\",SUMIF('Nominatieve lijst'!$D$8:$D$10007,C181,'Nominatieve lijst'!$G$8:$G$10007))","v":""},{"$f":"IF(ISBLANK(Vrijwilligersregister!C181)=TRUE,\"\",SUMIF('Nominatieve lijst'!$D$8:$D$10007,C181,'Nominatieve lijst'!$H$8:$H$10007))","v":""},{"$f":"IF(ISBLANK(Vrijwilligersregister!C181)=TRUE,\"\",SUMIF('Nominatieve lijst'!$D$8:$D$10007,C181,'Nominatieve lijst'!$J$8:$J$10007))","v":""},{"$f":"IF(ISBLANK(Vrijwilligersregister!C181)=TRUE,\"\",D181+F181)","v":""},{"$f":"Vrijwilligersregister!L181","v":0}]
[null,176,{"$f":"IF(ISBLANK(Vrijwilligersregister!C182)=TRUE,\"\",Vrijwilligersregister!C182)","v":""},{"$f":"IF(ISBLANK(Vrijwilligersregister!C182)=TRUE,\"\",SUMIF('Nominatieve lijst'!$D$8:$D$10007,C182,'Nominatieve lijst'!$G$8:$G$10007))","v":""},{"$f":"IF(ISBLANK(Vrijwilligersregister!C182)=TRUE,\"\",SUMIF('Nominatieve lijst'!$D$8:$D$10007,C182,'Nominatieve lijst'!$H$8:$H$10007))","v":""},{"$f":"IF(ISBLANK(Vrijwilligersregister!C182)=TRUE,\"\",SUMIF('Nominatieve lijst'!$D$8:$D$10007,C182,'Nominatieve lijst'!$J$8:$J$10007))","v":""},{"$f":"IF(ISBLANK(Vrijwilligersregister!C182)=TRUE,\"\",D182+F182)","v":""},{"$f":"Vrijwilligersregister!L182","v":0}]
[null,177,{"$f":"IF(ISBLANK(Vrijwilligersregister!C183)=TRUE,\"\",Vrijwilligersregister!C183)","v":""},{"$f":"IF(ISBLANK(Vrijwilligersregister!C183)=TRUE,\"\",SUMIF('Nominatieve lijst'!$D$8:$D$10007,C183,'Nominatieve lijst'!$G$8:$G$10007))","v":""},{"$f":"IF(ISBLANK(Vrijwilligersregister!C183)=TRUE,\"\",SUMIF('Nominatieve lijst'!$D$8:$D$10007,C183,'Nominatieve lijst'!$H$8:$H$10007))","v":""},{"$f":"IF(ISBLANK(Vrijwilligersregister!C183)=TRUE,\"\",SUMIF('Nominatieve lijst'!$D$8:$D$10007,C183,'Nominatieve lijst'!$J$8:$J$10007))","v":""},{"$f":"IF(ISBLANK(Vrijwilligersregister!C183)=TRUE,\"\",D183+F183)","v":""},{"$f":"Vrijwilligersregister!L183","v":0}]
[null,178,{"$f":"IF(ISBLANK(Vrijwilligersregister!C184)=TRUE,\"\",Vrijwilligersregister!C184)","v":""},{"$f":"IF(ISBLANK(Vrijwilligersregister!C184)=TRUE,\"\",SUMIF('Nominatieve lijst'!$D$8:$D$10007,C184,'Nominatieve lijst'!$G$8:$G$10007))","v":""},{"$f":"IF(ISBLANK(Vrijwilligersregister!C184)=TRUE,\"\",SUMIF('Nominatieve lijst'!$D$8:$D$10007,C184,'Nominatieve lijst'!$H$8:$H$10007))","v":""},{"$f":"IF(ISBLANK(Vrijwilligersregister!C184)=TRUE,\"\",SUMIF('Nominatieve lijst'!$D$8:$D$10007,C184,'Nominatieve lijst'!$J$8:$J$10007))","v":""},{"$f":"IF(ISBLANK(Vrijwilligersregister!C184)=TRUE,\"\",D184+F184)","v":""},{"$f":"Vrijwilligersregister!L184","v":0}]
[null,179,{"$f":"IF(ISBLANK(Vrijwilligersregister!C185)=TRUE,\"\",Vrijwilligersregister!C185)","v":""},{"$f":"IF(ISBLANK(Vrijwilligersregister!C185)=TRUE,\"\",SUMIF('Nominatieve lijst'!$D$8:$D$10007,C185,'Nominatieve lijst'!$G$8:$G$10007))","v":""},{"$f":"IF(ISBLANK(Vrijwilligersregister!C185)=TRUE,\"\",SUMIF('Nominatieve lijst'!$D$8:$D$10007,C185,'Nominatieve lijst'!$H$8:$H$10007))","v":""},{"$f":"IF(ISBLANK(Vrijwilligersregister!C185)=TRUE,\"\",SUMIF('Nominatieve lijst'!$D$8:$D$10007,C185,'Nominatieve lijst'!$J$8:$J$10007))","v":""},{"$f":"IF(ISBLANK(Vrijwilligersregister!C185)=TRUE,\"\",D185+F185)","v":""},{"$f":"Vrijwilligersregister!L185","v":0}]
[null,180,{"$f":"IF(ISBLANK(Vrijwilligersregister!C186)=TRUE,\"\",Vrijwilligersregister!C186)","v":""},{"$f":"IF(ISBLANK(Vrijwilligersregister!C186)=TRUE,\"\",SUMIF('Nominatieve lijst'!$D$8:$D$10007,C186,'Nominatieve lijst'!$G$8:$G$10007))","v":""},{"$f":"IF(ISBLANK(Vrijwilligersregister!C186)=TRUE,\"\",SUMIF('Nominatieve lijst'!$D$8:$D$10007,C186,'Nominatieve lijst'!$H$8:$H$10007))","v":""},{"$f":"IF(ISBLANK(Vrijwilligersregister!C186)=TRUE,\"\",SUMIF('Nominatieve lijst'!$D$8:$D$10007,C186,'Nominatieve lijst'!$J$8:$J$10007))","v":""},{"$f":"IF(ISBLANK(Vrijwilligersregister!C186)=TRUE,\"\",D186+F186)","v":""},{"$f":"Vrijwilligersregister!L186","v":0}]
[null,181,{"$f":"IF(ISBLANK(Vrijwilligersregister!C187)=TRUE,\"\",Vrijwilligersregister!C187)","v":""},{"$f":"IF(ISBLANK(Vrijwilligersregister!C187)=TRUE,\"\",SUMIF('Nominatieve lijst'!$D$8:$D$10007,C187,'Nominatieve lijst'!$G$8:$G$10007))","v":""},{"$f":"IF(ISBLANK(Vrijwilligersregister!C187)=TRUE,\"\",SUMIF('Nominatieve lijst'!$D$8:$D$10007,C187,'Nominatieve lijst'!$H$8:$H$10007))","v":""},{"$f":"IF(ISBLANK(Vrijwilligersregister!C187)=TRUE,\"\",SUMIF('Nominatieve lijst'!$D$8:$D$10007,C187,'Nominatieve lijst'!$J$8:$J$10007))","v":""},{"$f":"IF(ISBLANK(Vrijwilligersregister!C187)=TRUE,\"\",D187+F187)","v":""},{"$f":"Vrijwilligersregister!L187","v":0}]
[null,182,{"$f":"IF(ISBLANK(Vrijwilligersregister!C188)=TRUE,\"\",Vrijwilligersregister!C188)","v":""},{"$f":"IF(ISBLANK(Vrijwilligersregister!C188)=TRUE,\"\",SUMIF('Nominatieve lijst'!$D$8:$D$10007,C188,'Nominatieve lijst'!$G$8:$G$10007))","v":""},{"$f":"IF(ISBLANK(Vrijwilligersregister!C188)=TRUE,\"\",SUMIF('Nominatieve lijst'!$D$8:$D$10007,C188,'Nominatieve lijst'!$H$8:$H$10007))","v":""},{"$f":"IF(ISBLANK(Vrijwilligersregister!C188)=TRUE,\"\",SUMIF('Nominatieve lijst'!$D$8:$D$10007,C188,'Nominatieve lijst'!$J$8:$J$10007))","v":""},{"$f":"IF(ISBLANK(Vrijwilligersregister!C188)=TRUE,\"\",D188+F188)","v":""},{"$f":"Vrijwilligersregister!L188","v":0}]
[null,183,{"$f":"IF(ISBLANK(Vrijwilligersregister!C189)=TRUE,\"\",Vrijwilligersregister!C189)","v":""},{"$f":"IF(ISBLANK(Vrijwilligersregister!C189)=TRUE,\"\",SUMIF('Nominatieve lijst'!$D$8:$D$10007,C189,'Nominatieve lijst'!$G$8:$G$10007))","v":""},{"$f":"IF(ISBLANK(Vrijwilligersregister!C189)=TRUE,\"\",SUMIF('Nominatieve lijst'!$D$8:$D$10007,C189,'Nominatieve lijst'!$H$8:$H$10007))","v":""},{"$f":"IF(ISBLANK(Vrijwilligersregister!C189)=TRUE,\"\",SUMIF('Nominatieve lijst'!$D$8:$D$10007,C189,'Nominatieve lijst'!$J$8:$J$10007))","v":""},{"$f":"IF(ISBLANK(Vrijwilligersregister!C189)=TRUE,\"\",D189+F189)","v":""},{"$f":"Vrijwilligersregister!L189","v":0}]
[null,184,{"$f":"IF(ISBLANK(Vrijwilligersregister!C190)=TRUE,\"\",Vrijwilligersregister!C190)","v":""},{"$f":"IF(ISBLANK(Vrijwilligersregister!C190)=TRUE,\"\",SUMIF('Nominatieve lijst'!$D$8:$D$10007,C190,'Nominatieve lijst'!$G$8:$G$10007))","v":""},{"$f":"IF(ISBLANK(Vrijwilligersregister!C190)=TRUE,\"\",SUMIF('Nominatieve lijst'!$D$8:$D$10007,C190,'Nominatieve lijst'!$H$8:$H$10007))","v":""},{"$f":"IF(ISBLANK(Vrijwilligersregister!C190)=TRUE,\"\",SUMIF('Nominatieve lijst'!$D$8:$D$10007,C190,'Nominatieve lijst'!$J$8:$J$10007))","v":""},{"$f":"IF(ISBLANK(Vrijwilligersregister!C190)=TRUE,\"\",D190+F190)","v":""},{"$f":"Vrijwilligersregister!L190","v":0}]
[null,185,{"$f":"IF(ISBLANK(Vrijwilligersregister!C191)=TRUE,\"\",Vrijwilligersregister!C191)","v":""},{"$f":"IF(ISBLANK(Vrijwilligersregister!C191)=TRUE,\"\",SUMIF('Nominatieve lijst'!$D$8:$D$10007,C191,'Nominatieve lijst'!$G$8:$G$10007))","v":""},{"$f":"IF(ISBLANK(Vrijwilligersregister!C191)=TRUE,\"\",SUMIF('Nominatieve lijst'!$D$8:$D$10007,C191,'Nominatieve lijst'!$H$8:$H$10007))","v":""},{"$f":"IF(ISBLANK(Vrijwilligersregister!C191)=TRUE,\"\",SUMIF('Nominatieve lijst'!$D$8:$D$10007,C191,'Nominatieve lijst'!$J$8:$J$10007))","v":""},{"$f":"IF(ISBLANK(Vrijwilligersregister!C191)=TRUE,\"\",D191+F191)","v":""},{"$f":"Vrijwilligersregister!L191","v":0}]
[null,186,{"$f":"IF(ISBLANK(Vrijwilligersregister!C192)=TRUE,\"\",Vrijwilligersregister!C192)","v":""},{"$f":"IF(ISBLANK(Vrijwilligersregister!C192)=TRUE,\"\",SUMIF('Nominatieve lijst'!$D$8:$D$10007,C192,'Nominatieve lijst'!$G$8:$G$10007))","v":""},{"$f":"IF(ISBLANK(Vrijwilligersregister!C192)=TRUE,\"\",SUMIF('Nominatieve lijst'!$D$8:$D$10007,C192,'Nominatieve lijst'!$H$8:$H$10007))","v":""},{"$f":"IF(ISBLANK(Vrijwilligersregister!C192)=TRUE,\"\",SUMIF('Nominatieve lijst'!$D$8:$D$10007,C192,'Nominatieve lijst'!$J$8:$J$10007))","v":""},{"$f":"IF(ISBLANK(Vrijwilligersregister!C192)=TRUE,\"\",D192+F192)","v":""},{"$f":"Vrijwilligersregister!L192","v":0}]
[null,187,{"$f":"IF(ISBLANK(Vrijwilligersregister!C193)=TRUE,\"\",Vrijwilligersregister!C193)","v":""},{"$f":"IF(ISBLANK(Vrijwilligersregister!C193)=TRUE,\"\",SUMIF('Nominatieve lijst'!$D$8:$D$10007,C193,'Nominatieve lijst'!$G$8:$G$10007))","v":""},{"$f":"IF(ISBLANK(Vrijwilligersregister!C193)=TRUE,\"\",SUMIF('Nominatieve lijst'!$D$8:$D$10007,C193,'Nominatieve lijst'!$H$8:$H$10007))","v":""},{"$f":"IF(ISBLANK(Vrijwilligersregister!C193)=TRUE,\"\",SUMIF('Nominatieve lijst'!$D$8:$D$10007,C193,'Nominatieve lijst'!$J$8:$J$10007))","v":""},{"$f":"IF(ISBLANK(Vrijwilligersregister!C193)=TRUE,\"\",D193+F193)","v":""},{"$f":"Vrijwilligersregister!L193","v":0}]
[null,188,{"$f":"IF(ISBLANK(Vrijwilligersregister!C194)=TRUE,\"\",Vrijwilligersregister!C194)","v":""},{"$f":"IF(ISBLANK(Vrijwilligersregister!C194)=TRUE,\"\",SUMIF('Nominatieve lijst'!$D$8:$D$10007,C194,'Nominatieve lijst'!$G$8:$G$10007))","v":""},{"$f":"IF(ISBLANK(Vrijwilligersregister!C194)=TRUE,\"\",SUMIF('Nominatieve lijst'!$D$8:$D$10007,C194,'Nominatieve lijst'!$H$8:$H$10007))","v":""},{"$f":"IF(ISBLANK(Vrijwilligersregister!C194)=TRUE,\"\",SUMIF('Nominatieve lijst'!$D$8:$D$10007,C194,'Nominatieve lijst'!$J$8:$J$10007))","v":""},{"$f":"IF(ISBLANK(Vrijwilligersregister!C194)=TRUE,\"\",D194+F194)","v":""},{"$f":"Vrijwilligersregister!L194","v":0}]
[null,189,{"$f":"IF(ISBLANK(Vrijwilligersregister!C195)=TRUE,\"\",Vrijwilligersregister!C195)","v":""},{"$f":"IF(ISBLANK(Vrijwilligersregister!C195)=TRUE,\"\",SUMIF('Nominatieve lijst'!$D$8:$D$10007,C195,'Nominatieve lijst'!$G$8:$G$10007))","v":""},{"$f":"IF(ISBLANK(Vrijwilligersregister!C195)=TRUE,\"\",SUMIF('Nominatieve lijst'!$D$8:$D$10007,C195,'Nominatieve lijst'!$H$8:$H$10007))","v":""},{"$f":"IF(ISBLANK(Vrijwilligersregister!C195)=TRUE,\"\",SUMIF('Nominatieve lijst'!$D$8:$D$10007,C195,'Nominatieve lijst'!$J$8:$J$10007))","v":""},{"$f":"IF(ISBLANK(Vrijwilligersregister!C195)=TRUE,\"\",D195+F195)","v":""},{"$f":"Vrijwilligersregister!L195","v":0}]
[null,190,{"$f":"IF(ISBLANK(Vrijwilligersregister!C196)=TRUE,\"\",Vrijwilligersregister!C196)","v":""},{"$f":"IF(ISBLANK(Vrijwilligersregister!C196)=TRUE,\"\",SUMIF('Nominatieve lijst'!$D$8:$D$10007,C196,'Nominatieve lijst'!$G$8:$G$10007))","v":""},{"$f":"IF(ISBLANK(Vrijwilligersregister!C196)=TRUE,\"\",SUMIF('Nominatieve lijst'!$D$8:$D$10007,C196,'Nominatieve lijst'!$H$8:$H$10007))","v":""},{"$f":"IF(ISBLANK(Vrijwilligersregister!C196)=TRUE,\"\",SUMIF('Nominatieve lijst'!$D$8:$D$10007,C196,'Nominatieve lijst'!$J$8:$J$10007))","v":""},{"$f":"IF(ISBLANK(Vrijwilligersregister!C196)=TRUE,\"\",D196+F196)","v":""},{"$f":"Vrijwilligersregister!L196","v":0}]
[null,191,{"$f":"IF(ISBLANK(Vrijwilligersregister!C197)=TRUE,\"\",Vrijwilligersregister!C197)","v":""},{"$f":"IF(ISBLANK(Vrijwilligersregister!C197)=TRUE,\"\",SUMIF('Nominatieve lijst'!$D$8:$D$10007,C197,'Nominatieve lijst'!$G$8:$G$10007))","v":""},{"$f":"IF(ISBLANK(Vrijwilligersregister!C197)=TRUE,\"\",SUMIF('Nominatieve lijst'!$D$8:$D$10007,C197,'Nominatieve lijst'!$H$8:$H$10007))","v":""},{"$f":"IF(ISBLANK(Vrijwilligersregister!C197)=TRUE,\"\",SUMIF('Nominatieve lijst'!$D$8:$D$10007,C197,'Nominatieve lijst'!$J$8:$J$10007))","v":""},{"$f":"IF(ISBLANK(Vrijwilligersregister!C197)=TRUE,\"\",D197+F197)","v":""},{"$f":"Vrijwilligersregister!L197","v":0}]
[null,192,{"$f":"IF(ISBLANK(Vrijwilligersregister!C198)=TRUE,\"\",Vrijwilligersregister!C198)","v":""},{"$f":"IF(ISBLANK(Vrijwilligersregister!C198)=TRUE,\"\",SUMIF('Nominatieve lijst'!$D$8:$D$10007,C198,'Nominatieve lijst'!$G$8:$G$10007))","v":""},{"$f":"IF(ISBLANK(Vrijwilligersregister!C198)=TRUE,\"\",SUMIF('Nominatieve lijst'!$D$8:$D$10007,C198,'Nominatieve lijst'!$H$8:$H$10007))","v":""},{"$f":"IF(ISBLANK(Vrijwilligersregister!C198)=TRUE,\"\",SUMIF('Nominatieve lijst'!$D$8:$D$10007,C198,'Nominatieve lijst'!$J$8:$J$10007))","v":""},{"$f":"IF(ISBLANK(Vrijwilligersregister!C198)=TRUE,\"\",D198+F198)","v":""},{"$f":"Vrijwilligersregister!L198","v":0}]
[null,193,{"$f":"IF(ISBLANK(Vrijwilligersregister!C199)=TRUE,\"\",Vrijwilligersregister!C199)","v":""},{"$f":"IF(ISBLANK(Vrijwilligersregister!C199)=TRUE,\"\",SUMIF('Nominatieve lijst'!$D$8:$D$10007,C199,'Nominatieve lijst'!$G$8:$G$10007))","v":""},{"$f":"IF(ISBLANK(Vrijwilligersregister!C199)=TRUE,\"\",SUMIF('Nominatieve lijst'!$D$8:$D$10007,C199,'Nominatieve lijst'!$H$8:$H$10007))","v":""},{"$f":"IF(ISBLANK(Vrijwilligersregister!C199)=TRUE,\"\",SUMIF('Nominatieve lijst'!$D$8:$D$10007,C199,'Nominatieve lijst'!$J$8:$J$10007))","v":""},{"$f":"IF(ISBLANK(Vrijwilligersregister!C199)=TRUE,\"\",D199+F199)","v":""},{"$f":"Vrijwilligersregister!L199","v":0}]
[null,194,{"$f":"IF(ISBLANK(Vrijwilligersregister!C200)=TRUE,\"\",Vrijwilligersregister!C200)","v":""},{"$f":"IF(ISBLANK(Vrijwilligersregister!C200)=TRUE,\"\",SUMIF('Nominatieve lijst'!$D$8:$D$10007,C200,'Nominatieve lijst'!$G$8:$G$10007))","v":""},{"$f":"IF(ISBLANK(Vrijwilligersregister!C200)=TRUE,\"\",SUMIF('Nominatieve lijst'!$D$8:$D$10007,C200,'Nominatieve lijst'!$H$8:$H$10007))","v":""},{"$f":"IF(ISBLANK(Vrijwilligersregister!C200)=TRUE,\"\",SUMIF('Nominatieve lijst'!$D$8:$D$10007,C200,'Nominatieve lijst'!$J$8:$J$10007))","v":""},{"$f":"IF(ISBLANK(Vrijwilligersregister!C200)=TRUE,\"\",D200+F200)","v":""},{"$f":"Vrijwilligersregister!L200","v":0}]
[null,195,{"$f":"IF(ISBLANK(Vrijwilligersregister!C201)=TRUE,\"\",Vrijwilligersregister!C201)","v":""},{"$f":"IF(ISBLANK(Vrijwilligersregister!C201)=TRUE,\"\",SUMIF('Nominatieve lijst'!$D$8:$D$10007,C201,'Nominatieve lijst'!$G$8:$G$10007))","v":""},{"$f":"IF(ISBLANK(Vrijwilligersregister!C201)=TRUE,\"\",SUMIF('Nominatieve lijst'!$D$8:$D$10007,C201,'Nominatieve lijst'!$H$8:$H$10007))","v":""},{"$f":"IF(ISBLANK(Vrijwilligersregister!C201)=TRUE,\"\",SUMIF('Nominatieve lijst'!$D$8:$D$10007,C201,'Nominatieve lijst'!$J$8:$J$10007))","v":""},{"$f":"IF(ISBLANK(Vrijwilligersregister!C201)=TRUE,\"\",D201+F201)","v":""},{"$f":"Vrijwilligersregister!L201","v":0}]
[null,196,{"$f":"IF(ISBLANK(Vrijwilligersregister!C202)=TRUE,\"\",Vrijwilligersregister!C202)","v":""},{"$f":"IF(ISBLANK(Vrijwilligersregister!C202)=TRUE,\"\",SUMIF('Nominatieve lijst'!$D$8:$D$10007,C202,'Nominatieve lijst'!$G$8:$G$10007))","v":""},{"$f":"IF(ISBLANK(Vrijwilligersregister!C202)=TRUE,\"\",SUMIF('Nominatieve lijst'!$D$8:$D$10007,C202,'Nominatieve lijst'!$H$8:$H$10007))","v":""},{"$f":"IF(ISBLANK(Vrijwilligersregister!C202)=TRUE,\"\",SUMIF('Nominatieve lijst'!$D$8:$D$10007,C202,'Nominatieve lijst'!$J$8:$J$10007))","v":""},{"$f":"IF(ISBLANK(Vrijwilligersregister!C202)=TRUE,\"\",D202+F202)","v":""},{"$f":"Vrijwilligersregister!L202","v":0}]
[null,197,{"$f":"IF(ISBLANK(Vrijwilligersregister!C203)=TRUE,\"\",Vrijwilligersregister!C203)","v":""},{"$f":"IF(ISBLANK(Vrijwilligersregister!C203)=TRUE,\"\",SUMIF('Nominatieve lijst'!$D$8:$D$10007,C203,'Nominatieve lijst'!$G$8:$G$10007))","v":""},{"$f":"IF(ISBLANK(Vrijwilligersregister!C203)=TRUE,\"\",SUMIF('Nominatieve lijst'!$D$8:$D$10007,C203,'Nominatieve lijst'!$H$8:$H$10007))","v":""},{"$f":"IF(ISBLANK(Vrijwilligersregister!C203)=TRUE,\"\",SUMIF('Nominatieve lijst'!$D$8:$D$10007,C203,'Nominatieve lijst'!$J$8:$J$10007))","v":""},{"$f":"IF(ISBLANK(Vrijwilligersregister!C203)=TRUE,\"\",D203+F203)","v":""},{"$f":"Vrijwilligersregister!L203","v":0}]
[null,198,{"$f":"IF(ISBLANK(Vrijwilligersregister!C204)=TRUE,\"\",Vrijwilligersregister!C204)","v":""},{"$f":"IF(ISBLANK(Vrijwilligersregister!C204)=TRUE,\"\",SUMIF('Nominatieve lijst'!$D$8:$D$10007,C204,'Nominatieve lijst'!$G$8:$G$10007))","v":""},{"$f":"IF(ISBLANK(Vrijwilligersregister!C204)=TRUE,\"\",SUMIF('Nominatieve lijst'!$D$8:$D$10007,C204,'Nominatieve lijst'!$H$8:$H$10007))","v":""},{"$f":"IF(ISBLANK(Vrijwilligersregister!C204)=TRUE,\"\",SUMIF('Nominatieve lijst'!$D$8:$D$10007,C204,'Nominatieve lijst'!$J$8:$J$10007))","v":""},{"$f":"IF(ISBLANK(Vrijwilligersregister!C204)=TRUE,\"\",D204+F204)","v":""},{"$f":"Vrijwilligersregister!L204","v":0}]
[null,199,{"$f":"IF(ISBLANK(Vrijwilligersregister!C205)=TRUE,\"\",Vrijwilligersregister!C205)","v":""},{"$f":"IF(ISBLANK(Vrijwilligersregister!C205)=TRUE,\"\",SUMIF('Nominatieve lijst'!$D$8:$D$10007,C205,'Nominatieve lijst'!$G$8:$G$10007))","v":""},{"$f":"IF(ISBLANK(Vrijwilligersregister!C205)=TRUE,\"\",SUMIF('Nominatieve lijst'!$D$8:$D$10007,C205,'Nominatieve lijst'!$H$8:$H$10007))","v":""},{"$f":"IF(ISBLANK(Vrijwilligersregister!C205)=TRUE,\"\",SUMIF('Nominatieve lijst'!$D$8:$D$10007,C205,'Nominatieve lijst'!$J$8:$J$10007))","v":""},{"$f":"IF(ISBLANK(Vrijwilligersregister!C205)=TRUE,\"\",D205+F205)","v":""},{"$f":"Vrijwilligersregister!L205","v":0}]
[null,200,{"$f":"IF(ISBLANK(Vrijwilligersregister!C206)=TRUE,\"\",Vrijwilligersregister!C206)","v":""},{"$f":"IF(ISBLANK(Vrijwilligersregister!C206)=TRUE,\"\",SUMIF('Nominatieve lijst'!$D$8:$D$10007,C206,'Nominatieve lijst'!$G$8:$G$10007))","v":""},{"$f":"IF(ISBLANK(Vrijwilligersregister!C206)=TRUE,\"\",SUMIF('Nominatieve lijst'!$D$8:$D$10007,C206,'Nominatieve lijst'!$H$8:$H$10007))","v":""},{"$f":"IF(ISBLANK(Vrijwilligersregister!C206)=TRUE,\"\",SUMIF('Nominatieve lijst'!$D$8:$D$10007,C206,'Nominatieve lijst'!$J$8:$J$10007))","v":""},{"$f":"IF(ISBLANK(Vrijwilligersregister!C206)=TRUE,\"\",D206+F206)","v":""},{"$f":"Vrijwilligersregister!L206","v":0}]
[null,201,{"$f":"IF(ISBLANK(Vrijwilligersregister!C207)=TRUE,\"\",Vrijwilligersregister!C207)","v":""},{"$f":"IF(ISBLANK(Vrijwilligersregister!C207)=TRUE,\"\",SUMIF('Nominatieve lijst'!$D$8:$D$10007,C207,'Nominatieve lijst'!$G$8:$G$10007))","v":""},{"$f":"IF(ISBLANK(Vrijwilligersregister!C207)=TRUE,\"\",SUMIF('Nominatieve lijst'!$D$8:$D$10007,C207,'Nominatieve lijst'!$H$8:$H$10007))","v":""},{"$f":"IF(ISBLANK(Vrijwilligersregister!C207)=TRUE,\"\",SUMIF('Nominatieve lijst'!$D$8:$D$10007,C207,'Nominatieve lijst'!$J$8:$J$10007))","v":""},{"$f":"IF(ISBLANK(Vrijwilligersregister!C207)=TRUE,\"\",D207+F207)","v":""},{"$f":"Vrijwilligersregister!L207","v":0}]
[null,202,{"$f":"IF(ISBLANK(Vrijwilligersregister!C208)=TRUE,\"\",Vrijwilligersregister!C208)","v":""},{"$f":"IF(ISBLANK(Vrijwilligersregister!C208)=TRUE,\"\",SUMIF('Nominatieve lijst'!$D$8:$D$10007,C208,'Nominatieve lijst'!$G$8:$G$10007))","v":""},{"$f":"IF(ISBLANK(Vrijwilligersregister!C208)=TRUE,\"\",SUMIF('Nominatieve lijst'!$D$8:$D$10007,C208,'Nominatieve lijst'!$H$8:$H$10007))","v":""},{"$f":"IF(ISBLANK(Vrijwilligersregister!C208)=TRUE,\"\",SUMIF('Nominatieve lijst'!$D$8:$D$10007,C208,'Nominatieve lijst'!$J$8:$J$10007))","v":""},{"$f":"IF(ISBLANK(Vrijwilligersregister!C208)=TRUE,\"\",D208+F208)","v":""},{"$f":"Vrijwilligersregister!L208","v":0}]
[null,203,{"$f":"IF(ISBLANK(Vrijwilligersregister!C209)=TRUE,\"\",Vrijwilligersregister!C209)","v":""},{"$f":"IF(ISBLANK(Vrijwilligersregister!C209)=TRUE,\"\",SUMIF('Nominatieve lijst'!$D$8:$D$10007,C209,'Nominatieve lijst'!$G$8:$G$10007))","v":""},{"$f":"IF(ISBLANK(Vrijwilligersregister!C209)=TRUE,\"\",SUMIF('Nominatieve lijst'!$D$8:$D$10007,C209,'Nominatieve lijst'!$H$8:$H$10007))","v":""},{"$f":"IF(ISBLANK(Vrijwilligersregister!C209)=TRUE,\"\",SUMIF('Nominatieve lijst'!$D$8:$D$10007,C209,'Nominatieve lijst'!$J$8:$J$10007))","v":""},{"$f":"IF(ISBLANK(Vrijwilligersregister!C209)=TRUE,\"\",D209+F209)","v":""},{"$f":"Vrijwilligersregister!L209","v":0}]
[null,204,{"$f":"IF(ISBLANK(Vrijwilligersregister!C210)=TRUE,\"\",Vrijwilligersregister!C210)","v":""},{"$f":"IF(ISBLANK(Vrijwilligersregister!C210)=TRUE,\"\",SUMIF('Nominatieve lijst'!$D$8:$D$10007,C210,'Nominatieve lijst'!$G$8:$G$10007))","v":""},{"$f":"IF(ISBLANK(Vrijwilligersregister!C210)=TRUE,\"\",SUMIF('Nominatieve lijst'!$D$8:$D$10007,C210,'Nominatieve lijst'!$H$8:$H$10007))","v":""},{"$f":"IF(ISBLANK(Vrijwilligersregister!C210)=TRUE,\"\",SUMIF('Nominatieve lijst'!$D$8:$D$10007,C210,'Nominatieve lijst'!$J$8:$J$10007))","v":""},{"$f":"IF(ISBLANK(Vrijwilligersregister!C210)=TRUE,\"\",D210+F210)","v":""},{"$f":"Vrijwilligersregister!L210","v":0}]
[null,205,{"$f":"IF(ISBLANK(Vrijwilligersregister!C211)=TRUE,\"\",Vrijwilligersregister!C211)","v":""},{"$f":"IF(ISBLANK(Vrijwilligersregister!C211)=TRUE,\"\",SUMIF('Nominatieve lijst'!$D$8:$D$10007,C211,'Nominatieve lijst'!$G$8:$G$10007))","v":""},{"$f":"IF(ISBLANK(Vrijwilligersregister!C211)=TRUE,\"\",SUMIF('Nominatieve lijst'!$D$8:$D$10007,C211,'Nominatieve lijst'!$H$8:$H$10007))","v":""},{"$f":"IF(ISBLANK(Vrijwilligersregister!C211)=TRUE,\"\",SUMIF('Nominatieve lijst'!$D$8:$D$10007,C211,'Nominatieve lijst'!$J$8:$J$10007))","v":""},{"$f":"IF(ISBLANK(Vrijwilligersregister!C211)=TRUE,\"\",D211+F211)","v":""},{"$f":"Vrijwilligersregister!L211","v":0}]
[null,206,{"$f":"IF(ISBLANK(Vrijwilligersregister!C212)=TRUE,\"\",Vrijwilligersregister!C212)","v":""},{"$f":"IF(ISBLANK(Vrijwilligersregister!C212)=TRUE,\"\",SUMIF('Nominatieve lijst'!$D$8:$D$10007,C212,'Nominatieve lijst'!$G$8:$G$10007))","v":""},{"$f":"IF(ISBLANK(Vrijwilligersregister!C212)=TRUE,\"\",SUMIF('Nominatieve lijst'!$D$8:$D$10007,C212,'Nominatieve lijst'!$H$8:$H$10007))","v":""},{"$f":"IF(ISBLANK(Vrijwilligersregister!C212)=TRUE,\"\",SUMIF('Nominatieve lijst'!$D$8:$D$10007,C212,'Nominatieve lijst'!$J$8:$J$10007))","v":""},{"$f":"IF(ISBLANK(Vrijwilligersregister!C212)=TRUE,\"\",D212+F212)","v":""},{"$f":"Vrijwilligersregister!L212","v":0}]
[null,207,{"$f":"IF(ISBLANK(Vrijwilligersregister!C213)=TRUE,\"\",Vrijwilligersregister!C213)","v":""},{"$f":"IF(ISBLANK(Vrijwilligersregister!C213)=TRUE,\"\",SUMIF('Nominatieve lijst'!$D$8:$D$10007,C213,'Nominatieve lijst'!$G$8:$G$10007))","v":""},{"$f":"IF(ISBLANK(Vrijwilligersregister!C213)=TRUE,\"\",SUMIF('Nominatieve lijst'!$D$8:$D$10007,C213,'Nominatieve lijst'!$H$8:$H$10007))","v":""},{"$f":"IF(ISBLANK(Vrijwilligersregister!C213)=TRUE,\"\",SUMIF('Nominatieve lijst'!$D$8:$D$10007,C213,'Nominatieve lijst'!$J$8:$J$10007))","v":""},{"$f":"IF(ISBLANK(Vrijwilligersregister!C213)=TRUE,\"\",D213+F213)","v":""},{"$f":"Vrijwilligersregister!L213","v":0}]
[null,208,{"$f":"IF(ISBLANK(Vrijwilligersregister!C214)=TRUE,\"\",Vrijwilligersregister!C214)","v":""},{"$f":"IF(ISBLANK(Vrijwilligersregister!C214)=TRUE,\"\",SUMIF('Nominatieve lijst'!$D$8:$D$10007,C214,'Nominatieve lijst'!$G$8:$G$10007))","v":""},{"$f":"IF(ISBLANK(Vrijwilligersregister!C214)=TRUE,\"\",SUMIF('Nominatieve lijst'!$D$8:$D$10007,C214,'Nominatieve lijst'!$H$8:$H$10007))","v":""},{"$f":"IF(ISBLANK(Vrijwilligersregister!C214)=TRUE,\"\",SUMIF('Nominatieve lijst'!$D$8:$D$10007,C214,'Nominatieve lijst'!$J$8:$J$10007))","v":""},{"$f":"IF(ISBLANK(Vrijwilligersregister!C214)=TRUE,\"\",D214+F214)","v":""},{"$f":"Vrijwilligersregister!L214","v":0}]
[null,209,{"$f":"IF(ISBLANK(Vrijwilligersregister!C215)=TRUE,\"\",Vrijwilligersregister!C215)","v":""},{"$f":"IF(ISBLANK(Vrijwilligersregister!C215)=TRUE,\"\",SUMIF('Nominatieve lijst'!$D$8:$D$10007,C215,'Nominatieve lijst'!$G$8:$G$10007))","v":""},{"$f":"IF(ISBLANK(Vrijwilligersregister!C215)=TRUE,\"\",SUMIF('Nominatieve lijst'!$D$8:$D$10007,C215,'Nominatieve lijst'!$H$8:$H$10007))","v":""},{"$f":"IF(ISBLANK(Vrijwilligersregister!C215)=TRUE,\"\",SUMIF('Nominatieve lijst'!$D$8:$D$10007,C215,'Nominatieve lijst'!$J$8:$J$10007))","v":""},{"$f":"IF(ISBLANK(Vrijwilligersregister!C215)=TRUE,\"\",D215+F215)","v":""},{"$f":"Vrijwilligersregister!L215","v":0}]
[null,210,{"$f":"IF(ISBLANK(Vrijwilligersregister!C216)=TRUE,\"\",Vrijwilligersregister!C216)","v":""},{"$f":"IF(ISBLANK(Vrijwilligersregister!C216)=TRUE,\"\",SUMIF('Nominatieve lijst'!$D$8:$D$10007,C216,'Nominatieve lijst'!$G$8:$G$10007))","v":""},{"$f":"IF(ISBLANK(Vrijwilligersregister!C216)=TRUE,\"\",SUMIF('Nominatieve lijst'!$D$8:$D$10007,C216,'Nominatieve lijst'!$H$8:$H$10007))","v":""},{"$f":"IF(ISBLANK(Vrijwilligersregister!C216)=TRUE,\"\",SUMIF('Nominatieve lijst'!$D$8:$D$10007,C216,'Nominatieve lijst'!$J$8:$J$10007))","v":""},{"$f":"IF(ISBLANK(Vrijwilligersregister!C216)=TRUE,\"\",D216+F216)","v":""},{"$f":"Vrijwilligersregister!L216","v":0}]
[null,211,{"$f":"IF(ISBLANK(Vrijwilligersregister!C217)=TRUE,\"\",Vrijwilligersregister!C217)","v":""},{"$f":"IF(ISBLANK(Vrijwilligersregister!C217)=TRUE,\"\",SUMIF('Nominatieve lijst'!$D$8:$D$10007,C217,'Nominatieve lijst'!$G$8:$G$10007))","v":""},{"$f":"IF(ISBLANK(Vrijwilligersregister!C217)=TRUE,\"\",SUMIF('Nominatieve lijst'!$D$8:$D$10007,C217,'Nominatieve lijst'!$H$8:$H$10007))","v":""},{"$f":"IF(ISBLANK(Vrijwilligersregister!C217)=TRUE,\"\",SUMIF('Nominatieve lijst'!$D$8:$D$10007,C217,'Nominatieve lijst'!$J$8:$J$10007))","v":""},{"$f":"IF(ISBLANK(Vrijwilligersregister!C217)=TRUE,\"\",D217+F217)","v":""},{"$f":"Vrijwilligersregister!L217","v":0}]
[null,212,{"$f":"IF(ISBLANK(Vrijwilligersregister!C218)=TRUE,\"\",Vrijwilligersregister!C218)","v":""},{"$f":"IF(ISBLANK(Vrijwilligersregister!C218)=TRUE,\"\",SUMIF('Nominatieve lijst'!$D$8:$D$10007,C218,'Nominatieve lijst'!$G$8:$G$10007))","v":""},{"$f":"IF(ISBLANK(Vrijwilligersregister!C218)=TRUE,\"\",SUMIF('Nominatieve lijst'!$D$8:$D$10007,C218,'Nominatieve lijst'!$H$8:$H$10007))","v":""},{"$f":"IF(ISBLANK(Vrijwilligersregister!C218)=TRUE,\"\",SUMIF('Nominatieve lijst'!$D$8:$D$10007,C218,'Nominatieve lijst'!$J$8:$J$10007))","v":""},{"$f":"IF(ISBLANK(Vrijwilligersregister!C218)=TRUE,\"\",D218+F218)","v":""},{"$f":"Vrijwilligersregister!L218","v":0}]
[null,213,{"$f":"IF(ISBLANK(Vrijwilligersregister!C219)=TRUE,\"\",Vrijwilligersregister!C219)","v":""},{"$f":"IF(ISBLANK(Vrijwilligersregister!C219)=TRUE,\"\",SUMIF('Nominatieve lijst'!$D$8:$D$10007,C219,'Nominatieve lijst'!$G$8:$G$10007))","v":""},{"$f":"IF(ISBLANK(Vrijwilligersregister!C219)=TRUE,\"\",SUMIF('Nominatieve lijst'!$D$8:$D$10007,C219,'Nominatieve lijst'!$H$8:$H$10007))","v":""},{"$f":"IF(ISBLANK(Vrijwilligersregister!C219)=TRUE,\"\",SUMIF('Nominatieve lijst'!$D$8:$D$10007,C219,'Nominatieve lijst'!$J$8:$J$10007))","v":""},{"$f":"IF(ISBLANK(Vrijwilligersregister!C219)=TRUE,\"\",D219+F219)","v":""},{"$f":"Vrijwilligersregister!L219","v":0}]
[null,214,{"$f":"IF(ISBLANK(Vrijwilligersregister!C220)=TRUE,\"\",Vrijwilligersregister!C220)","v":""},{"$f":"IF(ISBLANK(Vrijwilligersregister!C220)=TRUE,\"\",SUMIF('Nominatieve lijst'!$D$8:$D$10007,C220,'Nominatieve lijst'!$G$8:$G$10007))","v":""},{"$f":"IF(ISBLANK(Vrijwilligersregister!C220)=TRUE,\"\",SUMIF('Nominatieve lijst'!$D$8:$D$10007,C220,'Nominatieve lijst'!$H$8:$H$10007))","v":""},{"$f":"IF(ISBLANK(Vrijwilligersregister!C220)=TRUE,\"\",SUMIF('Nominatieve lijst'!$D$8:$D$10007,C220,'Nominatieve lijst'!$J$8:$J$10007))","v":""},{"$f":"IF(ISBLANK(Vrijwilligersregister!C220)=TRUE,\"\",D220+F220)","v":""},{"$f":"Vrijwilligersregister!L220","v":0}]
[null,215,{"$f":"IF(ISBLANK(Vrijwilligersregister!C221)=TRUE,\"\",Vrijwilligersregister!C221)","v":""},{"$f":"IF(ISBLANK(Vrijwilligersregister!C221)=TRUE,\"\",SUMIF('Nominatieve lijst'!$D$8:$D$10007,C221,'Nominatieve lijst'!$G$8:$G$10007))","v":""},{"$f":"IF(ISBLANK(Vrijwilligersregister!C221)=TRUE,\"\",SUMIF('Nominatieve lijst'!$D$8:$D$10007,C221,'Nominatieve lijst'!$H$8:$H$10007))","v":""},{"$f":"IF(ISBLANK(Vrijwilligersregister!C221)=TRUE,\"\",SUMIF('Nominatieve lijst'!$D$8:$D$10007,C221,'Nominatieve lijst'!$J$8:$J$10007))","v":""},{"$f":"IF(ISBLANK(Vrijwilligersregister!C221)=TRUE,\"\",D221+F221)","v":""},{"$f":"Vrijwilligersregister!L221","v":0}]
[null,216,{"$f":"IF(ISBLANK(Vrijwilligersregister!C222)=TRUE,\"\",Vrijwilligersregister!C222)","v":""},{"$f":"IF(ISBLANK(Vrijwilligersregister!C222)=TRUE,\"\",SUMIF('Nominatieve lijst'!$D$8:$D$10007,C222,'Nominatieve lijst'!$G$8:$G$10007))","v":""},{"$f":"IF(ISBLANK(Vrijwilligersregister!C222)=TRUE,\"\",SUMIF('Nominatieve lijst'!$D$8:$D$10007,C222,'Nominatieve lijst'!$H$8:$H$10007))","v":""},{"$f":"IF(ISBLANK(Vrijwilligersregister!C222)=TRUE,\"\",SUMIF('Nominatieve lijst'!$D$8:$D$10007,C222,'Nominatieve lijst'!$J$8:$J$10007))","v":""},{"$f":"IF(ISBLANK(Vrijwilligersregister!C222)=TRUE,\"\",D222+F222)","v":""},{"$f":"Vrijwilligersregister!L222","v":0}]
[null,217,{"$f":"IF(ISBLANK(Vrijwilligersregister!C223)=TRUE,\"\",Vrijwilligersregister!C223)","v":""},{"$f":"IF(ISBLANK(Vrijwilligersregister!C223)=TRUE,\"\",SUMIF('Nominatieve lijst'!$D$8:$D$10007,C223,'Nominatieve lijst'!$G$8:$G$10007))","v":""},{"$f":"IF(ISBLANK(Vrijwilligersregister!C223)=TRUE,\"\",SUMIF('Nominatieve lijst'!$D$8:$D$10007,C223,'Nominatieve lijst'!$H$8:$H$10007))","v":""},{"$f":"IF(ISBLANK(Vrijwilligersregister!C223)=TRUE,\"\",SUMIF('Nominatieve lijst'!$D$8:$D$10007,C223,'Nominatieve lijst'!$J$8:$J$10007))","v":""},{"$f":"IF(ISBLANK(Vrijwilligersregister!C223)=TRUE,\"\",D223+F223)","v":""},{"$f":"Vrijwilligersregister!L223","v":0}]
[null,218,{"$f":"IF(ISBLANK(Vrijwilligersregister!C224)=TRUE,\"\",Vrijwilligersregister!C224)","v":""},{"$f":"IF(ISBLANK(Vrijwilligersregister!C224)=TRUE,\"\",SUMIF('Nominatieve lijst'!$D$8:$D$10007,C224,'Nominatieve lijst'!$G$8:$G$10007))","v":""},{"$f":"IF(ISBLANK(Vrijwilligersregister!C224)=TRUE,\"\",SUMIF('Nominatieve lijst'!$D$8:$D$10007,C224,'Nominatieve lijst'!$H$8:$H$10007))","v":""},{"$f":"IF(ISBLANK(Vrijwilligersregister!C224)=TRUE,\"\",SUMIF('Nominatieve lijst'!$D$8:$D$10007,C224,'Nominatieve lijst'!$J$8:$J$10007))","v":""},{"$f":"IF(ISBLANK(Vrijwilligersregister!C224)=TRUE,\"\",D224+F224)","v":""},{"$f":"Vrijwilligersregister!L224","v":0}]
[null,219,{"$f":"IF(ISBLANK(Vrijwilligersregister!C225)=TRUE,\"\",Vrijwilligersregister!C225)","v":""},{"$f":"IF(ISBLANK(Vrijwilligersregister!C225)=TRUE,\"\",SUMIF('Nominatieve lijst'!$D$8:$D$10007,C225,'Nominatieve lijst'!$G$8:$G$10007))","v":""},{"$f":"IF(ISBLANK(Vrijwilligersregister!C225)=TRUE,\"\",SUMIF('Nominatieve lijst'!$D$8:$D$10007,C225,'Nominatieve lijst'!$H$8:$H$10007))","v":""},{"$f":"IF(ISBLANK(Vrijwilligersregister!C225)=TRUE,\"\",SUMIF('Nominatieve lijst'!$D$8:$D$10007,C225,'Nominatieve lijst'!$J$8:$J$10007))","v":""},{"$f":"IF(ISBLANK(Vrijwilligersregister!C225)=TRUE,\"\",D225+F225)","v":""},{"$f":"Vrijwilligersregister!L225","v":0}]
[null,220,{"$f":"IF(ISBLANK(Vrijwilligersregister!C226)=TRUE,\"\",Vrijwilligersregister!C226)","v":""},{"$f":"IF(ISBLANK(Vrijwilligersregister!C226)=TRUE,\"\",SUMIF('Nominatieve lijst'!$D$8:$D$10007,C226,'Nominatieve lijst'!$G$8:$G$10007))","v":""},{"$f":"IF(ISBLANK(Vrijwilligersregister!C226)=TRUE,\"\",SUMIF('Nominatieve lijst'!$D$8:$D$10007,C226,'Nominatieve lijst'!$H$8:$H$10007))","v":""},{"$f":"IF(ISBLANK(Vrijwilligersregister!C226)=TRUE,\"\",SUMIF('Nominatieve lijst'!$D$8:$D$10007,C226,'Nominatieve lijst'!$J$8:$J$10007))","v":""},{"$f":"IF(ISBLANK(Vrijwilligersregister!C226)=TRUE,\"\",D226+F226)","v":""},{"$f":"Vrijwilligersregister!L226","v":0}]
[null,221,{"$f":"IF(ISBLANK(Vrijwilligersregister!C227)=TRUE,\"\",Vrijwilligersregister!C227)","v":""},{"$f":"IF(ISBLANK(Vrijwilligersregister!C227)=TRUE,\"\",SUMIF('Nominatieve lijst'!$D$8:$D$10007,C227,'Nominatieve lijst'!$G$8:$G$10007))","v":""},{"$f":"IF(ISBLANK(Vrijwilligersregister!C227)=TRUE,\"\",SUMIF('Nominatieve lijst'!$D$8:$D$10007,C227,'Nominatieve lijst'!$H$8:$H$10007))","v":""},{"$f":"IF(ISBLANK(Vrijwilligersregister!C227)=TRUE,\"\",SUMIF('Nominatieve lijst'!$D$8:$D$10007,C227,'Nominatieve lijst'!$J$8:$J$10007))","v":""},{"$f":"IF(ISBLANK(Vrijwilligersregister!C227)=TRUE,\"\",D227+F227)","v":""},{"$f":"Vrijwilligersregister!L227","v":0}]
[null,222,{"$f":"IF(ISBLANK(Vrijwilligersregister!C228)=TRUE,\"\",Vrijwilligersregister!C228)","v":""},{"$f":"IF(ISBLANK(Vrijwilligersregister!C228)=TRUE,\"\",SUMIF('Nominatieve lijst'!$D$8:$D$10007,C228,'Nominatieve lijst'!$G$8:$G$10007))","v":""},{"$f":"IF(ISBLANK(Vrijwilligersregister!C228)=TRUE,\"\",SUMIF('Nominatieve lijst'!$D$8:$D$10007,C228,'Nominatieve lijst'!$H$8:$H$10007))","v":""},{"$f":"IF(ISBLANK(Vrijwilligersregister!C228)=TRUE,\"\",SUMIF('Nominatieve lijst'!$D$8:$D$10007,C228,'Nominatieve lijst'!$J$8:$J$10007))","v":""},{"$f":"IF(ISBLANK(Vrijwilligersregister!C228)=TRUE,\"\",D228+F228)","v":""},{"$f":"Vrijwilligersregister!L228","v":0}]
[null,223,{"$f":"IF(ISBLANK(Vrijwilligersregister!C229)=TRUE,\"\",Vrijwilligersregister!C229)","v":""},{"$f":"IF(ISBLANK(Vrijwilligersregister!C229)=TRUE,\"\",SUMIF('Nominatieve lijst'!$D$8:$D$10007,C229,'Nominatieve lijst'!$G$8:$G$10007))","v":""},{"$f":"IF(ISBLANK(Vrijwilligersregister!C229)=TRUE,\"\",SUMIF('Nominatieve lijst'!$D$8:$D$10007,C229,'Nominatieve lijst'!$H$8:$H$10007))","v":""},{"$f":"IF(ISBLANK(Vrijwilligersregister!C229)=TRUE,\"\",SUMIF('Nominatieve lijst'!$D$8:$D$10007,C229,'Nominatieve lijst'!$J$8:$J$10007))","v":""},{"$f":"IF(ISBLANK(Vrijwilligersregister!C229)=TRUE,\"\",D229+F229)","v":""},{"$f":"Vrijwilligersregister!L229","v":0}]
[null,224,{"$f":"IF(ISBLANK(Vrijwilligersregister!C230)=TRUE,\"\",Vrijwilligersregister!C230)","v":""},{"$f":"IF(ISBLANK(Vrijwilligersregister!C230)=TRUE,\"\",SUMIF('Nominatieve lijst'!$D$8:$D$10007,C230,'Nominatieve lijst'!$G$8:$G$10007))","v":""},{"$f":"IF(ISBLANK(Vrijwilligersregister!C230)=TRUE,\"\",SUMIF('Nominatieve lijst'!$D$8:$D$10007,C230,'Nominatieve lijst'!$H$8:$H$10007))","v":""},{"$f":"IF(ISBLANK(Vrijwilligersregister!C230)=TRUE,\"\",SUMIF('Nominatieve lijst'!$D$8:$D$10007,C230,'Nominatieve lijst'!$J$8:$J$10007))","v":""},{"$f":"IF(ISBLANK(Vrijwilligersregister!C230)=TRUE,\"\",D230+F230)","v":""},{"$f":"Vrijwilligersregister!L230","v":0}]
[null,225,{"$f":"IF(ISBLANK(Vrijwilligersregister!C231)=TRUE,\"\",Vrijwilligersregister!C231)","v":""},{"$f":"IF(ISBLANK(Vrijwilligersregister!C231)=TRUE,\"\",SUMIF('Nominatieve lijst'!$D$8:$D$10007,C231,'Nominatieve lijst'!$G$8:$G$10007))","v":""},{"$f":"IF(ISBLANK(Vrijwilligersregister!C231)=TRUE,\"\",SUMIF('Nominatieve lijst'!$D$8:$D$10007,C231,'Nominatieve lijst'!$H$8:$H$10007))","v":""},{"$f":"IF(ISBLANK(Vrijwilligersregister!C231)=TRUE,\"\",SUMIF('Nominatieve lijst'!$D$8:$D$10007,C231,'Nominatieve lijst'!$J$8:$J$10007))","v":""},{"$f":"IF(ISBLANK(Vrijwilligersregister!C231)=TRUE,\"\",D231+F231)","v":""},{"$f":"Vrijwilligersregister!L231","v":0}]
[null,226,{"$f":"IF(ISBLANK(Vrijwilligersregister!C232)=TRUE,\"\",Vrijwilligersregister!C232)","v":""},{"$f":"IF(ISBLANK(Vrijwilligersregister!C232)=TRUE,\"\",SUMIF('Nominatieve lijst'!$D$8:$D$10007,C232,'Nominatieve lijst'!$G$8:$G$10007))","v":""},{"$f":"IF(ISBLANK(Vrijwilligersregister!C232)=TRUE,\"\",SUMIF('Nominatieve lijst'!$D$8:$D$10007,C232,'Nominatieve lijst'!$H$8:$H$10007))","v":""},{"$f":"IF(ISBLANK(Vrijwilligersregister!C232)=TRUE,\"\",SUMIF('Nominatieve lijst'!$D$8:$D$10007,C232,'Nominatieve lijst'!$J$8:$J$10007))","v":""},{"$f":"IF(ISBLANK(Vrijwilligersregister!C232)=TRUE,\"\",D232+F232)","v":""},{"$f":"Vrijwilligersregister!L232","v":0}]
[null,227,{"$f":"IF(ISBLANK(Vrijwilligersregister!C233)=TRUE,\"\",Vrijwilligersregister!C233)","v":""},{"$f":"IF(ISBLANK(Vrijwilligersregister!C233)=TRUE,\"\",SUMIF('Nominatieve lijst'!$D$8:$D$10007,C233,'Nominatieve lijst'!$G$8:$G$10007))","v":""},{"$f":"IF(ISBLANK(Vrijwilligersregister!C233)=TRUE,\"\",SUMIF('Nominatieve lijst'!$D$8:$D$10007,C233,'Nominatieve lijst'!$H$8:$H$10007))","v":""},{"$f":"IF(ISBLANK(Vrijwilligersregister!C233)=TRUE,\"\",SUMIF('Nominatieve lijst'!$D$8:$D$10007,C233,'Nominatieve lijst'!$J$8:$J$10007))","v":""},{"$f":"IF(ISBLANK(Vrijwilligersregister!C233)=TRUE,\"\",D233+F233)","v":""},{"$f":"Vrijwilligersregister!L233","v":0}]
[null,228,{"$f":"IF(ISBLANK(Vrijwilligersregister!C234)=TRUE,\"\",Vrijwilligersregister!C234)","v":""},{"$f":"IF(ISBLANK(Vrijwilligersregister!C234)=TRUE,\"\",SUMIF('Nominatieve lijst'!$D$8:$D$10007,C234,'Nominatieve lijst'!$G$8:$G$10007))","v":""},{"$f":"IF(ISBLANK(Vrijwilligersregister!C234)=TRUE,\"\",SUMIF('Nominatieve lijst'!$D$8:$D$10007,C234,'Nominatieve lijst'!$H$8:$H$10007))","v":""},{"$f":"IF(ISBLANK(Vrijwilligersregister!C234)=TRUE,\"\",SUMIF('Nominatieve lijst'!$D$8:$D$10007,C234,'Nominatieve lijst'!$J$8:$J$10007))","v":""},{"$f":"IF(ISBLANK(Vrijwilligersregister!C234)=TRUE,\"\",D234+F234)","v":""},{"$f":"Vrijwilligersregister!L234","v":0}]
[null,229,{"$f":"IF(ISBLANK(Vrijwilligersregister!C235)=TRUE,\"\",Vrijwilligersregister!C235)","v":""},{"$f":"IF(ISBLANK(Vrijwilligersregister!C235)=TRUE,\"\",SUMIF('Nominatieve lijst'!$D$8:$D$10007,C235,'Nominatieve lijst'!$G$8:$G$10007))","v":""},{"$f":"IF(ISBLANK(Vrijwilligersregister!C235)=TRUE,\"\",SUMIF('Nominatieve lijst'!$D$8:$D$10007,C235,'Nominatieve lijst'!$H$8:$H$10007))","v":""},{"$f":"IF(ISBLANK(Vrijwilligersregister!C235)=TRUE,\"\",SUMIF('Nominatieve lijst'!$D$8:$D$10007,C235,'Nominatieve lijst'!$J$8:$J$10007))","v":""},{"$f":"IF(ISBLANK(Vrijwilligersregister!C235)=TRUE,\"\",D235+F235)","v":""},{"$f":"Vrijwilligersregister!L235","v":0}]
[null,230,{"$f":"IF(ISBLANK(Vrijwilligersregister!C236)=TRUE,\"\",Vrijwilligersregister!C236)","v":""},{"$f":"IF(ISBLANK(Vrijwilligersregister!C236)=TRUE,\"\",SUMIF('Nominatieve lijst'!$D$8:$D$10007,C236,'Nominatieve lijst'!$G$8:$G$10007))","v":""},{"$f":"IF(ISBLANK(Vrijwilligersregister!C236)=TRUE,\"\",SUMIF('Nominatieve lijst'!$D$8:$D$10007,C236,'Nominatieve lijst'!$H$8:$H$10007))","v":""},{"$f":"IF(ISBLANK(Vrijwilligersregister!C236)=TRUE,\"\",SUMIF('Nominatieve lijst'!$D$8:$D$10007,C236,'Nominatieve lijst'!$J$8:$J$10007))","v":""},{"$f":"IF(ISBLANK(Vrijwilligersregister!C236)=TRUE,\"\",D236+F236)","v":""},{"$f":"Vrijwilligersregister!L236","v":0}]
[null,231,{"$f":"IF(ISBLANK(Vrijwilligersregister!C237)=TRUE,\"\",Vrijwilligersregister!C237)","v":""},{"$f":"IF(ISBLANK(Vrijwilligersregister!C237)=TRUE,\"\",SUMIF('Nominatieve lijst'!$D$8:$D$10007,C237,'Nominatieve lijst'!$G$8:$G$10007))","v":""},{"$f":"IF(ISBLANK(Vrijwilligersregister!C237)=TRUE,\"\",SUMIF('Nominatieve lijst'!$D$8:$D$10007,C237,'Nominatieve lijst'!$H$8:$H$10007))","v":""},{"$f":"IF(ISBLANK(Vrijwilligersregister!C237)=TRUE,\"\",SUMIF('Nominatieve lijst'!$D$8:$D$10007,C237,'Nominatieve lijst'!$J$8:$J$10007))","v":""},{"$f":"IF(ISBLANK(Vrijwilligersregister!C237)=TRUE,\"\",D237+F237)","v":""},{"$f":"Vrijwilligersregister!L237","v":0}]
[null,232,{"$f":"IF(ISBLANK(Vrijwilligersregister!C238)=TRUE,\"\",Vrijwilligersregister!C238)","v":""},{"$f":"IF(ISBLANK(Vrijwilligersregister!C238)=TRUE,\"\",SUMIF('Nominatieve lijst'!$D$8:$D$10007,C238,'Nominatieve lijst'!$G$8:$G$10007))","v":""},{"$f":"IF(ISBLANK(Vrijwilligersregister!C238)=TRUE,\"\",SUMIF('Nominatieve lijst'!$D$8:$D$10007,C238,'Nominatieve lijst'!$H$8:$H$10007))","v":""},{"$f":"IF(ISBLANK(Vrijwilligersregister!C238)=TRUE,\"\",SUMIF('Nominatieve lijst'!$D$8:$D$10007,C238,'Nominatieve lijst'!$J$8:$J$10007))","v":""},{"$f":"IF(ISBLANK(Vrijwilligersregister!C238)=TRUE,\"\",D238+F238)","v":""},{"$f":"Vrijwilligersregister!L238","v":0}]
[null,233,{"$f":"IF(ISBLANK(Vrijwilligersregister!C239)=TRUE,\"\",Vrijwilligersregister!C239)","v":""},{"$f":"IF(ISBLANK(Vrijwilligersregister!C239)=TRUE,\"\",SUMIF('Nominatieve lijst'!$D$8:$D$10007,C239,'Nominatieve lijst'!$G$8:$G$10007))","v":""},{"$f":"IF(ISBLANK(Vrijwilligersregister!C239)=TRUE,\"\",SUMIF('Nominatieve lijst'!$D$8:$D$10007,C239,'Nominatieve lijst'!$H$8:$H$10007))","v":""},{"$f":"IF(ISBLANK(Vrijwilligersregister!C239)=TRUE,\"\",SUMIF('Nominatieve lijst'!$D$8:$D$10007,C239,'Nominatieve lijst'!$J$8:$J$10007))","v":""},{"$f":"IF(ISBLANK(Vrijwilligersregister!C239)=TRUE,\"\",D239+F239)","v":""},{"$f":"Vrijwilligersregister!L239","v":0}]
[null,234,{"$f":"IF(ISBLANK(Vrijwilligersregister!C240)=TRUE,\"\",Vrijwilligersregister!C240)","v":""},{"$f":"IF(ISBLANK(Vrijwilligersregister!C240)=TRUE,\"\",SUMIF('Nominatieve lijst'!$D$8:$D$10007,C240,'Nominatieve lijst'!$G$8:$G$10007))","v":""},{"$f":"IF(ISBLANK(Vrijwilligersregister!C240)=TRUE,\"\",SUMIF('Nominatieve lijst'!$D$8:$D$10007,C240,'Nominatieve lijst'!$H$8:$H$10007))","v":""},{"$f":"IF(ISBLANK(Vrijwilligersregister!C240)=TRUE,\"\",SUMIF('Nominatieve lijst'!$D$8:$D$10007,C240,'Nominatieve lijst'!$J$8:$J$10007))","v":""},{"$f":"IF(ISBLANK(Vrijwilligersregister!C240)=TRUE,\"\",D240+F240)","v":""},{"$f":"Vrijwilligersregister!L240","v":0}]
[null,235,{"$f":"IF(ISBLANK(Vrijwilligersregister!C241)=TRUE,\"\",Vrijwilligersregister!C241)","v":""},{"$f":"IF(ISBLANK(Vrijwilligersregister!C241)=TRUE,\"\",SUMIF('Nominatieve lijst'!$D$8:$D$10007,C241,'Nominatieve lijst'!$G$8:$G$10007))","v":""},{"$f":"IF(ISBLANK(Vrijwilligersregister!C241)=TRUE,\"\",SUMIF('Nominatieve lijst'!$D$8:$D$10007,C241,'Nominatieve lijst'!$H$8:$H$10007))","v":""},{"$f":"IF(ISBLANK(Vrijwilligersregister!C241)=TRUE,\"\",SUMIF('Nominatieve lijst'!$D$8:$D$10007,C241,'Nominatieve lijst'!$J$8:$J$10007))","v":""},{"$f":"IF(ISBLANK(Vrijwilligersregister!C241)=TRUE,\"\",D241+F241)","v":""},{"$f":"Vrijwilligersregister!L241","v":0}]
[null,236,{"$f":"IF(ISBLANK(Vrijwilligersregister!C242)=TRUE,\"\",Vrijwilligersregister!C242)","v":""},{"$f":"IF(ISBLANK(Vrijwilligersregister!C242)=TRUE,\"\",SUMIF('Nominatieve lijst'!$D$8:$D$10007,C242,'Nominatieve lijst'!$G$8:$G$10007))","v":""},{"$f":"IF(ISBLANK(Vrijwilligersregister!C242)=TRUE,\"\",SUMIF('Nominatieve lijst'!$D$8:$D$10007,C242,'Nominatieve lijst'!$H$8:$H$10007))","v":""},{"$f":"IF(ISBLANK(Vrijwilligersregister!C242)=TRUE,\"\",SUMIF('Nominatieve lijst'!$D$8:$D$10007,C242,'Nominatieve lijst'!$J$8:$J$10007))","v":""},{"$f":"IF(ISBLANK(Vrijwilligersregister!C242)=TRUE,\"\",D242+F242)","v":""},{"$f":"Vrijwilligersregister!L242","v":0}]
[null,237,{"$f":"IF(ISBLANK(Vrijwilligersregister!C243)=TRUE,\"\",Vrijwilligersregister!C243)","v":""},{"$f":"IF(ISBLANK(Vrijwilligersregister!C243)=TRUE,\"\",SUMIF('Nominatieve lijst'!$D$8:$D$10007,C243,'Nominatieve lijst'!$G$8:$G$10007))","v":""},{"$f":"IF(ISBLANK(Vrijwilligersregister!C243)=TRUE,\"\",SUMIF('Nominatieve lijst'!$D$8:$D$10007,C243,'Nominatieve lijst'!$H$8:$H$10007))","v":""},{"$f":"IF(ISBLANK(Vrijwilligersregister!C243)=TRUE,\"\",SUMIF('Nominatieve lijst'!$D$8:$D$10007,C243,'Nominatieve lijst'!$J$8:$J$10007))","v":""},{"$f":"IF(ISBLANK(Vrijwilligersregister!C243)=TRUE,\"\",D243+F243)","v":""},{"$f":"Vrijwilligersregister!L243","v":0}]
[null,238,{"$f":"IF(ISBLANK(Vrijwilligersregister!C244)=TRUE,\"\",Vrijwilligersregister!C244)","v":""},{"$f":"IF(ISBLANK(Vrijwilligersregister!C244)=TRUE,\"\",SUMIF('Nominatieve lijst'!$D$8:$D$10007,C244,'Nominatieve lijst'!$G$8:$G$10007))","v":""},{"$f":"IF(ISBLANK(Vrijwilligersregister!C244)=TRUE,\"\",SUMIF('Nominatieve lijst'!$D$8:$D$10007,C244,'Nominatieve lijst'!$H$8:$H$10007))","v":""},{"$f":"IF(ISBLANK(Vrijwilligersregister!C244)=TRUE,\"\",SUMIF('Nominatieve lijst'!$D$8:$D$10007,C244,'Nominatieve lijst'!$J$8:$J$10007))","v":""},{"$f":"IF(ISBLANK(Vrijwilligersregister!C244)=TRUE,\"\",D244+F244)","v":""},{"$f":"Vrijwilligersregister!L244","v":0}]
[null,239,{"$f":"IF(ISBLANK(Vrijwilligersregister!C245)=TRUE,\"\",Vrijwilligersregister!C245)","v":""},{"$f":"IF(ISBLANK(Vrijwilligersregister!C245)=TRUE,\"\",SUMIF('Nominatieve lijst'!$D$8:$D$10007,C245,'Nominatieve lijst'!$G$8:$G$10007))","v":""},{"$f":"IF(ISBLANK(Vrijwilligersregister!C245)=TRUE,\"\",SUMIF('Nominatieve lijst'!$D$8:$D$10007,C245,'Nominatieve lijst'!$H$8:$H$10007))","v":""},{"$f":"IF(ISBLANK(Vrijwilligersregister!C245)=TRUE,\"\",SUMIF('Nominatieve lijst'!$D$8:$D$10007,C245,'Nominatieve lijst'!$J$8:$J$10007))","v":""},{"$f":"IF(ISBLANK(Vrijwilligersregister!C245)=TRUE,\"\",D245+F245)","v":""},{"$f":"Vrijwilligersregister!L245","v":0}]
[null,240,{"$f":"IF(ISBLANK(Vrijwilligersregister!C246)=TRUE,\"\",Vrijwilligersregister!C246)","v":""},{"$f":"IF(ISBLANK(Vrijwilligersregister!C246)=TRUE,\"\",SUMIF('Nominatieve lijst'!$D$8:$D$10007,C246,'Nominatieve lijst'!$G$8:$G$10007))","v":""},{"$f":"IF(ISBLANK(Vrijwilligersregister!C246)=TRUE,\"\",SUMIF('Nominatieve lijst'!$D$8:$D$10007,C246,'Nominatieve lijst'!$H$8:$H$10007))","v":""},{"$f":"IF(ISBLANK(Vrijwilligersregister!C246)=TRUE,\"\",SUMIF('Nominatieve lijst'!$D$8:$D$10007,C246,'Nominatieve lijst'!$J$8:$J$10007))","v":""},{"$f":"IF(ISBLANK(Vrijwilligersregister!C246)=TRUE,\"\",D246+F246)","v":""},{"$f":"Vrijwilligersregister!L246","v":0}]
[null,241,{"$f":"IF(ISBLANK(Vrijwilligersregister!C247)=TRUE,\"\",Vrijwilligersregister!C247)","v":""},{"$f":"IF(ISBLANK(Vrijwilligersregister!C247)=TRUE,\"\",SUMIF('Nominatieve lijst'!$D$8:$D$10007,C247,'Nominatieve lijst'!$G$8:$G$10007))","v":""},{"$f":"IF(ISBLANK(Vrijwilligersregister!C247)=TRUE,\"\",SUMIF('Nominatieve lijst'!$D$8:$D$10007,C247,'Nominatieve lijst'!$H$8:$H$10007))","v":""},{"$f":"IF(ISBLANK(Vrijwilligersregister!C247)=TRUE,\"\",SUMIF('Nominatieve lijst'!$D$8:$D$10007,C247,'Nominatieve lijst'!$J$8:$J$10007))","v":""},{"$f":"IF(ISBLANK(Vrijwilligersregister!C247)=TRUE,\"\",D247+F247)","v":""},{"$f":"Vrijwilligersregister!L247","v":0}]
[null,242,{"$f":"IF(ISBLANK(Vrijwilligersregister!C248)=TRUE,\"\",Vrijwilligersregister!C248)","v":""},{"$f":"IF(ISBLANK(Vrijwilligersregister!C248)=TRUE,\"\",SUMIF('Nominatieve lijst'!$D$8:$D$10007,C248,'Nominatieve lijst'!$G$8:$G$10007))","v":""},{"$f":"IF(ISBLANK(Vrijwilligersregister!C248)=TRUE,\"\",SUMIF('Nominatieve lijst'!$D$8:$D$10007,C248,'Nominatieve lijst'!$H$8:$H$10007))","v":""},{"$f":"IF(ISBLANK(Vrijwilligersregister!C248)=TRUE,\"\",SUMIF('Nominatieve lijst'!$D$8:$D$10007,C248,'Nominatieve lijst'!$J$8:$J$10007))","v":""},{"$f":"IF(ISBLANK(Vrijwilligersregister!C248)=TRUE,\"\",D248+F248)","v":""},{"$f":"Vrijwilligersregister!L248","v":0}]
[null,243,{"$f":"IF(ISBLANK(Vrijwilligersregister!C249)=TRUE,\"\",Vrijwilligersregister!C249)","v":""},{"$f":"IF(ISBLANK(Vrijwilligersregister!C249)=TRUE,\"\",SUMIF('Nominatieve lijst'!$D$8:$D$10007,C249,'Nominatieve lijst'!$G$8:$G$10007))","v":""},{"$f":"IF(ISBLANK(Vrijwilligersregister!C249)=TRUE,\"\",SUMIF('Nominatieve lijst'!$D$8:$D$10007,C249,'Nominatieve lijst'!$H$8:$H$10007))","v":""},{"$f":"IF(ISBLANK(Vrijwilligersregister!C249)=TRUE,\"\",SUMIF('Nominatieve lijst'!$D$8:$D$10007,C249,'Nominatieve lijst'!$J$8:$J$10007))","v":""},{"$f":"IF(ISBLANK(Vrijwilligersregister!C249)=TRUE,\"\",D249+F249)","v":""},{"$f":"Vrijwilligersregister!L249","v":0}]
[null,244,{"$f":"IF(ISBLANK(Vrijwilligersregister!C250)=TRUE,\"\",Vrijwilligersregister!C250)","v":""},{"$f":"IF(ISBLANK(Vrijwilligersregister!C250)=TRUE,\"\",SUMIF('Nominatieve lijst'!$D$8:$D$10007,C250,'Nominatieve lijst'!$G$8:$G$10007))","v":""},{"$f":"IF(ISBLANK(Vrijwilligersregister!C250)=TRUE,\"\",SUMIF('Nominatieve lijst'!$D$8:$D$10007,C250,'Nominatieve lijst'!$H$8:$H$10007))","v":""},{"$f":"IF(ISBLANK(Vrijwilligersregister!C250)=TRUE,\"\",SUMIF('Nominatieve lijst'!$D$8:$D$10007,C250,'Nominatieve lijst'!$J$8:$J$10007))","v":""},{"$f":"IF(ISBLANK(Vrijwilligersregister!C250)=TRUE,\"\",D250+F250)","v":""},{"$f":"Vrijwilligersregister!L250","v":0}]
[null,245,{"$f":"IF(ISBLANK(Vrijwilligersregister!C251)=TRUE,\"\",Vrijwilligersregister!C251)","v":""},{"$f":"IF(ISBLANK(Vrijwilligersregister!C251)=TRUE,\"\",SUMIF('Nominatieve lijst'!$D$8:$D$10007,C251,'Nominatieve lijst'!$G$8:$G$10007))","v":""},{"$f":"IF(ISBLANK(Vrijwilligersregister!C251)=TRUE,\"\",SUMIF('Nominatieve lijst'!$D$8:$D$10007,C251,'Nominatieve lijst'!$H$8:$H$10007))","v":""},{"$f":"IF(ISBLANK(Vrijwilligersregister!C251)=TRUE,\"\",SUMIF('Nominatieve lijst'!$D$8:$D$10007,C251,'Nominatieve lijst'!$J$8:$J$10007))","v":""},{"$f":"IF(ISBLANK(Vrijwilligersregister!C251)=TRUE,\"\",D251+F251)","v":""},{"$f":"Vrijwilligersregister!L251","v":0}]
[null,246,{"$f":"IF(ISBLANK(Vrijwilligersregister!C252)=TRUE,\"\",Vrijwilligersregister!C252)","v":""},{"$f":"IF(ISBLANK(Vrijwilligersregister!C252)=TRUE,\"\",SUMIF('Nominatieve lijst'!$D$8:$D$10007,C252,'Nominatieve lijst'!$G$8:$G$10007))","v":""},{"$f":"IF(ISBLANK(Vrijwilligersregister!C252)=TRUE,\"\",SUMIF('Nominatieve lijst'!$D$8:$D$10007,C252,'Nominatieve lijst'!$H$8:$H$10007))","v":""},{"$f":"IF(ISBLANK(Vrijwilligersregister!C252)=TRUE,\"\",SUMIF('Nominatieve lijst'!$D$8:$D$10007,C252,'Nominatieve lijst'!$J$8:$J$10007))","v":""},{"$f":"IF(ISBLANK(Vrijwilligersregister!C252)=TRUE,\"\",D252+F252)","v":""},{"$f":"Vrijwilligersregister!L252","v":0}]
[null,247,{"$f":"IF(ISBLANK(Vrijwilligersregister!C253)=TRUE,\"\",Vrijwilligersregister!C253)","v":""},{"$f":"IF(ISBLANK(Vrijwilligersregister!C253)=TRUE,\"\",SUMIF('Nominatieve lijst'!$D$8:$D$10007,C253,'Nominatieve lijst'!$G$8:$G$10007))","v":""},{"$f":"IF(ISBLANK(Vrijwilligersregister!C253)=TRUE,\"\",SUMIF('Nominatieve lijst'!$D$8:$D$10007,C253,'Nominatieve lijst'!$H$8:$H$10007))","v":""},{"$f":"IF(ISBLANK(Vrijwilligersregister!C253)=TRUE,\"\",SUMIF('Nominatieve lijst'!$D$8:$D$10007,C253,'Nominatieve lijst'!$J$8:$J$10007))","v":""},{"$f":"IF(ISBLANK(Vrijwilligersregister!C253)=TRUE,\"\",D253+F253)","v":""},{"$f":"Vrijwilligersregister!L253","v":0}]
[null,248,{"$f":"IF(ISBLANK(Vrijwilligersregister!C254)=TRUE,\"\",Vrijwilligersregister!C254)","v":""},{"$f":"IF(ISBLANK(Vrijwilligersregister!C254)=TRUE,\"\",SUMIF('Nominatieve lijst'!$D$8:$D$10007,C254,'Nominatieve lijst'!$G$8:$G$10007))","v":""},{"$f":"IF(ISBLANK(Vrijwilligersregister!C254)=TRUE,\"\",SUMIF('Nominatieve lijst'!$D$8:$D$10007,C254,'Nominatieve lijst'!$H$8:$H$10007))","v":""},{"$f":"IF(ISBLANK(Vrijwilligersregister!C254)=TRUE,\"\",SUMIF('Nominatieve lijst'!$D$8:$D$10007,C254,'Nominatieve lijst'!$J$8:$J$10007))","v":""},{"$f":"IF(ISBLANK(Vrijwilligersregister!C254)=TRUE,\"\",D254+F254)","v":""},{"$f":"Vrijwilligersregister!L254","v":0}]
[null,249,{"$f":"IF(ISBLANK(Vrijwilligersregister!C255)=TRUE,\"\",Vrijwilligersregister!C255)","v":""},{"$f":"IF(ISBLANK(Vrijwilligersregister!C255)=TRUE,\"\",SUMIF('Nominatieve lijst'!$D$8:$D$10007,C255,'Nominatieve lijst'!$G$8:$G$10007))","v":""},{"$f":"IF(ISBLANK(Vrijwilligersregister!C255)=TRUE,\"\",SUMIF('Nominatieve lijst'!$D$8:$D$10007,C255,'Nominatieve lijst'!$H$8:$H$10007))","v":""},{"$f":"IF(ISBLANK(Vrijwilligersregister!C255)=TRUE,\"\",SUMIF('Nominatieve lijst'!$D$8:$D$10007,C255,'Nominatieve lijst'!$J$8:$J$10007))","v":""},{"$f":"IF(ISBLANK(Vrijwilligersregister!C255)=TRUE,\"\",D255+F255)","v":""},{"$f":"Vrijwilligersregister!L255","v":0}]
[null,250,{"$f":"IF(ISBLANK(Vrijwilligersregister!C256)=TRUE,\"\",Vrijwilligersregister!C256)","v":""},{"$f":"IF(ISBLANK(Vrijwilligersregister!C256)=TRUE,\"\",SUMIF('Nominatieve lijst'!$D$8:$D$10007,C256,'Nominatieve lijst'!$G$8:$G$10007))","v":""},{"$f":"IF(ISBLANK(Vrijwilligersregister!C256)=TRUE,\"\",SUMIF('Nominatieve lijst'!$D$8:$D$10007,C256,'Nominatieve lijst'!$H$8:$H$10007))","v":""},{"$f":"IF(ISBLANK(Vrijwilligersregister!C256)=TRUE,\"\",SUMIF('Nominatieve lijst'!$D$8:$D$10007,C256,'Nominatieve lijst'!$J$8:$J$10007))","v":""},{"$f":"IF(ISBLANK(Vrijwilligersregister!C256)=TRUE,\"\",D256+F256)","v":""},{"$f":"Vrijwilligersregister!L256","v":0}]
[null,251,{"$f":"IF(ISBLANK(Vrijwilligersregister!C257)=TRUE,\"\",Vrijwilligersregister!C257)","v":""},{"$f":"IF(ISBLANK(Vrijwilligersregister!C257)=TRUE,\"\",SUMIF('Nominatieve lijst'!$D$8:$D$10007,C257,'Nominatieve lijst'!$G$8:$G$10007))","v":""},{"$f":"IF(ISBLANK(Vrijwilligersregister!C257)=TRUE,\"\",SUMIF('Nominatieve lijst'!$D$8:$D$10007,C257,'Nominatieve lijst'!$H$8:$H$10007))","v":""},{"$f":"IF(ISBLANK(Vrijwilligersregister!C257)=TRUE,\"\",SUMIF('Nominatieve lijst'!$D$8:$D$10007,C257,'Nominatieve lijst'!$J$8:$J$10007))","v":""},{"$f":"IF(ISBLANK(Vrijwilligersregister!C257)=TRUE,\"\",D257+F257)","v":""},{"$f":"Vrijwilligersregister!L257","v":0}]
[null,252,{"$f":"IF(ISBLANK(Vrijwilligersregister!C258)=TRUE,\"\",Vrijwilligersregister!C258)","v":""},{"$f":"IF(ISBLANK(Vrijwilligersregister!C258)=TRUE,\"\",SUMIF('Nominatieve lijst'!$D$8:$D$10007,C258,'Nominatieve lijst'!$G$8:$G$10007))","v":""},{"$f":"IF(ISBLANK(Vrijwilligersregister!C258)=TRUE,\"\",SUMIF('Nominatieve lijst'!$D$8:$D$10007,C258,'Nominatieve lijst'!$H$8:$H$10007))","v":""},{"$f":"IF(ISBLANK(Vrijwilligersregister!C258)=TRUE,\"\",SUMIF('Nominatieve lijst'!$D$8:$D$10007,C258,'Nominatieve lijst'!$J$8:$J$10007))","v":""},{"$f":"IF(ISBLANK(Vrijwilligersregister!C258)=TRUE,\"\",D258+F258)","v":""},{"$f":"Vrijwilligersregister!L258","v":0}]
[null,253,{"$f":"IF(ISBLANK(Vrijwilligersregister!C259)=TRUE,\"\",Vrijwilligersregister!C259)","v":""},{"$f":"IF(ISBLANK(Vrijwilligersregister!C259)=TRUE,\"\",SUMIF('Nominatieve lijst'!$D$8:$D$10007,C259,'Nominatieve lijst'!$G$8:$G$10007))","v":""},{"$f":"IF(ISBLANK(Vrijwilligersregister!C259)=TRUE,\"\",SUMIF('Nominatieve lijst'!$D$8:$D$10007,C259,'Nominatieve lijst'!$H$8:$H$10007))","v":""},{"$f":"IF(ISBLANK(Vrijwilligersregister!C259)=TRUE,\"\",SUMIF('Nominatieve lijst'!$D$8:$D$10007,C259,'Nominatieve lijst'!$J$8:$J$10007))","v":""},{"$f":"IF(ISBLANK(Vrijwilligersregister!C259)=TRUE,\"\",D259+F259)","v":""},{"$f":"Vrijwilligersregister!L259","v":0}]
[null,254,{"$f":"IF(ISBLANK(Vrijwilligersregister!C260)=TRUE,\"\",Vrijwilligersregister!C260)","v":""},{"$f":"IF(ISBLANK(Vrijwilligersregister!C260)=TRUE,\"\",SUMIF('Nominatieve lijst'!$D$8:$D$10007,C260,'Nominatieve lijst'!$G$8:$G$10007))","v":""},{"$f":"IF(ISBLANK(Vrijwilligersregister!C260)=TRUE,\"\",SUMIF('Nominatieve lijst'!$D$8:$D$10007,C260,'Nominatieve lijst'!$H$8:$H$10007))","v":""},{"$f":"IF(ISBLANK(Vrijwilligersregister!C260)=TRUE,\"\",SUMIF('Nominatieve lijst'!$D$8:$D$10007,C260,'Nominatieve lijst'!$J$8:$J$10007))","v":""},{"$f":"IF(ISBLANK(Vrijwilligersregister!C260)=TRUE,\"\",D260+F260)","v":""},{"$f":"Vrijwilligersregister!L260","v":0}]
[null,255,{"$f":"IF(ISBLANK(Vrijwilligersregister!C261)=TRUE,\"\",Vrijwilligersregister!C261)","v":""},{"$f":"IF(ISBLANK(Vrijwilligersregister!C261)=TRUE,\"\",SUMIF('Nominatieve lijst'!$D$8:$D$10007,C261,'Nominatieve lijst'!$G$8:$G$10007))","v":""},{"$f":"IF(ISBLANK(Vrijwilligersregister!C261)=TRUE,\"\",SUMIF('Nominatieve lijst'!$D$8:$D$10007,C261,'Nominatieve lijst'!$H$8:$H$10007))","v":""},{"$f":"IF(ISBLANK(Vrijwilligersregister!C261)=TRUE,\"\",SUMIF('Nominatieve lijst'!$D$8:$D$10007,C261,'Nominatieve lijst'!$J$8:$J$10007))","v":""},{"$f":"IF(ISBLANK(Vrijwilligersregister!C261)=TRUE,\"\",D261+F261)","v":""},{"$f":"Vrijwilligersregister!L261","v":0}]
[null,256,{"$f":"IF(ISBLANK(Vrijwilligersregister!C262)=TRUE,\"\",Vrijwilligersregister!C262)","v":""},{"$f":"IF(ISBLANK(Vrijwilligersregister!C262)=TRUE,\"\",SUMIF('Nominatieve lijst'!$D$8:$D$10007,C262,'Nominatieve lijst'!$G$8:$G$10007))","v":""},{"$f":"IF(ISBLANK(Vrijwilligersregister!C262)=TRUE,\"\",SUMIF('Nominatieve lijst'!$D$8:$D$10007,C262,'Nominatieve lijst'!$H$8:$H$10007))","v":""},{"$f":"IF(ISBLANK(Vrijwilligersregister!C262)=TRUE,\"\",SUMIF('Nominatieve lijst'!$D$8:$D$10007,C262,'Nominatieve lijst'!$J$8:$J$10007))","v":""},{"$f":"IF(ISBLANK(Vrijwilligersregister!C262)=TRUE,\"\",D262+F262)","v":""},{"$f":"Vrijwilligersregister!L262","v":0}]
[null,257,{"$f":"IF(ISBLANK(Vrijwilligersregister!C263)=TRUE,\"\",Vrijwilligersregister!C263)","v":""},{"$f":"IF(ISBLANK(Vrijwilligersregister!C263)=TRUE,\"\",SUMIF('Nominatieve lijst'!$D$8:$D$10007,C263,'Nominatieve lijst'!$G$8:$G$10007))","v":""},{"$f":"IF(ISBLANK(Vrijwilligersregister!C263)=TRUE,\"\",SUMIF('Nominatieve lijst'!$D$8:$D$10007,C263,'Nominatieve lijst'!$H$8:$H$10007))","v":""},{"$f":"IF(ISBLANK(Vrijwilligersregister!C263)=TRUE,\"\",SUMIF('Nominatieve lijst'!$D$8:$D$10007,C263,'Nominatieve lijst'!$J$8:$J$10007))","v":""},{"$f":"IF(ISBLANK(Vrijwilligersregister!C263)=TRUE,\"\",D263+F263)","v":""},{"$f":"Vrijwilligersregister!L263","v":0}]
[null,258,{"$f":"IF(ISBLANK(Vrijwilligersregister!C264)=TRUE,\"\",Vrijwilligersregister!C264)","v":""},{"$f":"IF(ISBLANK(Vrijwilligersregister!C264)=TRUE,\"\",SUMIF('Nominatieve lijst'!$D$8:$D$10007,C264,'Nominatieve lijst'!$G$8:$G$10007))","v":""},{"$f":"IF(ISBLANK(Vrijwilligersregister!C264)=TRUE,\"\",SUMIF('Nominatieve lijst'!$D$8:$D$10007,C264,'Nominatieve lijst'!$H$8:$H$10007))","v":""},{"$f":"IF(ISBLANK(Vrijwilligersregister!C264)=TRUE,\"\",SUMIF('Nominatieve lijst'!$D$8:$D$10007,C264,'Nominatieve lijst'!$J$8:$J$10007))","v":""},{"$f":"IF(ISBLANK(Vrijwilligersregister!C264)=TRUE,\"\",D264+F264)","v":""},{"$f":"Vrijwilligersregister!L264","v":0}]
[null,259,{"$f":"IF(ISBLANK(Vrijwilligersregister!C265)=TRUE,\"\",Vrijwilligersregister!C265)","v":""},{"$f":"IF(ISBLANK(Vrijwilligersregister!C265)=TRUE,\"\",SUMIF('Nominatieve lijst'!$D$8:$D$10007,C265,'Nominatieve lijst'!$G$8:$G$10007))","v":""},{"$f":"IF(ISBLANK(Vrijwilligersregister!C265)=TRUE,\"\",SUMIF('Nominatieve lijst'!$D$8:$D$10007,C265,'Nominatieve lijst'!$H$8:$H$10007))","v":""},{"$f":"IF(ISBLANK(Vrijwilligersregister!C265)=TRUE,\"\",SUMIF('Nominatieve lijst'!$D$8:$D$10007,C265,'Nominatieve lijst'!$J$8:$J$10007))","v":""},{"$f":"IF(ISBLANK(Vrijwilligersregister!C265)=TRUE,\"\",D265+F265)","v":""},{"$f":"Vrijwilligersregister!L265","v":0}]
[null,260,{"$f":"IF(ISBLANK(Vrijwilligersregister!C266)=TRUE,\"\",Vrijwilligersregister!C266)","v":""},{"$f":"IF(ISBLANK(Vrijwilligersregister!C266)=TRUE,\"\",SUMIF('Nominatieve lijst'!$D$8:$D$10007,C266,'Nominatieve lijst'!$G$8:$G$10007))","v":""},{"$f":"IF(ISBLANK(Vrijwilligersregister!C266)=TRUE,\"\",SUMIF('Nominatieve lijst'!$D$8:$D$10007,C266,'Nominatieve lijst'!$H$8:$H$10007))","v":""},{"$f":"IF(ISBLANK(Vrijwilligersregister!C266)=TRUE,\"\",SUMIF('Nominatieve lijst'!$D$8:$D$10007,C266,'Nominatieve lijst'!$J$8:$J$10007))","v":""},{"$f":"IF(ISBLANK(Vrijwilligersregister!C266)=TRUE,\"\",D266+F266)","v":""},{"$f":"Vrijwilligersregister!L266","v":0}]
[null,261,{"$f":"IF(ISBLANK(Vrijwilligersregister!C267)=TRUE,\"\",Vrijwilligersregister!C267)","v":""},{"$f":"IF(ISBLANK(Vrijwilligersregister!C267)=TRUE,\"\",SUMIF('Nominatieve lijst'!$D$8:$D$10007,C267,'Nominatieve lijst'!$G$8:$G$10007))","v":""},{"$f":"IF(ISBLANK(Vrijwilligersregister!C267)=TRUE,\"\",SUMIF('Nominatieve lijst'!$D$8:$D$10007,C267,'Nominatieve lijst'!$H$8:$H$10007))","v":""},{"$f":"IF(ISBLANK(Vrijwilligersregister!C267)=TRUE,\"\",SUMIF('Nominatieve lijst'!$D$8:$D$10007,C267,'Nominatieve lijst'!$J$8:$J$10007))","v":""},{"$f":"IF(ISBLANK(Vrijwilligersregister!C267)=TRUE,\"\",D267+F267)","v":""},{"$f":"Vrijwilligersregister!L267","v":0}]
[null,262,{"$f":"IF(ISBLANK(Vrijwilligersregister!C268)=TRUE,\"\",Vrijwilligersregister!C268)","v":""},{"$f":"IF(ISBLANK(Vrijwilligersregister!C268)=TRUE,\"\",SUMIF('Nominatieve lijst'!$D$8:$D$10007,C268,'Nominatieve lijst'!$G$8:$G$10007))","v":""},{"$f":"IF(ISBLANK(Vrijwilligersregister!C268)=TRUE,\"\",SUMIF('Nominatieve lijst'!$D$8:$D$10007,C268,'Nominatieve lijst'!$H$8:$H$10007))","v":""},{"$f":"IF(ISBLANK(Vrijwilligersregister!C268)=TRUE,\"\",SUMIF('Nominatieve lijst'!$D$8:$D$10007,C268,'Nominatieve lijst'!$J$8:$J$10007))","v":""},{"$f":"IF(ISBLANK(Vrijwilligersregister!C268)=TRUE,\"\",D268+F268)","v":""},{"$f":"Vrijwilligersregister!L268","v":0}]
[null,263,{"$f":"IF(ISBLANK(Vrijwilligersregister!C269)=TRUE,\"\",Vrijwilligersregister!C269)","v":""},{"$f":"IF(ISBLANK(Vrijwilligersregister!C269)=TRUE,\"\",SUMIF('Nominatieve lijst'!$D$8:$D$10007,C269,'Nominatieve lijst'!$G$8:$G$10007))","v":""},{"$f":"IF(ISBLANK(Vrijwilligersregister!C269)=TRUE,\"\",SUMIF('Nominatieve lijst'!$D$8:$D$10007,C269,'Nominatieve lijst'!$H$8:$H$10007))","v":""},{"$f":"IF(ISBLANK(Vrijwilligersregister!C269)=TRUE,\"\",SUMIF('Nominatieve lijst'!$D$8:$D$10007,C269,'Nominatieve lijst'!$J$8:$J$10007))","v":""},{"$f":"IF(ISBLANK(Vrijwilligersregister!C269)=TRUE,\"\",D269+F269)","v":""},{"$f":"Vrijwilligersregister!L269","v":0}]
[null,264,{"$f":"IF(ISBLANK(Vrijwilligersregister!C270)=TRUE,\"\",Vrijwilligersregister!C270)","v":""},{"$f":"IF(ISBLANK(Vrijwilligersregister!C270)=TRUE,\"\",SUMIF('Nominatieve lijst'!$D$8:$D$10007,C270,'Nominatieve lijst'!$G$8:$G$10007))","v":""},{"$f":"IF(ISBLANK(Vrijwilligersregister!C270)=TRUE,\"\",SUMIF('Nominatieve lijst'!$D$8:$D$10007,C270,'Nominatieve lijst'!$H$8:$H$10007))","v":""},{"$f":"IF(ISBLANK(Vrijwilligersregister!C270)=TRUE,\"\",SUMIF('Nominatieve lijst'!$D$8:$D$10007,C270,'Nominatieve lijst'!$J$8:$J$10007))","v":""},{"$f":"IF(ISBLANK(Vrijwilligersregister!C270)=TRUE,\"\",D270+F270)","v":""},{"$f":"Vrijwilligersregister!L270","v":0}]
[null,265,{"$f":"IF(ISBLANK(Vrijwilligersregister!C271)=TRUE,\"\",Vrijwilligersregister!C271)","v":""},{"$f":"IF(ISBLANK(Vrijwilligersregister!C271)=TRUE,\"\",SUMIF('Nominatieve lijst'!$D$8:$D$10007,C271,'Nominatieve lijst'!$G$8:$G$10007))","v":""},{"$f":"IF(ISBLANK(Vrijwilligersregister!C271)=TRUE,\"\",SUMIF('Nominatieve lijst'!$D$8:$D$10007,C271,'Nominatieve lijst'!$H$8:$H$10007))","v":""},{"$f":"IF(ISBLANK(Vrijwilligersregister!C271)=TRUE,\"\",SUMIF('Nominatieve lijst'!$D$8:$D$10007,C271,'Nominatieve lijst'!$J$8:$J$10007))","v":""},{"$f":"IF(ISBLANK(Vrijwilligersregister!C271)=TRUE,\"\",D271+F271)","v":""},{"$f":"Vrijwilligersregister!L271","v":0}]
[null,266,{"$f":"IF(ISBLANK(Vrijwilligersregister!C272)=TRUE,\"\",Vrijwilligersregister!C272)","v":""},{"$f":"IF(ISBLANK(Vrijwilligersregister!C272)=TRUE,\"\",SUMIF('Nominatieve lijst'!$D$8:$D$10007,C272,'Nominatieve lijst'!$G$8:$G$10007))","v":""},{"$f":"IF(ISBLANK(Vrijwilligersregister!C272)=TRUE,\"\",SUMIF('Nominatieve lijst'!$D$8:$D$10007,C272,'Nominatieve lijst'!$H$8:$H$10007))","v":""},{"$f":"IF(ISBLANK(Vrijwilligersregister!C272)=TRUE,\"\",SUMIF('Nominatieve lijst'!$D$8:$D$10007,C272,'Nominatieve lijst'!$J$8:$J$10007))","v":""},{"$f":"IF(ISBLANK(Vrijwilligersregister!C272)=TRUE,\"\",D272+F272)","v":""},{"$f":"Vrijwilligersregister!L272","v":0}]
[null,267,{"$f":"IF(ISBLANK(Vrijwilligersregister!C273)=TRUE,\"\",Vrijwilligersregister!C273)","v":""},{"$f":"IF(ISBLANK(Vrijwilligersregister!C273)=TRUE,\"\",SUMIF('Nominatieve lijst'!$D$8:$D$10007,C273,'Nominatieve lijst'!$G$8:$G$10007))","v":""},{"$f":"IF(ISBLANK(Vrijwilligersregister!C273)=TRUE,\"\",SUMIF('Nominatieve lijst'!$D$8:$D$10007,C273,'Nominatieve lijst'!$H$8:$H$10007))","v":""},{"$f":"IF(ISBLANK(Vrijwilligersregister!C273)=TRUE,\"\",SUMIF('Nominatieve lijst'!$D$8:$D$10007,C273,'Nominatieve lijst'!$J$8:$J$10007))","v":""},{"$f":"IF(ISBLANK(Vrijwilligersregister!C273)=TRUE,\"\",D273+F273)","v":""},{"$f":"Vrijwilligersregister!L273","v":0}]
[null,268,{"$f":"IF(ISBLANK(Vrijwilligersregister!C274)=TRUE,\"\",Vrijwilligersregister!C274)","v":""},{"$f":"IF(ISBLANK(Vrijwilligersregister!C274)=TRUE,\"\",SUMIF('Nominatieve lijst'!$D$8:$D$10007,C274,'Nominatieve lijst'!$G$8:$G$10007))","v":""},{"$f":"IF(ISBLANK(Vrijwilligersregister!C274)=TRUE,\"\",SUMIF('Nominatieve lijst'!$D$8:$D$10007,C274,'Nominatieve lijst'!$H$8:$H$10007))","v":""},{"$f":"IF(ISBLANK(Vrijwilligersregister!C274)=TRUE,\"\",SUMIF('Nominatieve lijst'!$D$8:$D$10007,C274,'Nominatieve lijst'!$J$8:$J$10007))","v":""},{"$f":"IF(ISBLANK(Vrijwilligersregister!C274)=TRUE,\"\",D274+F274)","v":""},{"$f":"Vrijwilligersregister!L274","v":0}]
[null,269,{"$f":"IF(ISBLANK(Vrijwilligersregister!C275)=TRUE,\"\",Vrijwilligersregister!C275)","v":""},{"$f":"IF(ISBLANK(Vrijwilligersregister!C275)=TRUE,\"\",SUMIF('Nominatieve lijst'!$D$8:$D$10007,C275,'Nominatieve lijst'!$G$8:$G$10007))","v":""},{"$f":"IF(ISBLANK(Vrijwilligersregister!C275)=TRUE,\"\",SUMIF('Nominatieve lijst'!$D$8:$D$10007,C275,'Nominatieve lijst'!$H$8:$H$10007))","v":""},{"$f":"IF(ISBLANK(Vrijwilligersregister!C275)=TRUE,\"\",SUMIF('Nominatieve lijst'!$D$8:$D$10007,C275,'Nominatieve lijst'!$J$8:$J$10007))","v":""},{"$f":"IF(ISBLANK(Vrijwilligersregister!C275)=TRUE,\"\",D275+F275)","v":""},{"$f":"Vrijwilligersregister!L275","v":0}]
[null,270,{"$f":"IF(ISBLANK(Vrijwilligersregister!C276)=TRUE,\"\",Vrijwilligersregister!C276)","v":""},{"$f":"IF(ISBLANK(Vrijwilligersregister!C276)=TRUE,\"\",SUMIF('Nominatieve lijst'!$D$8:$D$10007,C276,'Nominatieve lijst'!$G$8:$G$10007))","v":""},{"$f":"IF(ISBLANK(Vrijwilligersregister!C276)=TRUE,\"\",SUMIF('Nominatieve lijst'!$D$8:$D$10007,C276,'Nominatieve lijst'!$H$8:$H$10007))","v":""},{"$f":"IF(ISBLANK(Vrijwilligersregister!C276)=TRUE,\"\",SUMIF('Nominatieve lijst'!$D$8:$D$10007,C276,'Nominatieve lijst'!$J$8:$J$10007))","v":""},{"$f":"IF(ISBLANK(Vrijwilligersregister!C276)=TRUE,\"\",D276+F276)","v":""},{"$f":"Vrijwilligersregister!L276","v":0}]
[null,271,{"$f":"IF(ISBLANK(Vrijwilligersregister!C277)=TRUE,\"\",Vrijwilligersregister!C277)","v":""},{"$f":"IF(ISBLANK(Vrijwilligersregister!C277)=TRUE,\"\",SUMIF('Nominatieve lijst'!$D$8:$D$10007,C277,'Nominatieve lijst'!$G$8:$G$10007))","v":""},{"$f":"IF(ISBLANK(Vrijwilligersregister!C277)=TRUE,\"\",SUMIF('Nominatieve lijst'!$D$8:$D$10007,C277,'Nominatieve lijst'!$H$8:$H$10007))","v":""},{"$f":"IF(ISBLANK(Vrijwilligersregister!C277)=TRUE,\"\",SUMIF('Nominatieve lijst'!$D$8:$D$10007,C277,'Nominatieve lijst'!$J$8:$J$10007))","v":""},{"$f":"IF(ISBLANK(Vrijwilligersregister!C277)=TRUE,\"\",D277+F277)","v":""},{"$f":"Vrijwilligersregister!L277","v":0}]
[null,272,{"$f":"IF(ISBLANK(Vrijwilligersregister!C278)=TRUE,\"\",Vrijwilligersregister!C278)","v":""},{"$f":"IF(ISBLANK(Vrijwilligersregister!C278)=TRUE,\"\",SUMIF('Nominatieve lijst'!$D$8:$D$10007,C278,'Nominatieve lijst'!$G$8:$G$10007))","v":""},{"$f":"IF(ISBLANK(Vrijwilligersregister!C278)=TRUE,\"\",SUMIF('Nominatieve lijst'!$D$8:$D$10007,C278,'Nominatieve lijst'!$H$8:$H$10007))","v":""},{"$f":"IF(ISBLANK(Vrijwilligersregister!C278)=TRUE,\"\",SUMIF('Nominatieve lijst'!$D$8:$D$10007,C278,'Nominatieve lijst'!$J$8:$J$10007))","v":""},{"$f":"IF(ISBLANK(Vrijwilligersregister!C278)=TRUE,\"\",D278+F278)","v":""},{"$f":"Vrijwilligersregister!L278","v":0}]
[null,273,{"$f":"IF(ISBLANK(Vrijwilligersregister!C279)=TRUE,\"\",Vrijwilligersregister!C279)","v":""},{"$f":"IF(ISBLANK(Vrijwilligersregister!C279)=TRUE,\"\",SUMIF('Nominatieve lijst'!$D$8:$D$10007,C279,'Nominatieve lijst'!$G$8:$G$10007))","v":""},{"$f":"IF(ISBLANK(Vrijwilligersregister!C279)=TRUE,\"\",SUMIF('Nominatieve lijst'!$D$8:$D$10007,C279,'Nominatieve lijst'!$H$8:$H$10007))","v":""},{"$f":"IF(ISBLANK(Vrijwilligersregister!C279)=TRUE,\"\",SUMIF('Nominatieve lijst'!$D$8:$D$10007,C279,'Nominatieve lijst'!$J$8:$J$10007))","v":""},{"$f":"IF(ISBLANK(Vrijwilligersregister!C279)=TRUE,\"\",D279+F279)","v":""},{"$f":"Vrijwilligersregister!L279","v":0}]
[null,274,{"$f":"IF(ISBLANK(Vrijwilligersregister!C280)=TRUE,\"\",Vrijwilligersregister!C280)","v":""},{"$f":"IF(ISBLANK(Vrijwilligersregister!C280)=TRUE,\"\",SUMIF('Nominatieve lijst'!$D$8:$D$10007,C280,'Nominatieve lijst'!$G$8:$G$10007))","v":""},{"$f":"IF(ISBLANK(Vrijwilligersregister!C280)=TRUE,\"\",SUMIF('Nominatieve lijst'!$D$8:$D$10007,C280,'Nominatieve lijst'!$H$8:$H$10007))","v":""},{"$f":"IF(ISBLANK(Vrijwilligersregister!C280)=TRUE,\"\",SUMIF('Nominatieve lijst'!$D$8:$D$10007,C280,'Nominatieve lijst'!$J$8:$J$10007))","v":""},{"$f":"IF(ISBLANK(Vrijwilligersregister!C280)=TRUE,\"\",D280+F280)","v":""},{"$f":"Vrijwilligersregister!L280","v":0}]
[null,275,{"$f":"IF(ISBLANK(Vrijwilligersregister!C281)=TRUE,\"\",Vrijwilligersregister!C281)","v":""},{"$f":"IF(ISBLANK(Vrijwilligersregister!C281)=TRUE,\"\",SUMIF('Nominatieve lijst'!$D$8:$D$10007,C281,'Nominatieve lijst'!$G$8:$G$10007))","v":""},{"$f":"IF(ISBLANK(Vrijwilligersregister!C281)=TRUE,\"\",SUMIF('Nominatieve lijst'!$D$8:$D$10007,C281,'Nominatieve lijst'!$H$8:$H$10007))","v":""},{"$f":"IF(ISBLANK(Vrijwilligersregister!C281)=TRUE,\"\",SUMIF('Nominatieve lijst'!$D$8:$D$10007,C281,'Nominatieve lijst'!$J$8:$J$10007))","v":""},{"$f":"IF(ISBLANK(Vrijwilligersregister!C281)=TRUE,\"\",D281+F281)","v":""},{"$f":"Vrijwilligersregister!L281","v":0}]
[null,276,{"$f":"IF(ISBLANK(Vrijwilligersregister!C282)=TRUE,\"\",Vrijwilligersregister!C282)","v":""},{"$f":"IF(ISBLANK(Vrijwilligersregister!C282)=TRUE,\"\",SUMIF('Nominatieve lijst'!$D$8:$D$10007,C282,'Nominatieve lijst'!$G$8:$G$10007))","v":""},{"$f":"IF(ISBLANK(Vrijwilligersregister!C282)=TRUE,\"\",SUMIF('Nominatieve lijst'!$D$8:$D$10007,C282,'Nominatieve lijst'!$H$8:$H$10007))","v":""},{"$f":"IF(ISBLANK(Vrijwilligersregister!C282)=TRUE,\"\",SUMIF('Nominatieve lijst'!$D$8:$D$10007,C282,'Nominatieve lijst'!$J$8:$J$10007))","v":""},{"$f":"IF(ISBLANK(Vrijwilligersregister!C282)=TRUE,\"\",D282+F282)","v":""},{"$f":"Vrijwilligersregister!L282","v":0}]
[null,277,{"$f":"IF(ISBLANK(Vrijwilligersregister!C283)=TRUE,\"\",Vrijwilligersregister!C283)","v":""},{"$f":"IF(ISBLANK(Vrijwilligersregister!C283)=TRUE,\"\",SUMIF('Nominatieve lijst'!$D$8:$D$10007,C283,'Nominatieve lijst'!$G$8:$G$10007))","v":""},{"$f":"IF(ISBLANK(Vrijwilligersregister!C283)=TRUE,\"\",SUMIF('Nominatieve lijst'!$D$8:$D$10007,C283,'Nominatieve lijst'!$H$8:$H$10007))","v":""},{"$f":"IF(ISBLANK(Vrijwilligersregister!C283)=TRUE,\"\",SUMIF('Nominatieve lijst'!$D$8:$D$10007,C283,'Nominatieve lijst'!$J$8:$J$10007))","v":""},{"$f":"IF(ISBLANK(Vrijwilligersregister!C283)=TRUE,\"\",D283+F283)","v":""},{"$f":"Vrijwilligersregister!L283","v":0}]
[null,278,{"$f":"IF(ISBLANK(Vrijwilligersregister!C284)=TRUE,\"\",Vrijwilligersregister!C284)","v":""},{"$f":"IF(ISBLANK(Vrijwilligersregister!C284)=TRUE,\"\",SUMIF('Nominatieve lijst'!$D$8:$D$10007,C284,'Nominatieve lijst'!$G$8:$G$10007))","v":""},{"$f":"IF(ISBLANK(Vrijwilligersregister!C284)=TRUE,\"\",SUMIF('Nominatieve lijst'!$D$8:$D$10007,C284,'Nominatieve lijst'!$H$8:$H$10007))","v":""},{"$f":"IF(ISBLANK(Vrijwilligersregister!C284)=TRUE,\"\",SUMIF('Nominatieve lijst'!$D$8:$D$10007,C284,'Nominatieve lijst'!$J$8:$J$10007))","v":""},{"$f":"IF(ISBLANK(Vrijwilligersregister!C284)=TRUE,\"\",D284+F284)","v":""},{"$f":"Vrijwilligersregister!L284","v":0}]
[null,279,{"$f":"IF(ISBLANK(Vrijwilligersregister!C285)=TRUE,\"\",Vrijwilligersregister!C285)","v":""},{"$f":"IF(ISBLANK(Vrijwilligersregister!C285)=TRUE,\"\",SUMIF('Nominatieve lijst'!$D$8:$D$10007,C285,'Nominatieve lijst'!$G$8:$G$10007))","v":""},{"$f":"IF(ISBLANK(Vrijwilligersregister!C285)=TRUE,\"\",SUMIF('Nominatieve lijst'!$D$8:$D$10007,C285,'Nominatieve lijst'!$H$8:$H$10007))","v":""},{"$f":"IF(ISBLANK(Vrijwilligersregister!C285)=TRUE,\"\",SUMIF('Nominatieve lijst'!$D$8:$D$10007,C285,'Nominatieve lijst'!$J$8:$J$10007))","v":""},{"$f":"IF(ISBLANK(Vrijwilligersregister!C285)=TRUE,\"\",D285+F285)","v":""},{"$f":"Vrijwilligersregister!L285","v":0}]
[null,280,{"$f":"IF(ISBLANK(Vrijwilligersregister!C286)=TRUE,\"\",Vrijwilligersregister!C286)","v":""},{"$f":"IF(ISBLANK(Vrijwilligersregister!C286)=TRUE,\"\",SUMIF('Nominatieve lijst'!$D$8:$D$10007,C286,'Nominatieve lijst'!$G$8:$G$10007))","v":""},{"$f":"IF(ISBLANK(Vrijwilligersregister!C286)=TRUE,\"\",SUMIF('Nominatieve lijst'!$D$8:$D$10007,C286,'Nominatieve lijst'!$H$8:$H$10007))","v":""},{"$f":"IF(ISBLANK(Vrijwilligersregister!C286)=TRUE,\"\",SUMIF('Nominatieve lijst'!$D$8:$D$10007,C286,'Nominatieve lijst'!$J$8:$J$10007))","v":""},{"$f":"IF(ISBLANK(Vrijwilligersregister!C286)=TRUE,\"\",D286+F286)","v":""},{"$f":"Vrijwilligersregister!L286","v":0}]
[null,281,{"$f":"IF(ISBLANK(Vrijwilligersregister!C287)=TRUE,\"\",Vrijwilligersregister!C287)","v":""},{"$f":"IF(ISBLANK(Vrijwilligersregister!C287)=TRUE,\"\",SUMIF('Nominatieve lijst'!$D$8:$D$10007,C287,'Nominatieve lijst'!$G$8:$G$10007))","v":""},{"$f":"IF(ISBLANK(Vrijwilligersregister!C287)=TRUE,\"\",SUMIF('Nominatieve lijst'!$D$8:$D$10007,C287,'Nominatieve lijst'!$H$8:$H$10007))","v":""},{"$f":"IF(ISBLANK(Vrijwilligersregister!C287)=TRUE,\"\",SUMIF('Nominatieve lijst'!$D$8:$D$10007,C287,'Nominatieve lijst'!$J$8:$J$10007))","v":""},{"$f":"IF(ISBLANK(Vrijwilligersregister!C287)=TRUE,\"\",D287+F287)","v":""},{"$f":"Vrijwilligersregister!L287","v":0}]
[null,282,{"$f":"IF(ISBLANK(Vrijwilligersregister!C288)=TRUE,\"\",Vrijwilligersregister!C288)","v":""},{"$f":"IF(ISBLANK(Vrijwilligersregister!C288)=TRUE,\"\",SUMIF('Nominatieve lijst'!$D$8:$D$10007,C288,'Nominatieve lijst'!$G$8:$G$10007))","v":""},{"$f":"IF(ISBLANK(Vrijwilligersregister!C288)=TRUE,\"\",SUMIF('Nominatieve lijst'!$D$8:$D$10007,C288,'Nominatieve lijst'!$H$8:$H$10007))","v":""},{"$f":"IF(ISBLANK(Vrijwilligersregister!C288)=TRUE,\"\",SUMIF('Nominatieve lijst'!$D$8:$D$10007,C288,'Nominatieve lijst'!$J$8:$J$10007))","v":""},{"$f":"IF(ISBLANK(Vrijwilligersregister!C288)=TRUE,\"\",D288+F288)","v":""},{"$f":"Vrijwilligersregister!L288","v":0}]
[null,283,{"$f":"IF(ISBLANK(Vrijwilligersregister!C289)=TRUE,\"\",Vrijwilligersregister!C289)","v":""},{"$f":"IF(ISBLANK(Vrijwilligersregister!C289)=TRUE,\"\",SUMIF('Nominatieve lijst'!$D$8:$D$10007,C289,'Nominatieve lijst'!$G$8:$G$10007))","v":""},{"$f":"IF(ISBLANK(Vrijwilligersregister!C289)=TRUE,\"\",SUMIF('Nominatieve lijst'!$D$8:$D$10007,C289,'Nominatieve lijst'!$H$8:$H$10007))","v":""},{"$f":"IF(ISBLANK(Vrijwilligersregister!C289)=TRUE,\"\",SUMIF('Nominatieve lijst'!$D$8:$D$10007,C289,'Nominatieve lijst'!$J$8:$J$10007))","v":""},{"$f":"IF(ISBLANK(Vrijwilligersregister!C289)=TRUE,\"\",D289+F289)","v":""},{"$f":"Vrijwilligersregister!L289","v":0}]
[null,284,{"$f":"IF(ISBLANK(Vrijwilligersregister!C290)=TRUE,\"\",Vrijwilligersregister!C290)","v":""},{"$f":"IF(ISBLANK(Vrijwilligersregister!C290)=TRUE,\"\",SUMIF('Nominatieve lijst'!$D$8:$D$10007,C290,'Nominatieve lijst'!$G$8:$G$10007))","v":""},{"$f":"IF(ISBLANK(Vrijwilligersregister!C290)=TRUE,\"\",SUMIF('Nominatieve lijst'!$D$8:$D$10007,C290,'Nominatieve lijst'!$H$8:$H$10007))","v":""},{"$f":"IF(ISBLANK(Vrijwilligersregister!C290)=TRUE,\"\",SUMIF('Nominatieve lijst'!$D$8:$D$10007,C290,'Nominatieve lijst'!$J$8:$J$10007))","v":""},{"$f":"IF(ISBLANK(Vrijwilligersregister!C290)=TRUE,\"\",D290+F290)","v":""},{"$f":"Vrijwilligersregister!L290","v":0}]
[null,285,{"$f":"IF(ISBLANK(Vrijwilligersregister!C291)=TRUE,\"\",Vrijwilligersregister!C291)","v":""},{"$f":"IF(ISBLANK(Vrijwilligersregister!C291)=TRUE,\"\",SUMIF('Nominatieve lijst'!$D$8:$D$10007,C291,'Nominatieve lijst'!$G$8:$G$10007))","v":""},{"$f":"IF(ISBLANK(Vrijwilligersregister!C291)=TRUE,\"\",SUMIF('Nominatieve lijst'!$D$8:$D$10007,C291,'Nominatieve lijst'!$H$8:$H$10007))","v":""},{"$f":"IF(ISBLANK(Vrijwilligersregister!C291)=TRUE,\"\",SUMIF('Nominatieve lijst'!$D$8:$D$10007,C291,'Nominatieve lijst'!$J$8:$J$10007))","v":""},{"$f":"IF(ISBLANK(Vrijwilligersregister!C291)=TRUE,\"\",D291+F291)","v":""},{"$f":"Vrijwilligersregister!L291","v":0}]
[null,286,{"$f":"IF(ISBLANK(Vrijwilligersregister!C292)=TRUE,\"\",Vrijwilligersregister!C292)","v":""},{"$f":"IF(ISBLANK(Vrijwilligersregister!C292)=TRUE,\"\",SUMIF('Nominatieve lijst'!$D$8:$D$10007,C292,'Nominatieve lijst'!$G$8:$G$10007))","v":""},{"$f":"IF(ISBLANK(Vrijwilligersregister!C292)=TRUE,\"\",SUMIF('Nominatieve lijst'!$D$8:$D$10007,C292,'Nominatieve lijst'!$H$8:$H$10007))","v":""},{"$f":"IF(ISBLANK(Vrijwilligersregister!C292)=TRUE,\"\",SUMIF('Nominatieve lijst'!$D$8:$D$10007,C292,'Nominatieve lijst'!$J$8:$J$10007))","v":""},{"$f":"IF(ISBLANK(Vrijwilligersregister!C292)=TRUE,\"\",D292+F292)","v":""},{"$f":"Vrijwilligersregister!L292","v":0}]
[null,287,{"$f":"IF(ISBLANK(Vrijwilligersregister!C293)=TRUE,\"\",Vrijwilligersregister!C293)","v":""},{"$f":"IF(ISBLANK(Vrijwilligersregister!C293)=TRUE,\"\",SUMIF('Nominatieve lijst'!$D$8:$D$10007,C293,'Nominatieve lijst'!$G$8:$G$10007))","v":""},{"$f":"IF(ISBLANK(Vrijwilligersregister!C293)=TRUE,\"\",SUMIF('Nominatieve lijst'!$D$8:$D$10007,C293,'Nominatieve lijst'!$H$8:$H$10007))","v":""},{"$f":"IF(ISBLANK(Vrijwilligersregister!C293)=TRUE,\"\",SUMIF('Nominatieve lijst'!$D$8:$D$10007,C293,'Nominatieve lijst'!$J$8:$J$10007))","v":""},{"$f":"IF(ISBLANK(Vrijwilligersregister!C293)=TRUE,\"\",D293+F293)","v":""},{"$f":"Vrijwilligersregister!L293","v":0}]
[null,288,{"$f":"IF(ISBLANK(Vrijwilligersregister!C294)=TRUE,\"\",Vrijwilligersregister!C294)","v":""},{"$f":"IF(ISBLANK(Vrijwilligersregister!C294)=TRUE,\"\",SUMIF('Nominatieve lijst'!$D$8:$D$10007,C294,'Nominatieve lijst'!$G$8:$G$10007))","v":""},{"$f":"IF(ISBLANK(Vrijwilligersregister!C294)=TRUE,\"\",SUMIF('Nominatieve lijst'!$D$8:$D$10007,C294,'Nominatieve lijst'!$H$8:$H$10007))","v":""},{"$f":"IF(ISBLANK(Vrijwilligersregister!C294)=TRUE,\"\",SUMIF('Nominatieve lijst'!$D$8:$D$10007,C294,'Nominatieve lijst'!$J$8:$J$10007))","v":""},{"$f":"IF(ISBLANK(Vrijwilligersregister!C294)=TRUE,\"\",D294+F294)","v":""},{"$f":"Vrijwilligersregister!L294","v":0}]
[null,289,{"$f":"IF(ISBLANK(Vrijwilligersregister!C295)=TRUE,\"\",Vrijwilligersregister!C295)","v":""},{"$f":"IF(ISBLANK(Vrijwilligersregister!C295)=TRUE,\"\",SUMIF('Nominatieve lijst'!$D$8:$D$10007,C295,'Nominatieve lijst'!$G$8:$G$10007))","v":""},{"$f":"IF(ISBLANK(Vrijwilligersregister!C295)=TRUE,\"\",SUMIF('Nominatieve lijst'!$D$8:$D$10007,C295,'Nominatieve lijst'!$H$8:$H$10007))","v":""},{"$f":"IF(ISBLANK(Vrijwilligersregister!C295)=TRUE,\"\",SUMIF('Nominatieve lijst'!$D$8:$D$10007,C295,'Nominatieve lijst'!$J$8:$J$10007))","v":""},{"$f":"IF(ISBLANK(Vrijwilligersregister!C295)=TRUE,\"\",D295+F295)","v":""},{"$f":"Vrijwilligersregister!L295","v":0}]
[null,290,{"$f":"IF(ISBLANK(Vrijwilligersregister!C296)=TRUE,\"\",Vrijwilligersregister!C296)","v":""},{"$f":"IF(ISBLANK(Vrijwilligersregister!C296)=TRUE,\"\",SUMIF('Nominatieve lijst'!$D$8:$D$10007,C296,'Nominatieve lijst'!$G$8:$G$10007))","v":""},{"$f":"IF(ISBLANK(Vrijwilligersregister!C296)=TRUE,\"\",SUMIF('Nominatieve lijst'!$D$8:$D$10007,C296,'Nominatieve lijst'!$H$8:$H$10007))","v":""},{"$f":"IF(ISBLANK(Vrijwilligersregister!C296)=TRUE,\"\",SUMIF('Nominatieve lijst'!$D$8:$D$10007,C296,'Nominatieve lijst'!$J$8:$J$10007))","v":""},{"$f":"IF(ISBLANK(Vrijwilligersregister!C296)=TRUE,\"\",D296+F296)","v":""},{"$f":"Vrijwilligersregister!L296","v":0}]
[null,291,{"$f":"IF(ISBLANK(Vrijwilligersregister!C297)=TRUE,\"\",Vrijwilligersregister!C297)","v":""},{"$f":"IF(ISBLANK(Vrijwilligersregister!C297)=TRUE,\"\",SUMIF('Nominatieve lijst'!$D$8:$D$10007,C297,'Nominatieve lijst'!$G$8:$G$10007))","v":""},{"$f":"IF(ISBLANK(Vrijwilligersregister!C297)=TRUE,\"\",SUMIF('Nominatieve lijst'!$D$8:$D$10007,C297,'Nominatieve lijst'!$H$8:$H$10007))","v":""},{"$f":"IF(ISBLANK(Vrijwilligersregister!C297)=TRUE,\"\",SUMIF('Nominatieve lijst'!$D$8:$D$10007,C297,'Nominatieve lijst'!$J$8:$J$10007))","v":""},{"$f":"IF(ISBLANK(Vrijwilligersregister!C297)=TRUE,\"\",D297+F297)","v":""},{"$f":"Vrijwilligersregister!L297","v":0}]
[null,292,{"$f":"IF(ISBLANK(Vrijwilligersregister!C298)=TRUE,\"\",Vrijwilligersregister!C298)","v":""},{"$f":"IF(ISBLANK(Vrijwilligersregister!C298)=TRUE,\"\",SUMIF('Nominatieve lijst'!$D$8:$D$10007,C298,'Nominatieve lijst'!$G$8:$G$10007))","v":""},{"$f":"IF(ISBLANK(Vrijwilligersregister!C298)=TRUE,\"\",SUMIF('Nominatieve lijst'!$D$8:$D$10007,C298,'Nominatieve lijst'!$H$8:$H$10007))","v":""},{"$f":"IF(ISBLANK(Vrijwilligersregister!C298)=TRUE,\"\",SUMIF('Nominatieve lijst'!$D$8:$D$10007,C298,'Nominatieve lijst'!$J$8:$J$10007))","v":""},{"$f":"IF(ISBLANK(Vrijwilligersregister!C298)=TRUE,\"\",D298+F298)","v":""},{"$f":"Vrijwilligersregister!L298","v":0}]
[null,293,{"$f":"IF(ISBLANK(Vrijwilligersregister!C299)=TRUE,\"\",Vrijwilligersregister!C299)","v":""},{"$f":"IF(ISBLANK(Vrijwilligersregister!C299)=TRUE,\"\",SUMIF('Nominatieve lijst'!$D$8:$D$10007,C299,'Nominatieve lijst'!$G$8:$G$10007))","v":""},{"$f":"IF(ISBLANK(Vrijwilligersregister!C299)=TRUE,\"\",SUMIF('Nominatieve lijst'!$D$8:$D$10007,C299,'Nominatieve lijst'!$H$8:$H$10007))","v":""},{"$f":"IF(ISBLANK(Vrijwilligersregister!C299)=TRUE,\"\",SUMIF('Nominatieve lijst'!$D$8:$D$10007,C299,'Nominatieve lijst'!$J$8:$J$10007))","v":""},{"$f":"IF(ISBLANK(Vrijwilligersregister!C299)=TRUE,\"\",D299+F299)","v":""},{"$f":"Vrijwilligersregister!L299","v":0}]
[null,294,{"$f":"IF(ISBLANK(Vrijwilligersregister!C300)=TRUE,\"\",Vrijwilligersregister!C300)","v":""},{"$f":"IF(ISBLANK(Vrijwilligersregister!C300)=TRUE,\"\",SUMIF('Nominatieve lijst'!$D$8:$D$10007,C300,'Nominatieve lijst'!$G$8:$G$10007))","v":""},{"$f":"IF(ISBLANK(Vrijwilligersregister!C300)=TRUE,\"\",SUMIF('Nominatieve lijst'!$D$8:$D$10007,C300,'Nominatieve lijst'!$H$8:$H$10007))","v":""},{"$f":"IF(ISBLANK(Vrijwilligersregister!C300)=TRUE,\"\",SUMIF('Nominatieve lijst'!$D$8:$D$10007,C300,'Nominatieve lijst'!$J$8:$J$10007))","v":""},{"$f":"IF(ISBLANK(Vrijwilligersregister!C300)=TRUE,\"\",D300+F300)","v":""},{"$f":"Vrijwilligersregister!L300","v":0}]
[null,295,{"$f":"IF(ISBLANK(Vrijwilligersregister!C301)=TRUE,\"\",Vrijwilligersregister!C301)","v":""},{"$f":"IF(ISBLANK(Vrijwilligersregister!C301)=TRUE,\"\",SUMIF('Nominatieve lijst'!$D$8:$D$10007,C301,'Nominatieve lijst'!$G$8:$G$10007))","v":""},{"$f":"IF(ISBLANK(Vrijwilligersregister!C301)=TRUE,\"\",SUMIF('Nominatieve lijst'!$D$8:$D$10007,C301,'Nominatieve lijst'!$H$8:$H$10007))","v":""},{"$f":"IF(ISBLANK(Vrijwilligersregister!C301)=TRUE,\"\",SUMIF('Nominatieve lijst'!$D$8:$D$10007,C301,'Nominatieve lijst'!$J$8:$J$10007))","v":""},{"$f":"IF(ISBLANK(Vrijwilligersregister!C301)=TRUE,\"\",D301+F301)","v":""},{"$f":"Vrijwilligersregister!L301","v":0}]
[null,296,{"$f":"IF(ISBLANK(Vrijwilligersregister!C302)=TRUE,\"\",Vrijwilligersregister!C302)","v":""},{"$f":"IF(ISBLANK(Vrijwilligersregister!C302)=TRUE,\"\",SUMIF('Nominatieve lijst'!$D$8:$D$10007,C302,'Nominatieve lijst'!$G$8:$G$10007))","v":""},{"$f":"IF(ISBLANK(Vrijwilligersregister!C302)=TRUE,\"\",SUMIF('Nominatieve lijst'!$D$8:$D$10007,C302,'Nominatieve lijst'!$H$8:$H$10007))","v":""},{"$f":"IF(ISBLANK(Vrijwilligersregister!C302)=TRUE,\"\",SUMIF('Nominatieve lijst'!$D$8:$D$10007,C302,'Nominatieve lijst'!$J$8:$J$10007))","v":""},{"$f":"IF(ISBLANK(Vrijwilligersregister!C302)=TRUE,\"\",D302+F302)","v":""},{"$f":"Vrijwilligersregister!L302","v":0}]
[null,297,{"$f":"IF(ISBLANK(Vrijwilligersregister!C303)=TRUE,\"\",Vrijwilligersregister!C303)","v":""},{"$f":"IF(ISBLANK(Vrijwilligersregister!C303)=TRUE,\"\",SUMIF('Nominatieve lijst'!$D$8:$D$10007,C303,'Nominatieve lijst'!$G$8:$G$10007))","v":""},{"$f":"IF(ISBLANK(Vrijwilligersregister!C303)=TRUE,\"\",SUMIF('Nominatieve lijst'!$D$8:$D$10007,C303,'Nominatieve lijst'!$H$8:$H$10007))","v":""},{"$f":"IF(ISBLANK(Vrijwilligersregister!C303)=TRUE,\"\",SUMIF('Nominatieve lijst'!$D$8:$D$10007,C303,'Nominatieve lijst'!$J$8:$J$10007))","v":""},{"$f":"IF(ISBLANK(Vrijwilligersregister!C303)=TRUE,\"\",D303+F303)","v":""},{"$f":"Vrijwilligersregister!L303","v":0}]
[null,298,{"$f":"IF(ISBLANK(Vrijwilligersregister!C304)=TRUE,\"\",Vrijwilligersregister!C304)","v":""},{"$f":"IF(ISBLANK(Vrijwilligersregister!C304)=TRUE,\"\",SUMIF('Nominatieve lijst'!$D$8:$D$10007,C304,'Nominatieve lijst'!$G$8:$G$10007))","v":""},{"$f":"IF(ISBLANK(Vrijwilligersregister!C304)=TRUE,\"\",SUMIF('Nominatieve lijst'!$D$8:$D$10007,C304,'Nominatieve lijst'!$H$8:$H$10007))","v":""},{"$f":"IF(ISBLANK(Vrijwilligersregister!C304)=TRUE,\"\",SUMIF('Nominatieve lijst'!$D$8:$D$10007,C304,'Nominatieve lijst'!$J$8:$J$10007))","v":""},{"$f":"IF(ISBLANK(Vrijwilligersregister!C304)=TRUE,\"\",D304+F304)","v":""},{"$f":"Vrijwilligersregister!L304","v":0}]
[null,299,{"$f":"IF(ISBLANK(Vrijwilligersregister!C305)=TRUE,\"\",Vrijwilligersregister!C305)","v":""},{"$f":"IF(ISBLANK(Vrijwilligersregister!C305)=TRUE,\"\",SUMIF('Nominatieve lijst'!$D$8:$D$10007,C305,'Nominatieve lijst'!$G$8:$G$10007))","v":""},{"$f":"IF(ISBLANK(Vrijwilligersregister!C305)=TRUE,\"\",SUMIF('Nominatieve lijst'!$D$8:$D$10007,C305,'Nominatieve lijst'!$H$8:$H$10007))","v":""},{"$f":"IF(ISBLANK(Vrijwilligersregister!C305)=TRUE,\"\",SUMIF('Nominatieve lijst'!$D$8:$D$10007,C305,'Nominatieve lijst'!$J$8:$J$10007))","v":""},{"$f":"IF(ISBLANK(Vrijwilligersregister!C305)=TRUE,\"\",D305+F305)","v":""},{"$f":"Vrijwilligersregister!L305","v":0}]
[null,300,{"$f":"IF(ISBLANK(Vrijwilligersregister!C306)=TRUE,\"\",Vrijwilligersregister!C306)","v":""},{"$f":"IF(ISBLANK(Vrijwilligersregister!C306)=TRUE,\"\",SUMIF('Nominatieve lijst'!$D$8:$D$10007,C306,'Nominatieve lijst'!$G$8:$G$10007))","v":""},{"$f":"IF(ISBLANK(Vrijwilligersregister!C306)=TRUE,\"\",SUMIF('Nominatieve lijst'!$D$8:$D$10007,C306,'Nominatieve lijst'!$H$8:$H$10007))","v":""},{"$f":"IF(ISBLANK(Vrijwilligersregister!C306)=TRUE,\"\",SUMIF('Nominatieve lijst'!$D$8:$D$10007,C306,'Nominatieve lijst'!$J$8:$J$10007))","v":""},{"$f":"IF(ISBLANK(Vrijwilligersregister!C306)=TRUE,\"\",D306+F306)","v":""},{"$f":"Vrijwilligersregister!L306","v":0}]
[null,301,{"$f":"IF(ISBLANK(Vrijwilligersregister!C307)=TRUE,\"\",Vrijwilligersregister!C307)","v":""},{"$f":"IF(ISBLANK(Vrijwilligersregister!C307)=TRUE,\"\",SUMIF('Nominatieve lijst'!$D$8:$D$10007,C307,'Nominatieve lijst'!$G$8:$G$10007))","v":""},{"$f":"IF(ISBLANK(Vrijwilligersregister!C307)=TRUE,\"\",SUMIF('Nominatieve lijst'!$D$8:$D$10007,C307,'Nominatieve lijst'!$H$8:$H$10007))","v":""},{"$f":"IF(ISBLANK(Vrijwilligersregister!C307)=TRUE,\"\",SUMIF('Nominatieve lijst'!$D$8:$D$10007,C307,'Nominatieve lijst'!$J$8:$J$10007))","v":""},{"$f":"IF(ISBLANK(Vrijwilligersregister!C307)=TRUE,\"\",D307+F307)","v":""},{"$f":"Vrijwilligersregister!L307","v":0}]
[null,302,{"$f":"IF(ISBLANK(Vrijwilligersregister!C308)=TRUE,\"\",Vrijwilligersregister!C308)","v":""},{"$f":"IF(ISBLANK(Vrijwilligersregister!C308)=TRUE,\"\",SUMIF('Nominatieve lijst'!$D$8:$D$10007,C308,'Nominatieve lijst'!$G$8:$G$10007))","v":""},{"$f":"IF(ISBLANK(Vrijwilligersregister!C308)=TRUE,\"\",SUMIF('Nominatieve lijst'!$D$8:$D$10007,C308,'Nominatieve lijst'!$H$8:$H$10007))","v":""},{"$f":"IF(ISBLANK(Vrijwilligersregister!C308)=TRUE,\"\",SUMIF('Nominatieve lijst'!$D$8:$D$10007,C308,'Nominatieve lijst'!$J$8:$J$10007))","v":""},{"$f":"IF(ISBLANK(Vrijwilligersregister!C308)=TRUE,\"\",D308+F308)","v":""},{"$f":"Vrijwilligersregister!L308","v":0}]
[null,303,{"$f":"IF(ISBLANK(Vrijwilligersregister!C309)=TRUE,\"\",Vrijwilligersregister!C309)","v":""},{"$f":"IF(ISBLANK(Vrijwilligersregister!C309)=TRUE,\"\",SUMIF('Nominatieve lijst'!$D$8:$D$10007,C309,'Nominatieve lijst'!$G$8:$G$10007))","v":""},{"$f":"IF(ISBLANK(Vrijwilligersregister!C309)=TRUE,\"\",SUMIF('Nominatieve lijst'!$D$8:$D$10007,C309,'Nominatieve lijst'!$H$8:$H$10007))","v":""},{"$f":"IF(ISBLANK(Vrijwilligersregister!C309)=TRUE,\"\",SUMIF('Nominatieve lijst'!$D$8:$D$10007,C309,'Nominatieve lijst'!$J$8:$J$10007))","v":""},{"$f":"IF(ISBLANK(Vrijwilligersregister!C309)=TRUE,\"\",D309+F309)","v":""},{"$f":"Vrijwilligersregister!L309","v":0}]
[null,304,{"$f":"IF(ISBLANK(Vrijwilligersregister!C310)=TRUE,\"\",Vrijwilligersregister!C310)","v":""},{"$f":"IF(ISBLANK(Vrijwilligersregister!C310)=TRUE,\"\",SUMIF('Nominatieve lijst'!$D$8:$D$10007,C310,'Nominatieve lijst'!$G$8:$G$10007))","v":""},{"$f":"IF(ISBLANK(Vrijwilligersregister!C310)=TRUE,\"\",SUMIF('Nominatieve lijst'!$D$8:$D$10007,C310,'Nominatieve lijst'!$H$8:$H$10007))","v":""},{"$f":"IF(ISBLANK(Vrijwilligersregister!C310)=TRUE,\"\",SUMIF('Nominatieve lijst'!$D$8:$D$10007,C310,'Nominatieve lijst'!$J$8:$J$10007))","v":""},{"$f":"IF(ISBLANK(Vrijwilligersregister!C310)=TRUE,\"\",D310+F310)","v":""},{"$f":"Vrijwilligersregister!L310","v":0}]
[null,305,{"$f":"IF(ISBLANK(Vrijwilligersregister!C311)=TRUE,\"\",Vrijwilligersregister!C311)","v":""},{"$f":"IF(ISBLANK(Vrijwilligersregister!C311)=TRUE,\"\",SUMIF('Nominatieve lijst'!$D$8:$D$10007,C311,'Nominatieve lijst'!$G$8:$G$10007))","v":""},{"$f":"IF(ISBLANK(Vrijwilligersregister!C311)=TRUE,\"\",SUMIF('Nominatieve lijst'!$D$8:$D$10007,C311,'Nominatieve lijst'!$H$8:$H$10007))","v":""},{"$f":"IF(ISBLANK(Vrijwilligersregister!C311)=TRUE,\"\",SUMIF('Nominatieve lijst'!$D$8:$D$10007,C311,'Nominatieve lijst'!$J$8:$J$10007))","v":""},{"$f":"IF(ISBLANK(Vrijwilligersregister!C311)=TRUE,\"\",D311+F311)","v":""},{"$f":"Vrijwilligersregister!L311","v":0}]
[null,306,{"$f":"IF(ISBLANK(Vrijwilligersregister!C312)=TRUE,\"\",Vrijwilligersregister!C312)","v":""},{"$f":"IF(ISBLANK(Vrijwilligersregister!C312)=TRUE,\"\",SUMIF('Nominatieve lijst'!$D$8:$D$10007,C312,'Nominatieve lijst'!$G$8:$G$10007))","v":""},{"$f":"IF(ISBLANK(Vrijwilligersregister!C312)=TRUE,\"\",SUMIF('Nominatieve lijst'!$D$8:$D$10007,C312,'Nominatieve lijst'!$H$8:$H$10007))","v":""},{"$f":"IF(ISBLANK(Vrijwilligersregister!C312)=TRUE,\"\",SUMIF('Nominatieve lijst'!$D$8:$D$10007,C312,'Nominatieve lijst'!$J$8:$J$10007))","v":""},{"$f":"IF(ISBLANK(Vrijwilligersregister!C312)=TRUE,\"\",D312+F312)","v":""},{"$f":"Vrijwilligersregister!L312","v":0}]
[null,307,{"$f":"IF(ISBLANK(Vrijwilligersregister!C313)=TRUE,\"\",Vrijwilligersregister!C313)","v":""},{"$f":"IF(ISBLANK(Vrijwilligersregister!C313)=TRUE,\"\",SUMIF('Nominatieve lijst'!$D$8:$D$10007,C313,'Nominatieve lijst'!$G$8:$G$10007))","v":""},{"$f":"IF(ISBLANK(Vrijwilligersregister!C313)=TRUE,\"\",SUMIF('Nominatieve lijst'!$D$8:$D$10007,C313,'Nominatieve lijst'!$H$8:$H$10007))","v":""},{"$f":"IF(ISBLANK(Vrijwilligersregister!C313)=TRUE,\"\",SUMIF('Nominatieve lijst'!$D$8:$D$10007,C313,'Nominatieve lijst'!$J$8:$J$10007))","v":""},{"$f":"IF(ISBLANK(Vrijwilligersregister!C313)=TRUE,\"\",D313+F313)","v":""},{"$f":"Vrijwilligersregister!L313","v":0}]
[null,308,{"$f":"IF(ISBLANK(Vrijwilligersregister!C314)=TRUE,\"\",Vrijwilligersregister!C314)","v":""},{"$f":"IF(ISBLANK(Vrijwilligersregister!C314)=TRUE,\"\",SUMIF('Nominatieve lijst'!$D$8:$D$10007,C314,'Nominatieve lijst'!$G$8:$G$10007))","v":""},{"$f":"IF(ISBLANK(Vrijwilligersregister!C314)=TRUE,\"\",SUMIF('Nominatieve lijst'!$D$8:$D$10007,C314,'Nominatieve lijst'!$H$8:$H$10007))","v":""},{"$f":"IF(ISBLANK(Vrijwilligersregister!C314)=TRUE,\"\",SUMIF('Nominatieve lijst'!$D$8:$D$10007,C314,'Nominatieve lijst'!$J$8:$J$10007))","v":""},{"$f":"IF(ISBLANK(Vrijwilligersregister!C314)=TRUE,\"\",D314+F314)","v":""},{"$f":"Vrijwilligersregister!L314","v":0}]
[null,309,{"$f":"IF(ISBLANK(Vrijwilligersregister!C315)=TRUE,\"\",Vrijwilligersregister!C315)","v":""},{"$f":"IF(ISBLANK(Vrijwilligersregister!C315)=TRUE,\"\",SUMIF('Nominatieve lijst'!$D$8:$D$10007,C315,'Nominatieve lijst'!$G$8:$G$10007))","v":""},{"$f":"IF(ISBLANK(Vrijwilligersregister!C315)=TRUE,\"\",SUMIF('Nominatieve lijst'!$D$8:$D$10007,C315,'Nominatieve lijst'!$H$8:$H$10007))","v":""},{"$f":"IF(ISBLANK(Vrijwilligersregister!C315)=TRUE,\"\",SUMIF('Nominatieve lijst'!$D$8:$D$10007,C315,'Nominatieve lijst'!$J$8:$J$10007))","v":""},{"$f":"IF(ISBLANK(Vrijwilligersregister!C315)=TRUE,\"\",D315+F315)","v":""},{"$f":"Vrijwilligersregister!L315","v":0}]
[null,310,{"$f":"IF(ISBLANK(Vrijwilligersregister!C316)=TRUE,\"\",Vrijwilligersregister!C316)","v":""},{"$f":"IF(ISBLANK(Vrijwilligersregister!C316)=TRUE,\"\",SUMIF('Nominatieve lijst'!$D$8:$D$10007,C316,'Nominatieve lijst'!$G$8:$G$10007))","v":""},{"$f":"IF(ISBLANK(Vrijwilligersregister!C316)=TRUE,\"\",SUMIF('Nominatieve lijst'!$D$8:$D$10007,C316,'Nominatieve lijst'!$H$8:$H$10007))","v":""},{"$f":"IF(ISBLANK(Vrijwilligersregister!C316)=TRUE,\"\",SUMIF('Nominatieve lijst'!$D$8:$D$10007,C316,'Nominatieve lijst'!$J$8:$J$10007))","v":""},{"$f":"IF(ISBLANK(Vrijwilligersregister!C316)=TRUE,\"\",D316+F316)","v":""},{"$f":"Vrijwilligersregister!L316","v":0}]
[null,311,{"$f":"IF(ISBLANK(Vrijwilligersregister!C317)=TRUE,\"\",Vrijwilligersregister!C317)","v":""},{"$f":"IF(ISBLANK(Vrijwilligersregister!C317)=TRUE,\"\",SUMIF('Nominatieve lijst'!$D$8:$D$10007,C317,'Nominatieve lijst'!$G$8:$G$10007))","v":""},{"$f":"IF(ISBLANK(Vrijwilligersregister!C317)=TRUE,\"\",SUMIF('Nominatieve lijst'!$D$8:$D$10007,C317,'Nominatieve lijst'!$H$8:$H$10007))","v":""},{"$f":"IF(ISBLANK(Vrijwilligersregister!C317)=TRUE,\"\",SUMIF('Nominatieve lijst'!$D$8:$D$10007,C317,'Nominatieve lijst'!$J$8:$J$10007))","v":""},{"$f":"IF(ISBLANK(Vrijwilligersregister!C317)=TRUE,\"\",D317+F317)","v":""},{"$f":"Vrijwilligersregister!L317","v":0}]
[null,312,{"$f":"IF(ISBLANK(Vrijwilligersregister!C318)=TRUE,\"\",Vrijwilligersregister!C318)","v":""},{"$f":"IF(ISBLANK(Vrijwilligersregister!C318)=TRUE,\"\",SUMIF('Nominatieve lijst'!$D$8:$D$10007,C318,'Nominatieve lijst'!$G$8:$G$10007))","v":""},{"$f":"IF(ISBLANK(Vrijwilligersregister!C318)=TRUE,\"\",SUMIF('Nominatieve lijst'!$D$8:$D$10007,C318,'Nominatieve lijst'!$H$8:$H$10007))","v":""},{"$f":"IF(ISBLANK(Vrijwilligersregister!C318)=TRUE,\"\",SUMIF('Nominatieve lijst'!$D$8:$D$10007,C318,'Nominatieve lijst'!$J$8:$J$10007))","v":""},{"$f":"IF(ISBLANK(Vrijwilligersregister!C318)=TRUE,\"\",D318+F318)","v":""},{"$f":"Vrijwilligersregister!L318","v":0}]
[null,313,{"$f":"IF(ISBLANK(Vrijwilligersregister!C319)=TRUE,\"\",Vrijwilligersregister!C319)","v":""},{"$f":"IF(ISBLANK(Vrijwilligersregister!C319)=TRUE,\"\",SUMIF('Nominatieve lijst'!$D$8:$D$10007,C319,'Nominatieve lijst'!$G$8:$G$10007))","v":""},{"$f":"IF(ISBLANK(Vrijwilligersregister!C319)=TRUE,\"\",SUMIF('Nominatieve lijst'!$D$8:$D$10007,C319,'Nominatieve lijst'!$H$8:$H$10007))","v":""},{"$f":"IF(ISBLANK(Vrijwilligersregister!C319)=TRUE,\"\",SUMIF('Nominatieve lijst'!$D$8:$D$10007,C319,'Nominatieve lijst'!$J$8:$J$10007))","v":""},{"$f":"IF(ISBLANK(Vrijwilligersregister!C319)=TRUE,\"\",D319+F319)","v":""},{"$f":"Vrijwilligersregister!L319","v":0}]
[null,314,{"$f":"IF(ISBLANK(Vrijwilligersregister!C320)=TRUE,\"\",Vrijwilligersregister!C320)","v":""},{"$f":"IF(ISBLANK(Vrijwilligersregister!C320)=TRUE,\"\",SUMIF('Nominatieve lijst'!$D$8:$D$10007,C320,'Nominatieve lijst'!$G$8:$G$10007))","v":""},{"$f":"IF(ISBLANK(Vrijwilligersregister!C320)=TRUE,\"\",SUMIF('Nominatieve lijst'!$D$8:$D$10007,C320,'Nominatieve lijst'!$H$8:$H$10007))","v":""},{"$f":"IF(ISBLANK(Vrijwilligersregister!C320)=TRUE,\"\",SUMIF('Nominatieve lijst'!$D$8:$D$10007,C320,'Nominatieve lijst'!$J$8:$J$10007))","v":""},{"$f":"IF(ISBLANK(Vrijwilligersregister!C320)=TRUE,\"\",D320+F320)","v":""},{"$f":"Vrijwilligersregister!L320","v":0}]
[null,315,{"$f":"IF(ISBLANK(Vrijwilligersregister!C321)=TRUE,\"\",Vrijwilligersregister!C321)","v":""},{"$f":"IF(ISBLANK(Vrijwilligersregister!C321)=TRUE,\"\",SUMIF('Nominatieve lijst'!$D$8:$D$10007,C321,'Nominatieve lijst'!$G$8:$G$10007))","v":""},{"$f":"IF(ISBLANK(Vrijwilligersregister!C321)=TRUE,\"\",SUMIF('Nominatieve lijst'!$D$8:$D$10007,C321,'Nominatieve lijst'!$H$8:$H$10007))","v":""},{"$f":"IF(ISBLANK(Vrijwilligersregister!C321)=TRUE,\"\",SUMIF('Nominatieve lijst'!$D$8:$D$10007,C321,'Nominatieve lijst'!$J$8:$J$10007))","v":""},{"$f":"IF(ISBLANK(Vrijwilligersregister!C321)=TRUE,\"\",D321+F321)","v":""},{"$f":"Vrijwilligersregister!L321","v":0}]
[null,316,{"$f":"IF(ISBLANK(Vrijwilligersregister!C322)=TRUE,\"\",Vrijwilligersregister!C322)","v":""},{"$f":"IF(ISBLANK(Vrijwilligersregister!C322)=TRUE,\"\",SUMIF('Nominatieve lijst'!$D$8:$D$10007,C322,'Nominatieve lijst'!$G$8:$G$10007))","v":""},{"$f":"IF(ISBLANK(Vrijwilligersregister!C322)=TRUE,\"\",SUMIF('Nominatieve lijst'!$D$8:$D$10007,C322,'Nominatieve lijst'!$H$8:$H$10007))","v":""},{"$f":"IF(ISBLANK(Vrijwilligersregister!C322)=TRUE,\"\",SUMIF('Nominatieve lijst'!$D$8:$D$10007,C322,'Nominatieve lijst'!$J$8:$J$10007))","v":""},{"$f":"IF(ISBLANK(Vrijwilligersregister!C322)=TRUE,\"\",D322+F322)","v":""},{"$f":"Vrijwilligersregister!L322","v":0}]
[null,317,{"$f":"IF(ISBLANK(Vrijwilligersregister!C323)=TRUE,\"\",Vrijwilligersregister!C323)","v":""},{"$f":"IF(ISBLANK(Vrijwilligersregister!C323)=TRUE,\"\",SUMIF('Nominatieve lijst'!$D$8:$D$10007,C323,'Nominatieve lijst'!$G$8:$G$10007))","v":""},{"$f":"IF(ISBLANK(Vrijwilligersregister!C323)=TRUE,\"\",SUMIF('Nominatieve lijst'!$D$8:$D$10007,C323,'Nominatieve lijst'!$H$8:$H$10007))","v":""},{"$f":"IF(ISBLANK(Vrijwilligersregister!C323)=TRUE,\"\",SUMIF('Nominatieve lijst'!$D$8:$D$10007,C323,'Nominatieve lijst'!$J$8:$J$10007))","v":""},{"$f":"IF(ISBLANK(Vrijwilligersregister!C323)=TRUE,\"\",D323+F323)","v":""},{"$f":"Vrijwilligersregister!L323","v":0}]
[null,318,{"$f":"IF(ISBLANK(Vrijwilligersregister!C324)=TRUE,\"\",Vrijwilligersregister!C324)","v":""},{"$f":"IF(ISBLANK(Vrijwilligersregister!C324)=TRUE,\"\",SUMIF('Nominatieve lijst'!$D$8:$D$10007,C324,'Nominatieve lijst'!$G$8:$G$10007))","v":""},{"$f":"IF(ISBLANK(Vrijwilligersregister!C324)=TRUE,\"\",SUMIF('Nominatieve lijst'!$D$8:$D$10007,C324,'Nominatieve lijst'!$H$8:$H$10007))","v":""},{"$f":"IF(ISBLANK(Vrijwilligersregister!C324)=TRUE,\"\",SUMIF('Nominatieve lijst'!$D$8:$D$10007,C324,'Nominatieve lijst'!$J$8:$J$10007))","v":""},{"$f":"IF(ISBLANK(Vrijwilligersregister!C324)=TRUE,\"\",D324+F324)","v":""},{"$f":"Vrijwilligersregister!L324","v":0}]
[null,319,{"$f":"IF(ISBLANK(Vrijwilligersregister!C325)=TRUE,\"\",Vrijwilligersregister!C325)","v":""},{"$f":"IF(ISBLANK(Vrijwilligersregister!C325)=TRUE,\"\",SUMIF('Nominatieve lijst'!$D$8:$D$10007,C325,'Nominatieve lijst'!$G$8:$G$10007))","v":""},{"$f":"IF(ISBLANK(Vrijwilligersregister!C325)=TRUE,\"\",SUMIF('Nominatieve lijst'!$D$8:$D$10007,C325,'Nominatieve lijst'!$H$8:$H$10007))","v":""},{"$f":"IF(ISBLANK(Vrijwilligersregister!C325)=TRUE,\"\",SUMIF('Nominatieve lijst'!$D$8:$D$10007,C325,'Nominatieve lijst'!$J$8:$J$10007))","v":""},{"$f":"IF(ISBLANK(Vrijwilligersregister!C325)=TRUE,\"\",D325+F325)","v":""},{"$f":"Vrijwilligersregister!L325","v":0}]
[null,320,{"$f":"IF(ISBLANK(Vrijwilligersregister!C326)=TRUE,\"\",Vrijwilligersregister!C326)","v":""},{"$f":"IF(ISBLANK(Vrijwilligersregister!C326)=TRUE,\"\",SUMIF('Nominatieve lijst'!$D$8:$D$10007,C326,'Nominatieve lijst'!$G$8:$G$10007))","v":""},{"$f":"IF(ISBLANK(Vrijwilligersregister!C326)=TRUE,\"\",SUMIF('Nominatieve lijst'!$D$8:$D$10007,C326,'Nominatieve lijst'!$H$8:$H$10007))","v":""},{"$f":"IF(ISBLANK(Vrijwilligersregister!C326)=TRUE,\"\",SUMIF('Nominatieve lijst'!$D$8:$D$10007,C326,'Nominatieve lijst'!$J$8:$J$10007))","v":""},{"$f":"IF(ISBLANK(Vrijwilligersregister!C326)=TRUE,\"\",D326+F326)","v":""},{"$f":"Vrijwilligersregister!L326","v":0}]
[null,321,{"$f":"IF(ISBLANK(Vrijwilligersregister!C327)=TRUE,\"\",Vrijwilligersregister!C327)","v":""},{"$f":"IF(ISBLANK(Vrijwilligersregister!C327)=TRUE,\"\",SUMIF('Nominatieve lijst'!$D$8:$D$10007,C327,'Nominatieve lijst'!$G$8:$G$10007))","v":""},{"$f":"IF(ISBLANK(Vrijwilligersregister!C327)=TRUE,\"\",SUMIF('Nominatieve lijst'!$D$8:$D$10007,C327,'Nominatieve lijst'!$H$8:$H$10007))","v":""},{"$f":"IF(ISBLANK(Vrijwilligersregister!C327)=TRUE,\"\",SUMIF('Nominatieve lijst'!$D$8:$D$10007,C327,'Nominatieve lijst'!$J$8:$J$10007))","v":""},{"$f":"IF(ISBLANK(Vrijwilligersregister!C327)=TRUE,\"\",D327+F327)","v":""},{"$f":"Vrijwilligersregister!L327","v":0}]
[null,322,{"$f":"IF(ISBLANK(Vrijwilligersregister!C328)=TRUE,\"\",Vrijwilligersregister!C328)","v":""},{"$f":"IF(ISBLANK(Vrijwilligersregister!C328)=TRUE,\"\",SUMIF('Nominatieve lijst'!$D$8:$D$10007,C328,'Nominatieve lijst'!$G$8:$G$10007))","v":""},{"$f":"IF(ISBLANK(Vrijwilligersregister!C328)=TRUE,\"\",SUMIF('Nominatieve lijst'!$D$8:$D$10007,C328,'Nominatieve lijst'!$H$8:$H$10007))","v":""},{"$f":"IF(ISBLANK(Vrijwilligersregister!C328)=TRUE,\"\",SUMIF('Nominatieve lijst'!$D$8:$D$10007,C328,'Nominatieve lijst'!$J$8:$J$10007))","v":""},{"$f":"IF(ISBLANK(Vrijwilligersregister!C328)=TRUE,\"\",D328+F328)","v":""},{"$f":"Vrijwilligersregister!L328","v":0}]
[null,323,{"$f":"IF(ISBLANK(Vrijwilligersregister!C329)=TRUE,\"\",Vrijwilligersregister!C329)","v":""},{"$f":"IF(ISBLANK(Vrijwilligersregister!C329)=TRUE,\"\",SUMIF('Nominatieve lijst'!$D$8:$D$10007,C329,'Nominatieve lijst'!$G$8:$G$10007))","v":""},{"$f":"IF(ISBLANK(Vrijwilligersregister!C329)=TRUE,\"\",SUMIF('Nominatieve lijst'!$D$8:$D$10007,C329,'Nominatieve lijst'!$H$8:$H$10007))","v":""},{"$f":"IF(ISBLANK(Vrijwilligersregister!C329)=TRUE,\"\",SUMIF('Nominatieve lijst'!$D$8:$D$10007,C329,'Nominatieve lijst'!$J$8:$J$10007))","v":""},{"$f":"IF(ISBLANK(Vrijwilligersregister!C329)=TRUE,\"\",D329+F329)","v":""},{"$f":"Vrijwilligersregister!L329","v":0}]
[null,324,{"$f":"IF(ISBLANK(Vrijwilligersregister!C330)=TRUE,\"\",Vrijwilligersregister!C330)","v":""},{"$f":"IF(ISBLANK(Vrijwilligersregister!C330)=TRUE,\"\",SUMIF('Nominatieve lijst'!$D$8:$D$10007,C330,'Nominatieve lijst'!$G$8:$G$10007))","v":""},{"$f":"IF(ISBLANK(Vrijwilligersregister!C330)=TRUE,\"\",SUMIF('Nominatieve lijst'!$D$8:$D$10007,C330,'Nominatieve lijst'!$H$8:$H$10007))","v":""},{"$f":"IF(ISBLANK(Vrijwilligersregister!C330)=TRUE,\"\",SUMIF('Nominatieve lijst'!$D$8:$D$10007,C330,'Nominatieve lijst'!$J$8:$J$10007))","v":""},{"$f":"IF(ISBLANK(Vrijwilligersregister!C330)=TRUE,\"\",D330+F330)","v":""},{"$f":"Vrijwilligersregister!L330","v":0}]
[null,325,{"$f":"IF(ISBLANK(Vrijwilligersregister!C331)=TRUE,\"\",Vrijwilligersregister!C331)","v":""},{"$f":"IF(ISBLANK(Vrijwilligersregister!C331)=TRUE,\"\",SUMIF('Nominatieve lijst'!$D$8:$D$10007,C331,'Nominatieve lijst'!$G$8:$G$10007))","v":""},{"$f":"IF(ISBLANK(Vrijwilligersregister!C331)=TRUE,\"\",SUMIF('Nominatieve lijst'!$D$8:$D$10007,C331,'Nominatieve lijst'!$H$8:$H$10007))","v":""},{"$f":"IF(ISBLANK(Vrijwilligersregister!C331)=TRUE,\"\",SUMIF('Nominatieve lijst'!$D$8:$D$10007,C331,'Nominatieve lijst'!$J$8:$J$10007))","v":""},{"$f":"IF(ISBLANK(Vrijwilligersregister!C331)=TRUE,\"\",D331+F331)","v":""},{"$f":"Vrijwilligersregister!L331","v":0}]
[null,326,{"$f":"IF(ISBLANK(Vrijwilligersregister!C332)=TRUE,\"\",Vrijwilligersregister!C332)","v":""},{"$f":"IF(ISBLANK(Vrijwilligersregister!C332)=TRUE,\"\",SUMIF('Nominatieve lijst'!$D$8:$D$10007,C332,'Nominatieve lijst'!$G$8:$G$10007))","v":""},{"$f":"IF(ISBLANK(Vrijwilligersregister!C332)=TRUE,\"\",SUMIF('Nominatieve lijst'!$D$8:$D$10007,C332,'Nominatieve lijst'!$H$8:$H$10007))","v":""},{"$f":"IF(ISBLANK(Vrijwilligersregister!C332)=TRUE,\"\",SUMIF('Nominatieve lijst'!$D$8:$D$10007,C332,'Nominatieve lijst'!$J$8:$J$10007))","v":""},{"$f":"IF(ISBLANK(Vrijwilligersregister!C332)=TRUE,\"\",D332+F332)","v":""},{"$f":"Vrijwilligersregister!L332","v":0}]
[null,327,{"$f":"IF(ISBLANK(Vrijwilligersregister!C333)=TRUE,\"\",Vrijwilligersregister!C333)","v":""},{"$f":"IF(ISBLANK(Vrijwilligersregister!C333)=TRUE,\"\",SUMIF('Nominatieve lijst'!$D$8:$D$10007,C333,'Nominatieve lijst'!$G$8:$G$10007))","v":""},{"$f":"IF(ISBLANK(Vrijwilligersregister!C333)=TRUE,\"\",SUMIF('Nominatieve lijst'!$D$8:$D$10007,C333,'Nominatieve lijst'!$H$8:$H$10007))","v":""},{"$f":"IF(ISBLANK(Vrijwilligersregister!C333)=TRUE,\"\",SUMIF('Nominatieve lijst'!$D$8:$D$10007,C333,'Nominatieve lijst'!$J$8:$J$10007))","v":""},{"$f":"IF(ISBLANK(Vrijwilligersregister!C333)=TRUE,\"\",D333+F333)","v":""},{"$f":"Vrijwilligersregister!L333","v":0}]
[null,328,{"$f":"IF(ISBLANK(Vrijwilligersregister!C334)=TRUE,\"\",Vrijwilligersregister!C334)","v":""},{"$f":"IF(ISBLANK(Vrijwilligersregister!C334)=TRUE,\"\",SUMIF('Nominatieve lijst'!$D$8:$D$10007,C334,'Nominatieve lijst'!$G$8:$G$10007))","v":""},{"$f":"IF(ISBLANK(Vrijwilligersregister!C334)=TRUE,\"\",SUMIF('Nominatieve lijst'!$D$8:$D$10007,C334,'Nominatieve lijst'!$H$8:$H$10007))","v":""},{"$f":"IF(ISBLANK(Vrijwilligersregister!C334)=TRUE,\"\",SUMIF('Nominatieve lijst'!$D$8:$D$10007,C334,'Nominatieve lijst'!$J$8:$J$10007))","v":""},{"$f":"IF(ISBLANK(Vrijwilligersregister!C334)=TRUE,\"\",D334+F334)","v":""},{"$f":"Vrijwilligersregister!L334","v":0}]
[null,329,{"$f":"IF(ISBLANK(Vrijwilligersregister!C335)=TRUE,\"\",Vrijwilligersregister!C335)","v":""},{"$f":"IF(ISBLANK(Vrijwilligersregister!C335)=TRUE,\"\",SUMIF('Nominatieve lijst'!$D$8:$D$10007,C335,'Nominatieve lijst'!$G$8:$G$10007))","v":""},{"$f":"IF(ISBLANK(Vrijwilligersregister!C335)=TRUE,\"\",SUMIF('Nominatieve lijst'!$D$8:$D$10007,C335,'Nominatieve lijst'!$H$8:$H$10007))","v":""},{"$f":"IF(ISBLANK(Vrijwilligersregister!C335)=TRUE,\"\",SUMIF('Nominatieve lijst'!$D$8:$D$10007,C335,'Nominatieve lijst'!$J$8:$J$10007))","v":""},{"$f":"IF(ISBLANK(Vrijwilligersregister!C335)=TRUE,\"\",D335+F335)","v":""},{"$f":"Vrijwilligersregister!L335","v":0}]
[null,330,{"$f":"IF(ISBLANK(Vrijwilligersregister!C336)=TRUE,\"\",Vrijwilligersregister!C336)","v":""},{"$f":"IF(ISBLANK(Vrijwilligersregister!C336)=TRUE,\"\",SUMIF('Nominatieve lijst'!$D$8:$D$10007,C336,'Nominatieve lijst'!$G$8:$G$10007))","v":""},{"$f":"IF(ISBLANK(Vrijwilligersregister!C336)=TRUE,\"\",SUMIF('Nominatieve lijst'!$D$8:$D$10007,C336,'Nominatieve lijst'!$H$8:$H$10007))","v":""},{"$f":"IF(ISBLANK(Vrijwilligersregister!C336)=TRUE,\"\",SUMIF('Nominatieve lijst'!$D$8:$D$10007,C336,'Nominatieve lijst'!$J$8:$J$10007))","v":""},{"$f":"IF(ISBLANK(Vrijwilligersregister!C336)=TRUE,\"\",D336+F336)","v":""},{"$f":"Vrijwilligersregister!L336","v":0}]
[null,331,{"$f":"IF(ISBLANK(Vrijwilligersregister!C337)=TRUE,\"\",Vrijwilligersregister!C337)","v":""},{"$f":"IF(ISBLANK(Vrijwilligersregister!C337)=TRUE,\"\",SUMIF('Nominatieve lijst'!$D$8:$D$10007,C337,'Nominatieve lijst'!$G$8:$G$10007))","v":""},{"$f":"IF(ISBLANK(Vrijwilligersregister!C337)=TRUE,\"\",SUMIF('Nominatieve lijst'!$D$8:$D$10007,C337,'Nominatieve lijst'!$H$8:$H$10007))","v":""},{"$f":"IF(ISBLANK(Vrijwilligersregister!C337)=TRUE,\"\",SUMIF('Nominatieve lijst'!$D$8:$D$10007,C337,'Nominatieve lijst'!$J$8:$J$10007))","v":""},{"$f":"IF(ISBLANK(Vrijwilligersregister!C337)=TRUE,\"\",D337+F337)","v":""},{"$f":"Vrijwilligersregister!L337","v":0}]
[null,332,{"$f":"IF(ISBLANK(Vrijwilligersregister!C338)=TRUE,\"\",Vrijwilligersregister!C338)","v":""},{"$f":"IF(ISBLANK(Vrijwilligersregister!C338)=TRUE,\"\",SUMIF('Nominatieve lijst'!$D$8:$D$10007,C338,'Nominatieve lijst'!$G$8:$G$10007))","v":""},{"$f":"IF(ISBLANK(Vrijwilligersregister!C338)=TRUE,\"\",SUMIF('Nominatieve lijst'!$D$8:$D$10007,C338,'Nominatieve lijst'!$H$8:$H$10007))","v":""},{"$f":"IF(ISBLANK(Vrijwilligersregister!C338)=TRUE,\"\",SUMIF('Nominatieve lijst'!$D$8:$D$10007,C338,'Nominatieve lijst'!$J$8:$J$10007))","v":""},{"$f":"IF(ISBLANK(Vrijwilligersregister!C338)=TRUE,\"\",D338+F338)","v":""},{"$f":"Vrijwilligersregister!L338","v":0}]
[null,333,{"$f":"IF(ISBLANK(Vrijwilligersregister!C339)=TRUE,\"\",Vrijwilligersregister!C339)","v":""},{"$f":"IF(ISBLANK(Vrijwilligersregister!C339)=TRUE,\"\",SUMIF('Nominatieve lijst'!$D$8:$D$10007,C339,'Nominatieve lijst'!$G$8:$G$10007))","v":""},{"$f":"IF(ISBLANK(Vrijwilligersregister!C339)=TRUE,\"\",SUMIF('Nominatieve lijst'!$D$8:$D$10007,C339,'Nominatieve lijst'!$H$8:$H$10007))","v":""},{"$f":"IF(ISBLANK(Vrijwilligersregister!C339)=TRUE,\"\",SUMIF('Nominatieve lijst'!$D$8:$D$10007,C339,'Nominatieve lijst'!$J$8:$J$10007))","v":""},{"$f":"IF(ISBLANK(Vrijwilligersregister!C339)=TRUE,\"\",D339+F339)","v":""},{"$f":"Vrijwilligersregister!L339","v":0}]
[null,334,{"$f":"IF(ISBLANK(Vrijwilligersregister!C340)=TRUE,\"\",Vrijwilligersregister!C340)","v":""},{"$f":"IF(ISBLANK(Vrijwilligersregister!C340)=TRUE,\"\",SUMIF('Nominatieve lijst'!$D$8:$D$10007,C340,'Nominatieve lijst'!$G$8:$G$10007))","v":""},{"$f":"IF(ISBLANK(Vrijwilligersregister!C340)=TRUE,\"\",SUMIF('Nominatieve lijst'!$D$8:$D$10007,C340,'Nominatieve lijst'!$H$8:$H$10007))","v":""},{"$f":"IF(ISBLANK(Vrijwilligersregister!C340)=TRUE,\"\",SUMIF('Nominatieve lijst'!$D$8:$D$10007,C340,'Nominatieve lijst'!$J$8:$J$10007))","v":""},{"$f":"IF(ISBLANK(Vrijwilligersregister!C340)=TRUE,\"\",D340+F340)","v":""},{"$f":"Vrijwilligersregister!L340","v":0}]
[null,335,{"$f":"IF(ISBLANK(Vrijwilligersregister!C341)=TRUE,\"\",Vrijwilligersregister!C341)","v":""},{"$f":"IF(ISBLANK(Vrijwilligersregister!C341)=TRUE,\"\",SUMIF('Nominatieve lijst'!$D$8:$D$10007,C341,'Nominatieve lijst'!$G$8:$G$10007))","v":""},{"$f":"IF(ISBLANK(Vrijwilligersregister!C341)=TRUE,\"\",SUMIF('Nominatieve lijst'!$D$8:$D$10007,C341,'Nominatieve lijst'!$H$8:$H$10007))","v":""},{"$f":"IF(ISBLANK(Vrijwilligersregister!C341)=TRUE,\"\",SUMIF('Nominatieve lijst'!$D$8:$D$10007,C341,'Nominatieve lijst'!$J$8:$J$10007))","v":""},{"$f":"IF(ISBLANK(Vrijwilligersregister!C341)=TRUE,\"\",D341+F341)","v":""},{"$f":"Vrijwilligersregister!L341","v":0}]
[null,336,{"$f":"IF(ISBLANK(Vrijwilligersregister!C342)=TRUE,\"\",Vrijwilligersregister!C342)","v":""},{"$f":"IF(ISBLANK(Vrijwilligersregister!C342)=TRUE,\"\",SUMIF('Nominatieve lijst'!$D$8:$D$10007,C342,'Nominatieve lijst'!$G$8:$G$10007))","v":""},{"$f":"IF(ISBLANK(Vrijwilligersregister!C342)=TRUE,\"\",SUMIF('Nominatieve lijst'!$D$8:$D$10007,C342,'Nominatieve lijst'!$H$8:$H$10007))","v":""},{"$f":"IF(ISBLANK(Vrijwilligersregister!C342)=TRUE,\"\",SUMIF('Nominatieve lijst'!$D$8:$D$10007,C342,'Nominatieve lijst'!$J$8:$J$10007))","v":""},{"$f":"IF(ISBLANK(Vrijwilligersregister!C342)=TRUE,\"\",D342+F342)","v":""},{"$f":"Vrijwilligersregister!L342","v":0}]
[null,337,{"$f":"IF(ISBLANK(Vrijwilligersregister!C343)=TRUE,\"\",Vrijwilligersregister!C343)","v":""},{"$f":"IF(ISBLANK(Vrijwilligersregister!C343)=TRUE,\"\",SUMIF('Nominatieve lijst'!$D$8:$D$10007,C343,'Nominatieve lijst'!$G$8:$G$10007))","v":""},{"$f":"IF(ISBLANK(Vrijwilligersregister!C343)=TRUE,\"\",SUMIF('Nominatieve lijst'!$D$8:$D$10007,C343,'Nominatieve lijst'!$H$8:$H$10007))","v":""},{"$f":"IF(ISBLANK(Vrijwilligersregister!C343)=TRUE,\"\",SUMIF('Nominatieve lijst'!$D$8:$D$10007,C343,'Nominatieve lijst'!$J$8:$J$10007))","v":""},{"$f":"IF(ISBLANK(Vrijwilligersregister!C343)=TRUE,\"\",D343+F343)","v":""},{"$f":"Vrijwilligersregister!L343","v":0}]
[null,338,{"$f":"IF(ISBLANK(Vrijwilligersregister!C344)=TRUE,\"\",Vrijwilligersregister!C344)","v":""},{"$f":"IF(ISBLANK(Vrijwilligersregister!C344)=TRUE,\"\",SUMIF('Nominatieve lijst'!$D$8:$D$10007,C344,'Nominatieve lijst'!$G$8:$G$10007))","v":""},{"$f":"IF(ISBLANK(Vrijwilligersregister!C344)=TRUE,\"\",SUMIF('Nominatieve lijst'!$D$8:$D$10007,C344,'Nominatieve lijst'!$H$8:$H$10007))","v":""},{"$f":"IF(ISBLANK(Vrijwilligersregister!C344)=TRUE,\"\",SUMIF('Nominatieve lijst'!$D$8:$D$10007,C344,'Nominatieve lijst'!$J$8:$J$10007))","v":""},{"$f":"IF(ISBLANK(Vrijwilligersregister!C344)=TRUE,\"\",D344+F344)","v":""},{"$f":"Vrijwilligersregister!L344","v":0}]
[null,339,{"$f":"IF(ISBLANK(Vrijwilligersregister!C345)=TRUE,\"\",Vrijwilligersregister!C345)","v":""},{"$f":"IF(ISBLANK(Vrijwilligersregister!C345)=TRUE,\"\",SUMIF('Nominatieve lijst'!$D$8:$D$10007,C345,'Nominatieve lijst'!$G$8:$G$10007))","v":""},{"$f":"IF(ISBLANK(Vrijwilligersregister!C345)=TRUE,\"\",SUMIF('Nominatieve lijst'!$D$8:$D$10007,C345,'Nominatieve lijst'!$H$8:$H$10007))","v":""},{"$f":"IF(ISBLANK(Vrijwilligersregister!C345)=TRUE,\"\",SUMIF('Nominatieve lijst'!$D$8:$D$10007,C345,'Nominatieve lijst'!$J$8:$J$10007))","v":""},{"$f":"IF(ISBLANK(Vrijwilligersregister!C345)=TRUE,\"\",D345+F345)","v":""},{"$f":"Vrijwilligersregister!L345","v":0}]
[null,340,{"$f":"IF(ISBLANK(Vrijwilligersregister!C346)=TRUE,\"\",Vrijwilligersregister!C346)","v":""},{"$f":"IF(ISBLANK(Vrijwilligersregister!C346)=TRUE,\"\",SUMIF('Nominatieve lijst'!$D$8:$D$10007,C346,'Nominatieve lijst'!$G$8:$G$10007))","v":""},{"$f":"IF(ISBLANK(Vrijwilligersregister!C346)=TRUE,\"\",SUMIF('Nominatieve lijst'!$D$8:$D$10007,C346,'Nominatieve lijst'!$H$8:$H$10007))","v":""},{"$f":"IF(ISBLANK(Vrijwilligersregister!C346)=TRUE,\"\",SUMIF('Nominatieve lijst'!$D$8:$D$10007,C346,'Nominatieve lijst'!$J$8:$J$10007))","v":""},{"$f":"IF(ISBLANK(Vrijwilligersregister!C346)=TRUE,\"\",D346+F346)","v":""},{"$f":"Vrijwilligersregister!L346","v":0}]
[null,341,{"$f":"IF(ISBLANK(Vrijwilligersregister!C347)=TRUE,\"\",Vrijwilligersregister!C347)","v":""},{"$f":"IF(ISBLANK(Vrijwilligersregister!C347)=TRUE,\"\",SUMIF('Nominatieve lijst'!$D$8:$D$10007,C347,'Nominatieve lijst'!$G$8:$G$10007))","v":""},{"$f":"IF(ISBLANK(Vrijwilligersregister!C347)=TRUE,\"\",SUMIF('Nominatieve lijst'!$D$8:$D$10007,C347,'Nominatieve lijst'!$H$8:$H$10007))","v":""},{"$f":"IF(ISBLANK(Vrijwilligersregister!C347)=TRUE,\"\",SUMIF('Nominatieve lijst'!$D$8:$D$10007,C347,'Nominatieve lijst'!$J$8:$J$10007))","v":""},{"$f":"IF(ISBLANK(Vrijwilligersregister!C347)=TRUE,\"\",D347+F347)","v":""},{"$f":"Vrijwilligersregister!L347","v":0}]
[null,342,{"$f":"IF(ISBLANK(Vrijwilligersregister!C348)=TRUE,\"\",Vrijwilligersregister!C348)","v":""},{"$f":"IF(ISBLANK(Vrijwilligersregister!C348)=TRUE,\"\",SUMIF('Nominatieve lijst'!$D$8:$D$10007,C348,'Nominatieve lijst'!$G$8:$G$10007))","v":""},{"$f":"IF(ISBLANK(Vrijwilligersregister!C348)=TRUE,\"\",SUMIF('Nominatieve lijst'!$D$8:$D$10007,C348,'Nominatieve lijst'!$H$8:$H$10007))","v":""},{"$f":"IF(ISBLANK(Vrijwilligersregister!C348)=TRUE,\"\",SUMIF('Nominatieve lijst'!$D$8:$D$10007,C348,'Nominatieve lijst'!$J$8:$J$10007))","v":""},{"$f":"IF(ISBLANK(Vrijwilligersregister!C348)=TRUE,\"\",D348+F348)","v":""},{"$f":"Vrijwilligersregister!L348","v":0}]
[null,343,{"$f":"IF(ISBLANK(Vrijwilligersregister!C349)=TRUE,\"\",Vrijwilligersregister!C349)","v":""},{"$f":"IF(ISBLANK(Vrijwilligersregister!C349)=TRUE,\"\",SUMIF('Nominatieve lijst'!$D$8:$D$10007,C349,'Nominatieve lijst'!$G$8:$G$10007))","v":""},{"$f":"IF(ISBLANK(Vrijwilligersregister!C349)=TRUE,\"\",SUMIF('Nominatieve lijst'!$D$8:$D$10007,C349,'Nominatieve lijst'!$H$8:$H$10007))","v":""},{"$f":"IF(ISBLANK(Vrijwilligersregister!C349)=TRUE,\"\",SUMIF('Nominatieve lijst'!$D$8:$D$10007,C349,'Nominatieve lijst'!$J$8:$J$10007))","v":""},{"$f":"IF(ISBLANK(Vrijwilligersregister!C349)=TRUE,\"\",D349+F349)","v":""},{"$f":"Vrijwilligersregister!L349","v":0}]
[null,344,{"$f":"IF(ISBLANK(Vrijwilligersregister!C350)=TRUE,\"\",Vrijwilligersregister!C350)","v":""},{"$f":"IF(ISBLANK(Vrijwilligersregister!C350)=TRUE,\"\",SUMIF('Nominatieve lijst'!$D$8:$D$10007,C350,'Nominatieve lijst'!$G$8:$G$10007))","v":""},{"$f":"IF(ISBLANK(Vrijwilligersregister!C350)=TRUE,\"\",SUMIF('Nominatieve lijst'!$D$8:$D$10007,C350,'Nominatieve lijst'!$H$8:$H$10007))","v":""},{"$f":"IF(ISBLANK(Vrijwilligersregister!C350)=TRUE,\"\",SUMIF('Nominatieve lijst'!$D$8:$D$10007,C350,'Nominatieve lijst'!$J$8:$J$10007))","v":""},{"$f":"IF(ISBLANK(Vrijwilligersregister!C350)=TRUE,\"\",D350+F350)","v":""},{"$f":"Vrijwilligersregister!L350","v":0}]
[null,345,{"$f":"IF(ISBLANK(Vrijwilligersregister!C351)=TRUE,\"\",Vrijwilligersregister!C351)","v":""},{"$f":"IF(ISBLANK(Vrijwilligersregister!C351)=TRUE,\"\",SUMIF('Nominatieve lijst'!$D$8:$D$10007,C351,'Nominatieve lijst'!$G$8:$G$10007))","v":""},{"$f":"IF(ISBLANK(Vrijwilligersregister!C351)=TRUE,\"\",SUMIF('Nominatieve lijst'!$D$8:$D$10007,C351,'Nominatieve lijst'!$H$8:$H$10007))","v":""},{"$f":"IF(ISBLANK(Vrijwilligersregister!C351)=TRUE,\"\",SUMIF('Nominatieve lijst'!$D$8:$D$10007,C351,'Nominatieve lijst'!$J$8:$J$10007))","v":""},{"$f":"IF(ISBLANK(Vrijwilligersregister!C351)=TRUE,\"\",D351+F351)","v":""},{"$f":"Vrijwilligersregister!L351","v":0}]
[null,346,{"$f":"IF(ISBLANK(Vrijwilligersregister!C352)=TRUE,\"\",Vrijwilligersregister!C352)","v":""},{"$f":"IF(ISBLANK(Vrijwilligersregister!C352)=TRUE,\"\",SUMIF('Nominatieve lijst'!$D$8:$D$10007,C352,'Nominatieve lijst'!$G$8:$G$10007))","v":""},{"$f":"IF(ISBLANK(Vrijwilligersregister!C352)=TRUE,\"\",SUMIF('Nominatieve lijst'!$D$8:$D$10007,C352,'Nominatieve lijst'!$H$8:$H$10007))","v":""},{"$f":"IF(ISBLANK(Vrijwilligersregister!C352)=TRUE,\"\",SUMIF('Nominatieve lijst'!$D$8:$D$10007,C352,'Nominatieve lijst'!$J$8:$J$10007))","v":""},{"$f":"IF(ISBLANK(Vrijwilligersregister!C352)=TRUE,\"\",D352+F352)","v":""},{"$f":"Vrijwilligersregister!L352","v":0}]
[null,347,{"$f":"IF(ISBLANK(Vrijwilligersregister!C353)=TRUE,\"\",Vrijwilligersregister!C353)","v":""},{"$f":"IF(ISBLANK(Vrijwilligersregister!C353)=TRUE,\"\",SUMIF('Nominatieve lijst'!$D$8:$D$10007,C353,'Nominatieve lijst'!$G$8:$G$10007))","v":""},{"$f":"IF(ISBLANK(Vrijwilligersregister!C353)=TRUE,\"\",SUMIF('Nominatieve lijst'!$D$8:$D$10007,C353,'Nominatieve lijst'!$H$8:$H$10007))","v":""},{"$f":"IF(ISBLANK(Vrijwilligersregister!C353)=TRUE,\"\",SUMIF('Nominatieve lijst'!$D$8:$D$10007,C353,'Nominatieve lijst'!$J$8:$J$10007))","v":""},{"$f":"IF(ISBLANK(Vrijwilligersregister!C353)=TRUE,\"\",D353+F353)","v":""},{"$f":"Vrijwilligersregister!L353","v":0}]
[null,348,{"$f":"IF(ISBLANK(Vrijwilligersregister!C354)=TRUE,\"\",Vrijwilligersregister!C354)","v":""},{"$f":"IF(ISBLANK(Vrijwilligersregister!C354)=TRUE,\"\",SUMIF('Nominatieve lijst'!$D$8:$D$10007,C354,'Nominatieve lijst'!$G$8:$G$10007))","v":""},{"$f":"IF(ISBLANK(Vrijwilligersregister!C354)=TRUE,\"\",SUMIF('Nominatieve lijst'!$D$8:$D$10007,C354,'Nominatieve lijst'!$H$8:$H$10007))","v":""},{"$f":"IF(ISBLANK(Vrijwilligersregister!C354)=TRUE,\"\",SUMIF('Nominatieve lijst'!$D$8:$D$10007,C354,'Nominatieve lijst'!$J$8:$J$10007))","v":""},{"$f":"IF(ISBLANK(Vrijwilligersregister!C354)=TRUE,\"\",D354+F354)","v":""},{"$f":"Vrijwilligersregister!L354","v":0}]
[null,349,{"$f":"IF(ISBLANK(Vrijwilligersregister!C355)=TRUE,\"\",Vrijwilligersregister!C355)","v":""},{"$f":"IF(ISBLANK(Vrijwilligersregister!C355)=TRUE,\"\",SUMIF('Nominatieve lijst'!$D$8:$D$10007,C355,'Nominatieve lijst'!$G$8:$G$10007))","v":""},{"$f":"IF(ISBLANK(Vrijwilligersregister!C355)=TRUE,\"\",SUMIF('Nominatieve lijst'!$D$8:$D$10007,C355,'Nominatieve lijst'!$H$8:$H$10007))","v":""},{"$f":"IF(ISBLANK(Vrijwilligersregister!C355)=TRUE,\"\",SUMIF('Nominatieve lijst'!$D$8:$D$10007,C355,'Nominatieve lijst'!$J$8:$J$10007))","v":""},{"$f":"IF(ISBLANK(Vrijwilligersregister!C355)=TRUE,\"\",D355+F355)","v":""},{"$f":"Vrijwilligersregister!L355","v":0}]
[null,350,{"$f":"IF(ISBLANK(Vrijwilligersregister!C356)=TRUE,\"\",Vrijwilligersregister!C356)","v":""},{"$f":"IF(ISBLANK(Vrijwilligersregister!C356)=TRUE,\"\",SUMIF('Nominatieve lijst'!$D$8:$D$10007,C356,'Nominatieve lijst'!$G$8:$G$10007))","v":""},{"$f":"IF(ISBLANK(Vrijwilligersregister!C356)=TRUE,\"\",SUMIF('Nominatieve lijst'!$D$8:$D$10007,C356,'Nominatieve lijst'!$H$8:$H$10007))","v":""},{"$f":"IF(ISBLANK(Vrijwilligersregister!C356)=TRUE,\"\",SUMIF('Nominatieve lijst'!$D$8:$D$10007,C356,'Nominatieve lijst'!$J$8:$J$10007))","v":""},{"$f":"IF(ISBLANK(Vrijwilligersregister!C356)=TRUE,\"\",D356+F356)","v":""},{"$f":"Vrijwilligersregister!L356","v":0}]
[null,351,{"$f":"IF(ISBLANK(Vrijwilligersregister!C357)=TRUE,\"\",Vrijwilligersregister!C357)","v":""},{"$f":"IF(ISBLANK(Vrijwilligersregister!C357)=TRUE,\"\",SUMIF('Nominatieve lijst'!$D$8:$D$10007,C357,'Nominatieve lijst'!$G$8:$G$10007))","v":""},{"$f":"IF(ISBLANK(Vrijwilligersregister!C357)=TRUE,\"\",SUMIF('Nominatieve lijst'!$D$8:$D$10007,C357,'Nominatieve lijst'!$H$8:$H$10007))","v":""},{"$f":"IF(ISBLANK(Vrijwilligersregister!C357)=TRUE,\"\",SUMIF('Nominatieve lijst'!$D$8:$D$10007,C357,'Nominatieve lijst'!$J$8:$J$10007))","v":""},{"$f":"IF(ISBLANK(Vrijwilligersregister!C357)=TRUE,\"\",D357+F357)","v":""},{"$f":"Vrijwilligersregister!L357","v":0}]
[null,352,{"$f":"IF(ISBLANK(Vrijwilligersregister!C358)=TRUE,\"\",Vrijwilligersregister!C358)","v":""},{"$f":"IF(ISBLANK(Vrijwilligersregister!C358)=TRUE,\"\",SUMIF('Nominatieve lijst'!$D$8:$D$10007,C358,'Nominatieve lijst'!$G$8:$G$10007))","v":""},{"$f":"IF(ISBLANK(Vrijwilligersregister!C358)=TRUE,\"\",SUMIF('Nominatieve lijst'!$D$8:$D$10007,C358,'Nominatieve lijst'!$H$8:$H$10007))","v":""},{"$f":"IF(ISBLANK(Vrijwilligersregister!C358)=TRUE,\"\",SUMIF('Nominatieve lijst'!$D$8:$D$10007,C358,'Nominatieve lijst'!$J$8:$J$10007))","v":""},{"$f":"IF(ISBLANK(Vrijwilligersregister!C358)=TRUE,\"\",D358+F358)","v":""},{"$f":"Vrijwilligersregister!L358","v":0}]
[null,353,{"$f":"IF(ISBLANK(Vrijwilligersregister!C359)=TRUE,\"\",Vrijwilligersregister!C359)","v":""},{"$f":"IF(ISBLANK(Vrijwilligersregister!C359)=TRUE,\"\",SUMIF('Nominatieve lijst'!$D$8:$D$10007,C359,'Nominatieve lijst'!$G$8:$G$10007))","v":""},{"$f":"IF(ISBLANK(Vrijwilligersregister!C359)=TRUE,\"\",SUMIF('Nominatieve lijst'!$D$8:$D$10007,C359,'Nominatieve lijst'!$H$8:$H$10007))","v":""},{"$f":"IF(ISBLANK(Vrijwilligersregister!C359)=TRUE,\"\",SUMIF('Nominatieve lijst'!$D$8:$D$10007,C359,'Nominatieve lijst'!$J$8:$J$10007))","v":""},{"$f":"IF(ISBLANK(Vrijwilligersregister!C359)=TRUE,\"\",D359+F359)","v":""},{"$f":"Vrijwilligersregister!L359","v":0}]
[null,354,{"$f":"IF(ISBLANK(Vrijwilligersregister!C360)=TRUE,\"\",Vrijwilligersregister!C360)","v":""},{"$f":"IF(ISBLANK(Vrijwilligersregister!C360)=TRUE,\"\",SUMIF('Nominatieve lijst'!$D$8:$D$10007,C360,'Nominatieve lijst'!$G$8:$G$10007))","v":""},{"$f":"IF(ISBLANK(Vrijwilligersregister!C360)=TRUE,\"\",SUMIF('Nominatieve lijst'!$D$8:$D$10007,C360,'Nominatieve lijst'!$H$8:$H$10007))","v":""},{"$f":"IF(ISBLANK(Vrijwilligersregister!C360)=TRUE,\"\",SUMIF('Nominatieve lijst'!$D$8:$D$10007,C360,'Nominatieve lijst'!$J$8:$J$10007))","v":""},{"$f":"IF(ISBLANK(Vrijwilligersregister!C360)=TRUE,\"\",D360+F360)","v":""},{"$f":"Vrijwilligersregister!L360","v":0}]
[null,355,{"$f":"IF(ISBLANK(Vrijwilligersregister!C361)=TRUE,\"\",Vrijwilligersregister!C361)","v":""},{"$f":"IF(ISBLANK(Vrijwilligersregister!C361)=TRUE,\"\",SUMIF('Nominatieve lijst'!$D$8:$D$10007,C361,'Nominatieve lijst'!$G$8:$G$10007))","v":""},{"$f":"IF(ISBLANK(Vrijwilligersregister!C361)=TRUE,\"\",SUMIF('Nominatieve lijst'!$D$8:$D$10007,C361,'Nominatieve lijst'!$H$8:$H$10007))","v":""},{"$f":"IF(ISBLANK(Vrijwilligersregister!C361)=TRUE,\"\",SUMIF('Nominatieve lijst'!$D$8:$D$10007,C361,'Nominatieve lijst'!$J$8:$J$10007))","v":""},{"$f":"IF(ISBLANK(Vrijwilligersregister!C361)=TRUE,\"\",D361+F361)","v":""},{"$f":"Vrijwilligersregister!L361","v":0}]
[null,356,{"$f":"IF(ISBLANK(Vrijwilligersregister!C362)=TRUE,\"\",Vrijwilligersregister!C362)","v":""},{"$f":"IF(ISBLANK(Vrijwilligersregister!C362)=TRUE,\"\",SUMIF('Nominatieve lijst'!$D$8:$D$10007,C362,'Nominatieve lijst'!$G$8:$G$10007))","v":""},{"$f":"IF(ISBLANK(Vrijwilligersregister!C362)=TRUE,\"\",SUMIF('Nominatieve lijst'!$D$8:$D$10007,C362,'Nominatieve lijst'!$H$8:$H$10007))","v":""},{"$f":"IF(ISBLANK(Vrijwilligersregister!C362)=TRUE,\"\",SUMIF('Nominatieve lijst'!$D$8:$D$10007,C362,'Nominatieve lijst'!$J$8:$J$10007))","v":""},{"$f":"IF(ISBLANK(Vrijwilligersregister!C362)=TRUE,\"\",D362+F362)","v":""},{"$f":"Vrijwilligersregister!L362","v":0}]
[null,357,{"$f":"IF(ISBLANK(Vrijwilligersregister!C363)=TRUE,\"\",Vrijwilligersregister!C363)","v":""},{"$f":"IF(ISBLANK(Vrijwilligersregister!C363)=TRUE,\"\",SUMIF('Nominatieve lijst'!$D$8:$D$10007,C363,'Nominatieve lijst'!$G$8:$G$10007))","v":""},{"$f":"IF(ISBLANK(Vrijwilligersregister!C363)=TRUE,\"\",SUMIF('Nominatieve lijst'!$D$8:$D$10007,C363,'Nominatieve lijst'!$H$8:$H$10007))","v":""},{"$f":"IF(ISBLANK(Vrijwilligersregister!C363)=TRUE,\"\",SUMIF('Nominatieve lijst'!$D$8:$D$10007,C363,'Nominatieve lijst'!$J$8:$J$10007))","v":""},{"$f":"IF(ISBLANK(Vrijwilligersregister!C363)=TRUE,\"\",D363+F363)","v":""},{"$f":"Vrijwilligersregister!L363","v":0}]
[null,358,{"$f":"IF(ISBLANK(Vrijwilligersregister!C364)=TRUE,\"\",Vrijwilligersregister!C364)","v":""},{"$f":"IF(ISBLANK(Vrijwilligersregister!C364)=TRUE,\"\",SUMIF('Nominatieve lijst'!$D$8:$D$10007,C364,'Nominatieve lijst'!$G$8:$G$10007))","v":""},{"$f":"IF(ISBLANK(Vrijwilligersregister!C364)=TRUE,\"\",SUMIF('Nominatieve lijst'!$D$8:$D$10007,C364,'Nominatieve lijst'!$H$8:$H$10007))","v":""},{"$f":"IF(ISBLANK(Vrijwilligersregister!C364)=TRUE,\"\",SUMIF('Nominatieve lijst'!$D$8:$D$10007,C364,'Nominatieve lijst'!$J$8:$J$10007))","v":""},{"$f":"IF(ISBLANK(Vrijwilligersregister!C364)=TRUE,\"\",D364+F364)","v":""},{"$f":"Vrijwilligersregister!L364","v":0}]
[null,359,{"$f":"IF(ISBLANK(Vrijwilligersregister!C365)=TRUE,\"\",Vrijwilligersregister!C365)","v":""},{"$f":"IF(ISBLANK(Vrijwilligersregister!C365)=TRUE,\"\",SUMIF('Nominatieve lijst'!$D$8:$D$10007,C365,'Nominatieve lijst'!$G$8:$G$10007))","v":""},{"$f":"IF(ISBLANK(Vrijwilligersregister!C365)=TRUE,\"\",SUMIF('Nominatieve lijst'!$D$8:$D$10007,C365,'Nominatieve lijst'!$H$8:$H$10007))","v":""},{"$f":"IF(ISBLANK(Vrijwilligersregister!C365)=TRUE,\"\",SUMIF('Nominatieve lijst'!$D$8:$D$10007,C365,'Nominatieve lijst'!$J$8:$J$10007))","v":""},{"$f":"IF(ISBLANK(Vrijwilligersregister!C365)=TRUE,\"\",D365+F365)","v":""},{"$f":"Vrijwilligersregister!L365","v":0}]
[null,360,{"$f":"IF(ISBLANK(Vrijwilligersregister!C366)=TRUE,\"\",Vrijwilligersregister!C366)","v":""},{"$f":"IF(ISBLANK(Vrijwilligersregister!C366)=TRUE,\"\",SUMIF('Nominatieve lijst'!$D$8:$D$10007,C366,'Nominatieve lijst'!$G$8:$G$10007))","v":""},{"$f":"IF(ISBLANK(Vrijwilligersregister!C366)=TRUE,\"\",SUMIF('Nominatieve lijst'!$D$8:$D$10007,C366,'Nominatieve lijst'!$H$8:$H$10007))","v":""},{"$f":"IF(ISBLANK(Vrijwilligersregister!C366)=TRUE,\"\",SUMIF('Nominatieve lijst'!$D$8:$D$10007,C366,'Nominatieve lijst'!$J$8:$J$10007))","v":""},{"$f":"IF(ISBLANK(Vrijwilligersregister!C366)=TRUE,\"\",D366+F366)","v":""},{"$f":"Vrijwilligersregister!L366","v":0}]
[null,361,{"$f":"IF(ISBLANK(Vrijwilligersregister!C367)=TRUE,\"\",Vrijwilligersregister!C367)","v":""},{"$f":"IF(ISBLANK(Vrijwilligersregister!C367)=TRUE,\"\",SUMIF('Nominatieve lijst'!$D$8:$D$10007,C367,'Nominatieve lijst'!$G$8:$G$10007))","v":""},{"$f":"IF(ISBLANK(Vrijwilligersregister!C367)=TRUE,\"\",SUMIF('Nominatieve lijst'!$D$8:$D$10007,C367,'Nominatieve lijst'!$H$8:$H$10007))","v":""},{"$f":"IF(ISBLANK(Vrijwilligersregister!C367)=TRUE,\"\",SUMIF('Nominatieve lijst'!$D$8:$D$10007,C367,'Nominatieve lijst'!$J$8:$J$10007))","v":""},{"$f":"IF(ISBLANK(Vrijwilligersregister!C367)=TRUE,\"\",D367+F367)","v":""},{"$f":"Vrijwilligersregister!L367","v":0}]
[null,362,{"$f":"IF(ISBLANK(Vrijwilligersregister!C368)=TRUE,\"\",Vrijwilligersregister!C368)","v":""},{"$f":"IF(ISBLANK(Vrijwilligersregister!C368)=TRUE,\"\",SUMIF('Nominatieve lijst'!$D$8:$D$10007,C368,'Nominatieve lijst'!$G$8:$G$10007))","v":""},{"$f":"IF(ISBLANK(Vrijwilligersregister!C368)=TRUE,\"\",SUMIF('Nominatieve lijst'!$D$8:$D$10007,C368,'Nominatieve lijst'!$H$8:$H$10007))","v":""},{"$f":"IF(ISBLANK(Vrijwilligersregister!C368)=TRUE,\"\",SUMIF('Nominatieve lijst'!$D$8:$D$10007,C368,'Nominatieve lijst'!$J$8:$J$10007))","v":""},{"$f":"IF(ISBLANK(Vrijwilligersregister!C368)=TRUE,\"\",D368+F368)","v":""},{"$f":"Vrijwilligersregister!L368","v":0}]
[null,363,{"$f":"IF(ISBLANK(Vrijwilligersregister!C369)=TRUE,\"\",Vrijwilligersregister!C369)","v":""},{"$f":"IF(ISBLANK(Vrijwilligersregister!C369)=TRUE,\"\",SUMIF('Nominatieve lijst'!$D$8:$D$10007,C369,'Nominatieve lijst'!$G$8:$G$10007))","v":""},{"$f":"IF(ISBLANK(Vrijwilligersregister!C369)=TRUE,\"\",SUMIF('Nominatieve lijst'!$D$8:$D$10007,C369,'Nominatieve lijst'!$H$8:$H$10007))","v":""},{"$f":"IF(ISBLANK(Vrijwilligersregister!C369)=TRUE,\"\",SUMIF('Nominatieve lijst'!$D$8:$D$10007,C369,'Nominatieve lijst'!$J$8:$J$10007))","v":""},{"$f":"IF(ISBLANK(Vrijwilligersregister!C369)=TRUE,\"\",D369+F369)","v":""},{"$f":"Vrijwilligersregister!L369","v":0}]
[null,364,{"$f":"IF(ISBLANK(Vrijwilligersregister!C370)=TRUE,\"\",Vrijwilligersregister!C370)","v":""},{"$f":"IF(ISBLANK(Vrijwilligersregister!C370)=TRUE,\"\",SUMIF('Nominatieve lijst'!$D$8:$D$10007,C370,'Nominatieve lijst'!$G$8:$G$10007))","v":""},{"$f":"IF(ISBLANK(Vrijwilligersregister!C370)=TRUE,\"\",SUMIF('Nominatieve lijst'!$D$8:$D$10007,C370,'Nominatieve lijst'!$H$8:$H$10007))","v":""},{"$f":"IF(ISBLANK(Vrijwilligersregister!C370)=TRUE,\"\",SUMIF('Nominatieve lijst'!$D$8:$D$10007,C370,'Nominatieve lijst'!$J$8:$J$10007))","v":""},{"$f":"IF(ISBLANK(Vrijwilligersregister!C370)=TRUE,\"\",D370+F370)","v":""},{"$f":"Vrijwilligersregister!L370","v":0}]
[null,365,{"$f":"IF(ISBLANK(Vrijwilligersregister!C371)=TRUE,\"\",Vrijwilligersregister!C371)","v":""},{"$f":"IF(ISBLANK(Vrijwilligersregister!C371)=TRUE,\"\",SUMIF('Nominatieve lijst'!$D$8:$D$10007,C371,'Nominatieve lijst'!$G$8:$G$10007))","v":""},{"$f":"IF(ISBLANK(Vrijwilligersregister!C371)=TRUE,\"\",SUMIF('Nominatieve lijst'!$D$8:$D$10007,C371,'Nominatieve lijst'!$H$8:$H$10007))","v":""},{"$f":"IF(ISBLANK(Vrijwilligersregister!C371)=TRUE,\"\",SUMIF('Nominatieve lijst'!$D$8:$D$10007,C371,'Nominatieve lijst'!$J$8:$J$10007))","v":""},{"$f":"IF(ISBLANK(Vrijwilligersregister!C371)=TRUE,\"\",D371+F371)","v":""},{"$f":"Vrijwilligersregister!L371","v":0}]
[null,366,{"$f":"IF(ISBLANK(Vrijwilligersregister!C372)=TRUE,\"\",Vrijwilligersregister!C372)","v":""},{"$f":"IF(ISBLANK(Vrijwilligersregister!C372)=TRUE,\"\",SUMIF('Nominatieve lijst'!$D$8:$D$10007,C372,'Nominatieve lijst'!$G$8:$G$10007))","v":""},{"$f":"IF(ISBLANK(Vrijwilligersregister!C372)=TRUE,\"\",SUMIF('Nominatieve lijst'!$D$8:$D$10007,C372,'Nominatieve lijst'!$H$8:$H$10007))","v":""},{"$f":"IF(ISBLANK(Vrijwilligersregister!C372)=TRUE,\"\",SUMIF('Nominatieve lijst'!$D$8:$D$10007,C372,'Nominatieve lijst'!$J$8:$J$10007))","v":""},{"$f":"IF(ISBLANK(Vrijwilligersregister!C372)=TRUE,\"\",D372+F372)","v":""},{"$f":"Vrijwilligersregister!L372","v":0}]
[null,367,{"$f":"IF(ISBLANK(Vrijwilligersregister!C373)=TRUE,\"\",Vrijwilligersregister!C373)","v":""},{"$f":"IF(ISBLANK(Vrijwilligersregister!C373)=TRUE,\"\",SUMIF('Nominatieve lijst'!$D$8:$D$10007,C373,'Nominatieve lijst'!$G$8:$G$10007))","v":""},{"$f":"IF(ISBLANK(Vrijwilligersregister!C373)=TRUE,\"\",SUMIF('Nominatieve lijst'!$D$8:$D$10007,C373,'Nominatieve lijst'!$H$8:$H$10007))","v":""},{"$f":"IF(ISBLANK(Vrijwilligersregister!C373)=TRUE,\"\",SUMIF('Nominatieve lijst'!$D$8:$D$10007,C373,'Nominatieve lijst'!$J$8:$J$10007))","v":""},{"$f":"IF(ISBLANK(Vrijwilligersregister!C373)=TRUE,\"\",D373+F373)","v":""},{"$f":"Vrijwilligersregister!L373","v":0}]
[null,368,{"$f":"IF(ISBLANK(Vrijwilligersregister!C374)=TRUE,\"\",Vrijwilligersregister!C374)","v":""},{"$f":"IF(ISBLANK(Vrijwilligersregister!C374)=TRUE,\"\",SUMIF('Nominatieve lijst'!$D$8:$D$10007,C374,'Nominatieve lijst'!$G$8:$G$10007))","v":""},{"$f":"IF(ISBLANK(Vrijwilligersregister!C374)=TRUE,\"\",SUMIF('Nominatieve lijst'!$D$8:$D$10007,C374,'Nominatieve lijst'!$H$8:$H$10007))","v":""},{"$f":"IF(ISBLANK(Vrijwilligersregister!C374)=TRUE,\"\",SUMIF('Nominatieve lijst'!$D$8:$D$10007,C374,'Nominatieve lijst'!$J$8:$J$10007))","v":""},{"$f":"IF(ISBLANK(Vrijwilligersregister!C374)=TRUE,\"\",D374+F374)","v":""},{"$f":"Vrijwilligersregister!L374","v":0}]
[null,369,{"$f":"IF(ISBLANK(Vrijwilligersregister!C375)=TRUE,\"\",Vrijwilligersregister!C375)","v":""},{"$f":"IF(ISBLANK(Vrijwilligersregister!C375)=TRUE,\"\",SUMIF('Nominatieve lijst'!$D$8:$D$10007,C375,'Nominatieve lijst'!$G$8:$G$10007))","v":""},{"$f":"IF(ISBLANK(Vrijwilligersregister!C375)=TRUE,\"\",SUMIF('Nominatieve lijst'!$D$8:$D$10007,C375,'Nominatieve lijst'!$H$8:$H$10007))","v":""},{"$f":"IF(ISBLANK(Vrijwilligersregister!C375)=TRUE,\"\",SUMIF('Nominatieve lijst'!$D$8:$D$10007,C375,'Nominatieve lijst'!$J$8:$J$10007))","v":""},{"$f":"IF(ISBLANK(Vrijwilligersregister!C375)=TRUE,\"\",D375+F375)","v":""},{"$f":"Vrijwilligersregister!L375","v":0}]
[null,370,{"$f":"IF(ISBLANK(Vrijwilligersregister!C376)=TRUE,\"\",Vrijwilligersregister!C376)","v":""},{"$f":"IF(ISBLANK(Vrijwilligersregister!C376)=TRUE,\"\",SUMIF('Nominatieve lijst'!$D$8:$D$10007,C376,'Nominatieve lijst'!$G$8:$G$10007))","v":""},{"$f":"IF(ISBLANK(Vrijwilligersregister!C376)=TRUE,\"\",SUMIF('Nominatieve lijst'!$D$8:$D$10007,C376,'Nominatieve lijst'!$H$8:$H$10007))","v":""},{"$f":"IF(ISBLANK(Vrijwilligersregister!C376)=TRUE,\"\",SUMIF('Nominatieve lijst'!$D$8:$D$10007,C376,'Nominatieve lijst'!$J$8:$J$10007))","v":""},{"$f":"IF(ISBLANK(Vrijwilligersregister!C376)=TRUE,\"\",D376+F376)","v":""},{"$f":"Vrijwilligersregister!L376","v":0}]
[null,371,{"$f":"IF(ISBLANK(Vrijwilligersregister!C377)=TRUE,\"\",Vrijwilligersregister!C377)","v":""},{"$f":"IF(ISBLANK(Vrijwilligersregister!C377)=TRUE,\"\",SUMIF('Nominatieve lijst'!$D$8:$D$10007,C377,'Nominatieve lijst'!$G$8:$G$10007))","v":""},{"$f":"IF(ISBLANK(Vrijwilligersregister!C377)=TRUE,\"\",SUMIF('Nominatieve lijst'!$D$8:$D$10007,C377,'Nominatieve lijst'!$H$8:$H$10007))","v":""},{"$f":"IF(ISBLANK(Vrijwilligersregister!C377)=TRUE,\"\",SUMIF('Nominatieve lijst'!$D$8:$D$10007,C377,'Nominatieve lijst'!$J$8:$J$10007))","v":""},{"$f":"IF(ISBLANK(Vrijwilligersregister!C377)=TRUE,\"\",D377+F377)","v":""},{"$f":"Vrijwilligersregister!L377","v":0}]
[null,372,{"$f":"IF(ISBLANK(Vrijwilligersregister!C378)=TRUE,\"\",Vrijwilligersregister!C378)","v":""},{"$f":"IF(ISBLANK(Vrijwilligersregister!C378)=TRUE,\"\",SUMIF('Nominatieve lijst'!$D$8:$D$10007,C378,'Nominatieve lijst'!$G$8:$G$10007))","v":""},{"$f":"IF(ISBLANK(Vrijwilligersregister!C378)=TRUE,\"\",SUMIF('Nominatieve lijst'!$D$8:$D$10007,C378,'Nominatieve lijst'!$H$8:$H$10007))","v":""},{"$f":"IF(ISBLANK(Vrijwilligersregister!C378)=TRUE,\"\",SUMIF('Nominatieve lijst'!$D$8:$D$10007,C378,'Nominatieve lijst'!$J$8:$J$10007))","v":""},{"$f":"IF(ISBLANK(Vrijwilligersregister!C378)=TRUE,\"\",D378+F378)","v":""},{"$f":"Vrijwilligersregister!L378","v":0}]
[null,373,{"$f":"IF(ISBLANK(Vrijwilligersregister!C379)=TRUE,\"\",Vrijwilligersregister!C379)","v":""},{"$f":"IF(ISBLANK(Vrijwilligersregister!C379)=TRUE,\"\",SUMIF('Nominatieve lijst'!$D$8:$D$10007,C379,'Nominatieve lijst'!$G$8:$G$10007))","v":""},{"$f":"IF(ISBLANK(Vrijwilligersregister!C379)=TRUE,\"\",SUMIF('Nominatieve lijst'!$D$8:$D$10007,C379,'Nominatieve lijst'!$H$8:$H$10007))","v":""},{"$f":"IF(ISBLANK(Vrijwilligersregister!C379)=TRUE,\"\",SUMIF('Nominatieve lijst'!$D$8:$D$10007,C379,'Nominatieve lijst'!$J$8:$J$10007))","v":""},{"$f":"IF(ISBLANK(Vrijwilligersregister!C379)=TRUE,\"\",D379+F379)","v":""},{"$f":"Vrijwilligersregister!L379","v":0}]
[null,374,{"$f":"IF(ISBLANK(Vrijwilligersregister!C380)=TRUE,\"\",Vrijwilligersregister!C380)","v":""},{"$f":"IF(ISBLANK(Vrijwilligersregister!C380)=TRUE,\"\",SUMIF('Nominatieve lijst'!$D$8:$D$10007,C380,'Nominatieve lijst'!$G$8:$G$10007))","v":""},{"$f":"IF(ISBLANK(Vrijwilligersregister!C380)=TRUE,\"\",SUMIF('Nominatieve lijst'!$D$8:$D$10007,C380,'Nominatieve lijst'!$H$8:$H$10007))","v":""},{"$f":"IF(ISBLANK(Vrijwilligersregister!C380)=TRUE,\"\",SUMIF('Nominatieve lijst'!$D$8:$D$10007,C380,'Nominatieve lijst'!$J$8:$J$10007))","v":""},{"$f":"IF(ISBLANK(Vrijwilligersregister!C380)=TRUE,\"\",D380+F380)","v":""},{"$f":"Vrijwilligersregister!L380","v":0}]
[null,375,{"$f":"IF(ISBLANK(Vrijwilligersregister!C381)=TRUE,\"\",Vrijwilligersregister!C381)","v":""},{"$f":"IF(ISBLANK(Vrijwilligersregister!C381)=TRUE,\"\",SUMIF('Nominatieve lijst'!$D$8:$D$10007,C381,'Nominatieve lijst'!$G$8:$G$10007))","v":""},{"$f":"IF(ISBLANK(Vrijwilligersregister!C381)=TRUE,\"\",SUMIF('Nominatieve lijst'!$D$8:$D$10007,C381,'Nominatieve lijst'!$H$8:$H$10007))","v":""},{"$f":"IF(ISBLANK(Vrijwilligersregister!C381)=TRUE,\"\",SUMIF('Nominatieve lijst'!$D$8:$D$10007,C381,'Nominatieve lijst'!$J$8:$J$10007))","v":""},{"$f":"IF(ISBLANK(Vrijwilligersregister!C381)=TRUE,\"\",D381+F381)","v":""},{"$f":"Vrijwilligersregister!L381","v":0}]
[null,376,{"$f":"IF(ISBLANK(Vrijwilligersregister!C382)=TRUE,\"\",Vrijwilligersregister!C382)","v":""},{"$f":"IF(ISBLANK(Vrijwilligersregister!C382)=TRUE,\"\",SUMIF('Nominatieve lijst'!$D$8:$D$10007,C382,'Nominatieve lijst'!$G$8:$G$10007))","v":""},{"$f":"IF(ISBLANK(Vrijwilligersregister!C382)=TRUE,\"\",SUMIF('Nominatieve lijst'!$D$8:$D$10007,C382,'Nominatieve lijst'!$H$8:$H$10007))","v":""},{"$f":"IF(ISBLANK(Vrijwilligersregister!C382)=TRUE,\"\",SUMIF('Nominatieve lijst'!$D$8:$D$10007,C382,'Nominatieve lijst'!$J$8:$J$10007))","v":""},{"$f":"IF(ISBLANK(Vrijwilligersregister!C382)=TRUE,\"\",D382+F382)","v":""},{"$f":"Vrijwilligersregister!L382","v":0}]
[null,377,{"$f":"IF(ISBLANK(Vrijwilligersregister!C383)=TRUE,\"\",Vrijwilligersregister!C383)","v":""},{"$f":"IF(ISBLANK(Vrijwilligersregister!C383)=TRUE,\"\",SUMIF('Nominatieve lijst'!$D$8:$D$10007,C383,'Nominatieve lijst'!$G$8:$G$10007))","v":""},{"$f":"IF(ISBLANK(Vrijwilligersregister!C383)=TRUE,\"\",SUMIF('Nominatieve lijst'!$D$8:$D$10007,C383,'Nominatieve lijst'!$H$8:$H$10007))","v":""},{"$f":"IF(ISBLANK(Vrijwilligersregister!C383)=TRUE,\"\",SUMIF('Nominatieve lijst'!$D$8:$D$10007,C383,'Nominatieve lijst'!$J$8:$J$10007))","v":""},{"$f":"IF(ISBLANK(Vrijwilligersregister!C383)=TRUE,\"\",D383+F383)","v":""},{"$f":"Vrijwilligersregister!L383","v":0}]
[null,378,{"$f":"IF(ISBLANK(Vrijwilligersregister!C384)=TRUE,\"\",Vrijwilligersregister!C384)","v":""},{"$f":"IF(ISBLANK(Vrijwilligersregister!C384)=TRUE,\"\",SUMIF('Nominatieve lijst'!$D$8:$D$10007,C384,'Nominatieve lijst'!$G$8:$G$10007))","v":""},{"$f":"IF(ISBLANK(Vrijwilligersregister!C384)=TRUE,\"\",SUMIF('Nominatieve lijst'!$D$8:$D$10007,C384,'Nominatieve lijst'!$H$8:$H$10007))","v":""},{"$f":"IF(ISBLANK(Vrijwilligersregister!C384)=TRUE,\"\",SUMIF('Nominatieve lijst'!$D$8:$D$10007,C384,'Nominatieve lijst'!$J$8:$J$10007))","v":""},{"$f":"IF(ISBLANK(Vrijwilligersregister!C384)=TRUE,\"\",D384+F384)","v":""},{"$f":"Vrijwilligersregister!L384","v":0}]
[null,379,{"$f":"IF(ISBLANK(Vrijwilligersregister!C385)=TRUE,\"\",Vrijwilligersregister!C385)","v":""},{"$f":"IF(ISBLANK(Vrijwilligersregister!C385)=TRUE,\"\",SUMIF('Nominatieve lijst'!$D$8:$D$10007,C385,'Nominatieve lijst'!$G$8:$G$10007))","v":""},{"$f":"IF(ISBLANK(Vrijwilligersregister!C385)=TRUE,\"\",SUMIF('Nominatieve lijst'!$D$8:$D$10007,C385,'Nominatieve lijst'!$H$8:$H$10007))","v":""},{"$f":"IF(ISBLANK(Vrijwilligersregister!C385)=TRUE,\"\",SUMIF('Nominatieve lijst'!$D$8:$D$10007,C385,'Nominatieve lijst'!$J$8:$J$10007))","v":""},{"$f":"IF(ISBLANK(Vrijwilligersregister!C385)=TRUE,\"\",D385+F385)","v":""},{"$f":"Vrijwilligersregister!L385","v":0}]
[null,380,{"$f":"IF(ISBLANK(Vrijwilligersregister!C386)=TRUE,\"\",Vrijwilligersregister!C386)","v":""},{"$f":"IF(ISBLANK(Vrijwilligersregister!C386)=TRUE,\"\",SUMIF('Nominatieve lijst'!$D$8:$D$10007,C386,'Nominatieve lijst'!$G$8:$G$10007))","v":""},{"$f":"IF(ISBLANK(Vrijwilligersregister!C386)=TRUE,\"\",SUMIF('Nominatieve lijst'!$D$8:$D$10007,C386,'Nominatieve lijst'!$H$8:$H$10007))","v":""},{"$f":"IF(ISBLANK(Vrijwilligersregister!C386)=TRUE,\"\",SUMIF('Nominatieve lijst'!$D$8:$D$10007,C386,'Nominatieve lijst'!$J$8:$J$10007))","v":""},{"$f":"IF(ISBLANK(Vrijwilligersregister!C386)=TRUE,\"\",D386+F386)","v":""},{"$f":"Vrijwilligersregister!L386","v":0}]
[null,381,{"$f":"IF(ISBLANK(Vrijwilligersregister!C387)=TRUE,\"\",Vrijwilligersregister!C387)","v":""},{"$f":"IF(ISBLANK(Vrijwilligersregister!C387)=TRUE,\"\",SUMIF('Nominatieve lijst'!$D$8:$D$10007,C387,'Nominatieve lijst'!$G$8:$G$10007))","v":""},{"$f":"IF(ISBLANK(Vrijwilligersregister!C387)=TRUE,\"\",SUMIF('Nominatieve lijst'!$D$8:$D$10007,C387,'Nominatieve lijst'!$H$8:$H$10007))","v":""},{"$f":"IF(ISBLANK(Vrijwilligersregister!C387)=TRUE,\"\",SUMIF('Nominatieve lijst'!$D$8:$D$10007,C387,'Nominatieve lijst'!$J$8:$J$10007))","v":""},{"$f":"IF(ISBLANK(Vrijwilligersregister!C387)=TRUE,\"\",D387+F387)","v":""},{"$f":"Vrijwilligersregister!L387","v":0}]
[null,382,{"$f":"IF(ISBLANK(Vrijwilligersregister!C388)=TRUE,\"\",Vrijwilligersregister!C388)","v":""},{"$f":"IF(ISBLANK(Vrijwilligersregister!C388)=TRUE,\"\",SUMIF('Nominatieve lijst'!$D$8:$D$10007,C388,'Nominatieve lijst'!$G$8:$G$10007))","v":""},{"$f":"IF(ISBLANK(Vrijwilligersregister!C388)=TRUE,\"\",SUMIF('Nominatieve lijst'!$D$8:$D$10007,C388,'Nominatieve lijst'!$H$8:$H$10007))","v":""},{"$f":"IF(ISBLANK(Vrijwilligersregister!C388)=TRUE,\"\",SUMIF('Nominatieve lijst'!$D$8:$D$10007,C388,'Nominatieve lijst'!$J$8:$J$10007))","v":""},{"$f":"IF(ISBLANK(Vrijwilligersregister!C388)=TRUE,\"\",D388+F388)","v":""},{"$f":"Vrijwilligersregister!L388","v":0}]
[null,383,{"$f":"IF(ISBLANK(Vrijwilligersregister!C389)=TRUE,\"\",Vrijwilligersregister!C389)","v":""},{"$f":"IF(ISBLANK(Vrijwilligersregister!C389)=TRUE,\"\",SUMIF('Nominatieve lijst'!$D$8:$D$10007,C389,'Nominatieve lijst'!$G$8:$G$10007))","v":""},{"$f":"IF(ISBLANK(Vrijwilligersregister!C389)=TRUE,\"\",SUMIF('Nominatieve lijst'!$D$8:$D$10007,C389,'Nominatieve lijst'!$H$8:$H$10007))","v":""},{"$f":"IF(ISBLANK(Vrijwilligersregister!C389)=TRUE,\"\",SUMIF('Nominatieve lijst'!$D$8:$D$10007,C389,'Nominatieve lijst'!$J$8:$J$10007))","v":""},{"$f":"IF(ISBLANK(Vrijwilligersregister!C389)=TRUE,\"\",D389+F389)","v":""},{"$f":"Vrijwilligersregister!L389","v":0}]
[null,384,{"$f":"IF(ISBLANK(Vrijwilligersregister!C390)=TRUE,\"\",Vrijwilligersregister!C390)","v":""},{"$f":"IF(ISBLANK(Vrijwilligersregister!C390)=TRUE,\"\",SUMIF('Nominatieve lijst'!$D$8:$D$10007,C390,'Nominatieve lijst'!$G$8:$G$10007))","v":""},{"$f":"IF(ISBLANK(Vrijwilligersregister!C390)=TRUE,\"\",SUMIF('Nominatieve lijst'!$D$8:$D$10007,C390,'Nominatieve lijst'!$H$8:$H$10007))","v":""},{"$f":"IF(ISBLANK(Vrijwilligersregister!C390)=TRUE,\"\",SUMIF('Nominatieve lijst'!$D$8:$D$10007,C390,'Nominatieve lijst'!$J$8:$J$10007))","v":""},{"$f":"IF(ISBLANK(Vrijwilligersregister!C390)=TRUE,\"\",D390+F390)","v":""},{"$f":"Vrijwilligersregister!L390","v":0}]
[null,385,{"$f":"IF(ISBLANK(Vrijwilligersregister!C391)=TRUE,\"\",Vrijwilligersregister!C391)","v":""},{"$f":"IF(ISBLANK(Vrijwilligersregister!C391)=TRUE,\"\",SUMIF('Nominatieve lijst'!$D$8:$D$10007,C391,'Nominatieve lijst'!$G$8:$G$10007))","v":""},{"$f":"IF(ISBLANK(Vrijwilligersregister!C391)=TRUE,\"\",SUMIF('Nominatieve lijst'!$D$8:$D$10007,C391,'Nominatieve lijst'!$H$8:$H$10007))","v":""},{"$f":"IF(ISBLANK(Vrijwilligersregister!C391)=TRUE,\"\",SUMIF('Nominatieve lijst'!$D$8:$D$10007,C391,'Nominatieve lijst'!$J$8:$J$10007))","v":""},{"$f":"IF(ISBLANK(Vrijwilligersregister!C391)=TRUE,\"\",D391+F391)","v":""},{"$f":"Vrijwilligersregister!L391","v":0}]
[null,386,{"$f":"IF(ISBLANK(Vrijwilligersregister!C392)=TRUE,\"\",Vrijwilligersregister!C392)","v":""},{"$f":"IF(ISBLANK(Vrijwilligersregister!C392)=TRUE,\"\",SUMIF('Nominatieve lijst'!$D$8:$D$10007,C392,'Nominatieve lijst'!$G$8:$G$10007))","v":""},{"$f":"IF(ISBLANK(Vrijwilligersregister!C392)=TRUE,\"\",SUMIF('Nominatieve lijst'!$D$8:$D$10007,C392,'Nominatieve lijst'!$H$8:$H$10007))","v":""},{"$f":"IF(ISBLANK(Vrijwilligersregister!C392)=TRUE,\"\",SUMIF('Nominatieve lijst'!$D$8:$D$10007,C392,'Nominatieve lijst'!$J$8:$J$10007))","v":""},{"$f":"IF(ISBLANK(Vrijwilligersregister!C392)=TRUE,\"\",D392+F392)","v":""},{"$f":"Vrijwilligersregister!L392","v":0}]
[null,387,{"$f":"IF(ISBLANK(Vrijwilligersregister!C393)=TRUE,\"\",Vrijwilligersregister!C393)","v":""},{"$f":"IF(ISBLANK(Vrijwilligersregister!C393)=TRUE,\"\",SUMIF('Nominatieve lijst'!$D$8:$D$10007,C393,'Nominatieve lijst'!$G$8:$G$10007))","v":""},{"$f":"IF(ISBLANK(Vrijwilligersregister!C393)=TRUE,\"\",SUMIF('Nominatieve lijst'!$D$8:$D$10007,C393,'Nominatieve lijst'!$H$8:$H$10007))","v":""},{"$f":"IF(ISBLANK(Vrijwilligersregister!C393)=TRUE,\"\",SUMIF('Nominatieve lijst'!$D$8:$D$10007,C393,'Nominatieve lijst'!$J$8:$J$10007))","v":""},{"$f":"IF(ISBLANK(Vrijwilligersregister!C393)=TRUE,\"\",D393+F393)","v":""},{"$f":"Vrijwilligersregister!L393","v":0}]
[null,388,{"$f":"IF(ISBLANK(Vrijwilligersregister!C394)=TRUE,\"\",Vrijwilligersregister!C394)","v":""},{"$f":"IF(ISBLANK(Vrijwilligersregister!C394)=TRUE,\"\",SUMIF('Nominatieve lijst'!$D$8:$D$10007,C394,'Nominatieve lijst'!$G$8:$G$10007))","v":""},{"$f":"IF(ISBLANK(Vrijwilligersregister!C394)=TRUE,\"\",SUMIF('Nominatieve lijst'!$D$8:$D$10007,C394,'Nominatieve lijst'!$H$8:$H$10007))","v":""},{"$f":"IF(ISBLANK(Vrijwilligersregister!C394)=TRUE,\"\",SUMIF('Nominatieve lijst'!$D$8:$D$10007,C394,'Nominatieve lijst'!$J$8:$J$10007))","v":""},{"$f":"IF(ISBLANK(Vrijwilligersregister!C394)=TRUE,\"\",D394+F394)","v":""},{"$f":"Vrijwilligersregister!L394","v":0}]
[null,389,{"$f":"IF(ISBLANK(Vrijwilligersregister!C395)=TRUE,\"\",Vrijwilligersregister!C395)","v":""},{"$f":"IF(ISBLANK(Vrijwilligersregister!C395)=TRUE,\"\",SUMIF('Nominatieve lijst'!$D$8:$D$10007,C395,'Nominatieve lijst'!$G$8:$G$10007))","v":""},{"$f":"IF(ISBLANK(Vrijwilligersregister!C395)=TRUE,\"\",SUMIF('Nominatieve lijst'!$D$8:$D$10007,C395,'Nominatieve lijst'!$H$8:$H$10007))","v":""},{"$f":"IF(ISBLANK(Vrijwilligersregister!C395)=TRUE,\"\",SUMIF('Nominatieve lijst'!$D$8:$D$10007,C395,'Nominatieve lijst'!$J$8:$J$10007))","v":""},{"$f":"IF(ISBLANK(Vrijwilligersregister!C395)=TRUE,\"\",D395+F395)","v":""},{"$f":"Vrijwilligersregister!L395","v":0}]
[null,390,{"$f":"IF(ISBLANK(Vrijwilligersregister!C396)=TRUE,\"\",Vrijwilligersregister!C396)","v":""},{"$f":"IF(ISBLANK(Vrijwilligersregister!C396)=TRUE,\"\",SUMIF('Nominatieve lijst'!$D$8:$D$10007,C396,'Nominatieve lijst'!$G$8:$G$10007))","v":""},{"$f":"IF(ISBLANK(Vrijwilligersregister!C396)=TRUE,\"\",SUMIF('Nominatieve lijst'!$D$8:$D$10007,C396,'Nominatieve lijst'!$H$8:$H$10007))","v":""},{"$f":"IF(ISBLANK(Vrijwilligersregister!C396)=TRUE,\"\",SUMIF('Nominatieve lijst'!$D$8:$D$10007,C396,'Nominatieve lijst'!$J$8:$J$10007))","v":""},{"$f":"IF(ISBLANK(Vrijwilligersregister!C396)=TRUE,\"\",D396+F396)","v":""},{"$f":"Vrijwilligersregister!L396","v":0}]
[null,391,{"$f":"IF(ISBLANK(Vrijwilligersregister!C397)=TRUE,\"\",Vrijwilligersregister!C397)","v":""},{"$f":"IF(ISBLANK(Vrijwilligersregister!C397)=TRUE,\"\",SUMIF('Nominatieve lijst'!$D$8:$D$10007,C397,'Nominatieve lijst'!$G$8:$G$10007))","v":""},{"$f":"IF(ISBLANK(Vrijwilligersregister!C397)=TRUE,\"\",SUMIF('Nominatieve lijst'!$D$8:$D$10007,C397,'Nominatieve lijst'!$H$8:$H$10007))","v":""},{"$f":"IF(ISBLANK(Vrijwilligersregister!C397)=TRUE,\"\",SUMIF('Nominatieve lijst'!$D$8:$D$10007,C397,'Nominatieve lijst'!$J$8:$J$10007))","v":""},{"$f":"IF(ISBLANK(Vrijwilligersregister!C397)=TRUE,\"\",D397+F397)","v":""},{"$f":"Vrijwilligersregister!L397","v":0}]
[null,392,{"$f":"IF(ISBLANK(Vrijwilligersregister!C398)=TRUE,\"\",Vrijwilligersregister!C398)","v":""},{"$f":"IF(ISBLANK(Vrijwilligersregister!C398)=TRUE,\"\",SUMIF('Nominatieve lijst'!$D$8:$D$10007,C398,'Nominatieve lijst'!$G$8:$G$10007))","v":""},{"$f":"IF(ISBLANK(Vrijwilligersregister!C398)=TRUE,\"\",SUMIF('Nominatieve lijst'!$D$8:$D$10007,C398,'Nominatieve lijst'!$H$8:$H$10007))","v":""},{"$f":"IF(ISBLANK(Vrijwilligersregister!C398)=TRUE,\"\",SUMIF('Nominatieve lijst'!$D$8:$D$10007,C398,'Nominatieve lijst'!$J$8:$J$10007))","v":""},{"$f":"IF(ISBLANK(Vrijwilligersregister!C398)=TRUE,\"\",D398+F398)","v":""},{"$f":"Vrijwilligersregister!L398","v":0}]
[null,393,{"$f":"IF(ISBLANK(Vrijwilligersregister!C399)=TRUE,\"\",Vrijwilligersregister!C399)","v":""},{"$f":"IF(ISBLANK(Vrijwilligersregister!C399)=TRUE,\"\",SUMIF('Nominatieve lijst'!$D$8:$D$10007,C399,'Nominatieve lijst'!$G$8:$G$10007))","v":""},{"$f":"IF(ISBLANK(Vrijwilligersregister!C399)=TRUE,\"\",SUMIF('Nominatieve lijst'!$D$8:$D$10007,C399,'Nominatieve lijst'!$H$8:$H$10007))","v":""},{"$f":"IF(ISBLANK(Vrijwilligersregister!C399)=TRUE,\"\",SUMIF('Nominatieve lijst'!$D$8:$D$10007,C399,'Nominatieve lijst'!$J$8:$J$10007))","v":""},{"$f":"IF(ISBLANK(Vrijwilligersregister!C399)=TRUE,\"\",D399+F399)","v":""},{"$f":"Vrijwilligersregister!L399","v":0}]
[null,394,{"$f":"IF(ISBLANK(Vrijwilligersregister!C400)=TRUE,\"\",Vrijwilligersregister!C400)","v":""},{"$f":"IF(ISBLANK(Vrijwilligersregister!C400)=TRUE,\"\",SUMIF('Nominatieve lijst'!$D$8:$D$10007,C400,'Nominatieve lijst'!$G$8:$G$10007))","v":""},{"$f":"IF(ISBLANK(Vrijwilligersregister!C400)=TRUE,\"\",SUMIF('Nominatieve lijst'!$D$8:$D$10007,C400,'Nominatieve lijst'!$H$8:$H$10007))","v":""},{"$f":"IF(ISBLANK(Vrijwilligersregister!C400)=TRUE,\"\",SUMIF('Nominatieve lijst'!$D$8:$D$10007,C400,'Nominatieve lijst'!$J$8:$J$10007))","v":""},{"$f":"IF(ISBLANK(Vrijwilligersregister!C400)=TRUE,\"\",D400+F400)","v":""},{"$f":"Vrijwilligersregister!L400","v":0}]
[null,395,{"$f":"IF(ISBLANK(Vrijwilligersregister!C401)=TRUE,\"\",Vrijwilligersregister!C401)","v":""},{"$f":"IF(ISBLANK(Vrijwilligersregister!C401)=TRUE,\"\",SUMIF('Nominatieve lijst'!$D$8:$D$10007,C401,'Nominatieve lijst'!$G$8:$G$10007))","v":""},{"$f":"IF(ISBLANK(Vrijwilligersregister!C401)=TRUE,\"\",SUMIF('Nominatieve lijst'!$D$8:$D$10007,C401,'Nominatieve lijst'!$H$8:$H$10007))","v":""},{"$f":"IF(ISBLANK(Vrijwilligersregister!C401)=TRUE,\"\",SUMIF('Nominatieve lijst'!$D$8:$D$10007,C401,'Nominatieve lijst'!$J$8:$J$10007))","v":""},{"$f":"IF(ISBLANK(Vrijwilligersregister!C401)=TRUE,\"\",D401+F401)","v":""},{"$f":"Vrijwilligersregister!L401","v":0}]
[null,396,{"$f":"IF(ISBLANK(Vrijwilligersregister!C402)=TRUE,\"\",Vrijwilligersregister!C402)","v":""},{"$f":"IF(ISBLANK(Vrijwilligersregister!C402)=TRUE,\"\",SUMIF('Nominatieve lijst'!$D$8:$D$10007,C402,'Nominatieve lijst'!$G$8:$G$10007))","v":""},{"$f":"IF(ISBLANK(Vrijwilligersregister!C402)=TRUE,\"\",SUMIF('Nominatieve lijst'!$D$8:$D$10007,C402,'Nominatieve lijst'!$H$8:$H$10007))","v":""},{"$f":"IF(ISBLANK(Vrijwilligersregister!C402)=TRUE,\"\",SUMIF('Nominatieve lijst'!$D$8:$D$10007,C402,'Nominatieve lijst'!$J$8:$J$10007))","v":""},{"$f":"IF(ISBLANK(Vrijwilligersregister!C402)=TRUE,\"\",D402+F402)","v":""},{"$f":"Vrijwilligersregister!L402","v":0}]
[null,397,{"$f":"IF(ISBLANK(Vrijwilligersregister!C403)=TRUE,\"\",Vrijwilligersregister!C403)","v":""},{"$f":"IF(ISBLANK(Vrijwilligersregister!C403)=TRUE,\"\",SUMIF('Nominatieve lijst'!$D$8:$D$10007,C403,'Nominatieve lijst'!$G$8:$G$10007))","v":""},{"$f":"IF(ISBLANK(Vrijwilligersregister!C403)=TRUE,\"\",SUMIF('Nominatieve lijst'!$D$8:$D$10007,C403,'Nominatieve lijst'!$H$8:$H$10007))","v":""},{"$f":"IF(ISBLANK(Vrijwilligersregister!C403)=TRUE,\"\",SUMIF('Nominatieve lijst'!$D$8:$D$10007,C403,'Nominatieve lijst'!$J$8:$J$10007))","v":""},{"$f":"IF(ISBLANK(Vrijwilligersregister!C403)=TRUE,\"\",D403+F403)","v":""},{"$f":"Vrijwilligersregister!L403","v":0}]
[null,398,{"$f":"IF(ISBLANK(Vrijwilligersregister!C404)=TRUE,\"\",Vrijwilligersregister!C404)","v":""},{"$f":"IF(ISBLANK(Vrijwilligersregister!C404)=TRUE,\"\",SUMIF('Nominatieve lijst'!$D$8:$D$10007,C404,'Nominatieve lijst'!$G$8:$G$10007))","v":""},{"$f":"IF(ISBLANK(Vrijwilligersregister!C404)=TRUE,\"\",SUMIF('Nominatieve lijst'!$D$8:$D$10007,C404,'Nominatieve lijst'!$H$8:$H$10007))","v":""},{"$f":"IF(ISBLANK(Vrijwilligersregister!C404)=TRUE,\"\",SUMIF('Nominatieve lijst'!$D$8:$D$10007,C404,'Nominatieve lijst'!$J$8:$J$10007))","v":""},{"$f":"IF(ISBLANK(Vrijwilligersregister!C404)=TRUE,\"\",D404+F404)","v":""},{"$f":"Vrijwilligersregister!L404","v":0}]
[null,399,{"$f":"IF(ISBLANK(Vrijwilligersregister!C405)=TRUE,\"\",Vrijwilligersregister!C405)","v":""},{"$f":"IF(ISBLANK(Vrijwilligersregister!C405)=TRUE,\"\",SUMIF('Nominatieve lijst'!$D$8:$D$10007,C405,'Nominatieve lijst'!$G$8:$G$10007))","v":""},{"$f":"IF(ISBLANK(Vrijwilligersregister!C405)=TRUE,\"\",SUMIF('Nominatieve lijst'!$D$8:$D$10007,C405,'Nominatieve lijst'!$H$8:$H$10007))","v":""},{"$f":"IF(ISBLANK(Vrijwilligersregister!C405)=TRUE,\"\",SUMIF('Nominatieve lijst'!$D$8:$D$10007,C405,'Nominatieve lijst'!$J$8:$J$10007))","v":""},{"$f":"IF(ISBLANK(Vrijwilligersregister!C405)=TRUE,\"\",D405+F405)","v":""},{"$f":"Vrijwilligersregister!L405","v":0}]
[null,400,{"$f":"IF(ISBLANK(Vrijwilligersregister!C406)=TRUE,\"\",Vrijwilligersregister!C406)","v":""},{"$f":"IF(ISBLANK(Vrijwilligersregister!C406)=TRUE,\"\",SUMIF('Nominatieve lijst'!$D$8:$D$10007,C406,'Nominatieve lijst'!$G$8:$G$10007))","v":""},{"$f":"IF(ISBLANK(Vrijwilligersregister!C406)=TRUE,\"\",SUMIF('Nominatieve lijst'!$D$8:$D$10007,C406,'Nominatieve lijst'!$H$8:$H$10007))","v":""},{"$f":"IF(ISBLANK(Vrijwilligersregister!C406)=TRUE,\"\",SUMIF('Nominatieve lijst'!$D$8:$D$10007,C406,'Nominatieve lijst'!$J$8:$J$10007))","v":""},{"$f":"IF(ISBLANK(Vrijwilligersregister!C406)=TRUE,\"\",D406+F406)","v":""},{"$f":"Vrijwilligersregister!L406","v":0}]
[null,401,{"$f":"IF(ISBLANK(Vrijwilligersregister!C407)=TRUE,\"\",Vrijwilligersregister!C407)","v":""},{"$f":"IF(ISBLANK(Vrijwilligersregister!C407)=TRUE,\"\",SUMIF('Nominatieve lijst'!$D$8:$D$10007,C407,'Nominatieve lijst'!$G$8:$G$10007))","v":""},{"$f":"IF(ISBLANK(Vrijwilligersregister!C407)=TRUE,\"\",SUMIF('Nominatieve lijst'!$D$8:$D$10007,C407,'Nominatieve lijst'!$H$8:$H$10007))","v":""},{"$f":"IF(ISBLANK(Vrijwilligersregister!C407)=TRUE,\"\",SUMIF('Nominatieve lijst'!$D$8:$D$10007,C407,'Nominatieve lijst'!$J$8:$J$10007))","v":""},{"$f":"IF(ISBLANK(Vrijwilligersregister!C407)=TRUE,\"\",D407+F407)","v":""},{"$f":"Vrijwilligersregister!L407","v":0}]
[null,402,{"$f":"IF(ISBLANK(Vrijwilligersregister!C408)=TRUE,\"\",Vrijwilligersregister!C408)","v":""},{"$f":"IF(ISBLANK(Vrijwilligersregister!C408)=TRUE,\"\",SUMIF('Nominatieve lijst'!$D$8:$D$10007,C408,'Nominatieve lijst'!$G$8:$G$10007))","v":""},{"$f":"IF(ISBLANK(Vrijwilligersregister!C408)=TRUE,\"\",SUMIF('Nominatieve lijst'!$D$8:$D$10007,C408,'Nominatieve lijst'!$H$8:$H$10007))","v":""},{"$f":"IF(ISBLANK(Vrijwilligersregister!C408)=TRUE,\"\",SUMIF('Nominatieve lijst'!$D$8:$D$10007,C408,'Nominatieve lijst'!$J$8:$J$10007))","v":""},{"$f":"IF(ISBLANK(Vrijwilligersregister!C408)=TRUE,\"\",D408+F408)","v":""},{"$f":"Vrijwilligersregister!L408","v":0}]
[null,403,{"$f":"IF(ISBLANK(Vrijwilligersregister!C409)=TRUE,\"\",Vrijwilligersregister!C409)","v":""},{"$f":"IF(ISBLANK(Vrijwilligersregister!C409)=TRUE,\"\",SUMIF('Nominatieve lijst'!$D$8:$D$10007,C409,'Nominatieve lijst'!$G$8:$G$10007))","v":""},{"$f":"IF(ISBLANK(Vrijwilligersregister!C409)=TRUE,\"\",SUMIF('Nominatieve lijst'!$D$8:$D$10007,C409,'Nominatieve lijst'!$H$8:$H$10007))","v":""},{"$f":"IF(ISBLANK(Vrijwilligersregister!C409)=TRUE,\"\",SUMIF('Nominatieve lijst'!$D$8:$D$10007,C409,'Nominatieve lijst'!$J$8:$J$10007))","v":""},{"$f":"IF(ISBLANK(Vrijwilligersregister!C409)=TRUE,\"\",D409+F409)","v":""},{"$f":"Vrijwilligersregister!L409","v":0}]
[null,404,{"$f":"IF(ISBLANK(Vrijwilligersregister!C410)=TRUE,\"\",Vrijwilligersregister!C410)","v":""},{"$f":"IF(ISBLANK(Vrijwilligersregister!C410)=TRUE,\"\",SUMIF('Nominatieve lijst'!$D$8:$D$10007,C410,'Nominatieve lijst'!$G$8:$G$10007))","v":""},{"$f":"IF(ISBLANK(Vrijwilligersregister!C410)=TRUE,\"\",SUMIF('Nominatieve lijst'!$D$8:$D$10007,C410,'Nominatieve lijst'!$H$8:$H$10007))","v":""},{"$f":"IF(ISBLANK(Vrijwilligersregister!C410)=TRUE,\"\",SUMIF('Nominatieve lijst'!$D$8:$D$10007,C410,'Nominatieve lijst'!$J$8:$J$10007))","v":""},{"$f":"IF(ISBLANK(Vrijwilligersregister!C410)=TRUE,\"\",D410+F410)","v":""},{"$f":"Vrijwilligersregister!L410","v":0}]
[null,405,{"$f":"IF(ISBLANK(Vrijwilligersregister!C411)=TRUE,\"\",Vrijwilligersregister!C411)","v":""},{"$f":"IF(ISBLANK(Vrijwilligersregister!C411)=TRUE,\"\",SUMIF('Nominatieve lijst'!$D$8:$D$10007,C411,'Nominatieve lijst'!$G$8:$G$10007))","v":""},{"$f":"IF(ISBLANK(Vrijwilligersregister!C411)=TRUE,\"\",SUMIF('Nominatieve lijst'!$D$8:$D$10007,C411,'Nominatieve lijst'!$H$8:$H$10007))","v":""},{"$f":"IF(ISBLANK(Vrijwilligersregister!C411)=TRUE,\"\",SUMIF('Nominatieve lijst'!$D$8:$D$10007,C411,'Nominatieve lijst'!$J$8:$J$10007))","v":""},{"$f":"IF(ISBLANK(Vrijwilligersregister!C411)=TRUE,\"\",D411+F411)","v":""},{"$f":"Vrijwilligersregister!L411","v":0}]
[null,406,{"$f":"IF(ISBLANK(Vrijwilligersregister!C412)=TRUE,\"\",Vrijwilligersregister!C412)","v":""},{"$f":"IF(ISBLANK(Vrijwilligersregister!C412)=TRUE,\"\",SUMIF('Nominatieve lijst'!$D$8:$D$10007,C412,'Nominatieve lijst'!$G$8:$G$10007))","v":""},{"$f":"IF(ISBLANK(Vrijwilligersregister!C412)=TRUE,\"\",SUMIF('Nominatieve lijst'!$D$8:$D$10007,C412,'Nominatieve lijst'!$H$8:$H$10007))","v":""},{"$f":"IF(ISBLANK(Vrijwilligersregister!C412)=TRUE,\"\",SUMIF('Nominatieve lijst'!$D$8:$D$10007,C412,'Nominatieve lijst'!$J$8:$J$10007))","v":""},{"$f":"IF(ISBLANK(Vrijwilligersregister!C412)=TRUE,\"\",D412+F412)","v":""},{"$f":"Vrijwilligersregister!L412","v":0}]
[null,407,{"$f":"IF(ISBLANK(Vrijwilligersregister!C413)=TRUE,\"\",Vrijwilligersregister!C413)","v":""},{"$f":"IF(ISBLANK(Vrijwilligersregister!C413)=TRUE,\"\",SUMIF('Nominatieve lijst'!$D$8:$D$10007,C413,'Nominatieve lijst'!$G$8:$G$10007))","v":""},{"$f":"IF(ISBLANK(Vrijwilligersregister!C413)=TRUE,\"\",SUMIF('Nominatieve lijst'!$D$8:$D$10007,C413,'Nominatieve lijst'!$H$8:$H$10007))","v":""},{"$f":"IF(ISBLANK(Vrijwilligersregister!C413)=TRUE,\"\",SUMIF('Nominatieve lijst'!$D$8:$D$10007,C413,'Nominatieve lijst'!$J$8:$J$10007))","v":""},{"$f":"IF(ISBLANK(Vrijwilligersregister!C413)=TRUE,\"\",D413+F413)","v":""},{"$f":"Vrijwilligersregister!L413","v":0}]
[null,408,{"$f":"IF(ISBLANK(Vrijwilligersregister!C414)=TRUE,\"\",Vrijwilligersregister!C414)","v":""},{"$f":"IF(ISBLANK(Vrijwilligersregister!C414)=TRUE,\"\",SUMIF('Nominatieve lijst'!$D$8:$D$10007,C414,'Nominatieve lijst'!$G$8:$G$10007))","v":""},{"$f":"IF(ISBLANK(Vrijwilligersregister!C414)=TRUE,\"\",SUMIF('Nominatieve lijst'!$D$8:$D$10007,C414,'Nominatieve lijst'!$H$8:$H$10007))","v":""},{"$f":"IF(ISBLANK(Vrijwilligersregister!C414)=TRUE,\"\",SUMIF('Nominatieve lijst'!$D$8:$D$10007,C414,'Nominatieve lijst'!$J$8:$J$10007))","v":""},{"$f":"IF(ISBLANK(Vrijwilligersregister!C414)=TRUE,\"\",D414+F414)","v":""},{"$f":"Vrijwilligersregister!L414","v":0}]
[null,409,{"$f":"IF(ISBLANK(Vrijwilligersregister!C415)=TRUE,\"\",Vrijwilligersregister!C415)","v":""},{"$f":"IF(ISBLANK(Vrijwilligersregister!C415)=TRUE,\"\",SUMIF('Nominatieve lijst'!$D$8:$D$10007,C415,'Nominatieve lijst'!$G$8:$G$10007))","v":""},{"$f":"IF(ISBLANK(Vrijwilligersregister!C415)=TRUE,\"\",SUMIF('Nominatieve lijst'!$D$8:$D$10007,C415,'Nominatieve lijst'!$H$8:$H$10007))","v":""},{"$f":"IF(ISBLANK(Vrijwilligersregister!C415)=TRUE,\"\",SUMIF('Nominatieve lijst'!$D$8:$D$10007,C415,'Nominatieve lijst'!$J$8:$J$10007))","v":""},{"$f":"IF(ISBLANK(Vrijwilligersregister!C415)=TRUE,\"\",D415+F415)","v":""},{"$f":"Vrijwilligersregister!L415","v":0}]
[null,410,{"$f":"IF(ISBLANK(Vrijwilligersregister!C416)=TRUE,\"\",Vrijwilligersregister!C416)","v":""},{"$f":"IF(ISBLANK(Vrijwilligersregister!C416)=TRUE,\"\",SUMIF('Nominatieve lijst'!$D$8:$D$10007,C416,'Nominatieve lijst'!$G$8:$G$10007))","v":""},{"$f":"IF(ISBLANK(Vrijwilligersregister!C416)=TRUE,\"\",SUMIF('Nominatieve lijst'!$D$8:$D$10007,C416,'Nominatieve lijst'!$H$8:$H$10007))","v":""},{"$f":"IF(ISBLANK(Vrijwilligersregister!C416)=TRUE,\"\",SUMIF('Nominatieve lijst'!$D$8:$D$10007,C416,'Nominatieve lijst'!$J$8:$J$10007))","v":""},{"$f":"IF(ISBLANK(Vrijwilligersregister!C416)=TRUE,\"\",D416+F416)","v":""},{"$f":"Vrijwilligersregister!L416","v":0}]
[null,411,{"$f":"IF(ISBLANK(Vrijwilligersregister!C417)=TRUE,\"\",Vrijwilligersregister!C417)","v":""},{"$f":"IF(ISBLANK(Vrijwilligersregister!C417)=TRUE,\"\",SUMIF('Nominatieve lijst'!$D$8:$D$10007,C417,'Nominatieve lijst'!$G$8:$G$10007))","v":""},{"$f":"IF(ISBLANK(Vrijwilligersregister!C417)=TRUE,\"\",SUMIF('Nominatieve lijst'!$D$8:$D$10007,C417,'Nominatieve lijst'!$H$8:$H$10007))","v":""},{"$f":"IF(ISBLANK(Vrijwilligersregister!C417)=TRUE,\"\",SUMIF('Nominatieve lijst'!$D$8:$D$10007,C417,'Nominatieve lijst'!$J$8:$J$10007))","v":""},{"$f":"IF(ISBLANK(Vrijwilligersregister!C417)=TRUE,\"\",D417+F417)","v":""},{"$f":"Vrijwilligersregister!L417","v":0}]
[null,412,{"$f":"IF(ISBLANK(Vrijwilligersregister!C418)=TRUE,\"\",Vrijwilligersregister!C418)","v":""},{"$f":"IF(ISBLANK(Vrijwilligersregister!C418)=TRUE,\"\",SUMIF('Nominatieve lijst'!$D$8:$D$10007,C418,'Nominatieve lijst'!$G$8:$G$10007))","v":""},{"$f":"IF(ISBLANK(Vrijwilligersregister!C418)=TRUE,\"\",SUMIF('Nominatieve lijst'!$D$8:$D$10007,C418,'Nominatieve lijst'!$H$8:$H$10007))","v":""},{"$f":"IF(ISBLANK(Vrijwilligersregister!C418)=TRUE,\"\",SUMIF('Nominatieve lijst'!$D$8:$D$10007,C418,'Nominatieve lijst'!$J$8:$J$10007))","v":""},{"$f":"IF(ISBLANK(Vrijwilligersregister!C418)=TRUE,\"\",D418+F418)","v":""},{"$f":"Vrijwilligersregister!L418","v":0}]
[null,413,{"$f":"IF(ISBLANK(Vrijwilligersregister!C419)=TRUE,\"\",Vrijwilligersregister!C419)","v":""},{"$f":"IF(ISBLANK(Vrijwilligersregister!C419)=TRUE,\"\",SUMIF('Nominatieve lijst'!$D$8:$D$10007,C419,'Nominatieve lijst'!$G$8:$G$10007))","v":""},{"$f":"IF(ISBLANK(Vrijwilligersregister!C419)=TRUE,\"\",SUMIF('Nominatieve lijst'!$D$8:$D$10007,C419,'Nominatieve lijst'!$H$8:$H$10007))","v":""},{"$f":"IF(ISBLANK(Vrijwilligersregister!C419)=TRUE,\"\",SUMIF('Nominatieve lijst'!$D$8:$D$10007,C419,'Nominatieve lijst'!$J$8:$J$10007))","v":""},{"$f":"IF(ISBLANK(Vrijwilligersregister!C419)=TRUE,\"\",D419+F419)","v":""},{"$f":"Vrijwilligersregister!L419","v":0}]
[null,414,{"$f":"IF(ISBLANK(Vrijwilligersregister!C420)=TRUE,\"\",Vrijwilligersregister!C420)","v":""},{"$f":"IF(ISBLANK(Vrijwilligersregister!C420)=TRUE,\"\",SUMIF('Nominatieve lijst'!$D$8:$D$10007,C420,'Nominatieve lijst'!$G$8:$G$10007))","v":""},{"$f":"IF(ISBLANK(Vrijwilligersregister!C420)=TRUE,\"\",SUMIF('Nominatieve lijst'!$D$8:$D$10007,C420,'Nominatieve lijst'!$H$8:$H$10007))","v":""},{"$f":"IF(ISBLANK(Vrijwilligersregister!C420)=TRUE,\"\",SUMIF('Nominatieve lijst'!$D$8:$D$10007,C420,'Nominatieve lijst'!$J$8:$J$10007))","v":""},{"$f":"IF(ISBLANK(Vrijwilligersregister!C420)=TRUE,\"\",D420+F420)","v":""},{"$f":"Vrijwilligersregister!L420","v":0}]
[null,415,{"$f":"IF(ISBLANK(Vrijwilligersregister!C421)=TRUE,\"\",Vrijwilligersregister!C421)","v":""},{"$f":"IF(ISBLANK(Vrijwilligersregister!C421)=TRUE,\"\",SUMIF('Nominatieve lijst'!$D$8:$D$10007,C421,'Nominatieve lijst'!$G$8:$G$10007))","v":""},{"$f":"IF(ISBLANK(Vrijwilligersregister!C421)=TRUE,\"\",SUMIF('Nominatieve lijst'!$D$8:$D$10007,C421,'Nominatieve lijst'!$H$8:$H$10007))","v":""},{"$f":"IF(ISBLANK(Vrijwilligersregister!C421)=TRUE,\"\",SUMIF('Nominatieve lijst'!$D$8:$D$10007,C421,'Nominatieve lijst'!$J$8:$J$10007))","v":""},{"$f":"IF(ISBLANK(Vrijwilligersregister!C421)=TRUE,\"\",D421+F421)","v":""},{"$f":"Vrijwilligersregister!L421","v":0}]
[null,416,{"$f":"IF(ISBLANK(Vrijwilligersregister!C422)=TRUE,\"\",Vrijwilligersregister!C422)","v":""},{"$f":"IF(ISBLANK(Vrijwilligersregister!C422)=TRUE,\"\",SUMIF('Nominatieve lijst'!$D$8:$D$10007,C422,'Nominatieve lijst'!$G$8:$G$10007))","v":""},{"$f":"IF(ISBLANK(Vrijwilligersregister!C422)=TRUE,\"\",SUMIF('Nominatieve lijst'!$D$8:$D$10007,C422,'Nominatieve lijst'!$H$8:$H$10007))","v":""},{"$f":"IF(ISBLANK(Vrijwilligersregister!C422)=TRUE,\"\",SUMIF('Nominatieve lijst'!$D$8:$D$10007,C422,'Nominatieve lijst'!$J$8:$J$10007))","v":""},{"$f":"IF(ISBLANK(Vrijwilligersregister!C422)=TRUE,\"\",D422+F422)","v":""},{"$f":"Vrijwilligersregister!L422","v":0}]
[null,417,{"$f":"IF(ISBLANK(Vrijwilligersregister!C423)=TRUE,\"\",Vrijwilligersregister!C423)","v":""},{"$f":"IF(ISBLANK(Vrijwilligersregister!C423)=TRUE,\"\",SUMIF('Nominatieve lijst'!$D$8:$D$10007,C423,'Nominatieve lijst'!$G$8:$G$10007))","v":""},{"$f":"IF(ISBLANK(Vrijwilligersregister!C423)=TRUE,\"\",SUMIF('Nominatieve lijst'!$D$8:$D$10007,C423,'Nominatieve lijst'!$H$8:$H$10007))","v":""},{"$f":"IF(ISBLANK(Vrijwilligersregister!C423)=TRUE,\"\",SUMIF('Nominatieve lijst'!$D$8:$D$10007,C423,'Nominatieve lijst'!$J$8:$J$10007))","v":""},{"$f":"IF(ISBLANK(Vrijwilligersregister!C423)=TRUE,\"\",D423+F423)","v":""},{"$f":"Vrijwilligersregister!L423","v":0}]
[null,418,{"$f":"IF(ISBLANK(Vrijwilligersregister!C424)=TRUE,\"\",Vrijwilligersregister!C424)","v":""},{"$f":"IF(ISBLANK(Vrijwilligersregister!C424)=TRUE,\"\",SUMIF('Nominatieve lijst'!$D$8:$D$10007,C424,'Nominatieve lijst'!$G$8:$G$10007))","v":""},{"$f":"IF(ISBLANK(Vrijwilligersregister!C424)=TRUE,\"\",SUMIF('Nominatieve lijst'!$D$8:$D$10007,C424,'Nominatieve lijst'!$H$8:$H$10007))","v":""},{"$f":"IF(ISBLANK(Vrijwilligersregister!C424)=TRUE,\"\",SUMIF('Nominatieve lijst'!$D$8:$D$10007,C424,'Nominatieve lijst'!$J$8:$J$10007))","v":""},{"$f":"IF(ISBLANK(Vrijwilligersregister!C424)=TRUE,\"\",D424+F424)","v":""},{"$f":"Vrijwilligersregister!L424","v":0}]
[null,419,{"$f":"IF(ISBLANK(Vrijwilligersregister!C425)=TRUE,\"\",Vrijwilligersregister!C425)","v":""},{"$f":"IF(ISBLANK(Vrijwilligersregister!C425)=TRUE,\"\",SUMIF('Nominatieve lijst'!$D$8:$D$10007,C425,'Nominatieve lijst'!$G$8:$G$10007))","v":""},{"$f":"IF(ISBLANK(Vrijwilligersregister!C425)=TRUE,\"\",SUMIF('Nominatieve lijst'!$D$8:$D$10007,C425,'Nominatieve lijst'!$H$8:$H$10007))","v":""},{"$f":"IF(ISBLANK(Vrijwilligersregister!C425)=TRUE,\"\",SUMIF('Nominatieve lijst'!$D$8:$D$10007,C425,'Nominatieve lijst'!$J$8:$J$10007))","v":""},{"$f":"IF(ISBLANK(Vrijwilligersregister!C425)=TRUE,\"\",D425+F425)","v":""},{"$f":"Vrijwilligersregister!L425","v":0}]
[null,420,{"$f":"IF(ISBLANK(Vrijwilligersregister!C426)=TRUE,\"\",Vrijwilligersregister!C426)","v":""},{"$f":"IF(ISBLANK(Vrijwilligersregister!C426)=TRUE,\"\",SUMIF('Nominatieve lijst'!$D$8:$D$10007,C426,'Nominatieve lijst'!$G$8:$G$10007))","v":""},{"$f":"IF(ISBLANK(Vrijwilligersregister!C426)=TRUE,\"\",SUMIF('Nominatieve lijst'!$D$8:$D$10007,C426,'Nominatieve lijst'!$H$8:$H$10007))","v":""},{"$f":"IF(ISBLANK(Vrijwilligersregister!C426)=TRUE,\"\",SUMIF('Nominatieve lijst'!$D$8:$D$10007,C426,'Nominatieve lijst'!$J$8:$J$10007))","v":""},{"$f":"IF(ISBLANK(Vrijwilligersregister!C426)=TRUE,\"\",D426+F426)","v":""},{"$f":"Vrijwilligersregister!L426","v":0}]
[null,421,{"$f":"IF(ISBLANK(Vrijwilligersregister!C427)=TRUE,\"\",Vrijwilligersregister!C427)","v":""},{"$f":"IF(ISBLANK(Vrijwilligersregister!C427)=TRUE,\"\",SUMIF('Nominatieve lijst'!$D$8:$D$10007,C427,'Nominatieve lijst'!$G$8:$G$10007))","v":""},{"$f":"IF(ISBLANK(Vrijwilligersregister!C427)=TRUE,\"\",SUMIF('Nominatieve lijst'!$D$8:$D$10007,C427,'Nominatieve lijst'!$H$8:$H$10007))","v":""},{"$f":"IF(ISBLANK(Vrijwilligersregister!C427)=TRUE,\"\",SUMIF('Nominatieve lijst'!$D$8:$D$10007,C427,'Nominatieve lijst'!$J$8:$J$10007))","v":""},{"$f":"IF(ISBLANK(Vrijwilligersregister!C427)=TRUE,\"\",D427+F427)","v":""},{"$f":"Vrijwilligersregister!L427","v":0}]
[null,422,{"$f":"IF(ISBLANK(Vrijwilligersregister!C428)=TRUE,\"\",Vrijwilligersregister!C428)","v":""},{"$f":"IF(ISBLANK(Vrijwilligersregister!C428)=TRUE,\"\",SUMIF('Nominatieve lijst'!$D$8:$D$10007,C428,'Nominatieve lijst'!$G$8:$G$10007))","v":""},{"$f":"IF(ISBLANK(Vrijwilligersregister!C428)=TRUE,\"\",SUMIF('Nominatieve lijst'!$D$8:$D$10007,C428,'Nominatieve lijst'!$H$8:$H$10007))","v":""},{"$f":"IF(ISBLANK(Vrijwilligersregister!C428)=TRUE,\"\",SUMIF('Nominatieve lijst'!$D$8:$D$10007,C428,'Nominatieve lijst'!$J$8:$J$10007))","v":""},{"$f":"IF(ISBLANK(Vrijwilligersregister!C428)=TRUE,\"\",D428+F428)","v":""},{"$f":"Vrijwilligersregister!L428","v":0}]
[null,423,{"$f":"IF(ISBLANK(Vrijwilligersregister!C429)=TRUE,\"\",Vrijwilligersregister!C429)","v":""},{"$f":"IF(ISBLANK(Vrijwilligersregister!C429)=TRUE,\"\",SUMIF('Nominatieve lijst'!$D$8:$D$10007,C429,'Nominatieve lijst'!$G$8:$G$10007))","v":""},{"$f":"IF(ISBLANK(Vrijwilligersregister!C429)=TRUE,\"\",SUMIF('Nominatieve lijst'!$D$8:$D$10007,C429,'Nominatieve lijst'!$H$8:$H$10007))","v":""},{"$f":"IF(ISBLANK(Vrijwilligersregister!C429)=TRUE,\"\",SUMIF('Nominatieve lijst'!$D$8:$D$10007,C429,'Nominatieve lijst'!$J$8:$J$10007))","v":""},{"$f":"IF(ISBLANK(Vrijwilligersregister!C429)=TRUE,\"\",D429+F429)","v":""},{"$f":"Vrijwilligersregister!L429","v":0}]
[null,424,{"$f":"IF(ISBLANK(Vrijwilligersregister!C430)=TRUE,\"\",Vrijwilligersregister!C430)","v":""},{"$f":"IF(ISBLANK(Vrijwilligersregister!C430)=TRUE,\"\",SUMIF('Nominatieve lijst'!$D$8:$D$10007,C430,'Nominatieve lijst'!$G$8:$G$10007))","v":""},{"$f":"IF(ISBLANK(Vrijwilligersregister!C430)=TRUE,\"\",SUMIF('Nominatieve lijst'!$D$8:$D$10007,C430,'Nominatieve lijst'!$H$8:$H$10007))","v":""},{"$f":"IF(ISBLANK(Vrijwilligersregister!C430)=TRUE,\"\",SUMIF('Nominatieve lijst'!$D$8:$D$10007,C430,'Nominatieve lijst'!$J$8:$J$10007))","v":""},{"$f":"IF(ISBLANK(Vrijwilligersregister!C430)=TRUE,\"\",D430+F430)","v":""},{"$f":"Vrijwilligersregister!L430","v":0}]
[null,425,{"$f":"IF(ISBLANK(Vrijwilligersregister!C431)=TRUE,\"\",Vrijwilligersregister!C431)","v":""},{"$f":"IF(ISBLANK(Vrijwilligersregister!C431)=TRUE,\"\",SUMIF('Nominatieve lijst'!$D$8:$D$10007,C431,'Nominatieve lijst'!$G$8:$G$10007))","v":""},{"$f":"IF(ISBLANK(Vrijwilligersregister!C431)=TRUE,\"\",SUMIF('Nominatieve lijst'!$D$8:$D$10007,C431,'Nominatieve lijst'!$H$8:$H$10007))","v":""},{"$f":"IF(ISBLANK(Vrijwilligersregister!C431)=TRUE,\"\",SUMIF('Nominatieve lijst'!$D$8:$D$10007,C431,'Nominatieve lijst'!$J$8:$J$10007))","v":""},{"$f":"IF(ISBLANK(Vrijwilligersregister!C431)=TRUE,\"\",D431+F431)","v":""},{"$f":"Vrijwilligersregister!L431","v":0}]
[null,426,{"$f":"IF(ISBLANK(Vrijwilligersregister!C432)=TRUE,\"\",Vrijwilligersregister!C432)","v":""},{"$f":"IF(ISBLANK(Vrijwilligersregister!C432)=TRUE,\"\",SUMIF('Nominatieve lijst'!$D$8:$D$10007,C432,'Nominatieve lijst'!$G$8:$G$10007))","v":""},{"$f":"IF(ISBLANK(Vrijwilligersregister!C432)=TRUE,\"\",SUMIF('Nominatieve lijst'!$D$8:$D$10007,C432,'Nominatieve lijst'!$H$8:$H$10007))","v":""},{"$f":"IF(ISBLANK(Vrijwilligersregister!C432)=TRUE,\"\",SUMIF('Nominatieve lijst'!$D$8:$D$10007,C432,'Nominatieve lijst'!$J$8:$J$10007))","v":""},{"$f":"IF(ISBLANK(Vrijwilligersregister!C432)=TRUE,\"\",D432+F432)","v":""},{"$f":"Vrijwilligersregister!L432","v":0}]
[null,427,{"$f":"IF(ISBLANK(Vrijwilligersregister!C433)=TRUE,\"\",Vrijwilligersregister!C433)","v":""},{"$f":"IF(ISBLANK(Vrijwilligersregister!C433)=TRUE,\"\",SUMIF('Nominatieve lijst'!$D$8:$D$10007,C433,'Nominatieve lijst'!$G$8:$G$10007))","v":""},{"$f":"IF(ISBLANK(Vrijwilligersregister!C433)=TRUE,\"\",SUMIF('Nominatieve lijst'!$D$8:$D$10007,C433,'Nominatieve lijst'!$H$8:$H$10007))","v":""},{"$f":"IF(ISBLANK(Vrijwilligersregister!C433)=TRUE,\"\",SUMIF('Nominatieve lijst'!$D$8:$D$10007,C433,'Nominatieve lijst'!$J$8:$J$10007))","v":""},{"$f":"IF(ISBLANK(Vrijwilligersregister!C433)=TRUE,\"\",D433+F433)","v":""},{"$f":"Vrijwilligersregister!L433","v":0}]
[null,428,{"$f":"IF(ISBLANK(Vrijwilligersregister!C434)=TRUE,\"\",Vrijwilligersregister!C434)","v":""},{"$f":"IF(ISBLANK(Vrijwilligersregister!C434)=TRUE,\"\",SUMIF('Nominatieve lijst'!$D$8:$D$10007,C434,'Nominatieve lijst'!$G$8:$G$10007))","v":""},{"$f":"IF(ISBLANK(Vrijwilligersregister!C434)=TRUE,\"\",SUMIF('Nominatieve lijst'!$D$8:$D$10007,C434,'Nominatieve lijst'!$H$8:$H$10007))","v":""},{"$f":"IF(ISBLANK(Vrijwilligersregister!C434)=TRUE,\"\",SUMIF('Nominatieve lijst'!$D$8:$D$10007,C434,'Nominatieve lijst'!$J$8:$J$10007))","v":""},{"$f":"IF(ISBLANK(Vrijwilligersregister!C434)=TRUE,\"\",D434+F434)","v":""},{"$f":"Vrijwilligersregister!L434","v":0}]
[null,429,{"$f":"IF(ISBLANK(Vrijwilligersregister!C435)=TRUE,\"\",Vrijwilligersregister!C435)","v":""},{"$f":"IF(ISBLANK(Vrijwilligersregister!C435)=TRUE,\"\",SUMIF('Nominatieve lijst'!$D$8:$D$10007,C435,'Nominatieve lijst'!$G$8:$G$10007))","v":""},{"$f":"IF(ISBLANK(Vrijwilligersregister!C435)=TRUE,\"\",SUMIF('Nominatieve lijst'!$D$8:$D$10007,C435,'Nominatieve lijst'!$H$8:$H$10007))","v":""},{"$f":"IF(ISBLANK(Vrijwilligersregister!C435)=TRUE,\"\",SUMIF('Nominatieve lijst'!$D$8:$D$10007,C435,'Nominatieve lijst'!$J$8:$J$10007))","v":""},{"$f":"IF(ISBLANK(Vrijwilligersregister!C435)=TRUE,\"\",D435+F435)","v":""},{"$f":"Vrijwilligersregister!L435","v":0}]
[null,430,{"$f":"IF(ISBLANK(Vrijwilligersregister!C436)=TRUE,\"\",Vrijwilligersregister!C436)","v":""},{"$f":"IF(ISBLANK(Vrijwilligersregister!C436)=TRUE,\"\",SUMIF('Nominatieve lijst'!$D$8:$D$10007,C436,'Nominatieve lijst'!$G$8:$G$10007))","v":""},{"$f":"IF(ISBLANK(Vrijwilligersregister!C436)=TRUE,\"\",SUMIF('Nominatieve lijst'!$D$8:$D$10007,C436,'Nominatieve lijst'!$H$8:$H$10007))","v":""},{"$f":"IF(ISBLANK(Vrijwilligersregister!C436)=TRUE,\"\",SUMIF('Nominatieve lijst'!$D$8:$D$10007,C436,'Nominatieve lijst'!$J$8:$J$10007))","v":""},{"$f":"IF(ISBLANK(Vrijwilligersregister!C436)=TRUE,\"\",D436+F436)","v":""},{"$f":"Vrijwilligersregister!L436","v":0}]
[null,431,{"$f":"IF(ISBLANK(Vrijwilligersregister!C437)=TRUE,\"\",Vrijwilligersregister!C437)","v":""},{"$f":"IF(ISBLANK(Vrijwilligersregister!C437)=TRUE,\"\",SUMIF('Nominatieve lijst'!$D$8:$D$10007,C437,'Nominatieve lijst'!$G$8:$G$10007))","v":""},{"$f":"IF(ISBLANK(Vrijwilligersregister!C437)=TRUE,\"\",SUMIF('Nominatieve lijst'!$D$8:$D$10007,C437,'Nominatieve lijst'!$H$8:$H$10007))","v":""},{"$f":"IF(ISBLANK(Vrijwilligersregister!C437)=TRUE,\"\",SUMIF('Nominatieve lijst'!$D$8:$D$10007,C437,'Nominatieve lijst'!$J$8:$J$10007))","v":""},{"$f":"IF(ISBLANK(Vrijwilligersregister!C437)=TRUE,\"\",D437+F437)","v":""},{"$f":"Vrijwilligersregister!L437","v":0}]
[null,432,{"$f":"IF(ISBLANK(Vrijwilligersregister!C438)=TRUE,\"\",Vrijwilligersregister!C438)","v":""},{"$f":"IF(ISBLANK(Vrijwilligersregister!C438)=TRUE,\"\",SUMIF('Nominatieve lijst'!$D$8:$D$10007,C438,'Nominatieve lijst'!$G$8:$G$10007))","v":""},{"$f":"IF(ISBLANK(Vrijwilligersregister!C438)=TRUE,\"\",SUMIF('Nominatieve lijst'!$D$8:$D$10007,C438,'Nominatieve lijst'!$H$8:$H$10007))","v":""},{"$f":"IF(ISBLANK(Vrijwilligersregister!C438)=TRUE,\"\",SUMIF('Nominatieve lijst'!$D$8:$D$10007,C438,'Nominatieve lijst'!$J$8:$J$10007))","v":""},{"$f":"IF(ISBLANK(Vrijwilligersregister!C438)=TRUE,\"\",D438+F438)","v":""},{"$f":"Vrijwilligersregister!L438","v":0}]
[null,433,{"$f":"IF(ISBLANK(Vrijwilligersregister!C439)=TRUE,\"\",Vrijwilligersregister!C439)","v":""},{"$f":"IF(ISBLANK(Vrijwilligersregister!C439)=TRUE,\"\",SUMIF('Nominatieve lijst'!$D$8:$D$10007,C439,'Nominatieve lijst'!$G$8:$G$10007))","v":""},{"$f":"IF(ISBLANK(Vrijwilligersregister!C439)=TRUE,\"\",SUMIF('Nominatieve lijst'!$D$8:$D$10007,C439,'Nominatieve lijst'!$H$8:$H$10007))","v":""},{"$f":"IF(ISBLANK(Vrijwilligersregister!C439)=TRUE,\"\",SUMIF('Nominatieve lijst'!$D$8:$D$10007,C439,'Nominatieve lijst'!$J$8:$J$10007))","v":""},{"$f":"IF(ISBLANK(Vrijwilligersregister!C439)=TRUE,\"\",D439+F439)","v":""},{"$f":"Vrijwilligersregister!L439","v":0}]
[null,434,{"$f":"IF(ISBLANK(Vrijwilligersregister!C440)=TRUE,\"\",Vrijwilligersregister!C440)","v":""},{"$f":"IF(ISBLANK(Vrijwilligersregister!C440)=TRUE,\"\",SUMIF('Nominatieve lijst'!$D$8:$D$10007,C440,'Nominatieve lijst'!$G$8:$G$10007))","v":""},{"$f":"IF(ISBLANK(Vrijwilligersregister!C440)=TRUE,\"\",SUMIF('Nominatieve lijst'!$D$8:$D$10007,C440,'Nominatieve lijst'!$H$8:$H$10007))","v":""},{"$f":"IF(ISBLANK(Vrijwilligersregister!C440)=TRUE,\"\",SUMIF('Nominatieve lijst'!$D$8:$D$10007,C440,'Nominatieve lijst'!$J$8:$J$10007))","v":""},{"$f":"IF(ISBLANK(Vrijwilligersregister!C440)=TRUE,\"\",D440+F440)","v":""},{"$f":"Vrijwilligersregister!L440","v":0}]
[null,435,{"$f":"IF(ISBLANK(Vrijwilligersregister!C441)=TRUE,\"\",Vrijwilligersregister!C441)","v":""},{"$f":"IF(ISBLANK(Vrijwilligersregister!C441)=TRUE,\"\",SUMIF('Nominatieve lijst'!$D$8:$D$10007,C441,'Nominatieve lijst'!$G$8:$G$10007))","v":""},{"$f":"IF(ISBLANK(Vrijwilligersregister!C441)=TRUE,\"\",SUMIF('Nominatieve lijst'!$D$8:$D$10007,C441,'Nominatieve lijst'!$H$8:$H$10007))","v":""},{"$f":"IF(ISBLANK(Vrijwilligersregister!C441)=TRUE,\"\",SUMIF('Nominatieve lijst'!$D$8:$D$10007,C441,'Nominatieve lijst'!$J$8:$J$10007))","v":""},{"$f":"IF(ISBLANK(Vrijwilligersregister!C441)=TRUE,\"\",D441+F441)","v":""},{"$f":"Vrijwilligersregister!L441","v":0}]
[null,436,{"$f":"IF(ISBLANK(Vrijwilligersregister!C442)=TRUE,\"\",Vrijwilligersregister!C442)","v":""},{"$f":"IF(ISBLANK(Vrijwilligersregister!C442)=TRUE,\"\",SUMIF('Nominatieve lijst'!$D$8:$D$10007,C442,'Nominatieve lijst'!$G$8:$G$10007))","v":""},{"$f":"IF(ISBLANK(Vrijwilligersregister!C442)=TRUE,\"\",SUMIF('Nominatieve lijst'!$D$8:$D$10007,C442,'Nominatieve lijst'!$H$8:$H$10007))","v":""},{"$f":"IF(ISBLANK(Vrijwilligersregister!C442)=TRUE,\"\",SUMIF('Nominatieve lijst'!$D$8:$D$10007,C442,'Nominatieve lijst'!$J$8:$J$10007))","v":""},{"$f":"IF(ISBLANK(Vrijwilligersregister!C442)=TRUE,\"\",D442+F442)","v":""},{"$f":"Vrijwilligersregister!L442","v":0}]
[null,437,{"$f":"IF(ISBLANK(Vrijwilligersregister!C443)=TRUE,\"\",Vrijwilligersregister!C443)","v":""},{"$f":"IF(ISBLANK(Vrijwilligersregister!C443)=TRUE,\"\",SUMIF('Nominatieve lijst'!$D$8:$D$10007,C443,'Nominatieve lijst'!$G$8:$G$10007))","v":""},{"$f":"IF(ISBLANK(Vrijwilligersregister!C443)=TRUE,\"\",SUMIF('Nominatieve lijst'!$D$8:$D$10007,C443,'Nominatieve lijst'!$H$8:$H$10007))","v":""},{"$f":"IF(ISBLANK(Vrijwilligersregister!C443)=TRUE,\"\",SUMIF('Nominatieve lijst'!$D$8:$D$10007,C443,'Nominatieve lijst'!$J$8:$J$10007))","v":""},{"$f":"IF(ISBLANK(Vrijwilligersregister!C443)=TRUE,\"\",D443+F443)","v":""},{"$f":"Vrijwilligersregister!L443","v":0}]
[null,438,{"$f":"IF(ISBLANK(Vrijwilligersregister!C444)=TRUE,\"\",Vrijwilligersregister!C444)","v":""},{"$f":"IF(ISBLANK(Vrijwilligersregister!C444)=TRUE,\"\",SUMIF('Nominatieve lijst'!$D$8:$D$10007,C444,'Nominatieve lijst'!$G$8:$G$10007))","v":""},{"$f":"IF(ISBLANK(Vrijwilligersregister!C444)=TRUE,\"\",SUMIF('Nominatieve lijst'!$D$8:$D$10007,C444,'Nominatieve lijst'!$H$8:$H$10007))","v":""},{"$f":"IF(ISBLANK(Vrijwilligersregister!C444)=TRUE,\"\",SUMIF('Nominatieve lijst'!$D$8:$D$10007,C444,'Nominatieve lijst'!$J$8:$J$10007))","v":""},{"$f":"IF(ISBLANK(Vrijwilligersregister!C444)=TRUE,\"\",D444+F444)","v":""},{"$f":"Vrijwilligersregister!L444","v":0}]
[null,439,{"$f":"IF(ISBLANK(Vrijwilligersregister!C445)=TRUE,\"\",Vrijwilligersregister!C445)","v":""},{"$f":"IF(ISBLANK(Vrijwilligersregister!C445)=TRUE,\"\",SUMIF('Nominatieve lijst'!$D$8:$D$10007,C445,'Nominatieve lijst'!$G$8:$G$10007))","v":""},{"$f":"IF(ISBLANK(Vrijwilligersregister!C445)=TRUE,\"\",SUMIF('Nominatieve lijst'!$D$8:$D$10007,C445,'Nominatieve lijst'!$H$8:$H$10007))","v":""},{"$f":"IF(ISBLANK(Vrijwilligersregister!C445)=TRUE,\"\",SUMIF('Nominatieve lijst'!$D$8:$D$10007,C445,'Nominatieve lijst'!$J$8:$J$10007))","v":""},{"$f":"IF(ISBLANK(Vrijwilligersregister!C445)=TRUE,\"\",D445+F445)","v":""},{"$f":"Vrijwilligersregister!L445","v":0}]
[null,440,{"$f":"IF(ISBLANK(Vrijwilligersregister!C446)=TRUE,\"\",Vrijwilligersregister!C446)","v":""},{"$f":"IF(ISBLANK(Vrijwilligersregister!C446)=TRUE,\"\",SUMIF('Nominatieve lijst'!$D$8:$D$10007,C446,'Nominatieve lijst'!$G$8:$G$10007))","v":""},{"$f":"IF(ISBLANK(Vrijwilligersregister!C446)=TRUE,\"\",SUMIF('Nominatieve lijst'!$D$8:$D$10007,C446,'Nominatieve lijst'!$H$8:$H$10007))","v":""},{"$f":"IF(ISBLANK(Vrijwilligersregister!C446)=TRUE,\"\",SUMIF('Nominatieve lijst'!$D$8:$D$10007,C446,'Nominatieve lijst'!$J$8:$J$10007))","v":""},{"$f":"IF(ISBLANK(Vrijwilligersregister!C446)=TRUE,\"\",D446+F446)","v":""},{"$f":"Vrijwilligersregister!L446","v":0}]
[null,441,{"$f":"IF(ISBLANK(Vrijwilligersregister!C447)=TRUE,\"\",Vrijwilligersregister!C447)","v":""},{"$f":"IF(ISBLANK(Vrijwilligersregister!C447)=TRUE,\"\",SUMIF('Nominatieve lijst'!$D$8:$D$10007,C447,'Nominatieve lijst'!$G$8:$G$10007))","v":""},{"$f":"IF(ISBLANK(Vrijwilligersregister!C447)=TRUE,\"\",SUMIF('Nominatieve lijst'!$D$8:$D$10007,C447,'Nominatieve lijst'!$H$8:$H$10007))","v":""},{"$f":"IF(ISBLANK(Vrijwilligersregister!C447)=TRUE,\"\",SUMIF('Nominatieve lijst'!$D$8:$D$10007,C447,'Nominatieve lijst'!$J$8:$J$10007))","v":""},{"$f":"IF(ISBLANK(Vrijwilligersregister!C447)=TRUE,\"\",D447+F447)","v":""},{"$f":"Vrijwilligersregister!L447","v":0}]
[null,442,{"$f":"IF(ISBLANK(Vrijwilligersregister!C448)=TRUE,\"\",Vrijwilligersregister!C448)","v":""},{"$f":"IF(ISBLANK(Vrijwilligersregister!C448)=TRUE,\"\",SUMIF('Nominatieve lijst'!$D$8:$D$10007,C448,'Nominatieve lijst'!$G$8:$G$10007))","v":""},{"$f":"IF(ISBLANK(Vrijwilligersregister!C448)=TRUE,\"\",SUMIF('Nominatieve lijst'!$D$8:$D$10007,C448,'Nominatieve lijst'!$H$8:$H$10007))","v":""},{"$f":"IF(ISBLANK(Vrijwilligersregister!C448)=TRUE,\"\",SUMIF('Nominatieve lijst'!$D$8:$D$10007,C448,'Nominatieve lijst'!$J$8:$J$10007))","v":""},{"$f":"IF(ISBLANK(Vrijwilligersregister!C448)=TRUE,\"\",D448+F448)","v":""},{"$f":"Vrijwilligersregister!L448","v":0}]
[null,443,{"$f":"IF(ISBLANK(Vrijwilligersregister!C449)=TRUE,\"\",Vrijwilligersregister!C449)","v":""},{"$f":"IF(ISBLANK(Vrijwilligersregister!C449)=TRUE,\"\",SUMIF('Nominatieve lijst'!$D$8:$D$10007,C449,'Nominatieve lijst'!$G$8:$G$10007))","v":""},{"$f":"IF(ISBLANK(Vrijwilligersregister!C449)=TRUE,\"\",SUMIF('Nominatieve lijst'!$D$8:$D$10007,C449,'Nominatieve lijst'!$H$8:$H$10007))","v":""},{"$f":"IF(ISBLANK(Vrijwilligersregister!C449)=TRUE,\"\",SUMIF('Nominatieve lijst'!$D$8:$D$10007,C449,'Nominatieve lijst'!$J$8:$J$10007))","v":""},{"$f":"IF(ISBLANK(Vrijwilligersregister!C449)=TRUE,\"\",D449+F449)","v":""},{"$f":"Vrijwilligersregister!L449","v":0}]
[null,444,{"$f":"IF(ISBLANK(Vrijwilligersregister!C450)=TRUE,\"\",Vrijwilligersregister!C450)","v":""},{"$f":"IF(ISBLANK(Vrijwilligersregister!C450)=TRUE,\"\",SUMIF('Nominatieve lijst'!$D$8:$D$10007,C450,'Nominatieve lijst'!$G$8:$G$10007))","v":""},{"$f":"IF(ISBLANK(Vrijwilligersregister!C450)=TRUE,\"\",SUMIF('Nominatieve lijst'!$D$8:$D$10007,C450,'Nominatieve lijst'!$H$8:$H$10007))","v":""},{"$f":"IF(ISBLANK(Vrijwilligersregister!C450)=TRUE,\"\",SUMIF('Nominatieve lijst'!$D$8:$D$10007,C450,'Nominatieve lijst'!$J$8:$J$10007))","v":""},{"$f":"IF(ISBLANK(Vrijwilligersregister!C450)=TRUE,\"\",D450+F450)","v":""},{"$f":"Vrijwilligersregister!L450","v":0}]
[null,445,{"$f":"IF(ISBLANK(Vrijwilligersregister!C451)=TRUE,\"\",Vrijwilligersregister!C451)","v":""},{"$f":"IF(ISBLANK(Vrijwilligersregister!C451)=TRUE,\"\",SUMIF('Nominatieve lijst'!$D$8:$D$10007,C451,'Nominatieve lijst'!$G$8:$G$10007))","v":""},{"$f":"IF(ISBLANK(Vrijwilligersregister!C451)=TRUE,\"\",SUMIF('Nominatieve lijst'!$D$8:$D$10007,C451,'Nominatieve lijst'!$H$8:$H$10007))","v":""},{"$f":"IF(ISBLANK(Vrijwilligersregister!C451)=TRUE,\"\",SUMIF('Nominatieve lijst'!$D$8:$D$10007,C451,'Nominatieve lijst'!$J$8:$J$10007))","v":""},{"$f":"IF(ISBLANK(Vrijwilligersregister!C451)=TRUE,\"\",D451+F451)","v":""},{"$f":"Vrijwilligersregister!L451","v":0}]
[null,446,{"$f":"IF(ISBLANK(Vrijwilligersregister!C452)=TRUE,\"\",Vrijwilligersregister!C452)","v":""},{"$f":"IF(ISBLANK(Vrijwilligersregister!C452)=TRUE,\"\",SUMIF('Nominatieve lijst'!$D$8:$D$10007,C452,'Nominatieve lijst'!$G$8:$G$10007))","v":""},{"$f":"IF(ISBLANK(Vrijwilligersregister!C452)=TRUE,\"\",SUMIF('Nominatieve lijst'!$D$8:$D$10007,C452,'Nominatieve lijst'!$H$8:$H$10007))","v":""},{"$f":"IF(ISBLANK(Vrijwilligersregister!C452)=TRUE,\"\",SUMIF('Nominatieve lijst'!$D$8:$D$10007,C452,'Nominatieve lijst'!$J$8:$J$10007))","v":""},{"$f":"IF(ISBLANK(Vrijwilligersregister!C452)=TRUE,\"\",D452+F452)","v":""},{"$f":"Vrijwilligersregister!L452","v":0}]
[null,447,{"$f":"IF(ISBLANK(Vrijwilligersregister!C453)=TRUE,\"\",Vrijwilligersregister!C453)","v":""},{"$f":"IF(ISBLANK(Vrijwilligersregister!C453)=TRUE,\"\",SUMIF('Nominatieve lijst'!$D$8:$D$10007,C453,'Nominatieve lijst'!$G$8:$G$10007))","v":""},{"$f":"IF(ISBLANK(Vrijwilligersregister!C453)=TRUE,\"\",SUMIF('Nominatieve lijst'!$D$8:$D$10007,C453,'Nominatieve lijst'!$H$8:$H$10007))","v":""},{"$f":"IF(ISBLANK(Vrijwilligersregister!C453)=TRUE,\"\",SUMIF('Nominatieve lijst'!$D$8:$D$10007,C453,'Nominatieve lijst'!$J$8:$J$10007))","v":""},{"$f":"IF(ISBLANK(Vrijwilligersregister!C453)=TRUE,\"\",D453+F453)","v":""},{"$f":"Vrijwilligersregister!L453","v":0}]
[null,448,{"$f":"IF(ISBLANK(Vrijwilligersregister!C454)=TRUE,\"\",Vrijwilligersregister!C454)","v":""},{"$f":"IF(ISBLANK(Vrijwilligersregister!C454)=TRUE,\"\",SUMIF('Nominatieve lijst'!$D$8:$D$10007,C454,'Nominatieve lijst'!$G$8:$G$10007))","v":""},{"$f":"IF(ISBLANK(Vrijwilligersregister!C454)=TRUE,\"\",SUMIF('Nominatieve lijst'!$D$8:$D$10007,C454,'Nominatieve lijst'!$H$8:$H$10007))","v":""},{"$f":"IF(ISBLANK(Vrijwilligersregister!C454)=TRUE,\"\",SUMIF('Nominatieve lijst'!$D$8:$D$10007,C454,'Nominatieve lijst'!$J$8:$J$10007))","v":""},{"$f":"IF(ISBLANK(Vrijwilligersregister!C454)=TRUE,\"\",D454+F454)","v":""},{"$f":"Vrijwilligersregister!L454","v":0}]
[null,449,{"$f":"IF(ISBLANK(Vrijwilligersregister!C455)=TRUE,\"\",Vrijwilligersregister!C455)","v":""},{"$f":"IF(ISBLANK(Vrijwilligersregister!C455)=TRUE,\"\",SUMIF('Nominatieve lijst'!$D$8:$D$10007,C455,'Nominatieve lijst'!$G$8:$G$10007))","v":""},{"$f":"IF(ISBLANK(Vrijwilligersregister!C455)=TRUE,\"\",SUMIF('Nominatieve lijst'!$D$8:$D$10007,C455,'Nominatieve lijst'!$H$8:$H$10007))","v":""},{"$f":"IF(ISBLANK(Vrijwilligersregister!C455)=TRUE,\"\",SUMIF('Nominatieve lijst'!$D$8:$D$10007,C455,'Nominatieve lijst'!$J$8:$J$10007))","v":""},{"$f":"IF(ISBLANK(Vrijwilligersregister!C455)=TRUE,\"\",D455+F455)","v":""},{"$f":"Vrijwilligersregister!L455","v":0}]
[null,450,{"$f":"IF(ISBLANK(Vrijwilligersregister!C456)=TRUE,\"\",Vrijwilligersregister!C456)","v":""},{"$f":"IF(ISBLANK(Vrijwilligersregister!C456)=TRUE,\"\",SUMIF('Nominatieve lijst'!$D$8:$D$10007,C456,'Nominatieve lijst'!$G$8:$G$10007))","v":""},{"$f":"IF(ISBLANK(Vrijwilligersregister!C456)=TRUE,\"\",SUMIF('Nominatieve lijst'!$D$8:$D$10007,C456,'Nominatieve lijst'!$H$8:$H$10007))","v":""},{"$f":"IF(ISBLANK(Vrijwilligersregister!C456)=TRUE,\"\",SUMIF('Nominatieve lijst'!$D$8:$D$10007,C456,'Nominatieve lijst'!$J$8:$J$10007))","v":""},{"$f":"IF(ISBLANK(Vrijwilligersregister!C456)=TRUE,\"\",D456+F456)","v":""},{"$f":"Vrijwilligersregister!L456","v":0}]
[null,451,{"$f":"IF(ISBLANK(Vrijwilligersregister!C457)=TRUE,\"\",Vrijwilligersregister!C457)","v":""},{"$f":"IF(ISBLANK(Vrijwilligersregister!C457)=TRUE,\"\",SUMIF('Nominatieve lijst'!$D$8:$D$10007,C457,'Nominatieve lijst'!$G$8:$G$10007))","v":""},{"$f":"IF(ISBLANK(Vrijwilligersregister!C457)=TRUE,\"\",SUMIF('Nominatieve lijst'!$D$8:$D$10007,C457,'Nominatieve lijst'!$H$8:$H$10007))","v":""},{"$f":"IF(ISBLANK(Vrijwilligersregister!C457)=TRUE,\"\",SUMIF('Nominatieve lijst'!$D$8:$D$10007,C457,'Nominatieve lijst'!$J$8:$J$10007))","v":""},{"$f":"IF(ISBLANK(Vrijwilligersregister!C457)=TRUE,\"\",D457+F457)","v":""},{"$f":"Vrijwilligersregister!L457","v":0}]
[null,452,{"$f":"IF(ISBLANK(Vrijwilligersregister!C458)=TRUE,\"\",Vrijwilligersregister!C458)","v":""},{"$f":"IF(ISBLANK(Vrijwilligersregister!C458)=TRUE,\"\",SUMIF('Nominatieve lijst'!$D$8:$D$10007,C458,'Nominatieve lijst'!$G$8:$G$10007))","v":""},{"$f":"IF(ISBLANK(Vrijwilligersregister!C458)=TRUE,\"\",SUMIF('Nominatieve lijst'!$D$8:$D$10007,C458,'Nominatieve lijst'!$H$8:$H$10007))","v":""},{"$f":"IF(ISBLANK(Vrijwilligersregister!C458)=TRUE,\"\",SUMIF('Nominatieve lijst'!$D$8:$D$10007,C458,'Nominatieve lijst'!$J$8:$J$10007))","v":""},{"$f":"IF(ISBLANK(Vrijwilligersregister!C458)=TRUE,\"\",D458+F458)","v":""},{"$f":"Vrijwilligersregister!L458","v":0}]
[null,453,{"$f":"IF(ISBLANK(Vrijwilligersregister!C459)=TRUE,\"\",Vrijwilligersregister!C459)","v":""},{"$f":"IF(ISBLANK(Vrijwilligersregister!C459)=TRUE,\"\",SUMIF('Nominatieve lijst'!$D$8:$D$10007,C459,'Nominatieve lijst'!$G$8:$G$10007))","v":""},{"$f":"IF(ISBLANK(Vrijwilligersregister!C459)=TRUE,\"\",SUMIF('Nominatieve lijst'!$D$8:$D$10007,C459,'Nominatieve lijst'!$H$8:$H$10007))","v":""},{"$f":"IF(ISBLANK(Vrijwilligersregister!C459)=TRUE,\"\",SUMIF('Nominatieve lijst'!$D$8:$D$10007,C459,'Nominatieve lijst'!$J$8:$J$10007))","v":""},{"$f":"IF(ISBLANK(Vrijwilligersregister!C459)=TRUE,\"\",D459+F459)","v":""},{"$f":"Vrijwilligersregister!L459","v":0}]
[null,454,{"$f":"IF(ISBLANK(Vrijwilligersregister!C460)=TRUE,\"\",Vrijwilligersregister!C460)","v":""},{"$f":"IF(ISBLANK(Vrijwilligersregister!C460)=TRUE,\"\",SUMIF('Nominatieve lijst'!$D$8:$D$10007,C460,'Nominatieve lijst'!$G$8:$G$10007))","v":""},{"$f":"IF(ISBLANK(Vrijwilligersregister!C460)=TRUE,\"\",SUMIF('Nominatieve lijst'!$D$8:$D$10007,C460,'Nominatieve lijst'!$H$8:$H$10007))","v":""},{"$f":"IF(ISBLANK(Vrijwilligersregister!C460)=TRUE,\"\",SUMIF('Nominatieve lijst'!$D$8:$D$10007,C460,'Nominatieve lijst'!$J$8:$J$10007))","v":""},{"$f":"IF(ISBLANK(Vrijwilligersregister!C460)=TRUE,\"\",D460+F460)","v":""},{"$f":"Vrijwilligersregister!L460","v":0}]
[null,455,{"$f":"IF(ISBLANK(Vrijwilligersregister!C461)=TRUE,\"\",Vrijwilligersregister!C461)","v":""},{"$f":"IF(ISBLANK(Vrijwilligersregister!C461)=TRUE,\"\",SUMIF('Nominatieve lijst'!$D$8:$D$10007,C461,'Nominatieve lijst'!$G$8:$G$10007))","v":""},{"$f":"IF(ISBLANK(Vrijwilligersregister!C461)=TRUE,\"\",SUMIF('Nominatieve lijst'!$D$8:$D$10007,C461,'Nominatieve lijst'!$H$8:$H$10007))","v":""},{"$f":"IF(ISBLANK(Vrijwilligersregister!C461)=TRUE,\"\",SUMIF('Nominatieve lijst'!$D$8:$D$10007,C461,'Nominatieve lijst'!$J$8:$J$10007))","v":""},{"$f":"IF(ISBLANK(Vrijwilligersregister!C461)=TRUE,\"\",D461+F461)","v":""},{"$f":"Vrijwilligersregister!L461","v":0}]
[null,456,{"$f":"IF(ISBLANK(Vrijwilligersregister!C462)=TRUE,\"\",Vrijwilligersregister!C462)","v":""},{"$f":"IF(ISBLANK(Vrijwilligersregister!C462)=TRUE,\"\",SUMIF('Nominatieve lijst'!$D$8:$D$10007,C462,'Nominatieve lijst'!$G$8:$G$10007))","v":""},{"$f":"IF(ISBLANK(Vrijwilligersregister!C462)=TRUE,\"\",SUMIF('Nominatieve lijst'!$D$8:$D$10007,C462,'Nominatieve lijst'!$H$8:$H$10007))","v":""},{"$f":"IF(ISBLANK(Vrijwilligersregister!C462)=TRUE,\"\",SUMIF('Nominatieve lijst'!$D$8:$D$10007,C462,'Nominatieve lijst'!$J$8:$J$10007))","v":""},{"$f":"IF(ISBLANK(Vrijwilligersregister!C462)=TRUE,\"\",D462+F462)","v":""},{"$f":"Vrijwilligersregister!L462","v":0}]
[null,457,{"$f":"IF(ISBLANK(Vrijwilligersregister!C463)=TRUE,\"\",Vrijwilligersregister!C463)","v":""},{"$f":"IF(ISBLANK(Vrijwilligersregister!C463)=TRUE,\"\",SUMIF('Nominatieve lijst'!$D$8:$D$10007,C463,'Nominatieve lijst'!$G$8:$G$10007))","v":""},{"$f":"IF(ISBLANK(Vrijwilligersregister!C463)=TRUE,\"\",SUMIF('Nominatieve lijst'!$D$8:$D$10007,C463,'Nominatieve lijst'!$H$8:$H$10007))","v":""},{"$f":"IF(ISBLANK(Vrijwilligersregister!C463)=TRUE,\"\",SUMIF('Nominatieve lijst'!$D$8:$D$10007,C463,'Nominatieve lijst'!$J$8:$J$10007))","v":""},{"$f":"IF(ISBLANK(Vrijwilligersregister!C463)=TRUE,\"\",D463+F463)","v":""},{"$f":"Vrijwilligersregister!L463","v":0}]
[null,458,{"$f":"IF(ISBLANK(Vrijwilligersregister!C464)=TRUE,\"\",Vrijwilligersregister!C464)","v":""},{"$f":"IF(ISBLANK(Vrijwilligersregister!C464)=TRUE,\"\",SUMIF('Nominatieve lijst'!$D$8:$D$10007,C464,'Nominatieve lijst'!$G$8:$G$10007))","v":""},{"$f":"IF(ISBLANK(Vrijwilligersregister!C464)=TRUE,\"\",SUMIF('Nominatieve lijst'!$D$8:$D$10007,C464,'Nominatieve lijst'!$H$8:$H$10007))","v":""},{"$f":"IF(ISBLANK(Vrijwilligersregister!C464)=TRUE,\"\",SUMIF('Nominatieve lijst'!$D$8:$D$10007,C464,'Nominatieve lijst'!$J$8:$J$10007))","v":""},{"$f":"IF(ISBLANK(Vrijwilligersregister!C464)=TRUE,\"\",D464+F464)","v":""},{"$f":"Vrijwilligersregister!L464","v":0}]
[null,459,{"$f":"IF(ISBLANK(Vrijwilligersregister!C465)=TRUE,\"\",Vrijwilligersregister!C465)","v":""},{"$f":"IF(ISBLANK(Vrijwilligersregister!C465)=TRUE,\"\",SUMIF('Nominatieve lijst'!$D$8:$D$10007,C465,'Nominatieve lijst'!$G$8:$G$10007))","v":""},{"$f":"IF(ISBLANK(Vrijwilligersregister!C465)=TRUE,\"\",SUMIF('Nominatieve lijst'!$D$8:$D$10007,C465,'Nominatieve lijst'!$H$8:$H$10007))","v":""},{"$f":"IF(ISBLANK(Vrijwilligersregister!C465)=TRUE,\"\",SUMIF('Nominatieve lijst'!$D$8:$D$10007,C465,'Nominatieve lijst'!$J$8:$J$10007))","v":""},{"$f":"IF(ISBLANK(Vrijwilligersregister!C465)=TRUE,\"\",D465+F465)","v":""},{"$f":"Vrijwilligersregister!L465","v":0}]
[null,460,{"$f":"IF(ISBLANK(Vrijwilligersregister!C466)=TRUE,\"\",Vrijwilligersregister!C466)","v":""},{"$f":"IF(ISBLANK(Vrijwilligersregister!C466)=TRUE,\"\",SUMIF('Nominatieve lijst'!$D$8:$D$10007,C466,'Nominatieve lijst'!$G$8:$G$10007))","v":""},{"$f":"IF(ISBLANK(Vrijwilligersregister!C466)=TRUE,\"\",SUMIF('Nominatieve lijst'!$D$8:$D$10007,C466,'Nominatieve lijst'!$H$8:$H$10007))","v":""},{"$f":"IF(ISBLANK(Vrijwilligersregister!C466)=TRUE,\"\",SUMIF('Nominatieve lijst'!$D$8:$D$10007,C466,'Nominatieve lijst'!$J$8:$J$10007))","v":""},{"$f":"IF(ISBLANK(Vrijwilligersregister!C466)=TRUE,\"\",D466+F466)","v":""},{"$f":"Vrijwilligersregister!L466","v":0}]
[null,461,{"$f":"IF(ISBLANK(Vrijwilligersregister!C467)=TRUE,\"\",Vrijwilligersregister!C467)","v":""},{"$f":"IF(ISBLANK(Vrijwilligersregister!C467)=TRUE,\"\",SUMIF('Nominatieve lijst'!$D$8:$D$10007,C467,'Nominatieve lijst'!$G$8:$G$10007))","v":""},{"$f":"IF(ISBLANK(Vrijwilligersregister!C467)=TRUE,\"\",SUMIF('Nominatieve lijst'!$D$8:$D$10007,C467,'Nominatieve lijst'!$H$8:$H$10007))","v":""},{"$f":"IF(ISBLANK(Vrijwilligersregister!C467)=TRUE,\"\",SUMIF('Nominatieve lijst'!$D$8:$D$10007,C467,'Nominatieve lijst'!$J$8:$J$10007))","v":""},{"$f":"IF(ISBLANK(Vrijwilligersregister!C467)=TRUE,\"\",D467+F467)","v":""},{"$f":"Vrijwilligersregister!L467","v":0}]
[null,462,{"$f":"IF(ISBLANK(Vrijwilligersregister!C468)=TRUE,\"\",Vrijwilligersregister!C468)","v":""},{"$f":"IF(ISBLANK(Vrijwilligersregister!C468)=TRUE,\"\",SUMIF('Nominatieve lijst'!$D$8:$D$10007,C468,'Nominatieve lijst'!$G$8:$G$10007))","v":""},{"$f":"IF(ISBLANK(Vrijwilligersregister!C468)=TRUE,\"\",SUMIF('Nominatieve lijst'!$D$8:$D$10007,C468,'Nominatieve lijst'!$H$8:$H$10007))","v":""},{"$f":"IF(ISBLANK(Vrijwilligersregister!C468)=TRUE,\"\",SUMIF('Nominatieve lijst'!$D$8:$D$10007,C468,'Nominatieve lijst'!$J$8:$J$10007))","v":""},{"$f":"IF(ISBLANK(Vrijwilligersregister!C468)=TRUE,\"\",D468+F468)","v":""},{"$f":"Vrijwilligersregister!L468","v":0}]
[null,463,{"$f":"IF(ISBLANK(Vrijwilligersregister!C469)=TRUE,\"\",Vrijwilligersregister!C469)","v":""},{"$f":"IF(ISBLANK(Vrijwilligersregister!C469)=TRUE,\"\",SUMIF('Nominatieve lijst'!$D$8:$D$10007,C469,'Nominatieve lijst'!$G$8:$G$10007))","v":""},{"$f":"IF(ISBLANK(Vrijwilligersregister!C469)=TRUE,\"\",SUMIF('Nominatieve lijst'!$D$8:$D$10007,C469,'Nominatieve lijst'!$H$8:$H$10007))","v":""},{"$f":"IF(ISBLANK(Vrijwilligersregister!C469)=TRUE,\"\",SUMIF('Nominatieve lijst'!$D$8:$D$10007,C469,'Nominatieve lijst'!$J$8:$J$10007))","v":""},{"$f":"IF(ISBLANK(Vrijwilligersregister!C469)=TRUE,\"\",D469+F469)","v":""},{"$f":"Vrijwilligersregister!L469","v":0}]
[null,464,{"$f":"IF(ISBLANK(Vrijwilligersregister!C470)=TRUE,\"\",Vrijwilligersregister!C470)","v":""},{"$f":"IF(ISBLANK(Vrijwilligersregister!C470)=TRUE,\"\",SUMIF('Nominatieve lijst'!$D$8:$D$10007,C470,'Nominatieve lijst'!$G$8:$G$10007))","v":""},{"$f":"IF(ISBLANK(Vrijwilligersregister!C470)=TRUE,\"\",SUMIF('Nominatieve lijst'!$D$8:$D$10007,C470,'Nominatieve lijst'!$H$8:$H$10007))","v":""},{"$f":"IF(ISBLANK(Vrijwilligersregister!C470)=TRUE,\"\",SUMIF('Nominatieve lijst'!$D$8:$D$10007,C470,'Nominatieve lijst'!$J$8:$J$10007))","v":""},{"$f":"IF(ISBLANK(Vrijwilligersregister!C470)=TRUE,\"\",D470+F470)","v":""},{"$f":"Vrijwilligersregister!L470","v":0}]
[null,465,{"$f":"IF(ISBLANK(Vrijwilligersregister!C471)=TRUE,\"\",Vrijwilligersregister!C471)","v":""},{"$f":"IF(ISBLANK(Vrijwilligersregister!C471)=TRUE,\"\",SUMIF('Nominatieve lijst'!$D$8:$D$10007,C471,'Nominatieve lijst'!$G$8:$G$10007))","v":""},{"$f":"IF(ISBLANK(Vrijwilligersregister!C471)=TRUE,\"\",SUMIF('Nominatieve lijst'!$D$8:$D$10007,C471,'Nominatieve lijst'!$H$8:$H$10007))","v":""},{"$f":"IF(ISBLANK(Vrijwilligersregister!C471)=TRUE,\"\",SUMIF('Nominatieve lijst'!$D$8:$D$10007,C471,'Nominatieve lijst'!$J$8:$J$10007))","v":""},{"$f":"IF(ISBLANK(Vrijwilligersregister!C471)=TRUE,\"\",D471+F471)","v":""},{"$f":"Vrijwilligersregister!L471","v":0}]
[null,466,{"$f":"IF(ISBLANK(Vrijwilligersregister!C472)=TRUE,\"\",Vrijwilligersregister!C472)","v":""},{"$f":"IF(ISBLANK(Vrijwilligersregister!C472)=TRUE,\"\",SUMIF('Nominatieve lijst'!$D$8:$D$10007,C472,'Nominatieve lijst'!$G$8:$G$10007))","v":""},{"$f":"IF(ISBLANK(Vrijwilligersregister!C472)=TRUE,\"\",SUMIF('Nominatieve lijst'!$D$8:$D$10007,C472,'Nominatieve lijst'!$H$8:$H$10007))","v":""},{"$f":"IF(ISBLANK(Vrijwilligersregister!C472)=TRUE,\"\",SUMIF('Nominatieve lijst'!$D$8:$D$10007,C472,'Nominatieve lijst'!$J$8:$J$10007))","v":""},{"$f":"IF(ISBLANK(Vrijwilligersregister!C472)=TRUE,\"\",D472+F472)","v":""},{"$f":"Vrijwilligersregister!L472","v":0}]
[null,467,{"$f":"IF(ISBLANK(Vrijwilligersregister!C473)=TRUE,\"\",Vrijwilligersregister!C473)","v":""},{"$f":"IF(ISBLANK(Vrijwilligersregister!C473)=TRUE,\"\",SUMIF('Nominatieve lijst'!$D$8:$D$10007,C473,'Nominatieve lijst'!$G$8:$G$10007))","v":""},{"$f":"IF(ISBLANK(Vrijwilligersregister!C473)=TRUE,\"\",SUMIF('Nominatieve lijst'!$D$8:$D$10007,C473,'Nominatieve lijst'!$H$8:$H$10007))","v":""},{"$f":"IF(ISBLANK(Vrijwilligersregister!C473)=TRUE,\"\",SUMIF('Nominatieve lijst'!$D$8:$D$10007,C473,'Nominatieve lijst'!$J$8:$J$10007))","v":""},{"$f":"IF(ISBLANK(Vrijwilligersregister!C473)=TRUE,\"\",D473+F473)","v":""},{"$f":"Vrijwilligersregister!L473","v":0}]
[null,468,{"$f":"IF(ISBLANK(Vrijwilligersregister!C474)=TRUE,\"\",Vrijwilligersregister!C474)","v":""},{"$f":"IF(ISBLANK(Vrijwilligersregister!C474)=TRUE,\"\",SUMIF('Nominatieve lijst'!$D$8:$D$10007,C474,'Nominatieve lijst'!$G$8:$G$10007))","v":""},{"$f":"IF(ISBLANK(Vrijwilligersregister!C474)=TRUE,\"\",SUMIF('Nominatieve lijst'!$D$8:$D$10007,C474,'Nominatieve lijst'!$H$8:$H$10007))","v":""},{"$f":"IF(ISBLANK(Vrijwilligersregister!C474)=TRUE,\"\",SUMIF('Nominatieve lijst'!$D$8:$D$10007,C474,'Nominatieve lijst'!$J$8:$J$10007))","v":""},{"$f":"IF(ISBLANK(Vrijwilligersregister!C474)=TRUE,\"\",D474+F474)","v":""},{"$f":"Vrijwilligersregister!L474","v":0}]
[null,469,{"$f":"IF(ISBLANK(Vrijwilligersregister!C475)=TRUE,\"\",Vrijwilligersregister!C475)","v":""},{"$f":"IF(ISBLANK(Vrijwilligersregister!C475)=TRUE,\"\",SUMIF('Nominatieve lijst'!$D$8:$D$10007,C475,'Nominatieve lijst'!$G$8:$G$10007))","v":""},{"$f":"IF(ISBLANK(Vrijwilligersregister!C475)=TRUE,\"\",SUMIF('Nominatieve lijst'!$D$8:$D$10007,C475,'Nominatieve lijst'!$H$8:$H$10007))","v":""},{"$f":"IF(ISBLANK(Vrijwilligersregister!C475)=TRUE,\"\",SUMIF('Nominatieve lijst'!$D$8:$D$10007,C475,'Nominatieve lijst'!$J$8:$J$10007))","v":""},{"$f":"IF(ISBLANK(Vrijwilligersregister!C475)=TRUE,\"\",D475+F475)","v":""},{"$f":"Vrijwilligersregister!L475","v":0}]
[null,470,{"$f":"IF(ISBLANK(Vrijwilligersregister!C476)=TRUE,\"\",Vrijwilligersregister!C476)","v":""},{"$f":"IF(ISBLANK(Vrijwilligersregister!C476)=TRUE,\"\",SUMIF('Nominatieve lijst'!$D$8:$D$10007,C476,'Nominatieve lijst'!$G$8:$G$10007))","v":""},{"$f":"IF(ISBLANK(Vrijwilligersregister!C476)=TRUE,\"\",SUMIF('Nominatieve lijst'!$D$8:$D$10007,C476,'Nominatieve lijst'!$H$8:$H$10007))","v":""},{"$f":"IF(ISBLANK(Vrijwilligersregister!C476)=TRUE,\"\",SUMIF('Nominatieve lijst'!$D$8:$D$10007,C476,'Nominatieve lijst'!$J$8:$J$10007))","v":""},{"$f":"IF(ISBLANK(Vrijwilligersregister!C476)=TRUE,\"\",D476+F476)","v":""},{"$f":"Vrijwilligersregister!L476","v":0}]
[null,471,{"$f":"IF(ISBLANK(Vrijwilligersregister!C477)=TRUE,\"\",Vrijwilligersregister!C477)","v":""},{"$f":"IF(ISBLANK(Vrijwilligersregister!C477)=TRUE,\"\",SUMIF('Nominatieve lijst'!$D$8:$D$10007,C477,'Nominatieve lijst'!$G$8:$G$10007))","v":""},{"$f":"IF(ISBLANK(Vrijwilligersregister!C477)=TRUE,\"\",SUMIF('Nominatieve lijst'!$D$8:$D$10007,C477,'Nominatieve lijst'!$H$8:$H$10007))","v":""},{"$f":"IF(ISBLANK(Vrijwilligersregister!C477)=TRUE,\"\",SUMIF('Nominatieve lijst'!$D$8:$D$10007,C477,'Nominatieve lijst'!$J$8:$J$10007))","v":""},{"$f":"IF(ISBLANK(Vrijwilligersregister!C477)=TRUE,\"\",D477+F477)","v":""},{"$f":"Vrijwilligersregister!L477","v":0}]
[null,472,{"$f":"IF(ISBLANK(Vrijwilligersregister!C478)=TRUE,\"\",Vrijwilligersregister!C478)","v":""},{"$f":"IF(ISBLANK(Vrijwilligersregister!C478)=TRUE,\"\",SUMIF('Nominatieve lijst'!$D$8:$D$10007,C478,'Nominatieve lijst'!$G$8:$G$10007))","v":""},{"$f":"IF(ISBLANK(Vrijwilligersregister!C478)=TRUE,\"\",SUMIF('Nominatieve lijst'!$D$8:$D$10007,C478,'Nominatieve lijst'!$H$8:$H$10007))","v":""},{"$f":"IF(ISBLANK(Vrijwilligersregister!C478)=TRUE,\"\",SUMIF('Nominatieve lijst'!$D$8:$D$10007,C478,'Nominatieve lijst'!$J$8:$J$10007))","v":""},{"$f":"IF(ISBLANK(Vrijwilligersregister!C478)=TRUE,\"\",D478+F478)","v":""},{"$f":"Vrijwilligersregister!L478","v":0}]
[null,473,{"$f":"IF(ISBLANK(Vrijwilligersregister!C479)=TRUE,\"\",Vrijwilligersregister!C479)","v":""},{"$f":"IF(ISBLANK(Vrijwilligersregister!C479)=TRUE,\"\",SUMIF('Nominatieve lijst'!$D$8:$D$10007,C479,'Nominatieve lijst'!$G$8:$G$10007))","v":""},{"$f":"IF(ISBLANK(Vrijwilligersregister!C479)=TRUE,\"\",SUMIF('Nominatieve lijst'!$D$8:$D$10007,C479,'Nominatieve lijst'!$H$8:$H$10007))","v":""},{"$f":"IF(ISBLANK(Vrijwilligersregister!C479)=TRUE,\"\",SUMIF('Nominatieve lijst'!$D$8:$D$10007,C479,'Nominatieve lijst'!$J$8:$J$10007))","v":""},{"$f":"IF(ISBLANK(Vrijwilligersregister!C479)=TRUE,\"\",D479+F479)","v":""},{"$f":"Vrijwilligersregister!L479","v":0}]
[null,474,{"$f":"IF(ISBLANK(Vrijwilligersregister!C480)=TRUE,\"\",Vrijwilligersregister!C480)","v":""},{"$f":"IF(ISBLANK(Vrijwilligersregister!C480)=TRUE,\"\",SUMIF('Nominatieve lijst'!$D$8:$D$10007,C480,'Nominatieve lijst'!$G$8:$G$10007))","v":""},{"$f":"IF(ISBLANK(Vrijwilligersregister!C480)=TRUE,\"\",SUMIF('Nominatieve lijst'!$D$8:$D$10007,C480,'Nominatieve lijst'!$H$8:$H$10007))","v":""},{"$f":"IF(ISBLANK(Vrijwilligersregister!C480)=TRUE,\"\",SUMIF('Nominatieve lijst'!$D$8:$D$10007,C480,'Nominatieve lijst'!$J$8:$J$10007))","v":""},{"$f":"IF(ISBLANK(Vrijwilligersregister!C480)=TRUE,\"\",D480+F480)","v":""},{"$f":"Vrijwilligersregister!L480","v":0}]
[null,475,{"$f":"IF(ISBLANK(Vrijwilligersregister!C481)=TRUE,\"\",Vrijwilligersregister!C481)","v":""},{"$f":"IF(ISBLANK(Vrijwilligersregister!C481)=TRUE,\"\",SUMIF('Nominatieve lijst'!$D$8:$D$10007,C481,'Nominatieve lijst'!$G$8:$G$10007))","v":""},{"$f":"IF(ISBLANK(Vrijwilligersregister!C481)=TRUE,\"\",SUMIF('Nominatieve lijst'!$D$8:$D$10007,C481,'Nominatieve lijst'!$H$8:$H$10007))","v":""},{"$f":"IF(ISBLANK(Vrijwilligersregister!C481)=TRUE,\"\",SUMIF('Nominatieve lijst'!$D$8:$D$10007,C481,'Nominatieve lijst'!$J$8:$J$10007))","v":""},{"$f":"IF(ISBLANK(Vrijwilligersregister!C481)=TRUE,\"\",D481+F481)","v":""},{"$f":"Vrijwilligersregister!L481","v":0}]
[null,476,{"$f":"IF(ISBLANK(Vrijwilligersregister!C482)=TRUE,\"\",Vrijwilligersregister!C482)","v":""},{"$f":"IF(ISBLANK(Vrijwilligersregister!C482)=TRUE,\"\",SUMIF('Nominatieve lijst'!$D$8:$D$10007,C482,'Nominatieve lijst'!$G$8:$G$10007))","v":""},{"$f":"IF(ISBLANK(Vrijwilligersregister!C482)=TRUE,\"\",SUMIF('Nominatieve lijst'!$D$8:$D$10007,C482,'Nominatieve lijst'!$H$8:$H$10007))","v":""},{"$f":"IF(ISBLANK(Vrijwilligersregister!C482)=TRUE,\"\",SUMIF('Nominatieve lijst'!$D$8:$D$10007,C482,'Nominatieve lijst'!$J$8:$J$10007))","v":""},{"$f":"IF(ISBLANK(Vrijwilligersregister!C482)=TRUE,\"\",D482+F482)","v":""},{"$f":"Vrijwilligersregister!L482","v":0}]
[null,477,{"$f":"IF(ISBLANK(Vrijwilligersregister!C483)=TRUE,\"\",Vrijwilligersregister!C483)","v":""},{"$f":"IF(ISBLANK(Vrijwilligersregister!C483)=TRUE,\"\",SUMIF('Nominatieve lijst'!$D$8:$D$10007,C483,'Nominatieve lijst'!$G$8:$G$10007))","v":""},{"$f":"IF(ISBLANK(Vrijwilligersregister!C483)=TRUE,\"\",SUMIF('Nominatieve lijst'!$D$8:$D$10007,C483,'Nominatieve lijst'!$H$8:$H$10007))","v":""},{"$f":"IF(ISBLANK(Vrijwilligersregister!C483)=TRUE,\"\",SUMIF('Nominatieve lijst'!$D$8:$D$10007,C483,'Nominatieve lijst'!$J$8:$J$10007))","v":""},{"$f":"IF(ISBLANK(Vrijwilligersregister!C483)=TRUE,\"\",D483+F483)","v":""},{"$f":"Vrijwilligersregister!L483","v":0}]
[null,478,{"$f":"IF(ISBLANK(Vrijwilligersregister!C484)=TRUE,\"\",Vrijwilligersregister!C484)","v":""},{"$f":"IF(ISBLANK(Vrijwilligersregister!C484)=TRUE,\"\",SUMIF('Nominatieve lijst'!$D$8:$D$10007,C484,'Nominatieve lijst'!$G$8:$G$10007))","v":""},{"$f":"IF(ISBLANK(Vrijwilligersregister!C484)=TRUE,\"\",SUMIF('Nominatieve lijst'!$D$8:$D$10007,C484,'Nominatieve lijst'!$H$8:$H$10007))","v":""},{"$f":"IF(ISBLANK(Vrijwilligersregister!C484)=TRUE,\"\",SUMIF('Nominatieve lijst'!$D$8:$D$10007,C484,'Nominatieve lijst'!$J$8:$J$10007))","v":""},{"$f":"IF(ISBLANK(Vrijwilligersregister!C484)=TRUE,\"\",D484+F484)","v":""},{"$f":"Vrijwilligersregister!L484","v":0}]
[null,479,{"$f":"IF(ISBLANK(Vrijwilligersregister!C485)=TRUE,\"\",Vrijwilligersregister!C485)","v":""},{"$f":"IF(ISBLANK(Vrijwilligersregister!C485)=TRUE,\"\",SUMIF('Nominatieve lijst'!$D$8:$D$10007,C485,'Nominatieve lijst'!$G$8:$G$10007))","v":""},{"$f":"IF(ISBLANK(Vrijwilligersregister!C485)=TRUE,\"\",SUMIF('Nominatieve lijst'!$D$8:$D$10007,C485,'Nominatieve lijst'!$H$8:$H$10007))","v":""},{"$f":"IF(ISBLANK(Vrijwilligersregister!C485)=TRUE,\"\",SUMIF('Nominatieve lijst'!$D$8:$D$10007,C485,'Nominatieve lijst'!$J$8:$J$10007))","v":""},{"$f":"IF(ISBLANK(Vrijwilligersregister!C485)=TRUE,\"\",D485+F485)","v":""},{"$f":"Vrijwilligersregister!L485","v":0}]
[null,480,{"$f":"IF(ISBLANK(Vrijwilligersregister!C486)=TRUE,\"\",Vrijwilligersregister!C486)","v":""},{"$f":"IF(ISBLANK(Vrijwilligersregister!C486)=TRUE,\"\",SUMIF('Nominatieve lijst'!$D$8:$D$10007,C486,'Nominatieve lijst'!$G$8:$G$10007))","v":""},{"$f":"IF(ISBLANK(Vrijwilligersregister!C486)=TRUE,\"\",SUMIF('Nominatieve lijst'!$D$8:$D$10007,C486,'Nominatieve lijst'!$H$8:$H$10007))","v":""},{"$f":"IF(ISBLANK(Vrijwilligersregister!C486)=TRUE,\"\",SUMIF('Nominatieve lijst'!$D$8:$D$10007,C486,'Nominatieve lijst'!$J$8:$J$10007))","v":""},{"$f":"IF(ISBLANK(Vrijwilligersregister!C486)=TRUE,\"\",D486+F486)","v":""},{"$f":"Vrijwilligersregister!L486","v":0}]
[null,481,{"$f":"IF(ISBLANK(Vrijwilligersregister!C487)=TRUE,\"\",Vrijwilligersregister!C487)","v":""},{"$f":"IF(ISBLANK(Vrijwilligersregister!C487)=TRUE,\"\",SUMIF('Nominatieve lijst'!$D$8:$D$10007,C487,'Nominatieve lijst'!$G$8:$G$10007))","v":""},{"$f":"IF(ISBLANK(Vrijwilligersregister!C487)=TRUE,\"\",SUMIF('Nominatieve lijst'!$D$8:$D$10007,C487,'Nominatieve lijst'!$H$8:$H$10007))","v":""},{"$f":"IF(ISBLANK(Vrijwilligersregister!C487)=TRUE,\"\",SUMIF('Nominatieve lijst'!$D$8:$D$10007,C487,'Nominatieve lijst'!$J$8:$J$10007))","v":""},{"$f":"IF(ISBLANK(Vrijwilligersregister!C487)=TRUE,\"\",D487+F487)","v":""},{"$f":"Vrijwilligersregister!L487","v":0}]
[null,482,{"$f":"IF(ISBLANK(Vrijwilligersregister!C488)=TRUE,\"\",Vrijwilligersregister!C488)","v":""},{"$f":"IF(ISBLANK(Vrijwilligersregister!C488)=TRUE,\"\",SUMIF('Nominatieve lijst'!$D$8:$D$10007,C488,'Nominatieve lijst'!$G$8:$G$10007))","v":""},{"$f":"IF(ISBLANK(Vrijwilligersregister!C488)=TRUE,\"\",SUMIF('Nominatieve lijst'!$D$8:$D$10007,C488,'Nominatieve lijst'!$H$8:$H$10007))","v":""},{"$f":"IF(ISBLANK(Vrijwilligersregister!C488)=TRUE,\"\",SUMIF('Nominatieve lijst'!$D$8:$D$10007,C488,'Nominatieve lijst'!$J$8:$J$10007))","v":""},{"$f":"IF(ISBLANK(Vrijwilligersregister!C488)=TRUE,\"\",D488+F488)","v":""},{"$f":"Vrijwilligersregister!L488","v":0}]
[null,483,{"$f":"IF(ISBLANK(Vrijwilligersregister!C489)=TRUE,\"\",Vrijwilligersregister!C489)","v":""},{"$f":"IF(ISBLANK(Vrijwilligersregister!C489)=TRUE,\"\",SUMIF('Nominatieve lijst'!$D$8:$D$10007,C489,'Nominatieve lijst'!$G$8:$G$10007))","v":""},{"$f":"IF(ISBLANK(Vrijwilligersregister!C489)=TRUE,\"\",SUMIF('Nominatieve lijst'!$D$8:$D$10007,C489,'Nominatieve lijst'!$H$8:$H$10007))","v":""},{"$f":"IF(ISBLANK(Vrijwilligersregister!C489)=TRUE,\"\",SUMIF('Nominatieve lijst'!$D$8:$D$10007,C489,'Nominatieve lijst'!$J$8:$J$10007))","v":""},{"$f":"IF(ISBLANK(Vrijwilligersregister!C489)=TRUE,\"\",D489+F489)","v":""},{"$f":"Vrijwilligersregister!L489","v":0}]
[null,484,{"$f":"IF(ISBLANK(Vrijwilligersregister!C490)=TRUE,\"\",Vrijwilligersregister!C490)","v":""},{"$f":"IF(ISBLANK(Vrijwilligersregister!C490)=TRUE,\"\",SUMIF('Nominatieve lijst'!$D$8:$D$10007,C490,'Nominatieve lijst'!$G$8:$G$10007))","v":""},{"$f":"IF(ISBLANK(Vrijwilligersregister!C490)=TRUE,\"\",SUMIF('Nominatieve lijst'!$D$8:$D$10007,C490,'Nominatieve lijst'!$H$8:$H$10007))","v":""},{"$f":"IF(ISBLANK(Vrijwilligersregister!C490)=TRUE,\"\",SUMIF('Nominatieve lijst'!$D$8:$D$10007,C490,'Nominatieve lijst'!$J$8:$J$10007))","v":""},{"$f":"IF(ISBLANK(Vrijwilligersregister!C490)=TRUE,\"\",D490+F490)","v":""},{"$f":"Vrijwilligersregister!L490","v":0}]
[null,485,{"$f":"IF(ISBLANK(Vrijwilligersregister!C491)=TRUE,\"\",Vrijwilligersregister!C491)","v":""},{"$f":"IF(ISBLANK(Vrijwilligersregister!C491)=TRUE,\"\",SUMIF('Nominatieve lijst'!$D$8:$D$10007,C491,'Nominatieve lijst'!$G$8:$G$10007))","v":""},{"$f":"IF(ISBLANK(Vrijwilligersregister!C491)=TRUE,\"\",SUMIF('Nominatieve lijst'!$D$8:$D$10007,C491,'Nominatieve lijst'!$H$8:$H$10007))","v":""},{"$f":"IF(ISBLANK(Vrijwilligersregister!C491)=TRUE,\"\",SUMIF('Nominatieve lijst'!$D$8:$D$10007,C491,'Nominatieve lijst'!$J$8:$J$10007))","v":""},{"$f":"IF(ISBLANK(Vrijwilligersregister!C491)=TRUE,\"\",D491+F491)","v":""},{"$f":"Vrijwilligersregister!L491","v":0}]
[null,486,{"$f":"IF(ISBLANK(Vrijwilligersregister!C492)=TRUE,\"\",Vrijwilligersregister!C492)","v":""},{"$f":"IF(ISBLANK(Vrijwilligersregister!C492)=TRUE,\"\",SUMIF('Nominatieve lijst'!$D$8:$D$10007,C492,'Nominatieve lijst'!$G$8:$G$10007))","v":""},{"$f":"IF(ISBLANK(Vrijwilligersregister!C492)=TRUE,\"\",SUMIF('Nominatieve lijst'!$D$8:$D$10007,C492,'Nominatieve lijst'!$H$8:$H$10007))","v":""},{"$f":"IF(ISBLANK(Vrijwilligersregister!C492)=TRUE,\"\",SUMIF('Nominatieve lijst'!$D$8:$D$10007,C492,'Nominatieve lijst'!$J$8:$J$10007))","v":""},{"$f":"IF(ISBLANK(Vrijwilligersregister!C492)=TRUE,\"\",D492+F492)","v":""},{"$f":"Vrijwilligersregister!L492","v":0}]
[null,487,{"$f":"IF(ISBLANK(Vrijwilligersregister!C493)=TRUE,\"\",Vrijwilligersregister!C493)","v":""},{"$f":"IF(ISBLANK(Vrijwilligersregister!C493)=TRUE,\"\",SUMIF('Nominatieve lijst'!$D$8:$D$10007,C493,'Nominatieve lijst'!$G$8:$G$10007))","v":""},{"$f":"IF(ISBLANK(Vrijwilligersregister!C493)=TRUE,\"\",SUMIF('Nominatieve lijst'!$D$8:$D$10007,C493,'Nominatieve lijst'!$H$8:$H$10007))","v":""},{"$f":"IF(ISBLANK(Vrijwilligersregister!C493)=TRUE,\"\",SUMIF('Nominatieve lijst'!$D$8:$D$10007,C493,'Nominatieve lijst'!$J$8:$J$10007))","v":""},{"$f":"IF(ISBLANK(Vrijwilligersregister!C493)=TRUE,\"\",D493+F493)","v":""},{"$f":"Vrijwilligersregister!L493","v":0}]
[null,488,{"$f":"IF(ISBLANK(Vrijwilligersregister!C494)=TRUE,\"\",Vrijwilligersregister!C494)","v":""},{"$f":"IF(ISBLANK(Vrijwilligersregister!C494)=TRUE,\"\",SUMIF('Nominatieve lijst'!$D$8:$D$10007,C494,'Nominatieve lijst'!$G$8:$G$10007))","v":""},{"$f":"IF(ISBLANK(Vrijwilligersregister!C494)=TRUE,\"\",SUMIF('Nominatieve lijst'!$D$8:$D$10007,C494,'Nominatieve lijst'!$H$8:$H$10007))","v":""},{"$f":"IF(ISBLANK(Vrijwilligersregister!C494)=TRUE,\"\",SUMIF('Nominatieve lijst'!$D$8:$D$10007,C494,'Nominatieve lijst'!$J$8:$J$10007))","v":""},{"$f":"IF(ISBLANK(Vrijwilligersregister!C494)=TRUE,\"\",D494+F494)","v":""},{"$f":"Vrijwilligersregister!L494","v":0}]
[null,489,{"$f":"IF(ISBLANK(Vrijwilligersregister!C495)=TRUE,\"\",Vrijwilligersregister!C495)","v":""},{"$f":"IF(ISBLANK(Vrijwilligersregister!C495)=TRUE,\"\",SUMIF('Nominatieve lijst'!$D$8:$D$10007,C495,'Nominatieve lijst'!$G$8:$G$10007))","v":""},{"$f":"IF(ISBLANK(Vrijwilligersregister!C495)=TRUE,\"\",SUMIF('Nominatieve lijst'!$D$8:$D$10007,C495,'Nominatieve lijst'!$H$8:$H$10007))","v":""},{"$f":"IF(ISBLANK(Vrijwilligersregister!C495)=TRUE,\"\",SUMIF('Nominatieve lijst'!$D$8:$D$10007,C495,'Nominatieve lijst'!$J$8:$J$10007))","v":""},{"$f":"IF(ISBLANK(Vrijwilligersregister!C495)=TRUE,\"\",D495+F495)","v":""},{"$f":"Vrijwilligersregister!L495","v":0}]
[null,490,{"$f":"IF(ISBLANK(Vrijwilligersregister!C496)=TRUE,\"\",Vrijwilligersregister!C496)","v":""},{"$f":"IF(ISBLANK(Vrijwilligersregister!C496)=TRUE,\"\",SUMIF('Nominatieve lijst'!$D$8:$D$10007,C496,'Nominatieve lijst'!$G$8:$G$10007))","v":""},{"$f":"IF(ISBLANK(Vrijwilligersregister!C496)=TRUE,\"\",SUMIF('Nominatieve lijst'!$D$8:$D$10007,C496,'Nominatieve lijst'!$H$8:$H$10007))","v":""},{"$f":"IF(ISBLANK(Vrijwilligersregister!C496)=TRUE,\"\",SUMIF('Nominatieve lijst'!$D$8:$D$10007,C496,'Nominatieve lijst'!$J$8:$J$10007))","v":""},{"$f":"IF(ISBLANK(Vrijwilligersregister!C496)=TRUE,\"\",D496+F496)","v":""},{"$f":"Vrijwilligersregister!L496","v":0}]
[null,491,{"$f":"IF(ISBLANK(Vrijwilligersregister!C497)=TRUE,\"\",Vrijwilligersregister!C497)","v":""},{"$f":"IF(ISBLANK(Vrijwilligersregister!C497)=TRUE,\"\",SUMIF('Nominatieve lijst'!$D$8:$D$10007,C497,'Nominatieve lijst'!$G$8:$G$10007))","v":""},{"$f":"IF(ISBLANK(Vrijwilligersregister!C497)=TRUE,\"\",SUMIF('Nominatieve lijst'!$D$8:$D$10007,C497,'Nominatieve lijst'!$H$8:$H$10007))","v":""},{"$f":"IF(ISBLANK(Vrijwilligersregister!C497)=TRUE,\"\",SUMIF('Nominatieve lijst'!$D$8:$D$10007,C497,'Nominatieve lijst'!$J$8:$J$10007))","v":""},{"$f":"IF(ISBLANK(Vrijwilligersregister!C497)=TRUE,\"\",D497+F497)","v":""},{"$f":"Vrijwilligersregister!L497","v":0}]
[null,492,{"$f":"IF(ISBLANK(Vrijwilligersregister!C498)=TRUE,\"\",Vrijwilligersregister!C498)","v":""},{"$f":"IF(ISBLANK(Vrijwilligersregister!C498)=TRUE,\"\",SUMIF('Nominatieve lijst'!$D$8:$D$10007,C498,'Nominatieve lijst'!$G$8:$G$10007))","v":""},{"$f":"IF(ISBLANK(Vrijwilligersregister!C498)=TRUE,\"\",SUMIF('Nominatieve lijst'!$D$8:$D$10007,C498,'Nominatieve lijst'!$H$8:$H$10007))","v":""},{"$f":"IF(ISBLANK(Vrijwilligersregister!C498)=TRUE,\"\",SUMIF('Nominatieve lijst'!$D$8:$D$10007,C498,'Nominatieve lijst'!$J$8:$J$10007))","v":""},{"$f":"IF(ISBLANK(Vrijwilligersregister!C498)=TRUE,\"\",D498+F498)","v":""},{"$f":"Vrijwilligersregister!L498","v":0}]
[null,493,{"$f":"IF(ISBLANK(Vrijwilligersregister!C499)=TRUE,\"\",Vrijwilligersregister!C499)","v":""},{"$f":"IF(ISBLANK(Vrijwilligersregister!C499)=TRUE,\"\",SUMIF('Nominatieve lijst'!$D$8:$D$10007,C499,'Nominatieve lijst'!$G$8:$G$10007))","v":""},{"$f":"IF(ISBLANK(Vrijwilligersregister!C499)=TRUE,\"\",SUMIF('Nominatieve lijst'!$D$8:$D$10007,C499,'Nominatieve lijst'!$H$8:$H$10007))","v":""},{"$f":"IF(ISBLANK(Vrijwilligersregister!C499)=TRUE,\"\",SUMIF('Nominatieve lijst'!$D$8:$D$10007,C499,'Nominatieve lijst'!$J$8:$J$10007))","v":""},{"$f":"IF(ISBLANK(Vrijwilligersregister!C499)=TRUE,\"\",D499+F499)","v":""},{"$f":"Vrijwilligersregister!L499","v":0}]
[null,494,{"$f":"IF(ISBLANK(Vrijwilligersregister!C500)=TRUE,\"\",Vrijwilligersregister!C500)","v":""},{"$f":"IF(ISBLANK(Vrijwilligersregister!C500)=TRUE,\"\",SUMIF('Nominatieve lijst'!$D$8:$D$10007,C500,'Nominatieve lijst'!$G$8:$G$10007))","v":""},{"$f":"IF(ISBLANK(Vrijwilligersregister!C500)=TRUE,\"\",SUMIF('Nominatieve lijst'!$D$8:$D$10007,C500,'Nominatieve lijst'!$H$8:$H$10007))","v":""},{"$f":"IF(ISBLANK(Vrijwilligersregister!C500)=TRUE,\"\",SUMIF('Nominatieve lijst'!$D$8:$D$10007,C500,'Nominatieve lijst'!$J$8:$J$10007))","v":""},{"$f":"IF(ISBLANK(Vrijwilligersregister!C500)=TRUE,\"\",D500+F500)","v":""},{"$f":"Vrijwilligersregister!L500","v":0}]
[null,495,{"$f":"IF(ISBLANK(Vrijwilligersregister!C501)=TRUE,\"\",Vrijwilligersregister!C501)","v":""},{"$f":"IF(ISBLANK(Vrijwilligersregister!C501)=TRUE,\"\",SUMIF('Nominatieve lijst'!$D$8:$D$10007,C501,'Nominatieve lijst'!$G$8:$G$10007))","v":""},{"$f":"IF(ISBLANK(Vrijwilligersregister!C501)=TRUE,\"\",SUMIF('Nominatieve lijst'!$D$8:$D$10007,C501,'Nominatieve lijst'!$H$8:$H$10007))","v":""},{"$f":"IF(ISBLANK(Vrijwilligersregister!C501)=TRUE,\"\",SUMIF('Nominatieve lijst'!$D$8:$D$10007,C501,'Nominatieve lijst'!$J$8:$J$10007))","v":""},{"$f":"IF(ISBLANK(Vrijwilligersregister!C501)=TRUE,\"\",D501+F501)","v":""},{"$f":"Vrijwilligersregister!L501","v":0}]
[null,496,{"$f":"IF(ISBLANK(Vrijwilligersregister!C502)=TRUE,\"\",Vrijwilligersregister!C502)","v":""},{"$f":"IF(ISBLANK(Vrijwilligersregister!C502)=TRUE,\"\",SUMIF('Nominatieve lijst'!$D$8:$D$10007,C502,'Nominatieve lijst'!$G$8:$G$10007))","v":""},{"$f":"IF(ISBLANK(Vrijwilligersregister!C502)=TRUE,\"\",SUMIF('Nominatieve lijst'!$D$8:$D$10007,C502,'Nominatieve lijst'!$H$8:$H$10007))","v":""},{"$f":"IF(ISBLANK(Vrijwilligersregister!C502)=TRUE,\"\",SUMIF('Nominatieve lijst'!$D$8:$D$10007,C502,'Nominatieve lijst'!$J$8:$J$10007))","v":""},{"$f":"IF(ISBLANK(Vrijwilligersregister!C502)=TRUE,\"\",D502+F502)","v":""},{"$f":"Vrijwilligersregister!L502","v":0}]
[null,497,{"$f":"IF(ISBLANK(Vrijwilligersregister!C503)=TRUE,\"\",Vrijwilligersregister!C503)","v":""},{"$f":"IF(ISBLANK(Vrijwilligersregister!C503)=TRUE,\"\",SUMIF('Nominatieve lijst'!$D$8:$D$10007,C503,'Nominatieve lijst'!$G$8:$G$10007))","v":""},{"$f":"IF(ISBLANK(Vrijwilligersregister!C503)=TRUE,\"\",SUMIF('Nominatieve lijst'!$D$8:$D$10007,C503,'Nominatieve lijst'!$H$8:$H$10007))","v":""},{"$f":"IF(ISBLANK(Vrijwilligersregister!C503)=TRUE,\"\",SUMIF('Nominatieve lijst'!$D$8:$D$10007,C503,'Nominatieve lijst'!$J$8:$J$10007))","v":""},{"$f":"IF(ISBLANK(Vrijwilligersregister!C503)=TRUE,\"\",D503+F503)","v":""},{"$f":"Vrijwilligersregister!L503","v":0}]
[null,498,{"$f":"IF(ISBLANK(Vrijwilligersregister!C504)=TRUE,\"\",Vrijwilligersregister!C504)","v":""},{"$f":"IF(ISBLANK(Vrijwilligersregister!C504)=TRUE,\"\",SUMIF('Nominatieve lijst'!$D$8:$D$10007,C504,'Nominatieve lijst'!$G$8:$G$10007))","v":""},{"$f":"IF(ISBLANK(Vrijwilligersregister!C504)=TRUE,\"\",SUMIF('Nominatieve lijst'!$D$8:$D$10007,C504,'Nominatieve lijst'!$H$8:$H$10007))","v":""},{"$f":"IF(ISBLANK(Vrijwilligersregister!C504)=TRUE,\"\",SUMIF('Nominatieve lijst'!$D$8:$D$10007,C504,'Nominatieve lijst'!$J$8:$J$10007))","v":""},{"$f":"IF(ISBLANK(Vrijwilligersregister!C504)=TRUE,\"\",D504+F504)","v":""},{"$f":"Vrijwilligersregister!L504","v":0}]
[null,499,{"$f":"IF(ISBLANK(Vrijwilligersregister!C505)=TRUE,\"\",Vrijwilligersregister!C505)","v":""},{"$f":"IF(ISBLANK(Vrijwilligersregister!C505)=TRUE,\"\",SUMIF('Nominatieve lijst'!$D$8:$D$10007,C505,'Nominatieve lijst'!$G$8:$G$10007))","v":""},{"$f":"IF(ISBLANK(Vrijwilligersregister!C505)=TRUE,\"\",SUMIF('Nominatieve lijst'!$D$8:$D$10007,C505,'Nominatieve lijst'!$H$8:$H$10007))","v":""},{"$f":"IF(ISBLANK(Vrijwilligersregister!C505)=TRUE,\"\",SUMIF('Nominatieve lijst'!$D$8:$D$10007,C505,'Nominatieve lijst'!$J$8:$J$10007))","v":""},{"$f":"IF(ISBLANK(Vrijwilligersregister!C505)=TRUE,\"\",D505+F505)","v":""},{"$f":"Vrijwilligersregister!L505","v":0}]
[null,500,{"$f":"IF(ISBLANK(Vrijwilligersregister!C506)=TRUE,\"\",Vrijwilligersregister!C506)","v":""},{"$f":"IF(ISBLANK(Vrijwilligersregister!C506)=TRUE,\"\",SUMIF('Nominatieve lijst'!$D$8:$D$10007,C506,'Nominatieve lijst'!$G$8:$G$10007))","v":""},{"$f":"IF(ISBLANK(Vrijwilligersregister!C506)=TRUE,\"\",SUMIF('Nominatieve lijst'!$D$8:$D$10007,C506,'Nominatieve lijst'!$H$8:$H$10007))","v":""},{"$f":"IF(ISBLANK(Vrijwilligersregister!C506)=TRUE,\"\",SUMIF('Nominatieve lijst'!$D$8:$D$10007,C506,'Nominatieve lijst'!$J$8:$J$10007))","v":""},{"$f":"IF(ISBLANK(Vrijwilligersregister!C506)=TRUE,\"\",D506+F506)","v":""},{"$f":"Vrijwilligersregister!L506","v":0}]
[null,501,{"$f":"IF(ISBLANK(Vrijwilligersregister!C507)=TRUE,\"\",Vrijwilligersregister!C507)","v":""},{"$f":"IF(ISBLANK(Vrijwilligersregister!C507)=TRUE,\"\",SUMIF('Nominatieve lijst'!$D$8:$D$10007,C507,'Nominatieve lijst'!$G$8:$G$10007))","v":""},{"$f":"IF(ISBLANK(Vrijwilligersregister!C507)=TRUE,\"\",SUMIF('Nominatieve lijst'!$D$8:$D$10007,C507,'Nominatieve lijst'!$H$8:$H$10007))","v":""},{"$f":"IF(ISBLANK(Vrijwilligersregister!C507)=TRUE,\"\",SUMIF('Nominatieve lijst'!$D$8:$D$10007,C507,'Nominatieve lijst'!$J$8:$J$10007))","v":""},{"$f":"IF(ISBLANK(Vrijwilligersregister!C507)=TRUE,\"\",D507+F507)","v":""},{"$f":"Vrijwilligersregister!L507","v":0}]
[null,502,{"$f":"IF(ISBLANK(Vrijwilligersregister!C508)=TRUE,\"\",Vrijwilligersregister!C508)","v":""},{"$f":"IF(ISBLANK(Vrijwilligersregister!C508)=TRUE,\"\",SUMIF('Nominatieve lijst'!$D$8:$D$10007,C508,'Nominatieve lijst'!$G$8:$G$10007))","v":""},{"$f":"IF(ISBLANK(Vrijwilligersregister!C508)=TRUE,\"\",SUMIF('Nominatieve lijst'!$D$8:$D$10007,C508,'Nominatieve lijst'!$H$8:$H$10007))","v":""},{"$f":"IF(ISBLANK(Vrijwilligersregister!C508)=TRUE,\"\",SUMIF('Nominatieve lijst'!$D$8:$D$10007,C508,'Nominatieve lijst'!$J$8:$J$10007))","v":""},{"$f":"IF(ISBLANK(Vrijwilligersregister!C508)=TRUE,\"\",D508+F508)","v":""},{"$f":"Vrijwilligersregister!L508","v":0}]
[null,503,{"$f":"IF(ISBLANK(Vrijwilligersregister!C509)=TRUE,\"\",Vrijwilligersregister!C509)","v":""},{"$f":"IF(ISBLANK(Vrijwilligersregister!C509)=TRUE,\"\",SUMIF('Nominatieve lijst'!$D$8:$D$10007,C509,'Nominatieve lijst'!$G$8:$G$10007))","v":""},{"$f":"IF(ISBLANK(Vrijwilligersregister!C509)=TRUE,\"\",SUMIF('Nominatieve lijst'!$D$8:$D$10007,C509,'Nominatieve lijst'!$H$8:$H$10007))","v":""},{"$f":"IF(ISBLANK(Vrijwilligersregister!C509)=TRUE,\"\",SUMIF('Nominatieve lijst'!$D$8:$D$10007,C509,'Nominatieve lijst'!$J$8:$J$10007))","v":""},{"$f":"IF(ISBLANK(Vrijwilligersregister!C509)=TRUE,\"\",D509+F509)","v":""},{"$f":"Vrijwilligersregister!L509","v":0}]
[null,504,{"$f":"IF(ISBLANK(Vrijwilligersregister!C510)=TRUE,\"\",Vrijwilligersregister!C510)","v":""},{"$f":"IF(ISBLANK(Vrijwilligersregister!C510)=TRUE,\"\",SUMIF('Nominatieve lijst'!$D$8:$D$10007,C510,'Nominatieve lijst'!$G$8:$G$10007))","v":""},{"$f":"IF(ISBLANK(Vrijwilligersregister!C510)=TRUE,\"\",SUMIF('Nominatieve lijst'!$D$8:$D$10007,C510,'Nominatieve lijst'!$H$8:$H$10007))","v":""},{"$f":"IF(ISBLANK(Vrijwilligersregister!C510)=TRUE,\"\",SUMIF('Nominatieve lijst'!$D$8:$D$10007,C510,'Nominatieve lijst'!$J$8:$J$10007))","v":""},{"$f":"IF(ISBLANK(Vrijwilligersregister!C510)=TRUE,\"\",D510+F510)","v":""},{"$f":"Vrijwilligersregister!L510","v":0}]
[null,505,{"$f":"IF(ISBLANK(Vrijwilligersregister!C511)=TRUE,\"\",Vrijwilligersregister!C511)","v":""},{"$f":"IF(ISBLANK(Vrijwilligersregister!C511)=TRUE,\"\",SUMIF('Nominatieve lijst'!$D$8:$D$10007,C511,'Nominatieve lijst'!$G$8:$G$10007))","v":""},{"$f":"IF(ISBLANK(Vrijwilligersregister!C511)=TRUE,\"\",SUMIF('Nominatieve lijst'!$D$8:$D$10007,C511,'Nominatieve lijst'!$H$8:$H$10007))","v":""},{"$f":"IF(ISBLANK(Vrijwilligersregister!C511)=TRUE,\"\",SUMIF('Nominatieve lijst'!$D$8:$D$10007,C511,'Nominatieve lijst'!$J$8:$J$10007))","v":""},{"$f":"IF(ISBLANK(Vrijwilligersregister!C511)=TRUE,\"\",D511+F511)","v":""},{"$f":"Vrijwilligersregister!L511","v":0}]
[null,506,{"$f":"IF(ISBLANK(Vrijwilligersregister!C512)=TRUE,\"\",Vrijwilligersregister!C512)","v":""},{"$f":"IF(ISBLANK(Vrijwilligersregister!C512)=TRUE,\"\",SUMIF('Nominatieve lijst'!$D$8:$D$10007,C512,'Nominatieve lijst'!$G$8:$G$10007))","v":""},{"$f":"IF(ISBLANK(Vrijwilligersregister!C512)=TRUE,\"\",SUMIF('Nominatieve lijst'!$D$8:$D$10007,C512,'Nominatieve lijst'!$H$8:$H$10007))","v":""},{"$f":"IF(ISBLANK(Vrijwilligersregister!C512)=TRUE,\"\",SUMIF('Nominatieve lijst'!$D$8:$D$10007,C512,'Nominatieve lijst'!$J$8:$J$10007))","v":""},{"$f":"IF(ISBLANK(Vrijwilligersregister!C512)=TRUE,\"\",D512+F512)","v":""},{"$f":"Vrijwilligersregister!L512","v":0}]
[null,507,{"$f":"IF(ISBLANK(Vrijwilligersregister!C513)=TRUE,\"\",Vrijwilligersregister!C513)","v":""},{"$f":"IF(ISBLANK(Vrijwilligersregister!C513)=TRUE,\"\",SUMIF('Nominatieve lijst'!$D$8:$D$10007,C513,'Nominatieve lijst'!$G$8:$G$10007))","v":""},{"$f":"IF(ISBLANK(Vrijwilligersregister!C513)=TRUE,\"\",SUMIF('Nominatieve lijst'!$D$8:$D$10007,C513,'Nominatieve lijst'!$H$8:$H$10007))","v":""},{"$f":"IF(ISBLANK(Vrijwilligersregister!C513)=TRUE,\"\",SUMIF('Nominatieve lijst'!$D$8:$D$10007,C513,'Nominatieve lijst'!$J$8:$J$10007))","v":""},{"$f":"IF(ISBLANK(Vrijwilligersregister!C513)=TRUE,\"\",D513+F513)","v":""},{"$f":"Vrijwilligersregister!L513","v":0}]
[null,508,{"$f":"IF(ISBLANK(Vrijwilligersregister!C514)=TRUE,\"\",Vrijwilligersregister!C514)","v":""},{"$f":"IF(ISBLANK(Vrijwilligersregister!C514)=TRUE,\"\",SUMIF('Nominatieve lijst'!$D$8:$D$10007,C514,'Nominatieve lijst'!$G$8:$G$10007))","v":""},{"$f":"IF(ISBLANK(Vrijwilligersregister!C514)=TRUE,\"\",SUMIF('Nominatieve lijst'!$D$8:$D$10007,C514,'Nominatieve lijst'!$H$8:$H$10007))","v":""},{"$f":"IF(ISBLANK(Vrijwilligersregister!C514)=TRUE,\"\",SUMIF('Nominatieve lijst'!$D$8:$D$10007,C514,'Nominatieve lijst'!$J$8:$J$10007))","v":""},{"$f":"IF(ISBLANK(Vrijwilligersregister!C514)=TRUE,\"\",D514+F514)","v":""},{"$f":"Vrijwilligersregister!L514","v":0}]
[null,509,{"$f":"IF(ISBLANK(Vrijwilligersregister!C515)=TRUE,\"\",Vrijwilligersregister!C515)","v":""},{"$f":"IF(ISBLANK(Vrijwilligersregister!C515)=TRUE,\"\",SUMIF('Nominatieve lijst'!$D$8:$D$10007,C515,'Nominatieve lijst'!$G$8:$G$10007))","v":""},{"$f":"IF(ISBLANK(Vrijwilligersregister!C515)=TRUE,\"\",SUMIF('Nominatieve lijst'!$D$8:$D$10007,C515,'Nominatieve lijst'!$H$8:$H$10007))","v":""},{"$f":"IF(ISBLANK(Vrijwilligersregister!C515)=TRUE,\"\",SUMIF('Nominatieve lijst'!$D$8:$D$10007,C515,'Nominatieve lijst'!$J$8:$J$10007))","v":""},{"$f":"IF(ISBLANK(Vrijwilligersregister!C515)=TRUE,\"\",D515+F515)","v":""},{"$f":"Vrijwilligersregister!L515","v":0}]
[null,510,{"$f":"IF(ISBLANK(Vrijwilligersregister!C516)=TRUE,\"\",Vrijwilligersregister!C516)","v":""},{"$f":"IF(ISBLANK(Vrijwilligersregister!C516)=TRUE,\"\",SUMIF('Nominatieve lijst'!$D$8:$D$10007,C516,'Nominatieve lijst'!$G$8:$G$10007))","v":""},{"$f":"IF(ISBLANK(Vrijwilligersregister!C516)=TRUE,\"\",SUMIF('Nominatieve lijst'!$D$8:$D$10007,C516,'Nominatieve lijst'!$H$8:$H$10007))","v":""},{"$f":"IF(ISBLANK(Vrijwilligersregister!C516)=TRUE,\"\",SUMIF('Nominatieve lijst'!$D$8:$D$10007,C516,'Nominatieve lijst'!$J$8:$J$10007))","v":""},{"$f":"IF(ISBLANK(Vrijwilligersregister!C516)=TRUE,\"\",D516+F516)","v":""},{"$f":"Vrijwilligersregister!L516","v":0}]
[null,511,{"$f":"IF(ISBLANK(Vrijwilligersregister!C517)=TRUE,\"\",Vrijwilligersregister!C517)","v":""},{"$f":"IF(ISBLANK(Vrijwilligersregister!C517)=TRUE,\"\",SUMIF('Nominatieve lijst'!$D$8:$D$10007,C517,'Nominatieve lijst'!$G$8:$G$10007))","v":""},{"$f":"IF(ISBLANK(Vrijwilligersregister!C517)=TRUE,\"\",SUMIF('Nominatieve lijst'!$D$8:$D$10007,C517,'Nominatieve lijst'!$H$8:$H$10007))","v":""},{"$f":"IF(ISBLANK(Vrijwilligersregister!C517)=TRUE,\"\",SUMIF('Nominatieve lijst'!$D$8:$D$10007,C517,'Nominatieve lijst'!$J$8:$J$10007))","v":""},{"$f":"IF(ISBLANK(Vrijwilligersregister!C517)=TRUE,\"\",D517+F517)","v":""},{"$f":"Vrijwilligersregister!L517","v":0}]
[null,512,{"$f":"IF(ISBLANK(Vrijwilligersregister!C518)=TRUE,\"\",Vrijwilligersregister!C518)","v":""},{"$f":"IF(ISBLANK(Vrijwilligersregister!C518)=TRUE,\"\",SUMIF('Nominatieve lijst'!$D$8:$D$10007,C518,'Nominatieve lijst'!$G$8:$G$10007))","v":""},{"$f":"IF(ISBLANK(Vrijwilligersregister!C518)=TRUE,\"\",SUMIF('Nominatieve lijst'!$D$8:$D$10007,C518,'Nominatieve lijst'!$H$8:$H$10007))","v":""},{"$f":"IF(ISBLANK(Vrijwilligersregister!C518)=TRUE,\"\",SUMIF('Nominatieve lijst'!$D$8:$D$10007,C518,'Nominatieve lijst'!$J$8:$J$10007))","v":""},{"$f":"IF(ISBLANK(Vrijwilligersregister!C518)=TRUE,\"\",D518+F518)","v":""},{"$f":"Vrijwilligersregister!L518","v":0}]
[null,513,{"$f":"IF(ISBLANK(Vrijwilligersregister!C519)=TRUE,\"\",Vrijwilligersregister!C519)","v":""},{"$f":"IF(ISBLANK(Vrijwilligersregister!C519)=TRUE,\"\",SUMIF('Nominatieve lijst'!$D$8:$D$10007,C519,'Nominatieve lijst'!$G$8:$G$10007))","v":""},{"$f":"IF(ISBLANK(Vrijwilligersregister!C519)=TRUE,\"\",SUMIF('Nominatieve lijst'!$D$8:$D$10007,C519,'Nominatieve lijst'!$H$8:$H$10007))","v":""},{"$f":"IF(ISBLANK(Vrijwilligersregister!C519)=TRUE,\"\",SUMIF('Nominatieve lijst'!$D$8:$D$10007,C519,'Nominatieve lijst'!$J$8:$J$10007))","v":""},{"$f":"IF(ISBLANK(Vrijwilligersregister!C519)=TRUE,\"\",D519+F519)","v":""},{"$f":"Vrijwilligersregister!L519","v":0}]
[null,514,{"$f":"IF(ISBLANK(Vrijwilligersregister!C520)=TRUE,\"\",Vrijwilligersregister!C520)","v":""},{"$f":"IF(ISBLANK(Vrijwilligersregister!C520)=TRUE,\"\",SUMIF('Nominatieve lijst'!$D$8:$D$10007,C520,'Nominatieve lijst'!$G$8:$G$10007))","v":""},{"$f":"IF(ISBLANK(Vrijwilligersregister!C520)=TRUE,\"\",SUMIF('Nominatieve lijst'!$D$8:$D$10007,C520,'Nominatieve lijst'!$H$8:$H$10007))","v":""},{"$f":"IF(ISBLANK(Vrijwilligersregister!C520)=TRUE,\"\",SUMIF('Nominatieve lijst'!$D$8:$D$10007,C520,'Nominatieve lijst'!$J$8:$J$10007))","v":""},{"$f":"IF(ISBLANK(Vrijwilligersregister!C520)=TRUE,\"\",D520+F520)","v":""},{"$f":"Vrijwilligersregister!L520","v":0}]
[null,515,{"$f":"IF(ISBLANK(Vrijwilligersregister!C521)=TRUE,\"\",Vrijwilligersregister!C521)","v":""},{"$f":"IF(ISBLANK(Vrijwilligersregister!C521)=TRUE,\"\",SUMIF('Nominatieve lijst'!$D$8:$D$10007,C521,'Nominatieve lijst'!$G$8:$G$10007))","v":""},{"$f":"IF(ISBLANK(Vrijwilligersregister!C521)=TRUE,\"\",SUMIF('Nominatieve lijst'!$D$8:$D$10007,C521,'Nominatieve lijst'!$H$8:$H$10007))","v":""},{"$f":"IF(ISBLANK(Vrijwilligersregister!C521)=TRUE,\"\",SUMIF('Nominatieve lijst'!$D$8:$D$10007,C521,'Nominatieve lijst'!$J$8:$J$10007))","v":""},{"$f":"IF(ISBLANK(Vrijwilligersregister!C521)=TRUE,\"\",D521+F521)","v":""},{"$f":"Vrijwilligersregister!L521","v":0}]
[null,516,{"$f":"IF(ISBLANK(Vrijwilligersregister!C522)=TRUE,\"\",Vrijwilligersregister!C522)","v":""},{"$f":"IF(ISBLANK(Vrijwilligersregister!C522)=TRUE,\"\",SUMIF('Nominatieve lijst'!$D$8:$D$10007,C522,'Nominatieve lijst'!$G$8:$G$10007))","v":""},{"$f":"IF(ISBLANK(Vrijwilligersregister!C522)=TRUE,\"\",SUMIF('Nominatieve lijst'!$D$8:$D$10007,C522,'Nominatieve lijst'!$H$8:$H$10007))","v":""},{"$f":"IF(ISBLANK(Vrijwilligersregister!C522)=TRUE,\"\",SUMIF('Nominatieve lijst'!$D$8:$D$10007,C522,'Nominatieve lijst'!$J$8:$J$10007))","v":""},{"$f":"IF(ISBLANK(Vrijwilligersregister!C522)=TRUE,\"\",D522+F522)","v":""},{"$f":"Vrijwilligersregister!L522","v":0}]
[null,517,{"$f":"IF(ISBLANK(Vrijwilligersregister!C523)=TRUE,\"\",Vrijwilligersregister!C523)","v":""},{"$f":"IF(ISBLANK(Vrijwilligersregister!C523)=TRUE,\"\",SUMIF('Nominatieve lijst'!$D$8:$D$10007,C523,'Nominatieve lijst'!$G$8:$G$10007))","v":""},{"$f":"IF(ISBLANK(Vrijwilligersregister!C523)=TRUE,\"\",SUMIF('Nominatieve lijst'!$D$8:$D$10007,C523,'Nominatieve lijst'!$H$8:$H$10007))","v":""},{"$f":"IF(ISBLANK(Vrijwilligersregister!C523)=TRUE,\"\",SUMIF('Nominatieve lijst'!$D$8:$D$10007,C523,'Nominatieve lijst'!$J$8:$J$10007))","v":""},{"$f":"IF(ISBLANK(Vrijwilligersregister!C523)=TRUE,\"\",D523+F523)","v":""},{"$f":"Vrijwilligersregister!L523","v":0}]
[null,518,{"$f":"IF(ISBLANK(Vrijwilligersregister!C524)=TRUE,\"\",Vrijwilligersregister!C524)","v":""},{"$f":"IF(ISBLANK(Vrijwilligersregister!C524)=TRUE,\"\",SUMIF('Nominatieve lijst'!$D$8:$D$10007,C524,'Nominatieve lijst'!$G$8:$G$10007))","v":""},{"$f":"IF(ISBLANK(Vrijwilligersregister!C524)=TRUE,\"\",SUMIF('Nominatieve lijst'!$D$8:$D$10007,C524,'Nominatieve lijst'!$H$8:$H$10007))","v":""},{"$f":"IF(ISBLANK(Vrijwilligersregister!C524)=TRUE,\"\",SUMIF('Nominatieve lijst'!$D$8:$D$10007,C524,'Nominatieve lijst'!$J$8:$J$10007))","v":""},{"$f":"IF(ISBLANK(Vrijwilligersregister!C524)=TRUE,\"\",D524+F524)","v":""},{"$f":"Vrijwilligersregister!L524","v":0}]
[null,519,{"$f":"IF(ISBLANK(Vrijwilligersregister!C525)=TRUE,\"\",Vrijwilligersregister!C525)","v":""},{"$f":"IF(ISBLANK(Vrijwilligersregister!C525)=TRUE,\"\",SUMIF('Nominatieve lijst'!$D$8:$D$10007,C525,'Nominatieve lijst'!$G$8:$G$10007))","v":""},{"$f":"IF(ISBLANK(Vrijwilligersregister!C525)=TRUE,\"\",SUMIF('Nominatieve lijst'!$D$8:$D$10007,C525,'Nominatieve lijst'!$H$8:$H$10007))","v":""},{"$f":"IF(ISBLANK(Vrijwilligersregister!C525)=TRUE,\"\",SUMIF('Nominatieve lijst'!$D$8:$D$10007,C525,'Nominatieve lijst'!$J$8:$J$10007))","v":""},{"$f":"IF(ISBLANK(Vrijwilligersregister!C525)=TRUE,\"\",D525+F525)","v":""},{"$f":"Vrijwilligersregister!L525","v":0}]
[null,520,{"$f":"IF(ISBLANK(Vrijwilligersregister!C526)=TRUE,\"\",Vrijwilligersregister!C526)","v":""},{"$f":"IF(ISBLANK(Vrijwilligersregister!C526)=TRUE,\"\",SUMIF('Nominatieve lijst'!$D$8:$D$10007,C526,'Nominatieve lijst'!$G$8:$G$10007))","v":""},{"$f":"IF(ISBLANK(Vrijwilligersregister!C526)=TRUE,\"\",SUMIF('Nominatieve lijst'!$D$8:$D$10007,C526,'Nominatieve lijst'!$H$8:$H$10007))","v":""},{"$f":"IF(ISBLANK(Vrijwilligersregister!C526)=TRUE,\"\",SUMIF('Nominatieve lijst'!$D$8:$D$10007,C526,'Nominatieve lijst'!$J$8:$J$10007))","v":""},{"$f":"IF(ISBLANK(Vrijwilligersregister!C526)=TRUE,\"\",D526+F526)","v":""},{"$f":"Vrijwilligersregister!L526","v":0}]
[null,521,{"$f":"IF(ISBLANK(Vrijwilligersregister!C527)=TRUE,\"\",Vrijwilligersregister!C527)","v":""},{"$f":"IF(ISBLANK(Vrijwilligersregister!C527)=TRUE,\"\",SUMIF('Nominatieve lijst'!$D$8:$D$10007,C527,'Nominatieve lijst'!$G$8:$G$10007))","v":""},{"$f":"IF(ISBLANK(Vrijwilligersregister!C527)=TRUE,\"\",SUMIF('Nominatieve lijst'!$D$8:$D$10007,C527,'Nominatieve lijst'!$H$8:$H$10007))","v":""},{"$f":"IF(ISBLANK(Vrijwilligersregister!C527)=TRUE,\"\",SUMIF('Nominatieve lijst'!$D$8:$D$10007,C527,'Nominatieve lijst'!$J$8:$J$10007))","v":""},{"$f":"IF(ISBLANK(Vrijwilligersregister!C527)=TRUE,\"\",D527+F527)","v":""},{"$f":"Vrijwilligersregister!L527","v":0}]
[null,522,{"$f":"IF(ISBLANK(Vrijwilligersregister!C528)=TRUE,\"\",Vrijwilligersregister!C528)","v":""},{"$f":"IF(ISBLANK(Vrijwilligersregister!C528)=TRUE,\"\",SUMIF('Nominatieve lijst'!$D$8:$D$10007,C528,'Nominatieve lijst'!$G$8:$G$10007))","v":""},{"$f":"IF(ISBLANK(Vrijwilligersregister!C528)=TRUE,\"\",SUMIF('Nominatieve lijst'!$D$8:$D$10007,C528,'Nominatieve lijst'!$H$8:$H$10007))","v":""},{"$f":"IF(ISBLANK(Vrijwilligersregister!C528)=TRUE,\"\",SUMIF('Nominatieve lijst'!$D$8:$D$10007,C528,'Nominatieve lijst'!$J$8:$J$10007))","v":""},{"$f":"IF(ISBLANK(Vrijwilligersregister!C528)=TRUE,\"\",D528+F528)","v":""},{"$f":"Vrijwilligersregister!L528","v":0}]
[null,523,{"$f":"IF(ISBLANK(Vrijwilligersregister!C529)=TRUE,\"\",Vrijwilligersregister!C529)","v":""},{"$f":"IF(ISBLANK(Vrijwilligersregister!C529)=TRUE,\"\",SUMIF('Nominatieve lijst'!$D$8:$D$10007,C529,'Nominatieve lijst'!$G$8:$G$10007))","v":""},{"$f":"IF(ISBLANK(Vrijwilligersregister!C529)=TRUE,\"\",SUMIF('Nominatieve lijst'!$D$8:$D$10007,C529,'Nominatieve lijst'!$H$8:$H$10007))","v":""},{"$f":"IF(ISBLANK(Vrijwilligersregister!C529)=TRUE,\"\",SUMIF('Nominatieve lijst'!$D$8:$D$10007,C529,'Nominatieve lijst'!$J$8:$J$10007))","v":""},{"$f":"IF(ISBLANK(Vrijwilligersregister!C529)=TRUE,\"\",D529+F529)","v":""},{"$f":"Vrijwilligersregister!L529","v":0}]
[null,524,{"$f":"IF(ISBLANK(Vrijwilligersregister!C530)=TRUE,\"\",Vrijwilligersregister!C530)","v":""},{"$f":"IF(ISBLANK(Vrijwilligersregister!C530)=TRUE,\"\",SUMIF('Nominatieve lijst'!$D$8:$D$10007,C530,'Nominatieve lijst'!$G$8:$G$10007))","v":""},{"$f":"IF(ISBLANK(Vrijwilligersregister!C530)=TRUE,\"\",SUMIF('Nominatieve lijst'!$D$8:$D$10007,C530,'Nominatieve lijst'!$H$8:$H$10007))","v":""},{"$f":"IF(ISBLANK(Vrijwilligersregister!C530)=TRUE,\"\",SUMIF('Nominatieve lijst'!$D$8:$D$10007,C530,'Nominatieve lijst'!$J$8:$J$10007))","v":""},{"$f":"IF(ISBLANK(Vrijwilligersregister!C530)=TRUE,\"\",D530+F530)","v":""},{"$f":"Vrijwilligersregister!L530","v":0}]
[null,525,{"$f":"IF(ISBLANK(Vrijwilligersregister!C531)=TRUE,\"\",Vrijwilligersregister!C531)","v":""},{"$f":"IF(ISBLANK(Vrijwilligersregister!C531)=TRUE,\"\",SUMIF('Nominatieve lijst'!$D$8:$D$10007,C531,'Nominatieve lijst'!$G$8:$G$10007))","v":""},{"$f":"IF(ISBLANK(Vrijwilligersregister!C531)=TRUE,\"\",SUMIF('Nominatieve lijst'!$D$8:$D$10007,C531,'Nominatieve lijst'!$H$8:$H$10007))","v":""},{"$f":"IF(ISBLANK(Vrijwilligersregister!C531)=TRUE,\"\",SUMIF('Nominatieve lijst'!$D$8:$D$10007,C531,'Nominatieve lijst'!$J$8:$J$10007))","v":""},{"$f":"IF(ISBLANK(Vrijwilligersregister!C531)=TRUE,\"\",D531+F531)","v":""},{"$f":"Vrijwilligersregister!L531","v":0}]
[null,526,{"$f":"IF(ISBLANK(Vrijwilligersregister!C532)=TRUE,\"\",Vrijwilligersregister!C532)","v":""},{"$f":"IF(ISBLANK(Vrijwilligersregister!C532)=TRUE,\"\",SUMIF('Nominatieve lijst'!$D$8:$D$10007,C532,'Nominatieve lijst'!$G$8:$G$10007))","v":""},{"$f":"IF(ISBLANK(Vrijwilligersregister!C532)=TRUE,\"\",SUMIF('Nominatieve lijst'!$D$8:$D$10007,C532,'Nominatieve lijst'!$H$8:$H$10007))","v":""},{"$f":"IF(ISBLANK(Vrijwilligersregister!C532)=TRUE,\"\",SUMIF('Nominatieve lijst'!$D$8:$D$10007,C532,'Nominatieve lijst'!$J$8:$J$10007))","v":""},{"$f":"IF(ISBLANK(Vrijwilligersregister!C532)=TRUE,\"\",D532+F532)","v":""},{"$f":"Vrijwilligersregister!L532","v":0}]
[null,527,{"$f":"IF(ISBLANK(Vrijwilligersregister!C533)=TRUE,\"\",Vrijwilligersregister!C533)","v":""},{"$f":"IF(ISBLANK(Vrijwilligersregister!C533)=TRUE,\"\",SUMIF('Nominatieve lijst'!$D$8:$D$10007,C533,'Nominatieve lijst'!$G$8:$G$10007))","v":""},{"$f":"IF(ISBLANK(Vrijwilligersregister!C533)=TRUE,\"\",SUMIF('Nominatieve lijst'!$D$8:$D$10007,C533,'Nominatieve lijst'!$H$8:$H$10007))","v":""},{"$f":"IF(ISBLANK(Vrijwilligersregister!C533)=TRUE,\"\",SUMIF('Nominatieve lijst'!$D$8:$D$10007,C533,'Nominatieve lijst'!$J$8:$J$10007))","v":""},{"$f":"IF(ISBLANK(Vrijwilligersregister!C533)=TRUE,\"\",D533+F533)","v":""},{"$f":"Vrijwilligersregister!L533","v":0}]
[null,528,{"$f":"IF(ISBLANK(Vrijwilligersregister!C534)=TRUE,\"\",Vrijwilligersregister!C534)","v":""},{"$f":"IF(ISBLANK(Vrijwilligersregister!C534)=TRUE,\"\",SUMIF('Nominatieve lijst'!$D$8:$D$10007,C534,'Nominatieve lijst'!$G$8:$G$10007))","v":""},{"$f":"IF(ISBLANK(Vrijwilligersregister!C534)=TRUE,\"\",SUMIF('Nominatieve lijst'!$D$8:$D$10007,C534,'Nominatieve lijst'!$H$8:$H$10007))","v":""},{"$f":"IF(ISBLANK(Vrijwilligersregister!C534)=TRUE,\"\",SUMIF('Nominatieve lijst'!$D$8:$D$10007,C534,'Nominatieve lijst'!$J$8:$J$10007))","v":""},{"$f":"IF(ISBLANK(Vrijwilligersregister!C534)=TRUE,\"\",D534+F534)","v":""},{"$f":"Vrijwilligersregister!L534","v":0}]
[null,529,{"$f":"IF(ISBLANK(Vrijwilligersregister!C535)=TRUE,\"\",Vrijwilligersregister!C535)","v":""},{"$f":"IF(ISBLANK(Vrijwilligersregister!C535)=TRUE,\"\",SUMIF('Nominatieve lijst'!$D$8:$D$10007,C535,'Nominatieve lijst'!$G$8:$G$10007))","v":""},{"$f":"IF(ISBLANK(Vrijwilligersregister!C535)=TRUE,\"\",SUMIF('Nominatieve lijst'!$D$8:$D$10007,C535,'Nominatieve lijst'!$H$8:$H$10007))","v":""},{"$f":"IF(ISBLANK(Vrijwilligersregister!C535)=TRUE,\"\",SUMIF('Nominatieve lijst'!$D$8:$D$10007,C535,'Nominatieve lijst'!$J$8:$J$10007))","v":""},{"$f":"IF(ISBLANK(Vrijwilligersregister!C535)=TRUE,\"\",D535+F535)","v":""},{"$f":"Vrijwilligersregister!L535","v":0}]
[null,530,{"$f":"IF(ISBLANK(Vrijwilligersregister!C536)=TRUE,\"\",Vrijwilligersregister!C536)","v":""},{"$f":"IF(ISBLANK(Vrijwilligersregister!C536)=TRUE,\"\",SUMIF('Nominatieve lijst'!$D$8:$D$10007,C536,'Nominatieve lijst'!$G$8:$G$10007))","v":""},{"$f":"IF(ISBLANK(Vrijwilligersregister!C536)=TRUE,\"\",SUMIF('Nominatieve lijst'!$D$8:$D$10007,C536,'Nominatieve lijst'!$H$8:$H$10007))","v":""},{"$f":"IF(ISBLANK(Vrijwilligersregister!C536)=TRUE,\"\",SUMIF('Nominatieve lijst'!$D$8:$D$10007,C536,'Nominatieve lijst'!$J$8:$J$10007))","v":""},{"$f":"IF(ISBLANK(Vrijwilligersregister!C536)=TRUE,\"\",D536+F536)","v":""},{"$f":"Vrijwilligersregister!L536","v":0}]
[null,531,{"$f":"IF(ISBLANK(Vrijwilligersregister!C537)=TRUE,\"\",Vrijwilligersregister!C537)","v":""},{"$f":"IF(ISBLANK(Vrijwilligersregister!C537)=TRUE,\"\",SUMIF('Nominatieve lijst'!$D$8:$D$10007,C537,'Nominatieve lijst'!$G$8:$G$10007))","v":""},{"$f":"IF(ISBLANK(Vrijwilligersregister!C537)=TRUE,\"\",SUMIF('Nominatieve lijst'!$D$8:$D$10007,C537,'Nominatieve lijst'!$H$8:$H$10007))","v":""},{"$f":"IF(ISBLANK(Vrijwilligersregister!C537)=TRUE,\"\",SUMIF('Nominatieve lijst'!$D$8:$D$10007,C537,'Nominatieve lijst'!$J$8:$J$10007))","v":""},{"$f":"IF(ISBLANK(Vrijwilligersregister!C537)=TRUE,\"\",D537+F537)","v":""},{"$f":"Vrijwilligersregister!L537","v":0}]
[null,532,{"$f":"IF(ISBLANK(Vrijwilligersregister!C538)=TRUE,\"\",Vrijwilligersregister!C538)","v":""},{"$f":"IF(ISBLANK(Vrijwilligersregister!C538)=TRUE,\"\",SUMIF('Nominatieve lijst'!$D$8:$D$10007,C538,'Nominatieve lijst'!$G$8:$G$10007))","v":""},{"$f":"IF(ISBLANK(Vrijwilligersregister!C538)=TRUE,\"\",SUMIF('Nominatieve lijst'!$D$8:$D$10007,C538,'Nominatieve lijst'!$H$8:$H$10007))","v":""},{"$f":"IF(ISBLANK(Vrijwilligersregister!C538)=TRUE,\"\",SUMIF('Nominatieve lijst'!$D$8:$D$10007,C538,'Nominatieve lijst'!$J$8:$J$10007))","v":""},{"$f":"IF(ISBLANK(Vrijwilligersregister!C538)=TRUE,\"\",D538+F538)","v":""},{"$f":"Vrijwilligersregister!L538","v":0}]
[null,533,{"$f":"IF(ISBLANK(Vrijwilligersregister!C539)=TRUE,\"\",Vrijwilligersregister!C539)","v":""},{"$f":"IF(ISBLANK(Vrijwilligersregister!C539)=TRUE,\"\",SUMIF('Nominatieve lijst'!$D$8:$D$10007,C539,'Nominatieve lijst'!$G$8:$G$10007))","v":""},{"$f":"IF(ISBLANK(Vrijwilligersregister!C539)=TRUE,\"\",SUMIF('Nominatieve lijst'!$D$8:$D$10007,C539,'Nominatieve lijst'!$H$8:$H$10007))","v":""},{"$f":"IF(ISBLANK(Vrijwilligersregister!C539)=TRUE,\"\",SUMIF('Nominatieve lijst'!$D$8:$D$10007,C539,'Nominatieve lijst'!$J$8:$J$10007))","v":""},{"$f":"IF(ISBLANK(Vrijwilligersregister!C539)=TRUE,\"\",D539+F539)","v":""},{"$f":"Vrijwilligersregister!L539","v":0}]
[null,534,{"$f":"IF(ISBLANK(Vrijwilligersregister!C540)=TRUE,\"\",Vrijwilligersregister!C540)","v":""},{"$f":"IF(ISBLANK(Vrijwilligersregister!C540)=TRUE,\"\",SUMIF('Nominatieve lijst'!$D$8:$D$10007,C540,'Nominatieve lijst'!$G$8:$G$10007))","v":""},{"$f":"IF(ISBLANK(Vrijwilligersregister!C540)=TRUE,\"\",SUMIF('Nominatieve lijst'!$D$8:$D$10007,C540,'Nominatieve lijst'!$H$8:$H$10007))","v":""},{"$f":"IF(ISBLANK(Vrijwilligersregister!C540)=TRUE,\"\",SUMIF('Nominatieve lijst'!$D$8:$D$10007,C540,'Nominatieve lijst'!$J$8:$J$10007))","v":""},{"$f":"IF(ISBLANK(Vrijwilligersregister!C540)=TRUE,\"\",D540+F540)","v":""},{"$f":"Vrijwilligersregister!L540","v":0}]
[null,535,{"$f":"IF(ISBLANK(Vrijwilligersregister!C541)=TRUE,\"\",Vrijwilligersregister!C541)","v":""},{"$f":"IF(ISBLANK(Vrijwilligersregister!C541)=TRUE,\"\",SUMIF('Nominatieve lijst'!$D$8:$D$10007,C541,'Nominatieve lijst'!$G$8:$G$10007))","v":""},{"$f":"IF(ISBLANK(Vrijwilligersregister!C541)=TRUE,\"\",SUMIF('Nominatieve lijst'!$D$8:$D$10007,C541,'Nominatieve lijst'!$H$8:$H$10007))","v":""},{"$f":"IF(ISBLANK(Vrijwilligersregister!C541)=TRUE,\"\",SUMIF('Nominatieve lijst'!$D$8:$D$10007,C541,'Nominatieve lijst'!$J$8:$J$10007))","v":""},{"$f":"IF(ISBLANK(Vrijwilligersregister!C541)=TRUE,\"\",D541+F541)","v":""},{"$f":"Vrijwilligersregister!L541","v":0}]
[null,536,{"$f":"IF(ISBLANK(Vrijwilligersregister!C542)=TRUE,\"\",Vrijwilligersregister!C542)","v":""},{"$f":"IF(ISBLANK(Vrijwilligersregister!C542)=TRUE,\"\",SUMIF('Nominatieve lijst'!$D$8:$D$10007,C542,'Nominatieve lijst'!$G$8:$G$10007))","v":""},{"$f":"IF(ISBLANK(Vrijwilligersregister!C542)=TRUE,\"\",SUMIF('Nominatieve lijst'!$D$8:$D$10007,C542,'Nominatieve lijst'!$H$8:$H$10007))","v":""},{"$f":"IF(ISBLANK(Vrijwilligersregister!C542)=TRUE,\"\",SUMIF('Nominatieve lijst'!$D$8:$D$10007,C542,'Nominatieve lijst'!$J$8:$J$10007))","v":""},{"$f":"IF(ISBLANK(Vrijwilligersregister!C542)=TRUE,\"\",D542+F542)","v":""},{"$f":"Vrijwilligersregister!L542","v":0}]
[null,537,{"$f":"IF(ISBLANK(Vrijwilligersregister!C543)=TRUE,\"\",Vrijwilligersregister!C543)","v":""},{"$f":"IF(ISBLANK(Vrijwilligersregister!C543)=TRUE,\"\",SUMIF('Nominatieve lijst'!$D$8:$D$10007,C543,'Nominatieve lijst'!$G$8:$G$10007))","v":""},{"$f":"IF(ISBLANK(Vrijwilligersregister!C543)=TRUE,\"\",SUMIF('Nominatieve lijst'!$D$8:$D$10007,C543,'Nominatieve lijst'!$H$8:$H$10007))","v":""},{"$f":"IF(ISBLANK(Vrijwilligersregister!C543)=TRUE,\"\",SUMIF('Nominatieve lijst'!$D$8:$D$10007,C543,'Nominatieve lijst'!$J$8:$J$10007))","v":""},{"$f":"IF(ISBLANK(Vrijwilligersregister!C543)=TRUE,\"\",D543+F543)","v":""},{"$f":"Vrijwilligersregister!L543","v":0}]
[null,538,{"$f":"IF(ISBLANK(Vrijwilligersregister!C544)=TRUE,\"\",Vrijwilligersregister!C544)","v":""},{"$f":"IF(ISBLANK(Vrijwilligersregister!C544)=TRUE,\"\",SUMIF('Nominatieve lijst'!$D$8:$D$10007,C544,'Nominatieve lijst'!$G$8:$G$10007))","v":""},{"$f":"IF(ISBLANK(Vrijwilligersregister!C544)=TRUE,\"\",SUMIF('Nominatieve lijst'!$D$8:$D$10007,C544,'Nominatieve lijst'!$H$8:$H$10007))","v":""},{"$f":"IF(ISBLANK(Vrijwilligersregister!C544)=TRUE,\"\",SUMIF('Nominatieve lijst'!$D$8:$D$10007,C544,'Nominatieve lijst'!$J$8:$J$10007))","v":""},{"$f":"IF(ISBLANK(Vrijwilligersregister!C544)=TRUE,\"\",D544+F544)","v":""},{"$f":"Vrijwilligersregister!L544","v":0}]
[null,539,{"$f":"IF(ISBLANK(Vrijwilligersregister!C545)=TRUE,\"\",Vrijwilligersregister!C545)","v":""},{"$f":"IF(ISBLANK(Vrijwilligersregister!C545)=TRUE,\"\",SUMIF('Nominatieve lijst'!$D$8:$D$10007,C545,'Nominatieve lijst'!$G$8:$G$10007))","v":""},{"$f":"IF(ISBLANK(Vrijwilligersregister!C545)=TRUE,\"\",SUMIF('Nominatieve lijst'!$D$8:$D$10007,C545,'Nominatieve lijst'!$H$8:$H$10007))","v":""},{"$f":"IF(ISBLANK(Vrijwilligersregister!C545)=TRUE,\"\",SUMIF('Nominatieve lijst'!$D$8:$D$10007,C545,'Nominatieve lijst'!$J$8:$J$10007))","v":""},{"$f":"IF(ISBLANK(Vrijwilligersregister!C545)=TRUE,\"\",D545+F545)","v":""},{"$f":"Vrijwilligersregister!L545","v":0}]
[null,540,{"$f":"IF(ISBLANK(Vrijwilligersregister!C546)=TRUE,\"\",Vrijwilligersregister!C546)","v":""},{"$f":"IF(ISBLANK(Vrijwilligersregister!C546)=TRUE,\"\",SUMIF('Nominatieve lijst'!$D$8:$D$10007,C546,'Nominatieve lijst'!$G$8:$G$10007))","v":""},{"$f":"IF(ISBLANK(Vrijwilligersregister!C546)=TRUE,\"\",SUMIF('Nominatieve lijst'!$D$8:$D$10007,C546,'Nominatieve lijst'!$H$8:$H$10007))","v":""},{"$f":"IF(ISBLANK(Vrijwilligersregister!C546)=TRUE,\"\",SUMIF('Nominatieve lijst'!$D$8:$D$10007,C546,'Nominatieve lijst'!$J$8:$J$10007))","v":""},{"$f":"IF(ISBLANK(Vrijwilligersregister!C546)=TRUE,\"\",D546+F546)","v":""},{"$f":"Vrijwilligersregister!L546","v":0}]
[null,541,{"$f":"IF(ISBLANK(Vrijwilligersregister!C547)=TRUE,\"\",Vrijwilligersregister!C547)","v":""},{"$f":"IF(ISBLANK(Vrijwilligersregister!C547)=TRUE,\"\",SUMIF('Nominatieve lijst'!$D$8:$D$10007,C547,'Nominatieve lijst'!$G$8:$G$10007))","v":""},{"$f":"IF(ISBLANK(Vrijwilligersregister!C547)=TRUE,\"\",SUMIF('Nominatieve lijst'!$D$8:$D$10007,C547,'Nominatieve lijst'!$H$8:$H$10007))","v":""},{"$f":"IF(ISBLANK(Vrijwilligersregister!C547)=TRUE,\"\",SUMIF('Nominatieve lijst'!$D$8:$D$10007,C547,'Nominatieve lijst'!$J$8:$J$10007))","v":""},{"$f":"IF(ISBLANK(Vrijwilligersregister!C547)=TRUE,\"\",D547+F547)","v":""},{"$f":"Vrijwilligersregister!L547","v":0}]
[null,542,{"$f":"IF(ISBLANK(Vrijwilligersregister!C548)=TRUE,\"\",Vrijwilligersregister!C548)","v":""},{"$f":"IF(ISBLANK(Vrijwilligersregister!C548)=TRUE,\"\",SUMIF('Nominatieve lijst'!$D$8:$D$10007,C548,'Nominatieve lijst'!$G$8:$G$10007))","v":""},{"$f":"IF(ISBLANK(Vrijwilligersregister!C548)=TRUE,\"\",SUMIF('Nominatieve lijst'!$D$8:$D$10007,C548,'Nominatieve lijst'!$H$8:$H$10007))","v":""},{"$f":"IF(ISBLANK(Vrijwilligersregister!C548)=TRUE,\"\",SUMIF('Nominatieve lijst'!$D$8:$D$10007,C548,'Nominatieve lijst'!$J$8:$J$10007))","v":""},{"$f":"IF(ISBLANK(Vrijwilligersregister!C548)=TRUE,\"\",D548+F548)","v":""},{"$f":"Vrijwilligersregister!L548","v":0}]
[null,543,{"$f":"IF(ISBLANK(Vrijwilligersregister!C549)=TRUE,\"\",Vrijwilligersregister!C549)","v":""},{"$f":"IF(ISBLANK(Vrijwilligersregister!C549)=TRUE,\"\",SUMIF('Nominatieve lijst'!$D$8:$D$10007,C549,'Nominatieve lijst'!$G$8:$G$10007))","v":""},{"$f":"IF(ISBLANK(Vrijwilligersregister!C549)=TRUE,\"\",SUMIF('Nominatieve lijst'!$D$8:$D$10007,C549,'Nominatieve lijst'!$H$8:$H$10007))","v":""},{"$f":"IF(ISBLANK(Vrijwilligersregister!C549)=TRUE,\"\",SUMIF('Nominatieve lijst'!$D$8:$D$10007,C549,'Nominatieve lijst'!$J$8:$J$10007))","v":""},{"$f":"IF(ISBLANK(Vrijwilligersregister!C549)=TRUE,\"\",D549+F549)","v":""},{"$f":"Vrijwilligersregister!L549","v":0}]
[null,544,{"$f":"IF(ISBLANK(Vrijwilligersregister!C550)=TRUE,\"\",Vrijwilligersregister!C550)","v":""},{"$f":"IF(ISBLANK(Vrijwilligersregister!C550)=TRUE,\"\",SUMIF('Nominatieve lijst'!$D$8:$D$10007,C550,'Nominatieve lijst'!$G$8:$G$10007))","v":""},{"$f":"IF(ISBLANK(Vrijwilligersregister!C550)=TRUE,\"\",SUMIF('Nominatieve lijst'!$D$8:$D$10007,C550,'Nominatieve lijst'!$H$8:$H$10007))","v":""},{"$f":"IF(ISBLANK(Vrijwilligersregister!C550)=TRUE,\"\",SUMIF('Nominatieve lijst'!$D$8:$D$10007,C550,'Nominatieve lijst'!$J$8:$J$10007))","v":""},{"$f":"IF(ISBLANK(Vrijwilligersregister!C550)=TRUE,\"\",D550+F550)","v":""},{"$f":"Vrijwilligersregister!L550","v":0}]
[null,545,{"$f":"IF(ISBLANK(Vrijwilligersregister!C551)=TRUE,\"\",Vrijwilligersregister!C551)","v":""},{"$f":"IF(ISBLANK(Vrijwilligersregister!C551)=TRUE,\"\",SUMIF('Nominatieve lijst'!$D$8:$D$10007,C551,'Nominatieve lijst'!$G$8:$G$10007))","v":""},{"$f":"IF(ISBLANK(Vrijwilligersregister!C551)=TRUE,\"\",SUMIF('Nominatieve lijst'!$D$8:$D$10007,C551,'Nominatieve lijst'!$H$8:$H$10007))","v":""},{"$f":"IF(ISBLANK(Vrijwilligersregister!C551)=TRUE,\"\",SUMIF('Nominatieve lijst'!$D$8:$D$10007,C551,'Nominatieve lijst'!$J$8:$J$10007))","v":""},{"$f":"IF(ISBLANK(Vrijwilligersregister!C551)=TRUE,\"\",D551+F551)","v":""},{"$f":"Vrijwilligersregister!L551","v":0}]
[null,546,{"$f":"IF(ISBLANK(Vrijwilligersregister!C552)=TRUE,\"\",Vrijwilligersregister!C552)","v":""},{"$f":"IF(ISBLANK(Vrijwilligersregister!C552)=TRUE,\"\",SUMIF('Nominatieve lijst'!$D$8:$D$10007,C552,'Nominatieve lijst'!$G$8:$G$10007))","v":""},{"$f":"IF(ISBLANK(Vrijwilligersregister!C552)=TRUE,\"\",SUMIF('Nominatieve lijst'!$D$8:$D$10007,C552,'Nominatieve lijst'!$H$8:$H$10007))","v":""},{"$f":"IF(ISBLANK(Vrijwilligersregister!C552)=TRUE,\"\",SUMIF('Nominatieve lijst'!$D$8:$D$10007,C552,'Nominatieve lijst'!$J$8:$J$10007))","v":""},{"$f":"IF(ISBLANK(Vrijwilligersregister!C552)=TRUE,\"\",D552+F552)","v":""},{"$f":"Vrijwilligersregister!L552","v":0}]
[null,547,{"$f":"IF(ISBLANK(Vrijwilligersregister!C553)=TRUE,\"\",Vrijwilligersregister!C553)","v":""},{"$f":"IF(ISBLANK(Vrijwilligersregister!C553)=TRUE,\"\",SUMIF('Nominatieve lijst'!$D$8:$D$10007,C553,'Nominatieve lijst'!$G$8:$G$10007))","v":""},{"$f":"IF(ISBLANK(Vrijwilligersregister!C553)=TRUE,\"\",SUMIF('Nominatieve lijst'!$D$8:$D$10007,C553,'Nominatieve lijst'!$H$8:$H$10007))","v":""},{"$f":"IF(ISBLANK(Vrijwilligersregister!C553)=TRUE,\"\",SUMIF('Nominatieve lijst'!$D$8:$D$10007,C553,'Nominatieve lijst'!$J$8:$J$10007))","v":""},{"$f":"IF(ISBLANK(Vrijwilligersregister!C553)=TRUE,\"\",D553+F553)","v":""},{"$f":"Vrijwilligersregister!L553","v":0}]
[null,548,{"$f":"IF(ISBLANK(Vrijwilligersregister!C554)=TRUE,\"\",Vrijwilligersregister!C554)","v":""},{"$f":"IF(ISBLANK(Vrijwilligersregister!C554)=TRUE,\"\",SUMIF('Nominatieve lijst'!$D$8:$D$10007,C554,'Nominatieve lijst'!$G$8:$G$10007))","v":""},{"$f":"IF(ISBLANK(Vrijwilligersregister!C554)=TRUE,\"\",SUMIF('Nominatieve lijst'!$D$8:$D$10007,C554,'Nominatieve lijst'!$H$8:$H$10007))","v":""},{"$f":"IF(ISBLANK(Vrijwilligersregister!C554)=TRUE,\"\",SUMIF('Nominatieve lijst'!$D$8:$D$10007,C554,'Nominatieve lijst'!$J$8:$J$10007))","v":""},{"$f":"IF(ISBLANK(Vrijwilligersregister!C554)=TRUE,\"\",D554+F554)","v":""},{"$f":"Vrijwilligersregister!L554","v":0}]
[null,549,{"$f":"IF(ISBLANK(Vrijwilligersregister!C555)=TRUE,\"\",Vrijwilligersregister!C555)","v":""},{"$f":"IF(ISBLANK(Vrijwilligersregister!C555)=TRUE,\"\",SUMIF('Nominatieve lijst'!$D$8:$D$10007,C555,'Nominatieve lijst'!$G$8:$G$10007))","v":""},{"$f":"IF(ISBLANK(Vrijwilligersregister!C555)=TRUE,\"\",SUMIF('Nominatieve lijst'!$D$8:$D$10007,C555,'Nominatieve lijst'!$H$8:$H$10007))","v":""},{"$f":"IF(ISBLANK(Vrijwilligersregister!C555)=TRUE,\"\",SUMIF('Nominatieve lijst'!$D$8:$D$10007,C555,'Nominatieve lijst'!$J$8:$J$10007))","v":""},{"$f":"IF(ISBLANK(Vrijwilligersregister!C555)=TRUE,\"\",D555+F555)","v":""},{"$f":"Vrijwilligersregister!L555","v":0}]
[null,550,{"$f":"IF(ISBLANK(Vrijwilligersregister!C556)=TRUE,\"\",Vrijwilligersregister!C556)","v":""},{"$f":"IF(ISBLANK(Vrijwilligersregister!C556)=TRUE,\"\",SUMIF('Nominatieve lijst'!$D$8:$D$10007,C556,'Nominatieve lijst'!$G$8:$G$10007))","v":""},{"$f":"IF(ISBLANK(Vrijwilligersregister!C556)=TRUE,\"\",SUMIF('Nominatieve lijst'!$D$8:$D$10007,C556,'Nominatieve lijst'!$H$8:$H$10007))","v":""},{"$f":"IF(ISBLANK(Vrijwilligersregister!C556)=TRUE,\"\",SUMIF('Nominatieve lijst'!$D$8:$D$10007,C556,'Nominatieve lijst'!$J$8:$J$10007))","v":""},{"$f":"IF(ISBLANK(Vrijwilligersregister!C556)=TRUE,\"\",D556+F556)","v":""},{"$f":"Vrijwilligersregister!L556","v":0}]
[null,551,{"$f":"IF(ISBLANK(Vrijwilligersregister!C557)=TRUE,\"\",Vrijwilligersregister!C557)","v":""},{"$f":"IF(ISBLANK(Vrijwilligersregister!C557)=TRUE,\"\",SUMIF('Nominatieve lijst'!$D$8:$D$10007,C557,'Nominatieve lijst'!$G$8:$G$10007))","v":""},{"$f":"IF(ISBLANK(Vrijwilligersregister!C557)=TRUE,\"\",SUMIF('Nominatieve lijst'!$D$8:$D$10007,C557,'Nominatieve lijst'!$H$8:$H$10007))","v":""},{"$f":"IF(ISBLANK(Vrijwilligersregister!C557)=TRUE,\"\",SUMIF('Nominatieve lijst'!$D$8:$D$10007,C557,'Nominatieve lijst'!$J$8:$J$10007))","v":""},{"$f":"IF(ISBLANK(Vrijwilligersregister!C557)=TRUE,\"\",D557+F557)","v":""},{"$f":"Vrijwilligersregister!L557","v":0}]
[null,552,{"$f":"IF(ISBLANK(Vrijwilligersregister!C558)=TRUE,\"\",Vrijwilligersregister!C558)","v":""},{"$f":"IF(ISBLANK(Vrijwilligersregister!C558)=TRUE,\"\",SUMIF('Nominatieve lijst'!$D$8:$D$10007,C558,'Nominatieve lijst'!$G$8:$G$10007))","v":""},{"$f":"IF(ISBLANK(Vrijwilligersregister!C558)=TRUE,\"\",SUMIF('Nominatieve lijst'!$D$8:$D$10007,C558,'Nominatieve lijst'!$H$8:$H$10007))","v":""},{"$f":"IF(ISBLANK(Vrijwilligersregister!C558)=TRUE,\"\",SUMIF('Nominatieve lijst'!$D$8:$D$10007,C558,'Nominatieve lijst'!$J$8:$J$10007))","v":""},{"$f":"IF(ISBLANK(Vrijwilligersregister!C558)=TRUE,\"\",D558+F558)","v":""},{"$f":"Vrijwilligersregister!L558","v":0}]
[null,553,{"$f":"IF(ISBLANK(Vrijwilligersregister!C559)=TRUE,\"\",Vrijwilligersregister!C559)","v":""},{"$f":"IF(ISBLANK(Vrijwilligersregister!C559)=TRUE,\"\",SUMIF('Nominatieve lijst'!$D$8:$D$10007,C559,'Nominatieve lijst'!$G$8:$G$10007))","v":""},{"$f":"IF(ISBLANK(Vrijwilligersregister!C559)=TRUE,\"\",SUMIF('Nominatieve lijst'!$D$8:$D$10007,C559,'Nominatieve lijst'!$H$8:$H$10007))","v":""},{"$f":"IF(ISBLANK(Vrijwilligersregister!C559)=TRUE,\"\",SUMIF('Nominatieve lijst'!$D$8:$D$10007,C559,'Nominatieve lijst'!$J$8:$J$10007))","v":""},{"$f":"IF(ISBLANK(Vrijwilligersregister!C559)=TRUE,\"\",D559+F559)","v":""},{"$f":"Vrijwilligersregister!L559","v":0}]
[null,554,{"$f":"IF(ISBLANK(Vrijwilligersregister!C560)=TRUE,\"\",Vrijwilligersregister!C560)","v":""},{"$f":"IF(ISBLANK(Vrijwilligersregister!C560)=TRUE,\"\",SUMIF('Nominatieve lijst'!$D$8:$D$10007,C560,'Nominatieve lijst'!$G$8:$G$10007))","v":""},{"$f":"IF(ISBLANK(Vrijwilligersregister!C560)=TRUE,\"\",SUMIF('Nominatieve lijst'!$D$8:$D$10007,C560,'Nominatieve lijst'!$H$8:$H$10007))","v":""},{"$f":"IF(ISBLANK(Vrijwilligersregister!C560)=TRUE,\"\",SUMIF('Nominatieve lijst'!$D$8:$D$10007,C560,'Nominatieve lijst'!$J$8:$J$10007))","v":""},{"$f":"IF(ISBLANK(Vrijwilligersregister!C560)=TRUE,\"\",D560+F560)","v":""},{"$f":"Vrijwilligersregister!L560","v":0}]
[null,555,{"$f":"IF(ISBLANK(Vrijwilligersregister!C561)=TRUE,\"\",Vrijwilligersregister!C561)","v":""},{"$f":"IF(ISBLANK(Vrijwilligersregister!C561)=TRUE,\"\",SUMIF('Nominatieve lijst'!$D$8:$D$10007,C561,'Nominatieve lijst'!$G$8:$G$10007))","v":""},{"$f":"IF(ISBLANK(Vrijwilligersregister!C561)=TRUE,\"\",SUMIF('Nominatieve lijst'!$D$8:$D$10007,C561,'Nominatieve lijst'!$H$8:$H$10007))","v":""},{"$f":"IF(ISBLANK(Vrijwilligersregister!C561)=TRUE,\"\",SUMIF('Nominatieve lijst'!$D$8:$D$10007,C561,'Nominatieve lijst'!$J$8:$J$10007))","v":""},{"$f":"IF(ISBLANK(Vrijwilligersregister!C561)=TRUE,\"\",D561+F561)","v":""},{"$f":"Vrijwilligersregister!L561","v":0}]
[null,556,{"$f":"IF(ISBLANK(Vrijwilligersregister!C562)=TRUE,\"\",Vrijwilligersregister!C562)","v":""},{"$f":"IF(ISBLANK(Vrijwilligersregister!C562)=TRUE,\"\",SUMIF('Nominatieve lijst'!$D$8:$D$10007,C562,'Nominatieve lijst'!$G$8:$G$10007))","v":""},{"$f":"IF(ISBLANK(Vrijwilligersregister!C562)=TRUE,\"\",SUMIF('Nominatieve lijst'!$D$8:$D$10007,C562,'Nominatieve lijst'!$H$8:$H$10007))","v":""},{"$f":"IF(ISBLANK(Vrijwilligersregister!C562)=TRUE,\"\",SUMIF('Nominatieve lijst'!$D$8:$D$10007,C562,'Nominatieve lijst'!$J$8:$J$10007))","v":""},{"$f":"IF(ISBLANK(Vrijwilligersregister!C562)=TRUE,\"\",D562+F562)","v":""},{"$f":"Vrijwilligersregister!L562","v":0}]
[null,557,{"$f":"IF(ISBLANK(Vrijwilligersregister!C563)=TRUE,\"\",Vrijwilligersregister!C563)","v":""},{"$f":"IF(ISBLANK(Vrijwilligersregister!C563)=TRUE,\"\",SUMIF('Nominatieve lijst'!$D$8:$D$10007,C563,'Nominatieve lijst'!$G$8:$G$10007))","v":""},{"$f":"IF(ISBLANK(Vrijwilligersregister!C563)=TRUE,\"\",SUMIF('Nominatieve lijst'!$D$8:$D$10007,C563,'Nominatieve lijst'!$H$8:$H$10007))","v":""},{"$f":"IF(ISBLANK(Vrijwilligersregister!C563)=TRUE,\"\",SUMIF('Nominatieve lijst'!$D$8:$D$10007,C563,'Nominatieve lijst'!$J$8:$J$10007))","v":""},{"$f":"IF(ISBLANK(Vrijwilligersregister!C563)=TRUE,\"\",D563+F563)","v":""},{"$f":"Vrijwilligersregister!L563","v":0}]
[null,558,{"$f":"IF(ISBLANK(Vrijwilligersregister!C564)=TRUE,\"\",Vrijwilligersregister!C564)","v":""},{"$f":"IF(ISBLANK(Vrijwilligersregister!C564)=TRUE,\"\",SUMIF('Nominatieve lijst'!$D$8:$D$10007,C564,'Nominatieve lijst'!$G$8:$G$10007))","v":""},{"$f":"IF(ISBLANK(Vrijwilligersregister!C564)=TRUE,\"\",SUMIF('Nominatieve lijst'!$D$8:$D$10007,C564,'Nominatieve lijst'!$H$8:$H$10007))","v":""},{"$f":"IF(ISBLANK(Vrijwilligersregister!C564)=TRUE,\"\",SUMIF('Nominatieve lijst'!$D$8:$D$10007,C564,'Nominatieve lijst'!$J$8:$J$10007))","v":""},{"$f":"IF(ISBLANK(Vrijwilligersregister!C564)=TRUE,\"\",D564+F564)","v":""},{"$f":"Vrijwilligersregister!L564","v":0}]
[null,559,{"$f":"IF(ISBLANK(Vrijwilligersregister!C565)=TRUE,\"\",Vrijwilligersregister!C565)","v":""},{"$f":"IF(ISBLANK(Vrijwilligersregister!C565)=TRUE,\"\",SUMIF('Nominatieve lijst'!$D$8:$D$10007,C565,'Nominatieve lijst'!$G$8:$G$10007))","v":""},{"$f":"IF(ISBLANK(Vrijwilligersregister!C565)=TRUE,\"\",SUMIF('Nominatieve lijst'!$D$8:$D$10007,C565,'Nominatieve lijst'!$H$8:$H$10007))","v":""},{"$f":"IF(ISBLANK(Vrijwilligersregister!C565)=TRUE,\"\",SUMIF('Nominatieve lijst'!$D$8:$D$10007,C565,'Nominatieve lijst'!$J$8:$J$10007))","v":""},{"$f":"IF(ISBLANK(Vrijwilligersregister!C565)=TRUE,\"\",D565+F565)","v":""},{"$f":"Vrijwilligersregister!L565","v":0}]
[null,560,{"$f":"IF(ISBLANK(Vrijwilligersregister!C566)=TRUE,\"\",Vrijwilligersregister!C566)","v":""},{"$f":"IF(ISBLANK(Vrijwilligersregister!C566)=TRUE,\"\",SUMIF('Nominatieve lijst'!$D$8:$D$10007,C566,'Nominatieve lijst'!$G$8:$G$10007))","v":""},{"$f":"IF(ISBLANK(Vrijwilligersregister!C566)=TRUE,\"\",SUMIF('Nominatieve lijst'!$D$8:$D$10007,C566,'Nominatieve lijst'!$H$8:$H$10007))","v":""},{"$f":"IF(ISBLANK(Vrijwilligersregister!C566)=TRUE,\"\",SUMIF('Nominatieve lijst'!$D$8:$D$10007,C566,'Nominatieve lijst'!$J$8:$J$10007))","v":""},{"$f":"IF(ISBLANK(Vrijwilligersregister!C566)=TRUE,\"\",D566+F566)","v":""},{"$f":"Vrijwilligersregister!L566","v":0}]
[null,561,{"$f":"IF(ISBLANK(Vrijwilligersregister!C567)=TRUE,\"\",Vrijwilligersregister!C567)","v":""},{"$f":"IF(ISBLANK(Vrijwilligersregister!C567)=TRUE,\"\",SUMIF('Nominatieve lijst'!$D$8:$D$10007,C567,'Nominatieve lijst'!$G$8:$G$10007))","v":""},{"$f":"IF(ISBLANK(Vrijwilligersregister!C567)=TRUE,\"\",SUMIF('Nominatieve lijst'!$D$8:$D$10007,C567,'Nominatieve lijst'!$H$8:$H$10007))","v":""},{"$f":"IF(ISBLANK(Vrijwilligersregister!C567)=TRUE,\"\",SUMIF('Nominatieve lijst'!$D$8:$D$10007,C567,'Nominatieve lijst'!$J$8:$J$10007))","v":""},{"$f":"IF(ISBLANK(Vrijwilligersregister!C567)=TRUE,\"\",D567+F567)","v":""},{"$f":"Vrijwilligersregister!L567","v":0}]
[null,562,{"$f":"IF(ISBLANK(Vrijwilligersregister!C568)=TRUE,\"\",Vrijwilligersregister!C568)","v":""},{"$f":"IF(ISBLANK(Vrijwilligersregister!C568)=TRUE,\"\",SUMIF('Nominatieve lijst'!$D$8:$D$10007,C568,'Nominatieve lijst'!$G$8:$G$10007))","v":""},{"$f":"IF(ISBLANK(Vrijwilligersregister!C568)=TRUE,\"\",SUMIF('Nominatieve lijst'!$D$8:$D$10007,C568,'Nominatieve lijst'!$H$8:$H$10007))","v":""},{"$f":"IF(ISBLANK(Vrijwilligersregister!C568)=TRUE,\"\",SUMIF('Nominatieve lijst'!$D$8:$D$10007,C568,'Nominatieve lijst'!$J$8:$J$10007))","v":""},{"$f":"IF(ISBLANK(Vrijwilligersregister!C568)=TRUE,\"\",D568+F568)","v":""},{"$f":"Vrijwilligersregister!L568","v":0}]
[null,563,{"$f":"IF(ISBLANK(Vrijwilligersregister!C569)=TRUE,\"\",Vrijwilligersregister!C569)","v":""},{"$f":"IF(ISBLANK(Vrijwilligersregister!C569)=TRUE,\"\",SUMIF('Nominatieve lijst'!$D$8:$D$10007,C569,'Nominatieve lijst'!$G$8:$G$10007))","v":""},{"$f":"IF(ISBLANK(Vrijwilligersregister!C569)=TRUE,\"\",SUMIF('Nominatieve lijst'!$D$8:$D$10007,C569,'Nominatieve lijst'!$H$8:$H$10007))","v":""},{"$f":"IF(ISBLANK(Vrijwilligersregister!C569)=TRUE,\"\",SUMIF('Nominatieve lijst'!$D$8:$D$10007,C569,'Nominatieve lijst'!$J$8:$J$10007))","v":""},{"$f":"IF(ISBLANK(Vrijwilligersregister!C569)=TRUE,\"\",D569+F569)","v":""},{"$f":"Vrijwilligersregister!L569","v":0}]
[null,564,{"$f":"IF(ISBLANK(Vrijwilligersregister!C570)=TRUE,\"\",Vrijwilligersregister!C570)","v":""},{"$f":"IF(ISBLANK(Vrijwilligersregister!C570)=TRUE,\"\",SUMIF('Nominatieve lijst'!$D$8:$D$10007,C570,'Nominatieve lijst'!$G$8:$G$10007))","v":""},{"$f":"IF(ISBLANK(Vrijwilligersregister!C570)=TRUE,\"\",SUMIF('Nominatieve lijst'!$D$8:$D$10007,C570,'Nominatieve lijst'!$H$8:$H$10007))","v":""},{"$f":"IF(ISBLANK(Vrijwilligersregister!C570)=TRUE,\"\",SUMIF('Nominatieve lijst'!$D$8:$D$10007,C570,'Nominatieve lijst'!$J$8:$J$10007))","v":""},{"$f":"IF(ISBLANK(Vrijwilligersregister!C570)=TRUE,\"\",D570+F570)","v":""},{"$f":"Vrijwilligersregister!L570","v":0}]
[null,565,{"$f":"IF(ISBLANK(Vrijwilligersregister!C571)=TRUE,\"\",Vrijwilligersregister!C571)","v":""},{"$f":"IF(ISBLANK(Vrijwilligersregister!C571)=TRUE,\"\",SUMIF('Nominatieve lijst'!$D$8:$D$10007,C571,'Nominatieve lijst'!$G$8:$G$10007))","v":""},{"$f":"IF(ISBLANK(Vrijwilligersregister!C571)=TRUE,\"\",SUMIF('Nominatieve lijst'!$D$8:$D$10007,C571,'Nominatieve lijst'!$H$8:$H$10007))","v":""},{"$f":"IF(ISBLANK(Vrijwilligersregister!C571)=TRUE,\"\",SUMIF('Nominatieve lijst'!$D$8:$D$10007,C571,'Nominatieve lijst'!$J$8:$J$10007))","v":""},{"$f":"IF(ISBLANK(Vrijwilligersregister!C571)=TRUE,\"\",D571+F571)","v":""},{"$f":"Vrijwilligersregister!L571","v":0}]
[null,566,{"$f":"IF(ISBLANK(Vrijwilligersregister!C572)=TRUE,\"\",Vrijwilligersregister!C572)","v":""},{"$f":"IF(ISBLANK(Vrijwilligersregister!C572)=TRUE,\"\",SUMIF('Nominatieve lijst'!$D$8:$D$10007,C572,'Nominatieve lijst'!$G$8:$G$10007))","v":""},{"$f":"IF(ISBLANK(Vrijwilligersregister!C572)=TRUE,\"\",SUMIF('Nominatieve lijst'!$D$8:$D$10007,C572,'Nominatieve lijst'!$H$8:$H$10007))","v":""},{"$f":"IF(ISBLANK(Vrijwilligersregister!C572)=TRUE,\"\",SUMIF('Nominatieve lijst'!$D$8:$D$10007,C572,'Nominatieve lijst'!$J$8:$J$10007))","v":""},{"$f":"IF(ISBLANK(Vrijwilligersregister!C572)=TRUE,\"\",D572+F572)","v":""},{"$f":"Vrijwilligersregister!L572","v":0}]
[null,567,{"$f":"IF(ISBLANK(Vrijwilligersregister!C573)=TRUE,\"\",Vrijwilligersregister!C573)","v":""},{"$f":"IF(ISBLANK(Vrijwilligersregister!C573)=TRUE,\"\",SUMIF('Nominatieve lijst'!$D$8:$D$10007,C573,'Nominatieve lijst'!$G$8:$G$10007))","v":""},{"$f":"IF(ISBLANK(Vrijwilligersregister!C573)=TRUE,\"\",SUMIF('Nominatieve lijst'!$D$8:$D$10007,C573,'Nominatieve lijst'!$H$8:$H$10007))","v":""},{"$f":"IF(ISBLANK(Vrijwilligersregister!C573)=TRUE,\"\",SUMIF('Nominatieve lijst'!$D$8:$D$10007,C573,'Nominatieve lijst'!$J$8:$J$10007))","v":""},{"$f":"IF(ISBLANK(Vrijwilligersregister!C573)=TRUE,\"\",D573+F573)","v":""},{"$f":"Vrijwilligersregister!L573","v":0}]
[null,568,{"$f":"IF(ISBLANK(Vrijwilligersregister!C574)=TRUE,\"\",Vrijwilligersregister!C574)","v":""},{"$f":"IF(ISBLANK(Vrijwilligersregister!C574)=TRUE,\"\",SUMIF('Nominatieve lijst'!$D$8:$D$10007,C574,'Nominatieve lijst'!$G$8:$G$10007))","v":""},{"$f":"IF(ISBLANK(Vrijwilligersregister!C574)=TRUE,\"\",SUMIF('Nominatieve lijst'!$D$8:$D$10007,C574,'Nominatieve lijst'!$H$8:$H$10007))","v":""},{"$f":"IF(ISBLANK(Vrijwilligersregister!C574)=TRUE,\"\",SUMIF('Nominatieve lijst'!$D$8:$D$10007,C574,'Nominatieve lijst'!$J$8:$J$10007))","v":""},{"$f":"IF(ISBLANK(Vrijwilligersregister!C574)=TRUE,\"\",D574+F574)","v":""},{"$f":"Vrijwilligersregister!L574","v":0}]
[null,569,{"$f":"IF(ISBLANK(Vrijwilligersregister!C575)=TRUE,\"\",Vrijwilligersregister!C575)","v":""},{"$f":"IF(ISBLANK(Vrijwilligersregister!C575)=TRUE,\"\",SUMIF('Nominatieve lijst'!$D$8:$D$10007,C575,'Nominatieve lijst'!$G$8:$G$10007))","v":""},{"$f":"IF(ISBLANK(Vrijwilligersregister!C575)=TRUE,\"\",SUMIF('Nominatieve lijst'!$D$8:$D$10007,C575,'Nominatieve lijst'!$H$8:$H$10007))","v":""},{"$f":"IF(ISBLANK(Vrijwilligersregister!C575)=TRUE,\"\",SUMIF('Nominatieve lijst'!$D$8:$D$10007,C575,'Nominatieve lijst'!$J$8:$J$10007))","v":""},{"$f":"IF(ISBLANK(Vrijwilligersregister!C575)=TRUE,\"\",D575+F575)","v":""},{"$f":"Vrijwilligersregister!L575","v":0}]
[null,570,{"$f":"IF(ISBLANK(Vrijwilligersregister!C576)=TRUE,\"\",Vrijwilligersregister!C576)","v":""},{"$f":"IF(ISBLANK(Vrijwilligersregister!C576)=TRUE,\"\",SUMIF('Nominatieve lijst'!$D$8:$D$10007,C576,'Nominatieve lijst'!$G$8:$G$10007))","v":""},{"$f":"IF(ISBLANK(Vrijwilligersregister!C576)=TRUE,\"\",SUMIF('Nominatieve lijst'!$D$8:$D$10007,C576,'Nominatieve lijst'!$H$8:$H$10007))","v":""},{"$f":"IF(ISBLANK(Vrijwilligersregister!C576)=TRUE,\"\",SUMIF('Nominatieve lijst'!$D$8:$D$10007,C576,'Nominatieve lijst'!$J$8:$J$10007))","v":""},{"$f":"IF(ISBLANK(Vrijwilligersregister!C576)=TRUE,\"\",D576+F576)","v":""},{"$f":"Vrijwilligersregister!L576","v":0}]
[null,571,{"$f":"IF(ISBLANK(Vrijwilligersregister!C577)=TRUE,\"\",Vrijwilligersregister!C577)","v":""},{"$f":"IF(ISBLANK(Vrijwilligersregister!C577)=TRUE,\"\",SUMIF('Nominatieve lijst'!$D$8:$D$10007,C577,'Nominatieve lijst'!$G$8:$G$10007))","v":""},{"$f":"IF(ISBLANK(Vrijwilligersregister!C577)=TRUE,\"\",SUMIF('Nominatieve lijst'!$D$8:$D$10007,C577,'Nominatieve lijst'!$H$8:$H$10007))","v":""},{"$f":"IF(ISBLANK(Vrijwilligersregister!C577)=TRUE,\"\",SUMIF('Nominatieve lijst'!$D$8:$D$10007,C577,'Nominatieve lijst'!$J$8:$J$10007))","v":""},{"$f":"IF(ISBLANK(Vrijwilligersregister!C577)=TRUE,\"\",D577+F577)","v":""},{"$f":"Vrijwilligersregister!L577","v":0}]
[null,572,{"$f":"IF(ISBLANK(Vrijwilligersregister!C578)=TRUE,\"\",Vrijwilligersregister!C578)","v":""},{"$f":"IF(ISBLANK(Vrijwilligersregister!C578)=TRUE,\"\",SUMIF('Nominatieve lijst'!$D$8:$D$10007,C578,'Nominatieve lijst'!$G$8:$G$10007))","v":""},{"$f":"IF(ISBLANK(Vrijwilligersregister!C578)=TRUE,\"\",SUMIF('Nominatieve lijst'!$D$8:$D$10007,C578,'Nominatieve lijst'!$H$8:$H$10007))","v":""},{"$f":"IF(ISBLANK(Vrijwilligersregister!C578)=TRUE,\"\",SUMIF('Nominatieve lijst'!$D$8:$D$10007,C578,'Nominatieve lijst'!$J$8:$J$10007))","v":""},{"$f":"IF(ISBLANK(Vrijwilligersregister!C578)=TRUE,\"\",D578+F578)","v":""},{"$f":"Vrijwilligersregister!L578","v":0}]
[null,573,{"$f":"IF(ISBLANK(Vrijwilligersregister!C579)=TRUE,\"\",Vrijwilligersregister!C579)","v":""},{"$f":"IF(ISBLANK(Vrijwilligersregister!C579)=TRUE,\"\",SUMIF('Nominatieve lijst'!$D$8:$D$10007,C579,'Nominatieve lijst'!$G$8:$G$10007))","v":""},{"$f":"IF(ISBLANK(Vrijwilligersregister!C579)=TRUE,\"\",SUMIF('Nominatieve lijst'!$D$8:$D$10007,C579,'Nominatieve lijst'!$H$8:$H$10007))","v":""},{"$f":"IF(ISBLANK(Vrijwilligersregister!C579)=TRUE,\"\",SUMIF('Nominatieve lijst'!$D$8:$D$10007,C579,'Nominatieve lijst'!$J$8:$J$10007))","v":""},{"$f":"IF(ISBLANK(Vrijwilligersregister!C579)=TRUE,\"\",D579+F579)","v":""},{"$f":"Vrijwilligersregister!L579","v":0}]
[null,574,{"$f":"IF(ISBLANK(Vrijwilligersregister!C580)=TRUE,\"\",Vrijwilligersregister!C580)","v":""},{"$f":"IF(ISBLANK(Vrijwilligersregister!C580)=TRUE,\"\",SUMIF('Nominatieve lijst'!$D$8:$D$10007,C580,'Nominatieve lijst'!$G$8:$G$10007))","v":""},{"$f":"IF(ISBLANK(Vrijwilligersregister!C580)=TRUE,\"\",SUMIF('Nominatieve lijst'!$D$8:$D$10007,C580,'Nominatieve lijst'!$H$8:$H$10007))","v":""},{"$f":"IF(ISBLANK(Vrijwilligersregister!C580)=TRUE,\"\",SUMIF('Nominatieve lijst'!$D$8:$D$10007,C580,'Nominatieve lijst'!$J$8:$J$10007))","v":""},{"$f":"IF(ISBLANK(Vrijwilligersregister!C580)=TRUE,\"\",D580+F580)","v":""},{"$f":"Vrijwilligersregister!L580","v":0}]
[null,575,{"$f":"IF(ISBLANK(Vrijwilligersregister!C581)=TRUE,\"\",Vrijwilligersregister!C581)","v":""},{"$f":"IF(ISBLANK(Vrijwilligersregister!C581)=TRUE,\"\",SUMIF('Nominatieve lijst'!$D$8:$D$10007,C581,'Nominatieve lijst'!$G$8:$G$10007))","v":""},{"$f":"IF(ISBLANK(Vrijwilligersregister!C581)=TRUE,\"\",SUMIF('Nominatieve lijst'!$D$8:$D$10007,C581,'Nominatieve lijst'!$H$8:$H$10007))","v":""},{"$f":"IF(ISBLANK(Vrijwilligersregister!C581)=TRUE,\"\",SUMIF('Nominatieve lijst'!$D$8:$D$10007,C581,'Nominatieve lijst'!$J$8:$J$10007))","v":""},{"$f":"IF(ISBLANK(Vrijwilligersregister!C581)=TRUE,\"\",D581+F581)","v":""},{"$f":"Vrijwilligersregister!L581","v":0}]
[null,576,{"$f":"IF(ISBLANK(Vrijwilligersregister!C582)=TRUE,\"\",Vrijwilligersregister!C582)","v":""},{"$f":"IF(ISBLANK(Vrijwilligersregister!C582)=TRUE,\"\",SUMIF('Nominatieve lijst'!$D$8:$D$10007,C582,'Nominatieve lijst'!$G$8:$G$10007))","v":""},{"$f":"IF(ISBLANK(Vrijwilligersregister!C582)=TRUE,\"\",SUMIF('Nominatieve lijst'!$D$8:$D$10007,C582,'Nominatieve lijst'!$H$8:$H$10007))","v":""},{"$f":"IF(ISBLANK(Vrijwilligersregister!C582)=TRUE,\"\",SUMIF('Nominatieve lijst'!$D$8:$D$10007,C582,'Nominatieve lijst'!$J$8:$J$10007))","v":""},{"$f":"IF(ISBLANK(Vrijwilligersregister!C582)=TRUE,\"\",D582+F582)","v":""},{"$f":"Vrijwilligersregister!L582","v":0}]
[null,577,{"$f":"IF(ISBLANK(Vrijwilligersregister!C583)=TRUE,\"\",Vrijwilligersregister!C583)","v":""},{"$f":"IF(ISBLANK(Vrijwilligersregister!C583)=TRUE,\"\",SUMIF('Nominatieve lijst'!$D$8:$D$10007,C583,'Nominatieve lijst'!$G$8:$G$10007))","v":""},{"$f":"IF(ISBLANK(Vrijwilligersregister!C583)=TRUE,\"\",SUMIF('Nominatieve lijst'!$D$8:$D$10007,C583,'Nominatieve lijst'!$H$8:$H$10007))","v":""},{"$f":"IF(ISBLANK(Vrijwilligersregister!C583)=TRUE,\"\",SUMIF('Nominatieve lijst'!$D$8:$D$10007,C583,'Nominatieve lijst'!$J$8:$J$10007))","v":""},{"$f":"IF(ISBLANK(Vrijwilligersregister!C583)=TRUE,\"\",D583+F583)","v":""},{"$f":"Vrijwilligersregister!L583","v":0}]
[null,578,{"$f":"IF(ISBLANK(Vrijwilligersregister!C584)=TRUE,\"\",Vrijwilligersregister!C584)","v":""},{"$f":"IF(ISBLANK(Vrijwilligersregister!C584)=TRUE,\"\",SUMIF('Nominatieve lijst'!$D$8:$D$10007,C584,'Nominatieve lijst'!$G$8:$G$10007))","v":""},{"$f":"IF(ISBLANK(Vrijwilligersregister!C584)=TRUE,\"\",SUMIF('Nominatieve lijst'!$D$8:$D$10007,C584,'Nominatieve lijst'!$H$8:$H$10007))","v":""},{"$f":"IF(ISBLANK(Vrijwilligersregister!C584)=TRUE,\"\",SUMIF('Nominatieve lijst'!$D$8:$D$10007,C584,'Nominatieve lijst'!$J$8:$J$10007))","v":""},{"$f":"IF(ISBLANK(Vrijwilligersregister!C584)=TRUE,\"\",D584+F584)","v":""},{"$f":"Vrijwilligersregister!L584","v":0}]
[null,579,{"$f":"IF(ISBLANK(Vrijwilligersregister!C585)=TRUE,\"\",Vrijwilligersregister!C585)","v":""},{"$f":"IF(ISBLANK(Vrijwilligersregister!C585)=TRUE,\"\",SUMIF('Nominatieve lijst'!$D$8:$D$10007,C585,'Nominatieve lijst'!$G$8:$G$10007))","v":""},{"$f":"IF(ISBLANK(Vrijwilligersregister!C585)=TRUE,\"\",SUMIF('Nominatieve lijst'!$D$8:$D$10007,C585,'Nominatieve lijst'!$H$8:$H$10007))","v":""},{"$f":"IF(ISBLANK(Vrijwilligersregister!C585)=TRUE,\"\",SUMIF('Nominatieve lijst'!$D$8:$D$10007,C585,'Nominatieve lijst'!$J$8:$J$10007))","v":""},{"$f":"IF(ISBLANK(Vrijwilligersregister!C585)=TRUE,\"\",D585+F585)","v":""},{"$f":"Vrijwilligersregister!L585","v":0}]
[null,580,{"$f":"IF(ISBLANK(Vrijwilligersregister!C586)=TRUE,\"\",Vrijwilligersregister!C586)","v":""},{"$f":"IF(ISBLANK(Vrijwilligersregister!C586)=TRUE,\"\",SUMIF('Nominatieve lijst'!$D$8:$D$10007,C586,'Nominatieve lijst'!$G$8:$G$10007))","v":""},{"$f":"IF(ISBLANK(Vrijwilligersregister!C586)=TRUE,\"\",SUMIF('Nominatieve lijst'!$D$8:$D$10007,C586,'Nominatieve lijst'!$H$8:$H$10007))","v":""},{"$f":"IF(ISBLANK(Vrijwilligersregister!C586)=TRUE,\"\",SUMIF('Nominatieve lijst'!$D$8:$D$10007,C586,'Nominatieve lijst'!$J$8:$J$10007))","v":""},{"$f":"IF(ISBLANK(Vrijwilligersregister!C586)=TRUE,\"\",D586+F586)","v":""},{"$f":"Vrijwilligersregister!L586","v":0}]
[null,581,{"$f":"IF(ISBLANK(Vrijwilligersregister!C587)=TRUE,\"\",Vrijwilligersregister!C587)","v":""},{"$f":"IF(ISBLANK(Vrijwilligersregister!C587)=TRUE,\"\",SUMIF('Nominatieve lijst'!$D$8:$D$10007,C587,'Nominatieve lijst'!$G$8:$G$10007))","v":""},{"$f":"IF(ISBLANK(Vrijwilligersregister!C587)=TRUE,\"\",SUMIF('Nominatieve lijst'!$D$8:$D$10007,C587,'Nominatieve lijst'!$H$8:$H$10007))","v":""},{"$f":"IF(ISBLANK(Vrijwilligersregister!C587)=TRUE,\"\",SUMIF('Nominatieve lijst'!$D$8:$D$10007,C587,'Nominatieve lijst'!$J$8:$J$10007))","v":""},{"$f":"IF(ISBLANK(Vrijwilligersregister!C587)=TRUE,\"\",D587+F587)","v":""},{"$f":"Vrijwilligersregister!L587","v":0}]
[null,582,{"$f":"IF(ISBLANK(Vrijwilligersregister!C588)=TRUE,\"\",Vrijwilligersregister!C588)","v":""},{"$f":"IF(ISBLANK(Vrijwilligersregister!C588)=TRUE,\"\",SUMIF('Nominatieve lijst'!$D$8:$D$10007,C588,'Nominatieve lijst'!$G$8:$G$10007))","v":""},{"$f":"IF(ISBLANK(Vrijwilligersregister!C588)=TRUE,\"\",SUMIF('Nominatieve lijst'!$D$8:$D$10007,C588,'Nominatieve lijst'!$H$8:$H$10007))","v":""},{"$f":"IF(ISBLANK(Vrijwilligersregister!C588)=TRUE,\"\",SUMIF('Nominatieve lijst'!$D$8:$D$10007,C588,'Nominatieve lijst'!$J$8:$J$10007))","v":""},{"$f":"IF(ISBLANK(Vrijwilligersregister!C588)=TRUE,\"\",D588+F588)","v":""},{"$f":"Vrijwilligersregister!L588","v":0}]
[null,583,{"$f":"IF(ISBLANK(Vrijwilligersregister!C589)=TRUE,\"\",Vrijwilligersregister!C589)","v":""},{"$f":"IF(ISBLANK(Vrijwilligersregister!C589)=TRUE,\"\",SUMIF('Nominatieve lijst'!$D$8:$D$10007,C589,'Nominatieve lijst'!$G$8:$G$10007))","v":""},{"$f":"IF(ISBLANK(Vrijwilligersregister!C589)=TRUE,\"\",SUMIF('Nominatieve lijst'!$D$8:$D$10007,C589,'Nominatieve lijst'!$H$8:$H$10007))","v":""},{"$f":"IF(ISBLANK(Vrijwilligersregister!C589)=TRUE,\"\",SUMIF('Nominatieve lijst'!$D$8:$D$10007,C589,'Nominatieve lijst'!$J$8:$J$10007))","v":""},{"$f":"IF(ISBLANK(Vrijwilligersregister!C589)=TRUE,\"\",D589+F589)","v":""},{"$f":"Vrijwilligersregister!L589","v":0}]
[null,584,{"$f":"IF(ISBLANK(Vrijwilligersregister!C590)=TRUE,\"\",Vrijwilligersregister!C590)","v":""},{"$f":"IF(ISBLANK(Vrijwilligersregister!C590)=TRUE,\"\",SUMIF('Nominatieve lijst'!$D$8:$D$10007,C590,'Nominatieve lijst'!$G$8:$G$10007))","v":""},{"$f":"IF(ISBLANK(Vrijwilligersregister!C590)=TRUE,\"\",SUMIF('Nominatieve lijst'!$D$8:$D$10007,C590,'Nominatieve lijst'!$H$8:$H$10007))","v":""},{"$f":"IF(ISBLANK(Vrijwilligersregister!C590)=TRUE,\"\",SUMIF('Nominatieve lijst'!$D$8:$D$10007,C590,'Nominatieve lijst'!$J$8:$J$10007))","v":""},{"$f":"IF(ISBLANK(Vrijwilligersregister!C590)=TRUE,\"\",D590+F590)","v":""},{"$f":"Vrijwilligersregister!L590","v":0}]
[null,585,{"$f":"IF(ISBLANK(Vrijwilligersregister!C591)=TRUE,\"\",Vrijwilligersregister!C591)","v":""},{"$f":"IF(ISBLANK(Vrijwilligersregister!C591)=TRUE,\"\",SUMIF('Nominatieve lijst'!$D$8:$D$10007,C591,'Nominatieve lijst'!$G$8:$G$10007))","v":""},{"$f":"IF(ISBLANK(Vrijwilligersregister!C591)=TRUE,\"\",SUMIF('Nominatieve lijst'!$D$8:$D$10007,C591,'Nominatieve lijst'!$H$8:$H$10007))","v":""},{"$f":"IF(ISBLANK(Vrijwilligersregister!C591)=TRUE,\"\",SUMIF('Nominatieve lijst'!$D$8:$D$10007,C591,'Nominatieve lijst'!$J$8:$J$10007))","v":""},{"$f":"IF(ISBLANK(Vrijwilligersregister!C591)=TRUE,\"\",D591+F591)","v":""},{"$f":"Vrijwilligersregister!L591","v":0}]
[null,586,{"$f":"IF(ISBLANK(Vrijwilligersregister!C592)=TRUE,\"\",Vrijwilligersregister!C592)","v":""},{"$f":"IF(ISBLANK(Vrijwilligersregister!C592)=TRUE,\"\",SUMIF('Nominatieve lijst'!$D$8:$D$10007,C592,'Nominatieve lijst'!$G$8:$G$10007))","v":""},{"$f":"IF(ISBLANK(Vrijwilligersregister!C592)=TRUE,\"\",SUMIF('Nominatieve lijst'!$D$8:$D$10007,C592,'Nominatieve lijst'!$H$8:$H$10007))","v":""},{"$f":"IF(ISBLANK(Vrijwilligersregister!C592)=TRUE,\"\",SUMIF('Nominatieve lijst'!$D$8:$D$10007,C592,'Nominatieve lijst'!$J$8:$J$10007))","v":""},{"$f":"IF(ISBLANK(Vrijwilligersregister!C592)=TRUE,\"\",D592+F592)","v":""},{"$f":"Vrijwilligersregister!L592","v":0}]
[null,587,{"$f":"IF(ISBLANK(Vrijwilligersregister!C593)=TRUE,\"\",Vrijwilligersregister!C593)","v":""},{"$f":"IF(ISBLANK(Vrijwilligersregister!C593)=TRUE,\"\",SUMIF('Nominatieve lijst'!$D$8:$D$10007,C593,'Nominatieve lijst'!$G$8:$G$10007))","v":""},{"$f":"IF(ISBLANK(Vrijwilligersregister!C593)=TRUE,\"\",SUMIF('Nominatieve lijst'!$D$8:$D$10007,C593,'Nominatieve lijst'!$H$8:$H$10007))","v":""},{"$f":"IF(ISBLANK(Vrijwilligersregister!C593)=TRUE,\"\",SUMIF('Nominatieve lijst'!$D$8:$D$10007,C593,'Nominatieve lijst'!$J$8:$J$10007))","v":""},{"$f":"IF(ISBLANK(Vrijwilligersregister!C593)=TRUE,\"\",D593+F593)","v":""},{"$f":"Vrijwilligersregister!L593","v":0}]
[null,588,{"$f":"IF(ISBLANK(Vrijwilligersregister!C594)=TRUE,\"\",Vrijwilligersregister!C594)","v":""},{"$f":"IF(ISBLANK(Vrijwilligersregister!C594)=TRUE,\"\",SUMIF('Nominatieve lijst'!$D$8:$D$10007,C594,'Nominatieve lijst'!$G$8:$G$10007))","v":""},{"$f":"IF(ISBLANK(Vrijwilligersregister!C594)=TRUE,\"\",SUMIF('Nominatieve lijst'!$D$8:$D$10007,C594,'Nominatieve lijst'!$H$8:$H$10007))","v":""},{"$f":"IF(ISBLANK(Vrijwilligersregister!C594)=TRUE,\"\",SUMIF('Nominatieve lijst'!$D$8:$D$10007,C594,'Nominatieve lijst'!$J$8:$J$10007))","v":""},{"$f":"IF(ISBLANK(Vrijwilligersregister!C594)=TRUE,\"\",D594+F594)","v":""},{"$f":"Vrijwilligersregister!L594","v":0}]
[null,589,{"$f":"IF(ISBLANK(Vrijwilligersregister!C595)=TRUE,\"\",Vrijwilligersregister!C595)","v":""},{"$f":"IF(ISBLANK(Vrijwilligersregister!C595)=TRUE,\"\",SUMIF('Nominatieve lijst'!$D$8:$D$10007,C595,'Nominatieve lijst'!$G$8:$G$10007))","v":""},{"$f":"IF(ISBLANK(Vrijwilligersregister!C595)=TRUE,\"\",SUMIF('Nominatieve lijst'!$D$8:$D$10007,C595,'Nominatieve lijst'!$H$8:$H$10007))","v":""},{"$f":"IF(ISBLANK(Vrijwilligersregister!C595)=TRUE,\"\",SUMIF('Nominatieve lijst'!$D$8:$D$10007,C595,'Nominatieve lijst'!$J$8:$J$10007))","v":""},{"$f":"IF(ISBLANK(Vrijwilligersregister!C595)=TRUE,\"\",D595+F595)","v":""},{"$f":"Vrijwilligersregister!L595","v":0}]
[null,590,{"$f":"IF(ISBLANK(Vrijwilligersregister!C596)=TRUE,\"\",Vrijwilligersregister!C596)","v":""},{"$f":"IF(ISBLANK(Vrijwilligersregister!C596)=TRUE,\"\",SUMIF('Nominatieve lijst'!$D$8:$D$10007,C596,'Nominatieve lijst'!$G$8:$G$10007))","v":""},{"$f":"IF(ISBLANK(Vrijwilligersregister!C596)=TRUE,\"\",SUMIF('Nominatieve lijst'!$D$8:$D$10007,C596,'Nominatieve lijst'!$H$8:$H$10007))","v":""},{"$f":"IF(ISBLANK(Vrijwilligersregister!C596)=TRUE,\"\",SUMIF('Nominatieve lijst'!$D$8:$D$10007,C596,'Nominatieve lijst'!$J$8:$J$10007))","v":""},{"$f":"IF(ISBLANK(Vrijwilligersregister!C596)=TRUE,\"\",D596+F596)","v":""},{"$f":"Vrijwilligersregister!L596","v":0}]
[null,591,{"$f":"IF(ISBLANK(Vrijwilligersregister!C597)=TRUE,\"\",Vrijwilligersregister!C597)","v":""},{"$f":"IF(ISBLANK(Vrijwilligersregister!C597)=TRUE,\"\",SUMIF('Nominatieve lijst'!$D$8:$D$10007,C597,'Nominatieve lijst'!$G$8:$G$10007))","v":""},{"$f":"IF(ISBLANK(Vrijwilligersregister!C597)=TRUE,\"\",SUMIF('Nominatieve lijst'!$D$8:$D$10007,C597,'Nominatieve lijst'!$H$8:$H$10007))","v":""},{"$f":"IF(ISBLANK(Vrijwilligersregister!C597)=TRUE,\"\",SUMIF('Nominatieve lijst'!$D$8:$D$10007,C597,'Nominatieve lijst'!$J$8:$J$10007))","v":""},{"$f":"IF(ISBLANK(Vrijwilligersregister!C597)=TRUE,\"\",D597+F597)","v":""},{"$f":"Vrijwilligersregister!L597","v":0}]
[null,592,{"$f":"IF(ISBLANK(Vrijwilligersregister!C598)=TRUE,\"\",Vrijwilligersregister!C598)","v":""},{"$f":"IF(ISBLANK(Vrijwilligersregister!C598)=TRUE,\"\",SUMIF('Nominatieve lijst'!$D$8:$D$10007,C598,'Nominatieve lijst'!$G$8:$G$10007))","v":""},{"$f":"IF(ISBLANK(Vrijwilligersregister!C598)=TRUE,\"\",SUMIF('Nominatieve lijst'!$D$8:$D$10007,C598,'Nominatieve lijst'!$H$8:$H$10007))","v":""},{"$f":"IF(ISBLANK(Vrijwilligersregister!C598)=TRUE,\"\",SUMIF('Nominatieve lijst'!$D$8:$D$10007,C598,'Nominatieve lijst'!$J$8:$J$10007))","v":""},{"$f":"IF(ISBLANK(Vrijwilligersregister!C598)=TRUE,\"\",D598+F598)","v":""},{"$f":"Vrijwilligersregister!L598","v":0}]
[null,593,{"$f":"IF(ISBLANK(Vrijwilligersregister!C599)=TRUE,\"\",Vrijwilligersregister!C599)","v":""},{"$f":"IF(ISBLANK(Vrijwilligersregister!C599)=TRUE,\"\",SUMIF('Nominatieve lijst'!$D$8:$D$10007,C599,'Nominatieve lijst'!$G$8:$G$10007))","v":""},{"$f":"IF(ISBLANK(Vrijwilligersregister!C599)=TRUE,\"\",SUMIF('Nominatieve lijst'!$D$8:$D$10007,C599,'Nominatieve lijst'!$H$8:$H$10007))","v":""},{"$f":"IF(ISBLANK(Vrijwilligersregister!C599)=TRUE,\"\",SUMIF('Nominatieve lijst'!$D$8:$D$10007,C599,'Nominatieve lijst'!$J$8:$J$10007))","v":""},{"$f":"IF(ISBLANK(Vrijwilligersregister!C599)=TRUE,\"\",D599+F599)","v":""},{"$f":"Vrijwilligersregister!L599","v":0}]
[null,594,{"$f":"IF(ISBLANK(Vrijwilligersregister!C600)=TRUE,\"\",Vrijwilligersregister!C600)","v":""},{"$f":"IF(ISBLANK(Vrijwilligersregister!C600)=TRUE,\"\",SUMIF('Nominatieve lijst'!$D$8:$D$10007,C600,'Nominatieve lijst'!$G$8:$G$10007))","v":""},{"$f":"IF(ISBLANK(Vrijwilligersregister!C600)=TRUE,\"\",SUMIF('Nominatieve lijst'!$D$8:$D$10007,C600,'Nominatieve lijst'!$H$8:$H$10007))","v":""},{"$f":"IF(ISBLANK(Vrijwilligersregister!C600)=TRUE,\"\",SUMIF('Nominatieve lijst'!$D$8:$D$10007,C600,'Nominatieve lijst'!$J$8:$J$10007))","v":""},{"$f":"IF(ISBLANK(Vrijwilligersregister!C600)=TRUE,\"\",D600+F600)","v":""},{"$f":"Vrijwilligersregister!L600","v":0}]
[null,595,{"$f":"IF(ISBLANK(Vrijwilligersregister!C601)=TRUE,\"\",Vrijwilligersregister!C601)","v":""},{"$f":"IF(ISBLANK(Vrijwilligersregister!C601)=TRUE,\"\",SUMIF('Nominatieve lijst'!$D$8:$D$10007,C601,'Nominatieve lijst'!$G$8:$G$10007))","v":""},{"$f":"IF(ISBLANK(Vrijwilligersregister!C601)=TRUE,\"\",SUMIF('Nominatieve lijst'!$D$8:$D$10007,C601,'Nominatieve lijst'!$H$8:$H$10007))","v":""},{"$f":"IF(ISBLANK(Vrijwilligersregister!C601)=TRUE,\"\",SUMIF('Nominatieve lijst'!$D$8:$D$10007,C601,'Nominatieve lijst'!$J$8:$J$10007))","v":""},{"$f":"IF(ISBLANK(Vrijwilligersregister!C601)=TRUE,\"\",D601+F601)","v":""},{"$f":"Vrijwilligersregister!L601","v":0}]
[null,596,{"$f":"IF(ISBLANK(Vrijwilligersregister!C602)=TRUE,\"\",Vrijwilligersregister!C602)","v":""},{"$f":"IF(ISBLANK(Vrijwilligersregister!C602)=TRUE,\"\",SUMIF('Nominatieve lijst'!$D$8:$D$10007,C602,'Nominatieve lijst'!$G$8:$G$10007))","v":""},{"$f":"IF(ISBLANK(Vrijwilligersregister!C602)=TRUE,\"\",SUMIF('Nominatieve lijst'!$D$8:$D$10007,C602,'Nominatieve lijst'!$H$8:$H$10007))","v":""},{"$f":"IF(ISBLANK(Vrijwilligersregister!C602)=TRUE,\"\",SUMIF('Nominatieve lijst'!$D$8:$D$10007,C602,'Nominatieve lijst'!$J$8:$J$10007))","v":""},{"$f":"IF(ISBLANK(Vrijwilligersregister!C602)=TRUE,\"\",D602+F602)","v":""},{"$f":"Vrijwilligersregister!L602","v":0}]
[null,597,{"$f":"IF(ISBLANK(Vrijwilligersregister!C603)=TRUE,\"\",Vrijwilligersregister!C603)","v":""},{"$f":"IF(ISBLANK(Vrijwilligersregister!C603)=TRUE,\"\",SUMIF('Nominatieve lijst'!$D$8:$D$10007,C603,'Nominatieve lijst'!$G$8:$G$10007))","v":""},{"$f":"IF(ISBLANK(Vrijwilligersregister!C603)=TRUE,\"\",SUMIF('Nominatieve lijst'!$D$8:$D$10007,C603,'Nominatieve lijst'!$H$8:$H$10007))","v":""},{"$f":"IF(ISBLANK(Vrijwilligersregister!C603)=TRUE,\"\",SUMIF('Nominatieve lijst'!$D$8:$D$10007,C603,'Nominatieve lijst'!$J$8:$J$10007))","v":""},{"$f":"IF(ISBLANK(Vrijwilligersregister!C603)=TRUE,\"\",D603+F603)","v":""},{"$f":"Vrijwilligersregister!L603","v":0}]
[null,598,{"$f":"IF(ISBLANK(Vrijwilligersregister!C604)=TRUE,\"\",Vrijwilligersregister!C604)","v":""},{"$f":"IF(ISBLANK(Vrijwilligersregister!C604)=TRUE,\"\",SUMIF('Nominatieve lijst'!$D$8:$D$10007,C604,'Nominatieve lijst'!$G$8:$G$10007))","v":""},{"$f":"IF(ISBLANK(Vrijwilligersregister!C604)=TRUE,\"\",SUMIF('Nominatieve lijst'!$D$8:$D$10007,C604,'Nominatieve lijst'!$H$8:$H$10007))","v":""},{"$f":"IF(ISBLANK(Vrijwilligersregister!C604)=TRUE,\"\",SUMIF('Nominatieve lijst'!$D$8:$D$10007,C604,'Nominatieve lijst'!$J$8:$J$10007))","v":""},{"$f":"IF(ISBLANK(Vrijwilligersregister!C604)=TRUE,\"\",D604+F604)","v":""},{"$f":"Vrijwilligersregister!L604","v":0}]
[null,599,{"$f":"IF(ISBLANK(Vrijwilligersregister!C605)=TRUE,\"\",Vrijwilligersregister!C605)","v":""},{"$f":"IF(ISBLANK(Vrijwilligersregister!C605)=TRUE,\"\",SUMIF('Nominatieve lijst'!$D$8:$D$10007,C605,'Nominatieve lijst'!$G$8:$G$10007))","v":""},{"$f":"IF(ISBLANK(Vrijwilligersregister!C605)=TRUE,\"\",SUMIF('Nominatieve lijst'!$D$8:$D$10007,C605,'Nominatieve lijst'!$H$8:$H$10007))","v":""},{"$f":"IF(ISBLANK(Vrijwilligersregister!C605)=TRUE,\"\",SUMIF('Nominatieve lijst'!$D$8:$D$10007,C605,'Nominatieve lijst'!$J$8:$J$10007))","v":""},{"$f":"IF(ISBLANK(Vrijwilligersregister!C605)=TRUE,\"\",D605+F605)","v":""},{"$f":"Vrijwilligersregister!L605","v":0}]
[null,600,{"$f":"IF(ISBLANK(Vrijwilligersregister!C606)=TRUE,\"\",Vrijwilligersregister!C606)","v":""},{"$f":"IF(ISBLANK(Vrijwilligersregister!C606)=TRUE,\"\",SUMIF('Nominatieve lijst'!$D$8:$D$10007,C606,'Nominatieve lijst'!$G$8:$G$10007))","v":""},{"$f":"IF(ISBLANK(Vrijwilligersregister!C606)=TRUE,\"\",SUMIF('Nominatieve lijst'!$D$8:$D$10007,C606,'Nominatieve lijst'!$H$8:$H$10007))","v":""},{"$f":"IF(ISBLANK(Vrijwilligersregister!C606)=TRUE,\"\",SUMIF('Nominatieve lijst'!$D$8:$D$10007,C606,'Nominatieve lijst'!$J$8:$J$10007))","v":""},{"$f":"IF(ISBLANK(Vrijwilligersregister!C606)=TRUE,\"\",D606+F606)","v":""},{"$f":"Vrijwilligersregister!L606","v":0}]
[null,601,{"$f":"IF(ISBLANK(Vrijwilligersregister!C607)=TRUE,\"\",Vrijwilligersregister!C607)","v":""},{"$f":"IF(ISBLANK(Vrijwilligersregister!C607)=TRUE,\"\",SUMIF('Nominatieve lijst'!$D$8:$D$10007,C607,'Nominatieve lijst'!$G$8:$G$10007))","v":""},{"$f":"IF(ISBLANK(Vrijwilligersregister!C607)=TRUE,\"\",SUMIF('Nominatieve lijst'!$D$8:$D$10007,C607,'Nominatieve lijst'!$H$8:$H$10007))","v":""},{"$f":"IF(ISBLANK(Vrijwilligersregister!C607)=TRUE,\"\",SUMIF('Nominatieve lijst'!$D$8:$D$10007,C607,'Nominatieve lijst'!$J$8:$J$10007))","v":""},{"$f":"IF(ISBLANK(Vrijwilligersregister!C607)=TRUE,\"\",D607+F607)","v":""},{"$f":"Vrijwilligersregister!L607","v":0}]
[null,602,{"$f":"IF(ISBLANK(Vrijwilligersregister!C608)=TRUE,\"\",Vrijwilligersregister!C608)","v":""},{"$f":"IF(ISBLANK(Vrijwilligersregister!C608)=TRUE,\"\",SUMIF('Nominatieve lijst'!$D$8:$D$10007,C608,'Nominatieve lijst'!$G$8:$G$10007))","v":""},{"$f":"IF(ISBLANK(Vrijwilligersregister!C608)=TRUE,\"\",SUMIF('Nominatieve lijst'!$D$8:$D$10007,C608,'Nominatieve lijst'!$H$8:$H$10007))","v":""},{"$f":"IF(ISBLANK(Vrijwilligersregister!C608)=TRUE,\"\",SUMIF('Nominatieve lijst'!$D$8:$D$10007,C608,'Nominatieve lijst'!$J$8:$J$10007))","v":""},{"$f":"IF(ISBLANK(Vrijwilligersregister!C608)=TRUE,\"\",D608+F608)","v":""},{"$f":"Vrijwilligersregister!L608","v":0}]
[null,603,{"$f":"IF(ISBLANK(Vrijwilligersregister!C609)=TRUE,\"\",Vrijwilligersregister!C609)","v":""},{"$f":"IF(ISBLANK(Vrijwilligersregister!C609)=TRUE,\"\",SUMIF('Nominatieve lijst'!$D$8:$D$10007,C609,'Nominatieve lijst'!$G$8:$G$10007))","v":""},{"$f":"IF(ISBLANK(Vrijwilligersregister!C609)=TRUE,\"\",SUMIF('Nominatieve lijst'!$D$8:$D$10007,C609,'Nominatieve lijst'!$H$8:$H$10007))","v":""},{"$f":"IF(ISBLANK(Vrijwilligersregister!C609)=TRUE,\"\",SUMIF('Nominatieve lijst'!$D$8:$D$10007,C609,'Nominatieve lijst'!$J$8:$J$10007))","v":""},{"$f":"IF(ISBLANK(Vrijwilligersregister!C609)=TRUE,\"\",D609+F609)","v":""},{"$f":"Vrijwilligersregister!L609","v":0}]
[null,604,{"$f":"IF(ISBLANK(Vrijwilligersregister!C610)=TRUE,\"\",Vrijwilligersregister!C610)","v":""},{"$f":"IF(ISBLANK(Vrijwilligersregister!C610)=TRUE,\"\",SUMIF('Nominatieve lijst'!$D$8:$D$10007,C610,'Nominatieve lijst'!$G$8:$G$10007))","v":""},{"$f":"IF(ISBLANK(Vrijwilligersregister!C610)=TRUE,\"\",SUMIF('Nominatieve lijst'!$D$8:$D$10007,C610,'Nominatieve lijst'!$H$8:$H$10007))","v":""},{"$f":"IF(ISBLANK(Vrijwilligersregister!C610)=TRUE,\"\",SUMIF('Nominatieve lijst'!$D$8:$D$10007,C610,'Nominatieve lijst'!$J$8:$J$10007))","v":""},{"$f":"IF(ISBLANK(Vrijwilligersregister!C610)=TRUE,\"\",D610+F610)","v":""},{"$f":"Vrijwilligersregister!L610","v":0}]
[null,605,{"$f":"IF(ISBLANK(Vrijwilligersregister!C611)=TRUE,\"\",Vrijwilligersregister!C611)","v":""},{"$f":"IF(ISBLANK(Vrijwilligersregister!C611)=TRUE,\"\",SUMIF('Nominatieve lijst'!$D$8:$D$10007,C611,'Nominatieve lijst'!$G$8:$G$10007))","v":""},{"$f":"IF(ISBLANK(Vrijwilligersregister!C611)=TRUE,\"\",SUMIF('Nominatieve lijst'!$D$8:$D$10007,C611,'Nominatieve lijst'!$H$8:$H$10007))","v":""},{"$f":"IF(ISBLANK(Vrijwilligersregister!C611)=TRUE,\"\",SUMIF('Nominatieve lijst'!$D$8:$D$10007,C611,'Nominatieve lijst'!$J$8:$J$10007))","v":""},{"$f":"IF(ISBLANK(Vrijwilligersregister!C611)=TRUE,\"\",D611+F611)","v":""},{"$f":"Vrijwilligersregister!L611","v":0}]
[null,606,{"$f":"IF(ISBLANK(Vrijwilligersregister!C612)=TRUE,\"\",Vrijwilligersregister!C612)","v":""},{"$f":"IF(ISBLANK(Vrijwilligersregister!C612)=TRUE,\"\",SUMIF('Nominatieve lijst'!$D$8:$D$10007,C612,'Nominatieve lijst'!$G$8:$G$10007))","v":""},{"$f":"IF(ISBLANK(Vrijwilligersregister!C612)=TRUE,\"\",SUMIF('Nominatieve lijst'!$D$8:$D$10007,C612,'Nominatieve lijst'!$H$8:$H$10007))","v":""},{"$f":"IF(ISBLANK(Vrijwilligersregister!C612)=TRUE,\"\",SUMIF('Nominatieve lijst'!$D$8:$D$10007,C612,'Nominatieve lijst'!$J$8:$J$10007))","v":""},{"$f":"IF(ISBLANK(Vrijwilligersregister!C612)=TRUE,\"\",D612+F612)","v":""},{"$f":"Vrijwilligersregister!L612","v":0}]
[null,607,{"$f":"IF(ISBLANK(Vrijwilligersregister!C613)=TRUE,\"\",Vrijwilligersregister!C613)","v":""},{"$f":"IF(ISBLANK(Vrijwilligersregister!C613)=TRUE,\"\",SUMIF('Nominatieve lijst'!$D$8:$D$10007,C613,'Nominatieve lijst'!$G$8:$G$10007))","v":""},{"$f":"IF(ISBLANK(Vrijwilligersregister!C613)=TRUE,\"\",SUMIF('Nominatieve lijst'!$D$8:$D$10007,C613,'Nominatieve lijst'!$H$8:$H$10007))","v":""},{"$f":"IF(ISBLANK(Vrijwilligersregister!C613)=TRUE,\"\",SUMIF('Nominatieve lijst'!$D$8:$D$10007,C613,'Nominatieve lijst'!$J$8:$J$10007))","v":""},{"$f":"IF(ISBLANK(Vrijwilligersregister!C613)=TRUE,\"\",D613+F613)","v":""},{"$f":"Vrijwilligersregister!L613","v":0}]
[null,608,{"$f":"IF(ISBLANK(Vrijwilligersregister!C614)=TRUE,\"\",Vrijwilligersregister!C614)","v":""},{"$f":"IF(ISBLANK(Vrijwilligersregister!C614)=TRUE,\"\",SUMIF('Nominatieve lijst'!$D$8:$D$10007,C614,'Nominatieve lijst'!$G$8:$G$10007))","v":""},{"$f":"IF(ISBLANK(Vrijwilligersregister!C614)=TRUE,\"\",SUMIF('Nominatieve lijst'!$D$8:$D$10007,C614,'Nominatieve lijst'!$H$8:$H$10007))","v":""},{"$f":"IF(ISBLANK(Vrijwilligersregister!C614)=TRUE,\"\",SUMIF('Nominatieve lijst'!$D$8:$D$10007,C614,'Nominatieve lijst'!$J$8:$J$10007))","v":""},{"$f":"IF(ISBLANK(Vrijwilligersregister!C614)=TRUE,\"\",D614+F614)","v":""},{"$f":"Vrijwilligersregister!L614","v":0}]
[null,609,{"$f":"IF(ISBLANK(Vrijwilligersregister!C615)=TRUE,\"\",Vrijwilligersregister!C615)","v":""},{"$f":"IF(ISBLANK(Vrijwilligersregister!C615)=TRUE,\"\",SUMIF('Nominatieve lijst'!$D$8:$D$10007,C615,'Nominatieve lijst'!$G$8:$G$10007))","v":""},{"$f":"IF(ISBLANK(Vrijwilligersregister!C615)=TRUE,\"\",SUMIF('Nominatieve lijst'!$D$8:$D$10007,C615,'Nominatieve lijst'!$H$8:$H$10007))","v":""},{"$f":"IF(ISBLANK(Vrijwilligersregister!C615)=TRUE,\"\",SUMIF('Nominatieve lijst'!$D$8:$D$10007,C615,'Nominatieve lijst'!$J$8:$J$10007))","v":""},{"$f":"IF(ISBLANK(Vrijwilligersregister!C615)=TRUE,\"\",D615+F615)","v":""},{"$f":"Vrijwilligersregister!L615","v":0}]
[null,610,{"$f":"IF(ISBLANK(Vrijwilligersregister!C616)=TRUE,\"\",Vrijwilligersregister!C616)","v":""},{"$f":"IF(ISBLANK(Vrijwilligersregister!C616)=TRUE,\"\",SUMIF('Nominatieve lijst'!$D$8:$D$10007,C616,'Nominatieve lijst'!$G$8:$G$10007))","v":""},{"$f":"IF(ISBLANK(Vrijwilligersregister!C616)=TRUE,\"\",SUMIF('Nominatieve lijst'!$D$8:$D$10007,C616,'Nominatieve lijst'!$H$8:$H$10007))","v":""},{"$f":"IF(ISBLANK(Vrijwilligersregister!C616)=TRUE,\"\",SUMIF('Nominatieve lijst'!$D$8:$D$10007,C616,'Nominatieve lijst'!$J$8:$J$10007))","v":""},{"$f":"IF(ISBLANK(Vrijwilligersregister!C616)=TRUE,\"\",D616+F616)","v":""},{"$f":"Vrijwilligersregister!L616","v":0}]
[null,611,{"$f":"IF(ISBLANK(Vrijwilligersregister!C617)=TRUE,\"\",Vrijwilligersregister!C617)","v":""},{"$f":"IF(ISBLANK(Vrijwilligersregister!C617)=TRUE,\"\",SUMIF('Nominatieve lijst'!$D$8:$D$10007,C617,'Nominatieve lijst'!$G$8:$G$10007))","v":""},{"$f":"IF(ISBLANK(Vrijwilligersregister!C617)=TRUE,\"\",SUMIF('Nominatieve lijst'!$D$8:$D$10007,C617,'Nominatieve lijst'!$H$8:$H$10007))","v":""},{"$f":"IF(ISBLANK(Vrijwilligersregister!C617)=TRUE,\"\",SUMIF('Nominatieve lijst'!$D$8:$D$10007,C617,'Nominatieve lijst'!$J$8:$J$10007))","v":""},{"$f":"IF(ISBLANK(Vrijwilligersregister!C617)=TRUE,\"\",D617+F617)","v":""},{"$f":"Vrijwilligersregister!L617","v":0}]
[null,612,{"$f":"IF(ISBLANK(Vrijwilligersregister!C618)=TRUE,\"\",Vrijwilligersregister!C618)","v":""},{"$f":"IF(ISBLANK(Vrijwilligersregister!C618)=TRUE,\"\",SUMIF('Nominatieve lijst'!$D$8:$D$10007,C618,'Nominatieve lijst'!$G$8:$G$10007))","v":""},{"$f":"IF(ISBLANK(Vrijwilligersregister!C618)=TRUE,\"\",SUMIF('Nominatieve lijst'!$D$8:$D$10007,C618,'Nominatieve lijst'!$H$8:$H$10007))","v":""},{"$f":"IF(ISBLANK(Vrijwilligersregister!C618)=TRUE,\"\",SUMIF('Nominatieve lijst'!$D$8:$D$10007,C618,'Nominatieve lijst'!$J$8:$J$10007))","v":""},{"$f":"IF(ISBLANK(Vrijwilligersregister!C618)=TRUE,\"\",D618+F618)","v":""},{"$f":"Vrijwilligersregister!L618","v":0}]
[null,613,{"$f":"IF(ISBLANK(Vrijwilligersregister!C619)=TRUE,\"\",Vrijwilligersregister!C619)","v":""},{"$f":"IF(ISBLANK(Vrijwilligersregister!C619)=TRUE,\"\",SUMIF('Nominatieve lijst'!$D$8:$D$10007,C619,'Nominatieve lijst'!$G$8:$G$10007))","v":""},{"$f":"IF(ISBLANK(Vrijwilligersregister!C619)=TRUE,\"\",SUMIF('Nominatieve lijst'!$D$8:$D$10007,C619,'Nominatieve lijst'!$H$8:$H$10007))","v":""},{"$f":"IF(ISBLANK(Vrijwilligersregister!C619)=TRUE,\"\",SUMIF('Nominatieve lijst'!$D$8:$D$10007,C619,'Nominatieve lijst'!$J$8:$J$10007))","v":""},{"$f":"IF(ISBLANK(Vrijwilligersregister!C619)=TRUE,\"\",D619+F619)","v":""},{"$f":"Vrijwilligersregister!L619","v":0}]
[null,614,{"$f":"IF(ISBLANK(Vrijwilligersregister!C620)=TRUE,\"\",Vrijwilligersregister!C620)","v":""},{"$f":"IF(ISBLANK(Vrijwilligersregister!C620)=TRUE,\"\",SUMIF('Nominatieve lijst'!$D$8:$D$10007,C620,'Nominatieve lijst'!$G$8:$G$10007))","v":""},{"$f":"IF(ISBLANK(Vrijwilligersregister!C620)=TRUE,\"\",SUMIF('Nominatieve lijst'!$D$8:$D$10007,C620,'Nominatieve lijst'!$H$8:$H$10007))","v":""},{"$f":"IF(ISBLANK(Vrijwilligersregister!C620)=TRUE,\"\",SUMIF('Nominatieve lijst'!$D$8:$D$10007,C620,'Nominatieve lijst'!$J$8:$J$10007))","v":""},{"$f":"IF(ISBLANK(Vrijwilligersregister!C620)=TRUE,\"\",D620+F620)","v":""},{"$f":"Vrijwilligersregister!L620","v":0}]
[null,615,{"$f":"IF(ISBLANK(Vrijwilligersregister!C621)=TRUE,\"\",Vrijwilligersregister!C621)","v":""},{"$f":"IF(ISBLANK(Vrijwilligersregister!C621)=TRUE,\"\",SUMIF('Nominatieve lijst'!$D$8:$D$10007,C621,'Nominatieve lijst'!$G$8:$G$10007))","v":""},{"$f":"IF(ISBLANK(Vrijwilligersregister!C621)=TRUE,\"\",SUMIF('Nominatieve lijst'!$D$8:$D$10007,C621,'Nominatieve lijst'!$H$8:$H$10007))","v":""},{"$f":"IF(ISBLANK(Vrijwilligersregister!C621)=TRUE,\"\",SUMIF('Nominatieve lijst'!$D$8:$D$10007,C621,'Nominatieve lijst'!$J$8:$J$10007))","v":""},{"$f":"IF(ISBLANK(Vrijwilligersregister!C621)=TRUE,\"\",D621+F621)","v":""},{"$f":"Vrijwilligersregister!L621","v":0}]
[null,616,{"$f":"IF(ISBLANK(Vrijwilligersregister!C622)=TRUE,\"\",Vrijwilligersregister!C622)","v":""},{"$f":"IF(ISBLANK(Vrijwilligersregister!C622)=TRUE,\"\",SUMIF('Nominatieve lijst'!$D$8:$D$10007,C622,'Nominatieve lijst'!$G$8:$G$10007))","v":""},{"$f":"IF(ISBLANK(Vrijwilligersregister!C622)=TRUE,\"\",SUMIF('Nominatieve lijst'!$D$8:$D$10007,C622,'Nominatieve lijst'!$H$8:$H$10007))","v":""},{"$f":"IF(ISBLANK(Vrijwilligersregister!C622)=TRUE,\"\",SUMIF('Nominatieve lijst'!$D$8:$D$10007,C622,'Nominatieve lijst'!$J$8:$J$10007))","v":""},{"$f":"IF(ISBLANK(Vrijwilligersregister!C622)=TRUE,\"\",D622+F622)","v":""},{"$f":"Vrijwilligersregister!L622","v":0}]
[null,617,{"$f":"IF(ISBLANK(Vrijwilligersregister!C623)=TRUE,\"\",Vrijwilligersregister!C623)","v":""},{"$f":"IF(ISBLANK(Vrijwilligersregister!C623)=TRUE,\"\",SUMIF('Nominatieve lijst'!$D$8:$D$10007,C623,'Nominatieve lijst'!$G$8:$G$10007))","v":""},{"$f":"IF(ISBLANK(Vrijwilligersregister!C623)=TRUE,\"\",SUMIF('Nominatieve lijst'!$D$8:$D$10007,C623,'Nominatieve lijst'!$H$8:$H$10007))","v":""},{"$f":"IF(ISBLANK(Vrijwilligersregister!C623)=TRUE,\"\",SUMIF('Nominatieve lijst'!$D$8:$D$10007,C623,'Nominatieve lijst'!$J$8:$J$10007))","v":""},{"$f":"IF(ISBLANK(Vrijwilligersregister!C623)=TRUE,\"\",D623+F623)","v":""},{"$f":"Vrijwilligersregister!L623","v":0}]
[null,618,{"$f":"IF(ISBLANK(Vrijwilligersregister!C624)=TRUE,\"\",Vrijwilligersregister!C624)","v":""},{"$f":"IF(ISBLANK(Vrijwilligersregister!C624)=TRUE,\"\",SUMIF('Nominatieve lijst'!$D$8:$D$10007,C624,'Nominatieve lijst'!$G$8:$G$10007))","v":""},{"$f":"IF(ISBLANK(Vrijwilligersregister!C624)=TRUE,\"\",SUMIF('Nominatieve lijst'!$D$8:$D$10007,C624,'Nominatieve lijst'!$H$8:$H$10007))","v":""},{"$f":"IF(ISBLANK(Vrijwilligersregister!C624)=TRUE,\"\",SUMIF('Nominatieve lijst'!$D$8:$D$10007,C624,'Nominatieve lijst'!$J$8:$J$10007))","v":""},{"$f":"IF(ISBLANK(Vrijwilligersregister!C624)=TRUE,\"\",D624+F624)","v":""},{"$f":"Vrijwilligersregister!L624","v":0}]
[null,619,{"$f":"IF(ISBLANK(Vrijwilligersregister!C625)=TRUE,\"\",Vrijwilligersregister!C625)","v":""},{"$f":"IF(ISBLANK(Vrijwilligersregister!C625)=TRUE,\"\",SUMIF('Nominatieve lijst'!$D$8:$D$10007,C625,'Nominatieve lijst'!$G$8:$G$10007))","v":""},{"$f":"IF(ISBLANK(Vrijwilligersregister!C625)=TRUE,\"\",SUMIF('Nominatieve lijst'!$D$8:$D$10007,C625,'Nominatieve lijst'!$H$8:$H$10007))","v":""},{"$f":"IF(ISBLANK(Vrijwilligersregister!C625)=TRUE,\"\",SUMIF('Nominatieve lijst'!$D$8:$D$10007,C625,'Nominatieve lijst'!$J$8:$J$10007))","v":""},{"$f":"IF(ISBLANK(Vrijwilligersregister!C625)=TRUE,\"\",D625+F625)","v":""},{"$f":"Vrijwilligersregister!L625","v":0}]
[null,620,{"$f":"IF(ISBLANK(Vrijwilligersregister!C626)=TRUE,\"\",Vrijwilligersregister!C626)","v":""},{"$f":"IF(ISBLANK(Vrijwilligersregister!C626)=TRUE,\"\",SUMIF('Nominatieve lijst'!$D$8:$D$10007,C626,'Nominatieve lijst'!$G$8:$G$10007))","v":""},{"$f":"IF(ISBLANK(Vrijwilligersregister!C626)=TRUE,\"\",SUMIF('Nominatieve lijst'!$D$8:$D$10007,C626,'Nominatieve lijst'!$H$8:$H$10007))","v":""},{"$f":"IF(ISBLANK(Vrijwilligersregister!C626)=TRUE,\"\",SUMIF('Nominatieve lijst'!$D$8:$D$10007,C626,'Nominatieve lijst'!$J$8:$J$10007))","v":""},{"$f":"IF(ISBLANK(Vrijwilligersregister!C626)=TRUE,\"\",D626+F626)","v":""},{"$f":"Vrijwilligersregister!L626","v":0}]
[null,621,{"$f":"IF(ISBLANK(Vrijwilligersregister!C627)=TRUE,\"\",Vrijwilligersregister!C627)","v":""},{"$f":"IF(ISBLANK(Vrijwilligersregister!C627)=TRUE,\"\",SUMIF('Nominatieve lijst'!$D$8:$D$10007,C627,'Nominatieve lijst'!$G$8:$G$10007))","v":""},{"$f":"IF(ISBLANK(Vrijwilligersregister!C627)=TRUE,\"\",SUMIF('Nominatieve lijst'!$D$8:$D$10007,C627,'Nominatieve lijst'!$H$8:$H$10007))","v":""},{"$f":"IF(ISBLANK(Vrijwilligersregister!C627)=TRUE,\"\",SUMIF('Nominatieve lijst'!$D$8:$D$10007,C627,'Nominatieve lijst'!$J$8:$J$10007))","v":""},{"$f":"IF(ISBLANK(Vrijwilligersregister!C627)=TRUE,\"\",D627+F627)","v":""},{"$f":"Vrijwilligersregister!L627","v":0}]
[null,622,{"$f":"IF(ISBLANK(Vrijwilligersregister!C628)=TRUE,\"\",Vrijwilligersregister!C628)","v":""},{"$f":"IF(ISBLANK(Vrijwilligersregister!C628)=TRUE,\"\",SUMIF('Nominatieve lijst'!$D$8:$D$10007,C628,'Nominatieve lijst'!$G$8:$G$10007))","v":""},{"$f":"IF(ISBLANK(Vrijwilligersregister!C628)=TRUE,\"\",SUMIF('Nominatieve lijst'!$D$8:$D$10007,C628,'Nominatieve lijst'!$H$8:$H$10007))","v":""},{"$f":"IF(ISBLANK(Vrijwilligersregister!C628)=TRUE,\"\",SUMIF('Nominatieve lijst'!$D$8:$D$10007,C628,'Nominatieve lijst'!$J$8:$J$10007))","v":""},{"$f":"IF(ISBLANK(Vrijwilligersregister!C628)=TRUE,\"\",D628+F628)","v":""},{"$f":"Vrijwilligersregister!L628","v":0}]
[null,623,{"$f":"IF(ISBLANK(Vrijwilligersregister!C629)=TRUE,\"\",Vrijwilligersregister!C629)","v":""},{"$f":"IF(ISBLANK(Vrijwilligersregister!C629)=TRUE,\"\",SUMIF('Nominatieve lijst'!$D$8:$D$10007,C629,'Nominatieve lijst'!$G$8:$G$10007))","v":""},{"$f":"IF(ISBLANK(Vrijwilligersregister!C629)=TRUE,\"\",SUMIF('Nominatieve lijst'!$D$8:$D$10007,C629,'Nominatieve lijst'!$H$8:$H$10007))","v":""},{"$f":"IF(ISBLANK(Vrijwilligersregister!C629)=TRUE,\"\",SUMIF('Nominatieve lijst'!$D$8:$D$10007,C629,'Nominatieve lijst'!$J$8:$J$10007))","v":""},{"$f":"IF(ISBLANK(Vrijwilligersregister!C629)=TRUE,\"\",D629+F629)","v":""},{"$f":"Vrijwilligersregister!L629","v":0}]
[null,624,{"$f":"IF(ISBLANK(Vrijwilligersregister!C630)=TRUE,\"\",Vrijwilligersregister!C630)","v":""},{"$f":"IF(ISBLANK(Vrijwilligersregister!C630)=TRUE,\"\",SUMIF('Nominatieve lijst'!$D$8:$D$10007,C630,'Nominatieve lijst'!$G$8:$G$10007))","v":""},{"$f":"IF(ISBLANK(Vrijwilligersregister!C630)=TRUE,\"\",SUMIF('Nominatieve lijst'!$D$8:$D$10007,C630,'Nominatieve lijst'!$H$8:$H$10007))","v":""},{"$f":"IF(ISBLANK(Vrijwilligersregister!C630)=TRUE,\"\",SUMIF('Nominatieve lijst'!$D$8:$D$10007,C630,'Nominatieve lijst'!$J$8:$J$10007))","v":""},{"$f":"IF(ISBLANK(Vrijwilligersregister!C630)=TRUE,\"\",D630+F630)","v":""},{"$f":"Vrijwilligersregister!L630","v":0}]
[null,625,{"$f":"IF(ISBLANK(Vrijwilligersregister!C631)=TRUE,\"\",Vrijwilligersregister!C631)","v":""},{"$f":"IF(ISBLANK(Vrijwilligersregister!C631)=TRUE,\"\",SUMIF('Nominatieve lijst'!$D$8:$D$10007,C631,'Nominatieve lijst'!$G$8:$G$10007))","v":""},{"$f":"IF(ISBLANK(Vrijwilligersregister!C631)=TRUE,\"\",SUMIF('Nominatieve lijst'!$D$8:$D$10007,C631,'Nominatieve lijst'!$H$8:$H$10007))","v":""},{"$f":"IF(ISBLANK(Vrijwilligersregister!C631)=TRUE,\"\",SUMIF('Nominatieve lijst'!$D$8:$D$10007,C631,'Nominatieve lijst'!$J$8:$J$10007))","v":""},{"$f":"IF(ISBLANK(Vrijwilligersregister!C631)=TRUE,\"\",D631+F631)","v":""},{"$f":"Vrijwilligersregister!L631","v":0}]
[null,626,{"$f":"IF(ISBLANK(Vrijwilligersregister!C632)=TRUE,\"\",Vrijwilligersregister!C632)","v":""},{"$f":"IF(ISBLANK(Vrijwilligersregister!C632)=TRUE,\"\",SUMIF('Nominatieve lijst'!$D$8:$D$10007,C632,'Nominatieve lijst'!$G$8:$G$10007))","v":""},{"$f":"IF(ISBLANK(Vrijwilligersregister!C632)=TRUE,\"\",SUMIF('Nominatieve lijst'!$D$8:$D$10007,C632,'Nominatieve lijst'!$H$8:$H$10007))","v":""},{"$f":"IF(ISBLANK(Vrijwilligersregister!C632)=TRUE,\"\",SUMIF('Nominatieve lijst'!$D$8:$D$10007,C632,'Nominatieve lijst'!$J$8:$J$10007))","v":""},{"$f":"IF(ISBLANK(Vrijwilligersregister!C632)=TRUE,\"\",D632+F632)","v":""},{"$f":"Vrijwilligersregister!L632","v":0}]
[null,627,{"$f":"IF(ISBLANK(Vrijwilligersregister!C633)=TRUE,\"\",Vrijwilligersregister!C633)","v":""},{"$f":"IF(ISBLANK(Vrijwilligersregister!C633)=TRUE,\"\",SUMIF('Nominatieve lijst'!$D$8:$D$10007,C633,'Nominatieve lijst'!$G$8:$G$10007))","v":""},{"$f":"IF(ISBLANK(Vrijwilligersregister!C633)=TRUE,\"\",SUMIF('Nominatieve lijst'!$D$8:$D$10007,C633,'Nominatieve lijst'!$H$8:$H$10007))","v":""},{"$f":"IF(ISBLANK(Vrijwilligersregister!C633)=TRUE,\"\",SUMIF('Nominatieve lijst'!$D$8:$D$10007,C633,'Nominatieve lijst'!$J$8:$J$10007))","v":""},{"$f":"IF(ISBLANK(Vrijwilligersregister!C633)=TRUE,\"\",D633+F633)","v":""},{"$f":"Vrijwilligersregister!L633","v":0}]
[null,628,{"$f":"IF(ISBLANK(Vrijwilligersregister!C634)=TRUE,\"\",Vrijwilligersregister!C634)","v":""},{"$f":"IF(ISBLANK(Vrijwilligersregister!C634)=TRUE,\"\",SUMIF('Nominatieve lijst'!$D$8:$D$10007,C634,'Nominatieve lijst'!$G$8:$G$10007))","v":""},{"$f":"IF(ISBLANK(Vrijwilligersregister!C634)=TRUE,\"\",SUMIF('Nominatieve lijst'!$D$8:$D$10007,C634,'Nominatieve lijst'!$H$8:$H$10007))","v":""},{"$f":"IF(ISBLANK(Vrijwilligersregister!C634)=TRUE,\"\",SUMIF('Nominatieve lijst'!$D$8:$D$10007,C634,'Nominatieve lijst'!$J$8:$J$10007))","v":""},{"$f":"IF(ISBLANK(Vrijwilligersregister!C634)=TRUE,\"\",D634+F634)","v":""},{"$f":"Vrijwilligersregister!L634","v":0}]
[null,629,{"$f":"IF(ISBLANK(Vrijwilligersregister!C635)=TRUE,\"\",Vrijwilligersregister!C635)","v":""},{"$f":"IF(ISBLANK(Vrijwilligersregister!C635)=TRUE,\"\",SUMIF('Nominatieve lijst'!$D$8:$D$10007,C635,'Nominatieve lijst'!$G$8:$G$10007))","v":""},{"$f":"IF(ISBLANK(Vrijwilligersregister!C635)=TRUE,\"\",SUMIF('Nominatieve lijst'!$D$8:$D$10007,C635,'Nominatieve lijst'!$H$8:$H$10007))","v":""},{"$f":"IF(ISBLANK(Vrijwilligersregister!C635)=TRUE,\"\",SUMIF('Nominatieve lijst'!$D$8:$D$10007,C635,'Nominatieve lijst'!$J$8:$J$10007))","v":""},{"$f":"IF(ISBLANK(Vrijwilligersregister!C635)=TRUE,\"\",D635+F635)","v":""},{"$f":"Vrijwilligersregister!L635","v":0}]
[null,630,{"$f":"IF(ISBLANK(Vrijwilligersregister!C636)=TRUE,\"\",Vrijwilligersregister!C636)","v":""},{"$f":"IF(ISBLANK(Vrijwilligersregister!C636)=TRUE,\"\",SUMIF('Nominatieve lijst'!$D$8:$D$10007,C636,'Nominatieve lijst'!$G$8:$G$10007))","v":""},{"$f":"IF(ISBLANK(Vrijwilligersregister!C636)=TRUE,\"\",SUMIF('Nominatieve lijst'!$D$8:$D$10007,C636,'Nominatieve lijst'!$H$8:$H$10007))","v":""},{"$f":"IF(ISBLANK(Vrijwilligersregister!C636)=TRUE,\"\",SUMIF('Nominatieve lijst'!$D$8:$D$10007,C636,'Nominatieve lijst'!$J$8:$J$10007))","v":""},{"$f":"IF(ISBLANK(Vrijwilligersregister!C636)=TRUE,\"\",D636+F636)","v":""},{"$f":"Vrijwilligersregister!L636","v":0}]
[null,631,{"$f":"IF(ISBLANK(Vrijwilligersregister!C637)=TRUE,\"\",Vrijwilligersregister!C637)","v":""},{"$f":"IF(ISBLANK(Vrijwilligersregister!C637)=TRUE,\"\",SUMIF('Nominatieve lijst'!$D$8:$D$10007,C637,'Nominatieve lijst'!$G$8:$G$10007))","v":""},{"$f":"IF(ISBLANK(Vrijwilligersregister!C637)=TRUE,\"\",SUMIF('Nominatieve lijst'!$D$8:$D$10007,C637,'Nominatieve lijst'!$H$8:$H$10007))","v":""},{"$f":"IF(ISBLANK(Vrijwilligersregister!C637)=TRUE,\"\",SUMIF('Nominatieve lijst'!$D$8:$D$10007,C637,'Nominatieve lijst'!$J$8:$J$10007))","v":""},{"$f":"IF(ISBLANK(Vrijwilligersregister!C637)=TRUE,\"\",D637+F637)","v":""},{"$f":"Vrijwilligersregister!L637","v":0}]
[null,632,{"$f":"IF(ISBLANK(Vrijwilligersregister!C638)=TRUE,\"\",Vrijwilligersregister!C638)","v":""},{"$f":"IF(ISBLANK(Vrijwilligersregister!C638)=TRUE,\"\",SUMIF('Nominatieve lijst'!$D$8:$D$10007,C638,'Nominatieve lijst'!$G$8:$G$10007))","v":""},{"$f":"IF(ISBLANK(Vrijwilligersregister!C638)=TRUE,\"\",SUMIF('Nominatieve lijst'!$D$8:$D$10007,C638,'Nominatieve lijst'!$H$8:$H$10007))","v":""},{"$f":"IF(ISBLANK(Vrijwilligersregister!C638)=TRUE,\"\",SUMIF('Nominatieve lijst'!$D$8:$D$10007,C638,'Nominatieve lijst'!$J$8:$J$10007))","v":""},{"$f":"IF(ISBLANK(Vrijwilligersregister!C638)=TRUE,\"\",D638+F638)","v":""},{"$f":"Vrijwilligersregister!L638","v":0}]
[null,633,{"$f":"IF(ISBLANK(Vrijwilligersregister!C639)=TRUE,\"\",Vrijwilligersregister!C639)","v":""},{"$f":"IF(ISBLANK(Vrijwilligersregister!C639)=TRUE,\"\",SUMIF('Nominatieve lijst'!$D$8:$D$10007,C639,'Nominatieve lijst'!$G$8:$G$10007))","v":""},{"$f":"IF(ISBLANK(Vrijwilligersregister!C639)=TRUE,\"\",SUMIF('Nominatieve lijst'!$D$8:$D$10007,C639,'Nominatieve lijst'!$H$8:$H$10007))","v":""},{"$f":"IF(ISBLANK(Vrijwilligersregister!C639)=TRUE,\"\",SUMIF('Nominatieve lijst'!$D$8:$D$10007,C639,'Nominatieve lijst'!$J$8:$J$10007))","v":""},{"$f":"IF(ISBLANK(Vrijwilligersregister!C639)=TRUE,\"\",D639+F639)","v":""},{"$f":"Vrijwilligersregister!L639","v":0}]
[null,634,{"$f":"IF(ISBLANK(Vrijwilligersregister!C640)=TRUE,\"\",Vrijwilligersregister!C640)","v":""},{"$f":"IF(ISBLANK(Vrijwilligersregister!C640)=TRUE,\"\",SUMIF('Nominatieve lijst'!$D$8:$D$10007,C640,'Nominatieve lijst'!$G$8:$G$10007))","v":""},{"$f":"IF(ISBLANK(Vrijwilligersregister!C640)=TRUE,\"\",SUMIF('Nominatieve lijst'!$D$8:$D$10007,C640,'Nominatieve lijst'!$H$8:$H$10007))","v":""},{"$f":"IF(ISBLANK(Vrijwilligersregister!C640)=TRUE,\"\",SUMIF('Nominatieve lijst'!$D$8:$D$10007,C640,'Nominatieve lijst'!$J$8:$J$10007))","v":""},{"$f":"IF(ISBLANK(Vrijwilligersregister!C640)=TRUE,\"\",D640+F640)","v":""},{"$f":"Vrijwilligersregister!L640","v":0}]
[null,635,{"$f":"IF(ISBLANK(Vrijwilligersregister!C641)=TRUE,\"\",Vrijwilligersregister!C641)","v":""},{"$f":"IF(ISBLANK(Vrijwilligersregister!C641)=TRUE,\"\",SUMIF('Nominatieve lijst'!$D$8:$D$10007,C641,'Nominatieve lijst'!$G$8:$G$10007))","v":""},{"$f":"IF(ISBLANK(Vrijwilligersregister!C641)=TRUE,\"\",SUMIF('Nominatieve lijst'!$D$8:$D$10007,C641,'Nominatieve lijst'!$H$8:$H$10007))","v":""},{"$f":"IF(ISBLANK(Vrijwilligersregister!C641)=TRUE,\"\",SUMIF('Nominatieve lijst'!$D$8:$D$10007,C641,'Nominatieve lijst'!$J$8:$J$10007))","v":""},{"$f":"IF(ISBLANK(Vrijwilligersregister!C641)=TRUE,\"\",D641+F641)","v":""},{"$f":"Vrijwilligersregister!L641","v":0}]
[null,636,{"$f":"IF(ISBLANK(Vrijwilligersregister!C642)=TRUE,\"\",Vrijwilligersregister!C642)","v":""},{"$f":"IF(ISBLANK(Vrijwilligersregister!C642)=TRUE,\"\",SUMIF('Nominatieve lijst'!$D$8:$D$10007,C642,'Nominatieve lijst'!$G$8:$G$10007))","v":""},{"$f":"IF(ISBLANK(Vrijwilligersregister!C642)=TRUE,\"\",SUMIF('Nominatieve lijst'!$D$8:$D$10007,C642,'Nominatieve lijst'!$H$8:$H$10007))","v":""},{"$f":"IF(ISBLANK(Vrijwilligersregister!C642)=TRUE,\"\",SUMIF('Nominatieve lijst'!$D$8:$D$10007,C642,'Nominatieve lijst'!$J$8:$J$10007))","v":""},{"$f":"IF(ISBLANK(Vrijwilligersregister!C642)=TRUE,\"\",D642+F642)","v":""},{"$f":"Vrijwilligersregister!L642","v":0}]
[null,637,{"$f":"IF(ISBLANK(Vrijwilligersregister!C643)=TRUE,\"\",Vrijwilligersregister!C643)","v":""},{"$f":"IF(ISBLANK(Vrijwilligersregister!C643)=TRUE,\"\",SUMIF('Nominatieve lijst'!$D$8:$D$10007,C643,'Nominatieve lijst'!$G$8:$G$10007))","v":""},{"$f":"IF(ISBLANK(Vrijwilligersregister!C643)=TRUE,\"\",SUMIF('Nominatieve lijst'!$D$8:$D$10007,C643,'Nominatieve lijst'!$H$8:$H$10007))","v":""},{"$f":"IF(ISBLANK(Vrijwilligersregister!C643)=TRUE,\"\",SUMIF('Nominatieve lijst'!$D$8:$D$10007,C643,'Nominatieve lijst'!$J$8:$J$10007))","v":""},{"$f":"IF(ISBLANK(Vrijwilligersregister!C643)=TRUE,\"\",D643+F643)","v":""},{"$f":"Vrijwilligersregister!L643","v":0}]
[null,638,{"$f":"IF(ISBLANK(Vrijwilligersregister!C644)=TRUE,\"\",Vrijwilligersregister!C644)","v":""},{"$f":"IF(ISBLANK(Vrijwilligersregister!C644)=TRUE,\"\",SUMIF('Nominatieve lijst'!$D$8:$D$10007,C644,'Nominatieve lijst'!$G$8:$G$10007))","v":""},{"$f":"IF(ISBLANK(Vrijwilligersregister!C644)=TRUE,\"\",SUMIF('Nominatieve lijst'!$D$8:$D$10007,C644,'Nominatieve lijst'!$H$8:$H$10007))","v":""},{"$f":"IF(ISBLANK(Vrijwilligersregister!C644)=TRUE,\"\",SUMIF('Nominatieve lijst'!$D$8:$D$10007,C644,'Nominatieve lijst'!$J$8:$J$10007))","v":""},{"$f":"IF(ISBLANK(Vrijwilligersregister!C644)=TRUE,\"\",D644+F644)","v":""},{"$f":"Vrijwilligersregister!L644","v":0}]
[null,639,{"$f":"IF(ISBLANK(Vrijwilligersregister!C645)=TRUE,\"\",Vrijwilligersregister!C645)","v":""},{"$f":"IF(ISBLANK(Vrijwilligersregister!C645)=TRUE,\"\",SUMIF('Nominatieve lijst'!$D$8:$D$10007,C645,'Nominatieve lijst'!$G$8:$G$10007))","v":""},{"$f":"IF(ISBLANK(Vrijwilligersregister!C645)=TRUE,\"\",SUMIF('Nominatieve lijst'!$D$8:$D$10007,C645,'Nominatieve lijst'!$H$8:$H$10007))","v":""},{"$f":"IF(ISBLANK(Vrijwilligersregister!C645)=TRUE,\"\",SUMIF('Nominatieve lijst'!$D$8:$D$10007,C645,'Nominatieve lijst'!$J$8:$J$10007))","v":""},{"$f":"IF(ISBLANK(Vrijwilligersregister!C645)=TRUE,\"\",D645+F645)","v":""},{"$f":"Vrijwilligersregister!L645","v":0}]
[null,640,{"$f":"IF(ISBLANK(Vrijwilligersregister!C646)=TRUE,\"\",Vrijwilligersregister!C646)","v":""},{"$f":"IF(ISBLANK(Vrijwilligersregister!C646)=TRUE,\"\",SUMIF('Nominatieve lijst'!$D$8:$D$10007,C646,'Nominatieve lijst'!$G$8:$G$10007))","v":""},{"$f":"IF(ISBLANK(Vrijwilligersregister!C646)=TRUE,\"\",SUMIF('Nominatieve lijst'!$D$8:$D$10007,C646,'Nominatieve lijst'!$H$8:$H$10007))","v":""},{"$f":"IF(ISBLANK(Vrijwilligersregister!C646)=TRUE,\"\",SUMIF('Nominatieve lijst'!$D$8:$D$10007,C646,'Nominatieve lijst'!$J$8:$J$10007))","v":""},{"$f":"IF(ISBLANK(Vrijwilligersregister!C646)=TRUE,\"\",D646+F646)","v":""},{"$f":"Vrijwilligersregister!L646","v":0}]
[null,641,{"$f":"IF(ISBLANK(Vrijwilligersregister!C647)=TRUE,\"\",Vrijwilligersregister!C647)","v":""},{"$f":"IF(ISBLANK(Vrijwilligersregister!C647)=TRUE,\"\",SUMIF('Nominatieve lijst'!$D$8:$D$10007,C647,'Nominatieve lijst'!$G$8:$G$10007))","v":""},{"$f":"IF(ISBLANK(Vrijwilligersregister!C647)=TRUE,\"\",SUMIF('Nominatieve lijst'!$D$8:$D$10007,C647,'Nominatieve lijst'!$H$8:$H$10007))","v":""},{"$f":"IF(ISBLANK(Vrijwilligersregister!C647)=TRUE,\"\",SUMIF('Nominatieve lijst'!$D$8:$D$10007,C647,'Nominatieve lijst'!$J$8:$J$10007))","v":""},{"$f":"IF(ISBLANK(Vrijwilligersregister!C647)=TRUE,\"\",D647+F647)","v":""},{"$f":"Vrijwilligersregister!L647","v":0}]
[null,642,{"$f":"IF(ISBLANK(Vrijwilligersregister!C648)=TRUE,\"\",Vrijwilligersregister!C648)","v":""},{"$f":"IF(ISBLANK(Vrijwilligersregister!C648)=TRUE,\"\",SUMIF('Nominatieve lijst'!$D$8:$D$10007,C648,'Nominatieve lijst'!$G$8:$G$10007))","v":""},{"$f":"IF(ISBLANK(Vrijwilligersregister!C648)=TRUE,\"\",SUMIF('Nominatieve lijst'!$D$8:$D$10007,C648,'Nominatieve lijst'!$H$8:$H$10007))","v":""},{"$f":"IF(ISBLANK(Vrijwilligersregister!C648)=TRUE,\"\",SUMIF('Nominatieve lijst'!$D$8:$D$10007,C648,'Nominatieve lijst'!$J$8:$J$10007))","v":""},{"$f":"IF(ISBLANK(Vrijwilligersregister!C648)=TRUE,\"\",D648+F648)","v":""},{"$f":"Vrijwilligersregister!L648","v":0}]
[null,643,{"$f":"IF(ISBLANK(Vrijwilligersregister!C649)=TRUE,\"\",Vrijwilligersregister!C649)","v":""},{"$f":"IF(ISBLANK(Vrijwilligersregister!C649)=TRUE,\"\",SUMIF('Nominatieve lijst'!$D$8:$D$10007,C649,'Nominatieve lijst'!$G$8:$G$10007))","v":""},{"$f":"IF(ISBLANK(Vrijwilligersregister!C649)=TRUE,\"\",SUMIF('Nominatieve lijst'!$D$8:$D$10007,C649,'Nominatieve lijst'!$H$8:$H$10007))","v":""},{"$f":"IF(ISBLANK(Vrijwilligersregister!C649)=TRUE,\"\",SUMIF('Nominatieve lijst'!$D$8:$D$10007,C649,'Nominatieve lijst'!$J$8:$J$10007))","v":""},{"$f":"IF(ISBLANK(Vrijwilligersregister!C649)=TRUE,\"\",D649+F649)","v":""},{"$f":"Vrijwilligersregister!L649","v":0}]
[null,644,{"$f":"IF(ISBLANK(Vrijwilligersregister!C650)=TRUE,\"\",Vrijwilligersregister!C650)","v":""},{"$f":"IF(ISBLANK(Vrijwilligersregister!C650)=TRUE,\"\",SUMIF('Nominatieve lijst'!$D$8:$D$10007,C650,'Nominatieve lijst'!$G$8:$G$10007))","v":""},{"$f":"IF(ISBLANK(Vrijwilligersregister!C650)=TRUE,\"\",SUMIF('Nominatieve lijst'!$D$8:$D$10007,C650,'Nominatieve lijst'!$H$8:$H$10007))","v":""},{"$f":"IF(ISBLANK(Vrijwilligersregister!C650)=TRUE,\"\",SUMIF('Nominatieve lijst'!$D$8:$D$10007,C650,'Nominatieve lijst'!$J$8:$J$10007))","v":""},{"$f":"IF(ISBLANK(Vrijwilligersregister!C650)=TRUE,\"\",D650+F650)","v":""},{"$f":"Vrijwilligersregister!L650","v":0}]
[null,645,{"$f":"IF(ISBLANK(Vrijwilligersregister!C651)=TRUE,\"\",Vrijwilligersregister!C651)","v":""},{"$f":"IF(ISBLANK(Vrijwilligersregister!C651)=TRUE,\"\",SUMIF('Nominatieve lijst'!$D$8:$D$10007,C651,'Nominatieve lijst'!$G$8:$G$10007))","v":""},{"$f":"IF(ISBLANK(Vrijwilligersregister!C651)=TRUE,\"\",SUMIF('Nominatieve lijst'!$D$8:$D$10007,C651,'Nominatieve lijst'!$H$8:$H$10007))","v":""},{"$f":"IF(ISBLANK(Vrijwilligersregister!C651)=TRUE,\"\",SUMIF('Nominatieve lijst'!$D$8:$D$10007,C651,'Nominatieve lijst'!$J$8:$J$10007))","v":""},{"$f":"IF(ISBLANK(Vrijwilligersregister!C651)=TRUE,\"\",D651+F651)","v":""},{"$f":"Vrijwilligersregister!L651","v":0}]
[null,646,{"$f":"IF(ISBLANK(Vrijwilligersregister!C652)=TRUE,\"\",Vrijwilligersregister!C652)","v":""},{"$f":"IF(ISBLANK(Vrijwilligersregister!C652)=TRUE,\"\",SUMIF('Nominatieve lijst'!$D$8:$D$10007,C652,'Nominatieve lijst'!$G$8:$G$10007))","v":""},{"$f":"IF(ISBLANK(Vrijwilligersregister!C652)=TRUE,\"\",SUMIF('Nominatieve lijst'!$D$8:$D$10007,C652,'Nominatieve lijst'!$H$8:$H$10007))","v":""},{"$f":"IF(ISBLANK(Vrijwilligersregister!C652)=TRUE,\"\",SUMIF('Nominatieve lijst'!$D$8:$D$10007,C652,'Nominatieve lijst'!$J$8:$J$10007))","v":""},{"$f":"IF(ISBLANK(Vrijwilligersregister!C652)=TRUE,\"\",D652+F652)","v":""},{"$f":"Vrijwilligersregister!L652","v":0}]
[null,647,{"$f":"IF(ISBLANK(Vrijwilligersregister!C653)=TRUE,\"\",Vrijwilligersregister!C653)","v":""},{"$f":"IF(ISBLANK(Vrijwilligersregister!C653)=TRUE,\"\",SUMIF('Nominatieve lijst'!$D$8:$D$10007,C653,'Nominatieve lijst'!$G$8:$G$10007))","v":""},{"$f":"IF(ISBLANK(Vrijwilligersregister!C653)=TRUE,\"\",SUMIF('Nominatieve lijst'!$D$8:$D$10007,C653,'Nominatieve lijst'!$H$8:$H$10007))","v":""},{"$f":"IF(ISBLANK(Vrijwilligersregister!C653)=TRUE,\"\",SUMIF('Nominatieve lijst'!$D$8:$D$10007,C653,'Nominatieve lijst'!$J$8:$J$10007))","v":""},{"$f":"IF(ISBLANK(Vrijwilligersregister!C653)=TRUE,\"\",D653+F653)","v":""},{"$f":"Vrijwilligersregister!L653","v":0}]
[null,648,{"$f":"IF(ISBLANK(Vrijwilligersregister!C654)=TRUE,\"\",Vrijwilligersregister!C654)","v":""},{"$f":"IF(ISBLANK(Vrijwilligersregister!C654)=TRUE,\"\",SUMIF('Nominatieve lijst'!$D$8:$D$10007,C654,'Nominatieve lijst'!$G$8:$G$10007))","v":""},{"$f":"IF(ISBLANK(Vrijwilligersregister!C654)=TRUE,\"\",SUMIF('Nominatieve lijst'!$D$8:$D$10007,C654,'Nominatieve lijst'!$H$8:$H$10007))","v":""},{"$f":"IF(ISBLANK(Vrijwilligersregister!C654)=TRUE,\"\",SUMIF('Nominatieve lijst'!$D$8:$D$10007,C654,'Nominatieve lijst'!$J$8:$J$10007))","v":""},{"$f":"IF(ISBLANK(Vrijwilligersregister!C654)=TRUE,\"\",D654+F654)","v":""},{"$f":"Vrijwilligersregister!L654","v":0}]
[null,649,{"$f":"IF(ISBLANK(Vrijwilligersregister!C655)=TRUE,\"\",Vrijwilligersregister!C655)","v":""},{"$f":"IF(ISBLANK(Vrijwilligersregister!C655)=TRUE,\"\",SUMIF('Nominatieve lijst'!$D$8:$D$10007,C655,'Nominatieve lijst'!$G$8:$G$10007))","v":""},{"$f":"IF(ISBLANK(Vrijwilligersregister!C655)=TRUE,\"\",SUMIF('Nominatieve lijst'!$D$8:$D$10007,C655,'Nominatieve lijst'!$H$8:$H$10007))","v":""},{"$f":"IF(ISBLANK(Vrijwilligersregister!C655)=TRUE,\"\",SUMIF('Nominatieve lijst'!$D$8:$D$10007,C655,'Nominatieve lijst'!$J$8:$J$10007))","v":""},{"$f":"IF(ISBLANK(Vrijwilligersregister!C655)=TRUE,\"\",D655+F655)","v":""},{"$f":"Vrijwilligersregister!L655","v":0}]
[null,650,{"$f":"IF(ISBLANK(Vrijwilligersregister!C656)=TRUE,\"\",Vrijwilligersregister!C656)","v":""},{"$f":"IF(ISBLANK(Vrijwilligersregister!C656)=TRUE,\"\",SUMIF('Nominatieve lijst'!$D$8:$D$10007,C656,'Nominatieve lijst'!$G$8:$G$10007))","v":""},{"$f":"IF(ISBLANK(Vrijwilligersregister!C656)=TRUE,\"\",SUMIF('Nominatieve lijst'!$D$8:$D$10007,C656,'Nominatieve lijst'!$H$8:$H$10007))","v":""},{"$f":"IF(ISBLANK(Vrijwilligersregister!C656)=TRUE,\"\",SUMIF('Nominatieve lijst'!$D$8:$D$10007,C656,'Nominatieve lijst'!$J$8:$J$10007))","v":""},{"$f":"IF(ISBLANK(Vrijwilligersregister!C656)=TRUE,\"\",D656+F656)","v":""},{"$f":"Vrijwilligersregister!L656","v":0}]
[null,651,{"$f":"IF(ISBLANK(Vrijwilligersregister!C657)=TRUE,\"\",Vrijwilligersregister!C657)","v":""},{"$f":"IF(ISBLANK(Vrijwilligersregister!C657)=TRUE,\"\",SUMIF('Nominatieve lijst'!$D$8:$D$10007,C657,'Nominatieve lijst'!$G$8:$G$10007))","v":""},{"$f":"IF(ISBLANK(Vrijwilligersregister!C657)=TRUE,\"\",SUMIF('Nominatieve lijst'!$D$8:$D$10007,C657,'Nominatieve lijst'!$H$8:$H$10007))","v":""},{"$f":"IF(ISBLANK(Vrijwilligersregister!C657)=TRUE,\"\",SUMIF('Nominatieve lijst'!$D$8:$D$10007,C657,'Nominatieve lijst'!$J$8:$J$10007))","v":""},{"$f":"IF(ISBLANK(Vrijwilligersregister!C657)=TRUE,\"\",D657+F657)","v":""},{"$f":"Vrijwilligersregister!L657","v":0}]
[null,652,{"$f":"IF(ISBLANK(Vrijwilligersregister!C658)=TRUE,\"\",Vrijwilligersregister!C658)","v":""},{"$f":"IF(ISBLANK(Vrijwilligersregister!C658)=TRUE,\"\",SUMIF('Nominatieve lijst'!$D$8:$D$10007,C658,'Nominatieve lijst'!$G$8:$G$10007))","v":""},{"$f":"IF(ISBLANK(Vrijwilligersregister!C658)=TRUE,\"\",SUMIF('Nominatieve lijst'!$D$8:$D$10007,C658,'Nominatieve lijst'!$H$8:$H$10007))","v":""},{"$f":"IF(ISBLANK(Vrijwilligersregister!C658)=TRUE,\"\",SUMIF('Nominatieve lijst'!$D$8:$D$10007,C658,'Nominatieve lijst'!$J$8:$J$10007))","v":""},{"$f":"IF(ISBLANK(Vrijwilligersregister!C658)=TRUE,\"\",D658+F658)","v":""},{"$f":"Vrijwilligersregister!L658","v":0}]
[null,653,{"$f":"IF(ISBLANK(Vrijwilligersregister!C659)=TRUE,\"\",Vrijwilligersregister!C659)","v":""},{"$f":"IF(ISBLANK(Vrijwilligersregister!C659)=TRUE,\"\",SUMIF('Nominatieve lijst'!$D$8:$D$10007,C659,'Nominatieve lijst'!$G$8:$G$10007))","v":""},{"$f":"IF(ISBLANK(Vrijwilligersregister!C659)=TRUE,\"\",SUMIF('Nominatieve lijst'!$D$8:$D$10007,C659,'Nominatieve lijst'!$H$8:$H$10007))","v":""},{"$f":"IF(ISBLANK(Vrijwilligersregister!C659)=TRUE,\"\",SUMIF('Nominatieve lijst'!$D$8:$D$10007,C659,'Nominatieve lijst'!$J$8:$J$10007))","v":""},{"$f":"IF(ISBLANK(Vrijwilligersregister!C659)=TRUE,\"\",D659+F659)","v":""},{"$f":"Vrijwilligersregister!L659","v":0}]
[null,654,{"$f":"IF(ISBLANK(Vrijwilligersregister!C660)=TRUE,\"\",Vrijwilligersregister!C660)","v":""},{"$f":"IF(ISBLANK(Vrijwilligersregister!C660)=TRUE,\"\",SUMIF('Nominatieve lijst'!$D$8:$D$10007,C660,'Nominatieve lijst'!$G$8:$G$10007))","v":""},{"$f":"IF(ISBLANK(Vrijwilligersregister!C660)=TRUE,\"\",SUMIF('Nominatieve lijst'!$D$8:$D$10007,C660,'Nominatieve lijst'!$H$8:$H$10007))","v":""},{"$f":"IF(ISBLANK(Vrijwilligersregister!C660)=TRUE,\"\",SUMIF('Nominatieve lijst'!$D$8:$D$10007,C660,'Nominatieve lijst'!$J$8:$J$10007))","v":""},{"$f":"IF(ISBLANK(Vrijwilligersregister!C660)=TRUE,\"\",D660+F660)","v":""},{"$f":"Vrijwilligersregister!L660","v":0}]
[null,655,{"$f":"IF(ISBLANK(Vrijwilligersregister!C661)=TRUE,\"\",Vrijwilligersregister!C661)","v":""},{"$f":"IF(ISBLANK(Vrijwilligersregister!C661)=TRUE,\"\",SUMIF('Nominatieve lijst'!$D$8:$D$10007,C661,'Nominatieve lijst'!$G$8:$G$10007))","v":""},{"$f":"IF(ISBLANK(Vrijwilligersregister!C661)=TRUE,\"\",SUMIF('Nominatieve lijst'!$D$8:$D$10007,C661,'Nominatieve lijst'!$H$8:$H$10007))","v":""},{"$f":"IF(ISBLANK(Vrijwilligersregister!C661)=TRUE,\"\",SUMIF('Nominatieve lijst'!$D$8:$D$10007,C661,'Nominatieve lijst'!$J$8:$J$10007))","v":""},{"$f":"IF(ISBLANK(Vrijwilligersregister!C661)=TRUE,\"\",D661+F661)","v":""},{"$f":"Vrijwilligersregister!L661","v":0}]
[null,656,{"$f":"IF(ISBLANK(Vrijwilligersregister!C662)=TRUE,\"\",Vrijwilligersregister!C662)","v":""},{"$f":"IF(ISBLANK(Vrijwilligersregister!C662)=TRUE,\"\",SUMIF('Nominatieve lijst'!$D$8:$D$10007,C662,'Nominatieve lijst'!$G$8:$G$10007))","v":""},{"$f":"IF(ISBLANK(Vrijwilligersregister!C662)=TRUE,\"\",SUMIF('Nominatieve lijst'!$D$8:$D$10007,C662,'Nominatieve lijst'!$H$8:$H$10007))","v":""},{"$f":"IF(ISBLANK(Vrijwilligersregister!C662)=TRUE,\"\",SUMIF('Nominatieve lijst'!$D$8:$D$10007,C662,'Nominatieve lijst'!$J$8:$J$10007))","v":""},{"$f":"IF(ISBLANK(Vrijwilligersregister!C662)=TRUE,\"\",D662+F662)","v":""},{"$f":"Vrijwilligersregister!L662","v":0}]
[null,657,{"$f":"IF(ISBLANK(Vrijwilligersregister!C663)=TRUE,\"\",Vrijwilligersregister!C663)","v":""},{"$f":"IF(ISBLANK(Vrijwilligersregister!C663)=TRUE,\"\",SUMIF('Nominatieve lijst'!$D$8:$D$10007,C663,'Nominatieve lijst'!$G$8:$G$10007))","v":""},{"$f":"IF(ISBLANK(Vrijwilligersregister!C663)=TRUE,\"\",SUMIF('Nominatieve lijst'!$D$8:$D$10007,C663,'Nominatieve lijst'!$H$8:$H$10007))","v":""},{"$f":"IF(ISBLANK(Vrijwilligersregister!C663)=TRUE,\"\",SUMIF('Nominatieve lijst'!$D$8:$D$10007,C663,'Nominatieve lijst'!$J$8:$J$10007))","v":""},{"$f":"IF(ISBLANK(Vrijwilligersregister!C663)=TRUE,\"\",D663+F663)","v":""},{"$f":"Vrijwilligersregister!L663","v":0}]
[null,658,{"$f":"IF(ISBLANK(Vrijwilligersregister!C664)=TRUE,\"\",Vrijwilligersregister!C664)","v":""},{"$f":"IF(ISBLANK(Vrijwilligersregister!C664)=TRUE,\"\",SUMIF('Nominatieve lijst'!$D$8:$D$10007,C664,'Nominatieve lijst'!$G$8:$G$10007))","v":""},{"$f":"IF(ISBLANK(Vrijwilligersregister!C664)=TRUE,\"\",SUMIF('Nominatieve lijst'!$D$8:$D$10007,C664,'Nominatieve lijst'!$H$8:$H$10007))","v":""},{"$f":"IF(ISBLANK(Vrijwilligersregister!C664)=TRUE,\"\",SUMIF('Nominatieve lijst'!$D$8:$D$10007,C664,'Nominatieve lijst'!$J$8:$J$10007))","v":""},{"$f":"IF(ISBLANK(Vrijwilligersregister!C664)=TRUE,\"\",D664+F664)","v":""},{"$f":"Vrijwilligersregister!L664","v":0}]
[null,659,{"$f":"IF(ISBLANK(Vrijwilligersregister!C665)=TRUE,\"\",Vrijwilligersregister!C665)","v":""},{"$f":"IF(ISBLANK(Vrijwilligersregister!C665)=TRUE,\"\",SUMIF('Nominatieve lijst'!$D$8:$D$10007,C665,'Nominatieve lijst'!$G$8:$G$10007))","v":""},{"$f":"IF(ISBLANK(Vrijwilligersregister!C665)=TRUE,\"\",SUMIF('Nominatieve lijst'!$D$8:$D$10007,C665,'Nominatieve lijst'!$H$8:$H$10007))","v":""},{"$f":"IF(ISBLANK(Vrijwilligersregister!C665)=TRUE,\"\",SUMIF('Nominatieve lijst'!$D$8:$D$10007,C665,'Nominatieve lijst'!$J$8:$J$10007))","v":""},{"$f":"IF(ISBLANK(Vrijwilligersregister!C665)=TRUE,\"\",D665+F665)","v":""},{"$f":"Vrijwilligersregister!L665","v":0}]
[null,660,{"$f":"IF(ISBLANK(Vrijwilligersregister!C666)=TRUE,\"\",Vrijwilligersregister!C666)","v":""},{"$f":"IF(ISBLANK(Vrijwilligersregister!C666)=TRUE,\"\",SUMIF('Nominatieve lijst'!$D$8:$D$10007,C666,'Nominatieve lijst'!$G$8:$G$10007))","v":""},{"$f":"IF(ISBLANK(Vrijwilligersregister!C666)=TRUE,\"\",SUMIF('Nominatieve lijst'!$D$8:$D$10007,C666,'Nominatieve lijst'!$H$8:$H$10007))","v":""},{"$f":"IF(ISBLANK(Vrijwilligersregister!C666)=TRUE,\"\",SUMIF('Nominatieve lijst'!$D$8:$D$10007,C666,'Nominatieve lijst'!$J$8:$J$10007))","v":""},{"$f":"IF(ISBLANK(Vrijwilligersregister!C666)=TRUE,\"\",D666+F666)","v":""},{"$f":"Vrijwilligersregister!L666","v":0}]
[null,661,{"$f":"IF(ISBLANK(Vrijwilligersregister!C667)=TRUE,\"\",Vrijwilligersregister!C667)","v":""},{"$f":"IF(ISBLANK(Vrijwilligersregister!C667)=TRUE,\"\",SUMIF('Nominatieve lijst'!$D$8:$D$10007,C667,'Nominatieve lijst'!$G$8:$G$10007))","v":""},{"$f":"IF(ISBLANK(Vrijwilligersregister!C667)=TRUE,\"\",SUMIF('Nominatieve lijst'!$D$8:$D$10007,C667,'Nominatieve lijst'!$H$8:$H$10007))","v":""},{"$f":"IF(ISBLANK(Vrijwilligersregister!C667)=TRUE,\"\",SUMIF('Nominatieve lijst'!$D$8:$D$10007,C667,'Nominatieve lijst'!$J$8:$J$10007))","v":""},{"$f":"IF(ISBLANK(Vrijwilligersregister!C667)=TRUE,\"\",D667+F667)","v":""},{"$f":"Vrijwilligersregister!L667","v":0}]
[null,662,{"$f":"IF(ISBLANK(Vrijwilligersregister!C668)=TRUE,\"\",Vrijwilligersregister!C668)","v":""},{"$f":"IF(ISBLANK(Vrijwilligersregister!C668)=TRUE,\"\",SUMIF('Nominatieve lijst'!$D$8:$D$10007,C668,'Nominatieve lijst'!$G$8:$G$10007))","v":""},{"$f":"IF(ISBLANK(Vrijwilligersregister!C668)=TRUE,\"\",SUMIF('Nominatieve lijst'!$D$8:$D$10007,C668,'Nominatieve lijst'!$H$8:$H$10007))","v":""},{"$f":"IF(ISBLANK(Vrijwilligersregister!C668)=TRUE,\"\",SUMIF('Nominatieve lijst'!$D$8:$D$10007,C668,'Nominatieve lijst'!$J$8:$J$10007))","v":""},{"$f":"IF(ISBLANK(Vrijwilligersregister!C668)=TRUE,\"\",D668+F668)","v":""},{"$f":"Vrijwilligersregister!L668","v":0}]
[null,663,{"$f":"IF(ISBLANK(Vrijwilligersregister!C669)=TRUE,\"\",Vrijwilligersregister!C669)","v":""},{"$f":"IF(ISBLANK(Vrijwilligersregister!C669)=TRUE,\"\",SUMIF('Nominatieve lijst'!$D$8:$D$10007,C669,'Nominatieve lijst'!$G$8:$G$10007))","v":""},{"$f":"IF(ISBLANK(Vrijwilligersregister!C669)=TRUE,\"\",SUMIF('Nominatieve lijst'!$D$8:$D$10007,C669,'Nominatieve lijst'!$H$8:$H$10007))","v":""},{"$f":"IF(ISBLANK(Vrijwilligersregister!C669)=TRUE,\"\",SUMIF('Nominatieve lijst'!$D$8:$D$10007,C669,'Nominatieve lijst'!$J$8:$J$10007))","v":""},{"$f":"IF(ISBLANK(Vrijwilligersregister!C669)=TRUE,\"\",D669+F669)","v":""},{"$f":"Vrijwilligersregister!L669","v":0}]
[null,664,{"$f":"IF(ISBLANK(Vrijwilligersregister!C670)=TRUE,\"\",Vrijwilligersregister!C670)","v":""},{"$f":"IF(ISBLANK(Vrijwilligersregister!C670)=TRUE,\"\",SUMIF('Nominatieve lijst'!$D$8:$D$10007,C670,'Nominatieve lijst'!$G$8:$G$10007))","v":""},{"$f":"IF(ISBLANK(Vrijwilligersregister!C670)=TRUE,\"\",SUMIF('Nominatieve lijst'!$D$8:$D$10007,C670,'Nominatieve lijst'!$H$8:$H$10007))","v":""},{"$f":"IF(ISBLANK(Vrijwilligersregister!C670)=TRUE,\"\",SUMIF('Nominatieve lijst'!$D$8:$D$10007,C670,'Nominatieve lijst'!$J$8:$J$10007))","v":""},{"$f":"IF(ISBLANK(Vrijwilligersregister!C670)=TRUE,\"\",D670+F670)","v":""},{"$f":"Vrijwilligersregister!L670","v":0}]
[null,665,{"$f":"IF(ISBLANK(Vrijwilligersregister!C671)=TRUE,\"\",Vrijwilligersregister!C671)","v":""},{"$f":"IF(ISBLANK(Vrijwilligersregister!C671)=TRUE,\"\",SUMIF('Nominatieve lijst'!$D$8:$D$10007,C671,'Nominatieve lijst'!$G$8:$G$10007))","v":""},{"$f":"IF(ISBLANK(Vrijwilligersregister!C671)=TRUE,\"\",SUMIF('Nominatieve lijst'!$D$8:$D$10007,C671,'Nominatieve lijst'!$H$8:$H$10007))","v":""},{"$f":"IF(ISBLANK(Vrijwilligersregister!C671)=TRUE,\"\",SUMIF('Nominatieve lijst'!$D$8:$D$10007,C671,'Nominatieve lijst'!$J$8:$J$10007))","v":""},{"$f":"IF(ISBLANK(Vrijwilligersregister!C671)=TRUE,\"\",D671+F671)","v":""},{"$f":"Vrijwilligersregister!L671","v":0}]
[null,666,{"$f":"IF(ISBLANK(Vrijwilligersregister!C672)=TRUE,\"\",Vrijwilligersregister!C672)","v":""},{"$f":"IF(ISBLANK(Vrijwilligersregister!C672)=TRUE,\"\",SUMIF('Nominatieve lijst'!$D$8:$D$10007,C672,'Nominatieve lijst'!$G$8:$G$10007))","v":""},{"$f":"IF(ISBLANK(Vrijwilligersregister!C672)=TRUE,\"\",SUMIF('Nominatieve lijst'!$D$8:$D$10007,C672,'Nominatieve lijst'!$H$8:$H$10007))","v":""},{"$f":"IF(ISBLANK(Vrijwilligersregister!C672)=TRUE,\"\",SUMIF('Nominatieve lijst'!$D$8:$D$10007,C672,'Nominatieve lijst'!$J$8:$J$10007))","v":""},{"$f":"IF(ISBLANK(Vrijwilligersregister!C672)=TRUE,\"\",D672+F672)","v":""},{"$f":"Vrijwilligersregister!L672","v":0}]
[null,667,{"$f":"IF(ISBLANK(Vrijwilligersregister!C673)=TRUE,\"\",Vrijwilligersregister!C673)","v":""},{"$f":"IF(ISBLANK(Vrijwilligersregister!C673)=TRUE,\"\",SUMIF('Nominatieve lijst'!$D$8:$D$10007,C673,'Nominatieve lijst'!$G$8:$G$10007))","v":""},{"$f":"IF(ISBLANK(Vrijwilligersregister!C673)=TRUE,\"\",SUMIF('Nominatieve lijst'!$D$8:$D$10007,C673,'Nominatieve lijst'!$H$8:$H$10007))","v":""},{"$f":"IF(ISBLANK(Vrijwilligersregister!C673)=TRUE,\"\",SUMIF('Nominatieve lijst'!$D$8:$D$10007,C673,'Nominatieve lijst'!$J$8:$J$10007))","v":""},{"$f":"IF(ISBLANK(Vrijwilligersregister!C673)=TRUE,\"\",D673+F673)","v":""},{"$f":"Vrijwilligersregister!L673","v":0}]
[null,668,{"$f":"IF(ISBLANK(Vrijwilligersregister!C674)=TRUE,\"\",Vrijwilligersregister!C674)","v":""},{"$f":"IF(ISBLANK(Vrijwilligersregister!C674)=TRUE,\"\",SUMIF('Nominatieve lijst'!$D$8:$D$10007,C674,'Nominatieve lijst'!$G$8:$G$10007))","v":""},{"$f":"IF(ISBLANK(Vrijwilligersregister!C674)=TRUE,\"\",SUMIF('Nominatieve lijst'!$D$8:$D$10007,C674,'Nominatieve lijst'!$H$8:$H$10007))","v":""},{"$f":"IF(ISBLANK(Vrijwilligersregister!C674)=TRUE,\"\",SUMIF('Nominatieve lijst'!$D$8:$D$10007,C674,'Nominatieve lijst'!$J$8:$J$10007))","v":""},{"$f":"IF(ISBLANK(Vrijwilligersregister!C674)=TRUE,\"\",D674+F674)","v":""},{"$f":"Vrijwilligersregister!L674","v":0}]
[null,669,{"$f":"IF(ISBLANK(Vrijwilligersregister!C675)=TRUE,\"\",Vrijwilligersregister!C675)","v":""},{"$f":"IF(ISBLANK(Vrijwilligersregister!C675)=TRUE,\"\",SUMIF('Nominatieve lijst'!$D$8:$D$10007,C675,'Nominatieve lijst'!$G$8:$G$10007))","v":""},{"$f":"IF(ISBLANK(Vrijwilligersregister!C675)=TRUE,\"\",SUMIF('Nominatieve lijst'!$D$8:$D$10007,C675,'Nominatieve lijst'!$H$8:$H$10007))","v":""},{"$f":"IF(ISBLANK(Vrijwilligersregister!C675)=TRUE,\"\",SUMIF('Nominatieve lijst'!$D$8:$D$10007,C675,'Nominatieve lijst'!$J$8:$J$10007))","v":""},{"$f":"IF(ISBLANK(Vrijwilligersregister!C675)=TRUE,\"\",D675+F675)","v":""},{"$f":"Vrijwilligersregister!L675","v":0}]
[null,670,{"$f":"IF(ISBLANK(Vrijwilligersregister!C676)=TRUE,\"\",Vrijwilligersregister!C676)","v":""},{"$f":"IF(ISBLANK(Vrijwilligersregister!C676)=TRUE,\"\",SUMIF('Nominatieve lijst'!$D$8:$D$10007,C676,'Nominatieve lijst'!$G$8:$G$10007))","v":""},{"$f":"IF(ISBLANK(Vrijwilligersregister!C676)=TRUE,\"\",SUMIF('Nominatieve lijst'!$D$8:$D$10007,C676,'Nominatieve lijst'!$H$8:$H$10007))","v":""},{"$f":"IF(ISBLANK(Vrijwilligersregister!C676)=TRUE,\"\",SUMIF('Nominatieve lijst'!$D$8:$D$10007,C676,'Nominatieve lijst'!$J$8:$J$10007))","v":""},{"$f":"IF(ISBLANK(Vrijwilligersregister!C676)=TRUE,\"\",D676+F676)","v":""},{"$f":"Vrijwilligersregister!L676","v":0}]
[null,671,{"$f":"IF(ISBLANK(Vrijwilligersregister!C677)=TRUE,\"\",Vrijwilligersregister!C677)","v":""},{"$f":"IF(ISBLANK(Vrijwilligersregister!C677)=TRUE,\"\",SUMIF('Nominatieve lijst'!$D$8:$D$10007,C677,'Nominatieve lijst'!$G$8:$G$10007))","v":""},{"$f":"IF(ISBLANK(Vrijwilligersregister!C677)=TRUE,\"\",SUMIF('Nominatieve lijst'!$D$8:$D$10007,C677,'Nominatieve lijst'!$H$8:$H$10007))","v":""},{"$f":"IF(ISBLANK(Vrijwilligersregister!C677)=TRUE,\"\",SUMIF('Nominatieve lijst'!$D$8:$D$10007,C677,'Nominatieve lijst'!$J$8:$J$10007))","v":""},{"$f":"IF(ISBLANK(Vrijwilligersregister!C677)=TRUE,\"\",D677+F677)","v":""},{"$f":"Vrijwilligersregister!L677","v":0}]
[null,672,{"$f":"IF(ISBLANK(Vrijwilligersregister!C678)=TRUE,\"\",Vrijwilligersregister!C678)","v":""},{"$f":"IF(ISBLANK(Vrijwilligersregister!C678)=TRUE,\"\",SUMIF('Nominatieve lijst'!$D$8:$D$10007,C678,'Nominatieve lijst'!$G$8:$G$10007))","v":""},{"$f":"IF(ISBLANK(Vrijwilligersregister!C678)=TRUE,\"\",SUMIF('Nominatieve lijst'!$D$8:$D$10007,C678,'Nominatieve lijst'!$H$8:$H$10007))","v":""},{"$f":"IF(ISBLANK(Vrijwilligersregister!C678)=TRUE,\"\",SUMIF('Nominatieve lijst'!$D$8:$D$10007,C678,'Nominatieve lijst'!$J$8:$J$10007))","v":""},{"$f":"IF(ISBLANK(Vrijwilligersregister!C678)=TRUE,\"\",D678+F678)","v":""},{"$f":"Vrijwilligersregister!L678","v":0}]
[null,673,{"$f":"IF(ISBLANK(Vrijwilligersregister!C679)=TRUE,\"\",Vrijwilligersregister!C679)","v":""},{"$f":"IF(ISBLANK(Vrijwilligersregister!C679)=TRUE,\"\",SUMIF('Nominatieve lijst'!$D$8:$D$10007,C679,'Nominatieve lijst'!$G$8:$G$10007))","v":""},{"$f":"IF(ISBLANK(Vrijwilligersregister!C679)=TRUE,\"\",SUMIF('Nominatieve lijst'!$D$8:$D$10007,C679,'Nominatieve lijst'!$H$8:$H$10007))","v":""},{"$f":"IF(ISBLANK(Vrijwilligersregister!C679)=TRUE,\"\",SUMIF('Nominatieve lijst'!$D$8:$D$10007,C679,'Nominatieve lijst'!$J$8:$J$10007))","v":""},{"$f":"IF(ISBLANK(Vrijwilligersregister!C679)=TRUE,\"\",D679+F679)","v":""},{"$f":"Vrijwilligersregister!L679","v":0}]
[null,674,{"$f":"IF(ISBLANK(Vrijwilligersregister!C680)=TRUE,\"\",Vrijwilligersregister!C680)","v":""},{"$f":"IF(ISBLANK(Vrijwilligersregister!C680)=TRUE,\"\",SUMIF('Nominatieve lijst'!$D$8:$D$10007,C680,'Nominatieve lijst'!$G$8:$G$10007))","v":""},{"$f":"IF(ISBLANK(Vrijwilligersregister!C680)=TRUE,\"\",SUMIF('Nominatieve lijst'!$D$8:$D$10007,C680,'Nominatieve lijst'!$H$8:$H$10007))","v":""},{"$f":"IF(ISBLANK(Vrijwilligersregister!C680)=TRUE,\"\",SUMIF('Nominatieve lijst'!$D$8:$D$10007,C680,'Nominatieve lijst'!$J$8:$J$10007))","v":""},{"$f":"IF(ISBLANK(Vrijwilligersregister!C680)=TRUE,\"\",D680+F680)","v":""},{"$f":"Vrijwilligersregister!L680","v":0}]
[null,675,{"$f":"IF(ISBLANK(Vrijwilligersregister!C681)=TRUE,\"\",Vrijwilligersregister!C681)","v":""},{"$f":"IF(ISBLANK(Vrijwilligersregister!C681)=TRUE,\"\",SUMIF('Nominatieve lijst'!$D$8:$D$10007,C681,'Nominatieve lijst'!$G$8:$G$10007))","v":""},{"$f":"IF(ISBLANK(Vrijwilligersregister!C681)=TRUE,\"\",SUMIF('Nominatieve lijst'!$D$8:$D$10007,C681,'Nominatieve lijst'!$H$8:$H$10007))","v":""},{"$f":"IF(ISBLANK(Vrijwilligersregister!C681)=TRUE,\"\",SUMIF('Nominatieve lijst'!$D$8:$D$10007,C681,'Nominatieve lijst'!$J$8:$J$10007))","v":""},{"$f":"IF(ISBLANK(Vrijwilligersregister!C681)=TRUE,\"\",D681+F681)","v":""},{"$f":"Vrijwilligersregister!L681","v":0}]
[null,676,{"$f":"IF(ISBLANK(Vrijwilligersregister!C682)=TRUE,\"\",Vrijwilligersregister!C682)","v":""},{"$f":"IF(ISBLANK(Vrijwilligersregister!C682)=TRUE,\"\",SUMIF('Nominatieve lijst'!$D$8:$D$10007,C682,'Nominatieve lijst'!$G$8:$G$10007))","v":""},{"$f":"IF(ISBLANK(Vrijwilligersregister!C682)=TRUE,\"\",SUMIF('Nominatieve lijst'!$D$8:$D$10007,C682,'Nominatieve lijst'!$H$8:$H$10007))","v":""},{"$f":"IF(ISBLANK(Vrijwilligersregister!C682)=TRUE,\"\",SUMIF('Nominatieve lijst'!$D$8:$D$10007,C682,'Nominatieve lijst'!$J$8:$J$10007))","v":""},{"$f":"IF(ISBLANK(Vrijwilligersregister!C682)=TRUE,\"\",D682+F682)","v":""},{"$f":"Vrijwilligersregister!L682","v":0}]
[null,677,{"$f":"IF(ISBLANK(Vrijwilligersregister!C683)=TRUE,\"\",Vrijwilligersregister!C683)","v":""},{"$f":"IF(ISBLANK(Vrijwilligersregister!C683)=TRUE,\"\",SUMIF('Nominatieve lijst'!$D$8:$D$10007,C683,'Nominatieve lijst'!$G$8:$G$10007))","v":""},{"$f":"IF(ISBLANK(Vrijwilligersregister!C683)=TRUE,\"\",SUMIF('Nominatieve lijst'!$D$8:$D$10007,C683,'Nominatieve lijst'!$H$8:$H$10007))","v":""},{"$f":"IF(ISBLANK(Vrijwilligersregister!C683)=TRUE,\"\",SUMIF('Nominatieve lijst'!$D$8:$D$10007,C683,'Nominatieve lijst'!$J$8:$J$10007))","v":""},{"$f":"IF(ISBLANK(Vrijwilligersregister!C683)=TRUE,\"\",D683+F683)","v":""},{"$f":"Vrijwilligersregister!L683","v":0}]
[null,678,{"$f":"IF(ISBLANK(Vrijwilligersregister!C684)=TRUE,\"\",Vrijwilligersregister!C684)","v":""},{"$f":"IF(ISBLANK(Vrijwilligersregister!C684)=TRUE,\"\",SUMIF('Nominatieve lijst'!$D$8:$D$10007,C684,'Nominatieve lijst'!$G$8:$G$10007))","v":""},{"$f":"IF(ISBLANK(Vrijwilligersregister!C684)=TRUE,\"\",SUMIF('Nominatieve lijst'!$D$8:$D$10007,C684,'Nominatieve lijst'!$H$8:$H$10007))","v":""},{"$f":"IF(ISBLANK(Vrijwilligersregister!C684)=TRUE,\"\",SUMIF('Nominatieve lijst'!$D$8:$D$10007,C684,'Nominatieve lijst'!$J$8:$J$10007))","v":""},{"$f":"IF(ISBLANK(Vrijwilligersregister!C684)=TRUE,\"\",D684+F684)","v":""},{"$f":"Vrijwilligersregister!L684","v":0}]
[null,679,{"$f":"IF(ISBLANK(Vrijwilligersregister!C685)=TRUE,\"\",Vrijwilligersregister!C685)","v":""},{"$f":"IF(ISBLANK(Vrijwilligersregister!C685)=TRUE,\"\",SUMIF('Nominatieve lijst'!$D$8:$D$10007,C685,'Nominatieve lijst'!$G$8:$G$10007))","v":""},{"$f":"IF(ISBLANK(Vrijwilligersregister!C685)=TRUE,\"\",SUMIF('Nominatieve lijst'!$D$8:$D$10007,C685,'Nominatieve lijst'!$H$8:$H$10007))","v":""},{"$f":"IF(ISBLANK(Vrijwilligersregister!C685)=TRUE,\"\",SUMIF('Nominatieve lijst'!$D$8:$D$10007,C685,'Nominatieve lijst'!$J$8:$J$10007))","v":""},{"$f":"IF(ISBLANK(Vrijwilligersregister!C685)=TRUE,\"\",D685+F685)","v":""},{"$f":"Vrijwilligersregister!L685","v":0}]
[null,680,{"$f":"IF(ISBLANK(Vrijwilligersregister!C686)=TRUE,\"\",Vrijwilligersregister!C686)","v":""},{"$f":"IF(ISBLANK(Vrijwilligersregister!C686)=TRUE,\"\",SUMIF('Nominatieve lijst'!$D$8:$D$10007,C686,'Nominatieve lijst'!$G$8:$G$10007))","v":""},{"$f":"IF(ISBLANK(Vrijwilligersregister!C686)=TRUE,\"\",SUMIF('Nominatieve lijst'!$D$8:$D$10007,C686,'Nominatieve lijst'!$H$8:$H$10007))","v":""},{"$f":"IF(ISBLANK(Vrijwilligersregister!C686)=TRUE,\"\",SUMIF('Nominatieve lijst'!$D$8:$D$10007,C686,'Nominatieve lijst'!$J$8:$J$10007))","v":""},{"$f":"IF(ISBLANK(Vrijwilligersregister!C686)=TRUE,\"\",D686+F686)","v":""},{"$f":"Vrijwilligersregister!L686","v":0}]
[null,681,{"$f":"IF(ISBLANK(Vrijwilligersregister!C687)=TRUE,\"\",Vrijwilligersregister!C687)","v":""},{"$f":"IF(ISBLANK(Vrijwilligersregister!C687)=TRUE,\"\",SUMIF('Nominatieve lijst'!$D$8:$D$10007,C687,'Nominatieve lijst'!$G$8:$G$10007))","v":""},{"$f":"IF(ISBLANK(Vrijwilligersregister!C687)=TRUE,\"\",SUMIF('Nominatieve lijst'!$D$8:$D$10007,C687,'Nominatieve lijst'!$H$8:$H$10007))","v":""},{"$f":"IF(ISBLANK(Vrijwilligersregister!C687)=TRUE,\"\",SUMIF('Nominatieve lijst'!$D$8:$D$10007,C687,'Nominatieve lijst'!$J$8:$J$10007))","v":""},{"$f":"IF(ISBLANK(Vrijwilligersregister!C687)=TRUE,\"\",D687+F687)","v":""},{"$f":"Vrijwilligersregister!L687","v":0}]
[null,682,{"$f":"IF(ISBLANK(Vrijwilligersregister!C688)=TRUE,\"\",Vrijwilligersregister!C688)","v":""},{"$f":"IF(ISBLANK(Vrijwilligersregister!C688)=TRUE,\"\",SUMIF('Nominatieve lijst'!$D$8:$D$10007,C688,'Nominatieve lijst'!$G$8:$G$10007))","v":""},{"$f":"IF(ISBLANK(Vrijwilligersregister!C688)=TRUE,\"\",SUMIF('Nominatieve lijst'!$D$8:$D$10007,C688,'Nominatieve lijst'!$H$8:$H$10007))","v":""},{"$f":"IF(ISBLANK(Vrijwilligersregister!C688)=TRUE,\"\",SUMIF('Nominatieve lijst'!$D$8:$D$10007,C688,'Nominatieve lijst'!$J$8:$J$10007))","v":""},{"$f":"IF(ISBLANK(Vrijwilligersregister!C688)=TRUE,\"\",D688+F688)","v":""},{"$f":"Vrijwilligersregister!L688","v":0}]
[null,683,{"$f":"IF(ISBLANK(Vrijwilligersregister!C689)=TRUE,\"\",Vrijwilligersregister!C689)","v":""},{"$f":"IF(ISBLANK(Vrijwilligersregister!C689)=TRUE,\"\",SUMIF('Nominatieve lijst'!$D$8:$D$10007,C689,'Nominatieve lijst'!$G$8:$G$10007))","v":""},{"$f":"IF(ISBLANK(Vrijwilligersregister!C689)=TRUE,\"\",SUMIF('Nominatieve lijst'!$D$8:$D$10007,C689,'Nominatieve lijst'!$H$8:$H$10007))","v":""},{"$f":"IF(ISBLANK(Vrijwilligersregister!C689)=TRUE,\"\",SUMIF('Nominatieve lijst'!$D$8:$D$10007,C689,'Nominatieve lijst'!$J$8:$J$10007))","v":""},{"$f":"IF(ISBLANK(Vrijwilligersregister!C689)=TRUE,\"\",D689+F689)","v":""},{"$f":"Vrijwilligersregister!L689","v":0}]
[null,684,{"$f":"IF(ISBLANK(Vrijwilligersregister!C690)=TRUE,\"\",Vrijwilligersregister!C690)","v":""},{"$f":"IF(ISBLANK(Vrijwilligersregister!C690)=TRUE,\"\",SUMIF('Nominatieve lijst'!$D$8:$D$10007,C690,'Nominatieve lijst'!$G$8:$G$10007))","v":""},{"$f":"IF(ISBLANK(Vrijwilligersregister!C690)=TRUE,\"\",SUMIF('Nominatieve lijst'!$D$8:$D$10007,C690,'Nominatieve lijst'!$H$8:$H$10007))","v":""},{"$f":"IF(ISBLANK(Vrijwilligersregister!C690)=TRUE,\"\",SUMIF('Nominatieve lijst'!$D$8:$D$10007,C690,'Nominatieve lijst'!$J$8:$J$10007))","v":""},{"$f":"IF(ISBLANK(Vrijwilligersregister!C690)=TRUE,\"\",D690+F690)","v":""},{"$f":"Vrijwilligersregister!L690","v":0}]
[null,685,{"$f":"IF(ISBLANK(Vrijwilligersregister!C691)=TRUE,\"\",Vrijwilligersregister!C691)","v":""},{"$f":"IF(ISBLANK(Vrijwilligersregister!C691)=TRUE,\"\",SUMIF('Nominatieve lijst'!$D$8:$D$10007,C691,'Nominatieve lijst'!$G$8:$G$10007))","v":""},{"$f":"IF(ISBLANK(Vrijwilligersregister!C691)=TRUE,\"\",SUMIF('Nominatieve lijst'!$D$8:$D$10007,C691,'Nominatieve lijst'!$H$8:$H$10007))","v":""},{"$f":"IF(ISBLANK(Vrijwilligersregister!C691)=TRUE,\"\",SUMIF('Nominatieve lijst'!$D$8:$D$10007,C691,'Nominatieve lijst'!$J$8:$J$10007))","v":""},{"$f":"IF(ISBLANK(Vrijwilligersregister!C691)=TRUE,\"\",D691+F691)","v":""},{"$f":"Vrijwilligersregister!L691","v":0}]
[null,686,{"$f":"IF(ISBLANK(Vrijwilligersregister!C692)=TRUE,\"\",Vrijwilligersregister!C692)","v":""},{"$f":"IF(ISBLANK(Vrijwilligersregister!C692)=TRUE,\"\",SUMIF('Nominatieve lijst'!$D$8:$D$10007,C692,'Nominatieve lijst'!$G$8:$G$10007))","v":""},{"$f":"IF(ISBLANK(Vrijwilligersregister!C692)=TRUE,\"\",SUMIF('Nominatieve lijst'!$D$8:$D$10007,C692,'Nominatieve lijst'!$H$8:$H$10007))","v":""},{"$f":"IF(ISBLANK(Vrijwilligersregister!C692)=TRUE,\"\",SUMIF('Nominatieve lijst'!$D$8:$D$10007,C692,'Nominatieve lijst'!$J$8:$J$10007))","v":""},{"$f":"IF(ISBLANK(Vrijwilligersregister!C692)=TRUE,\"\",D692+F692)","v":""},{"$f":"Vrijwilligersregister!L692","v":0}]
[null,687,{"$f":"IF(ISBLANK(Vrijwilligersregister!C693)=TRUE,\"\",Vrijwilligersregister!C693)","v":""},{"$f":"IF(ISBLANK(Vrijwilligersregister!C693)=TRUE,\"\",SUMIF('Nominatieve lijst'!$D$8:$D$10007,C693,'Nominatieve lijst'!$G$8:$G$10007))","v":""},{"$f":"IF(ISBLANK(Vrijwilligersregister!C693)=TRUE,\"\",SUMIF('Nominatieve lijst'!$D$8:$D$10007,C693,'Nominatieve lijst'!$H$8:$H$10007))","v":""},{"$f":"IF(ISBLANK(Vrijwilligersregister!C693)=TRUE,\"\",SUMIF('Nominatieve lijst'!$D$8:$D$10007,C693,'Nominatieve lijst'!$J$8:$J$10007))","v":""},{"$f":"IF(ISBLANK(Vrijwilligersregister!C693)=TRUE,\"\",D693+F693)","v":""},{"$f":"Vrijwilligersregister!L693","v":0}]
[null,688,{"$f":"IF(ISBLANK(Vrijwilligersregister!C694)=TRUE,\"\",Vrijwilligersregister!C694)","v":""},{"$f":"IF(ISBLANK(Vrijwilligersregister!C694)=TRUE,\"\",SUMIF('Nominatieve lijst'!$D$8:$D$10007,C694,'Nominatieve lijst'!$G$8:$G$10007))","v":""},{"$f":"IF(ISBLANK(Vrijwilligersregister!C694)=TRUE,\"\",SUMIF('Nominatieve lijst'!$D$8:$D$10007,C694,'Nominatieve lijst'!$H$8:$H$10007))","v":""},{"$f":"IF(ISBLANK(Vrijwilligersregister!C694)=TRUE,\"\",SUMIF('Nominatieve lijst'!$D$8:$D$10007,C694,'Nominatieve lijst'!$J$8:$J$10007))","v":""},{"$f":"IF(ISBLANK(Vrijwilligersregister!C694)=TRUE,\"\",D694+F694)","v":""},{"$f":"Vrijwilligersregister!L694","v":0}]
[null,689,{"$f":"IF(ISBLANK(Vrijwilligersregister!C695)=TRUE,\"\",Vrijwilligersregister!C695)","v":""},{"$f":"IF(ISBLANK(Vrijwilligersregister!C695)=TRUE,\"\",SUMIF('Nominatieve lijst'!$D$8:$D$10007,C695,'Nominatieve lijst'!$G$8:$G$10007))","v":""},{"$f":"IF(ISBLANK(Vrijwilligersregister!C695)=TRUE,\"\",SUMIF('Nominatieve lijst'!$D$8:$D$10007,C695,'Nominatieve lijst'!$H$8:$H$10007))","v":""},{"$f":"IF(ISBLANK(Vrijwilligersregister!C695)=TRUE,\"\",SUMIF('Nominatieve lijst'!$D$8:$D$10007,C695,'Nominatieve lijst'!$J$8:$J$10007))","v":""},{"$f":"IF(ISBLANK(Vrijwilligersregister!C695)=TRUE,\"\",D695+F695)","v":""},{"$f":"Vrijwilligersregister!L695","v":0}]
[null,690,{"$f":"IF(ISBLANK(Vrijwilligersregister!C696)=TRUE,\"\",Vrijwilligersregister!C696)","v":""},{"$f":"IF(ISBLANK(Vrijwilligersregister!C696)=TRUE,\"\",SUMIF('Nominatieve lijst'!$D$8:$D$10007,C696,'Nominatieve lijst'!$G$8:$G$10007))","v":""},{"$f":"IF(ISBLANK(Vrijwilligersregister!C696)=TRUE,\"\",SUMIF('Nominatieve lijst'!$D$8:$D$10007,C696,'Nominatieve lijst'!$H$8:$H$10007))","v":""},{"$f":"IF(ISBLANK(Vrijwilligersregister!C696)=TRUE,\"\",SUMIF('Nominatieve lijst'!$D$8:$D$10007,C696,'Nominatieve lijst'!$J$8:$J$10007))","v":""},{"$f":"IF(ISBLANK(Vrijwilligersregister!C696)=TRUE,\"\",D696+F696)","v":""},{"$f":"Vrijwilligersregister!L696","v":0}]
[null,691,{"$f":"IF(ISBLANK(Vrijwilligersregister!C697)=TRUE,\"\",Vrijwilligersregister!C697)","v":""},{"$f":"IF(ISBLANK(Vrijwilligersregister!C697)=TRUE,\"\",SUMIF('Nominatieve lijst'!$D$8:$D$10007,C697,'Nominatieve lijst'!$G$8:$G$10007))","v":""},{"$f":"IF(ISBLANK(Vrijwilligersregister!C697)=TRUE,\"\",SUMIF('Nominatieve lijst'!$D$8:$D$10007,C697,'Nominatieve lijst'!$H$8:$H$10007))","v":""},{"$f":"IF(ISBLANK(Vrijwilligersregister!C697)=TRUE,\"\",SUMIF('Nominatieve lijst'!$D$8:$D$10007,C697,'Nominatieve lijst'!$J$8:$J$10007))","v":""},{"$f":"IF(ISBLANK(Vrijwilligersregister!C697)=TRUE,\"\",D697+F697)","v":""},{"$f":"Vrijwilligersregister!L697","v":0}]
[null,692,{"$f":"IF(ISBLANK(Vrijwilligersregister!C698)=TRUE,\"\",Vrijwilligersregister!C698)","v":""},{"$f":"IF(ISBLANK(Vrijwilligersregister!C698)=TRUE,\"\",SUMIF('Nominatieve lijst'!$D$8:$D$10007,C698,'Nominatieve lijst'!$G$8:$G$10007))","v":""},{"$f":"IF(ISBLANK(Vrijwilligersregister!C698)=TRUE,\"\",SUMIF('Nominatieve lijst'!$D$8:$D$10007,C698,'Nominatieve lijst'!$H$8:$H$10007))","v":""},{"$f":"IF(ISBLANK(Vrijwilligersregister!C698)=TRUE,\"\",SUMIF('Nominatieve lijst'!$D$8:$D$10007,C698,'Nominatieve lijst'!$J$8:$J$10007))","v":""},{"$f":"IF(ISBLANK(Vrijwilligersregister!C698)=TRUE,\"\",D698+F698)","v":""},{"$f":"Vrijwilligersregister!L698","v":0}]
[null,693,{"$f":"IF(ISBLANK(Vrijwilligersregister!C699)=TRUE,\"\",Vrijwilligersregister!C699)","v":""},{"$f":"IF(ISBLANK(Vrijwilligersregister!C699)=TRUE,\"\",SUMIF('Nominatieve lijst'!$D$8:$D$10007,C699,'Nominatieve lijst'!$G$8:$G$10007))","v":""},{"$f":"IF(ISBLANK(Vrijwilligersregister!C699)=TRUE,\"\",SUMIF('Nominatieve lijst'!$D$8:$D$10007,C699,'Nominatieve lijst'!$H$8:$H$10007))","v":""},{"$f":"IF(ISBLANK(Vrijwilligersregister!C699)=TRUE,\"\",SUMIF('Nominatieve lijst'!$D$8:$D$10007,C699,'Nominatieve lijst'!$J$8:$J$10007))","v":""},{"$f":"IF(ISBLANK(Vrijwilligersregister!C699)=TRUE,\"\",D699+F699)","v":""},{"$f":"Vrijwilligersregister!L699","v":0}]
[null,694,{"$f":"IF(ISBLANK(Vrijwilligersregister!C700)=TRUE,\"\",Vrijwilligersregister!C700)","v":""},{"$f":"IF(ISBLANK(Vrijwilligersregister!C700)=TRUE,\"\",SUMIF('Nominatieve lijst'!$D$8:$D$10007,C700,'Nominatieve lijst'!$G$8:$G$10007))","v":""},{"$f":"IF(ISBLANK(Vrijwilligersregister!C700)=TRUE,\"\",SUMIF('Nominatieve lijst'!$D$8:$D$10007,C700,'Nominatieve lijst'!$H$8:$H$10007))","v":""},{"$f":"IF(ISBLANK(Vrijwilligersregister!C700)=TRUE,\"\",SUMIF('Nominatieve lijst'!$D$8:$D$10007,C700,'Nominatieve lijst'!$J$8:$J$10007))","v":""},{"$f":"IF(ISBLANK(Vrijwilligersregister!C700)=TRUE,\"\",D700+F700)","v":""},{"$f":"Vrijwilligersregister!L700","v":0}]
[null,695,{"$f":"IF(ISBLANK(Vrijwilligersregister!C701)=TRUE,\"\",Vrijwilligersregister!C701)","v":""},{"$f":"IF(ISBLANK(Vrijwilligersregister!C701)=TRUE,\"\",SUMIF('Nominatieve lijst'!$D$8:$D$10007,C701,'Nominatieve lijst'!$G$8:$G$10007))","v":""},{"$f":"IF(ISBLANK(Vrijwilligersregister!C701)=TRUE,\"\",SUMIF('Nominatieve lijst'!$D$8:$D$10007,C701,'Nominatieve lijst'!$H$8:$H$10007))","v":""},{"$f":"IF(ISBLANK(Vrijwilligersregister!C701)=TRUE,\"\",SUMIF('Nominatieve lijst'!$D$8:$D$10007,C701,'Nominatieve lijst'!$J$8:$J$10007))","v":""},{"$f":"IF(ISBLANK(Vrijwilligersregister!C701)=TRUE,\"\",D701+F701)","v":""},{"$f":"Vrijwilligersregister!L701","v":0}]
[null,696,{"$f":"IF(ISBLANK(Vrijwilligersregister!C702)=TRUE,\"\",Vrijwilligersregister!C702)","v":""},{"$f":"IF(ISBLANK(Vrijwilligersregister!C702)=TRUE,\"\",SUMIF('Nominatieve lijst'!$D$8:$D$10007,C702,'Nominatieve lijst'!$G$8:$G$10007))","v":""},{"$f":"IF(ISBLANK(Vrijwilligersregister!C702)=TRUE,\"\",SUMIF('Nominatieve lijst'!$D$8:$D$10007,C702,'Nominatieve lijst'!$H$8:$H$10007))","v":""},{"$f":"IF(ISBLANK(Vrijwilligersregister!C702)=TRUE,\"\",SUMIF('Nominatieve lijst'!$D$8:$D$10007,C702,'Nominatieve lijst'!$J$8:$J$10007))","v":""},{"$f":"IF(ISBLANK(Vrijwilligersregister!C702)=TRUE,\"\",D702+F702)","v":""},{"$f":"Vrijwilligersregister!L702","v":0}]
[null,697,{"$f":"IF(ISBLANK(Vrijwilligersregister!C703)=TRUE,\"\",Vrijwilligersregister!C703)","v":""},{"$f":"IF(ISBLANK(Vrijwilligersregister!C703)=TRUE,\"\",SUMIF('Nominatieve lijst'!$D$8:$D$10007,C703,'Nominatieve lijst'!$G$8:$G$10007))","v":""},{"$f":"IF(ISBLANK(Vrijwilligersregister!C703)=TRUE,\"\",SUMIF('Nominatieve lijst'!$D$8:$D$10007,C703,'Nominatieve lijst'!$H$8:$H$10007))","v":""},{"$f":"IF(ISBLANK(Vrijwilligersregister!C703)=TRUE,\"\",SUMIF('Nominatieve lijst'!$D$8:$D$10007,C703,'Nominatieve lijst'!$J$8:$J$10007))","v":""},{"$f":"IF(ISBLANK(Vrijwilligersregister!C703)=TRUE,\"\",D703+F703)","v":""},{"$f":"Vrijwilligersregister!L703","v":0}]
[null,698,{"$f":"IF(ISBLANK(Vrijwilligersregister!C704)=TRUE,\"\",Vrijwilligersregister!C704)","v":""},{"$f":"IF(ISBLANK(Vrijwilligersregister!C704)=TRUE,\"\",SUMIF('Nominatieve lijst'!$D$8:$D$10007,C704,'Nominatieve lijst'!$G$8:$G$10007))","v":""},{"$f":"IF(ISBLANK(Vrijwilligersregister!C704)=TRUE,\"\",SUMIF('Nominatieve lijst'!$D$8:$D$10007,C704,'Nominatieve lijst'!$H$8:$H$10007))","v":""},{"$f":"IF(ISBLANK(Vrijwilligersregister!C704)=TRUE,\"\",SUMIF('Nominatieve lijst'!$D$8:$D$10007,C704,'Nominatieve lijst'!$J$8:$J$10007))","v":""},{"$f":"IF(ISBLANK(Vrijwilligersregister!C704)=TRUE,\"\",D704+F704)","v":""},{"$f":"Vrijwilligersregister!L704","v":0}]
[null,699,{"$f":"IF(ISBLANK(Vrijwilligersregister!C705)=TRUE,\"\",Vrijwilligersregister!C705)","v":""},{"$f":"IF(ISBLANK(Vrijwilligersregister!C705)=TRUE,\"\",SUMIF('Nominatieve lijst'!$D$8:$D$10007,C705,'Nominatieve lijst'!$G$8:$G$10007))","v":""},{"$f":"IF(ISBLANK(Vrijwilligersregister!C705)=TRUE,\"\",SUMIF('Nominatieve lijst'!$D$8:$D$10007,C705,'Nominatieve lijst'!$H$8:$H$10007))","v":""},{"$f":"IF(ISBLANK(Vrijwilligersregister!C705)=TRUE,\"\",SUMIF('Nominatieve lijst'!$D$8:$D$10007,C705,'Nominatieve lijst'!$J$8:$J$10007))","v":""},{"$f":"IF(ISBLANK(Vrijwilligersregister!C705)=TRUE,\"\",D705+F705)","v":""},{"$f":"Vrijwilligersregister!L705","v":0}]
[null,700,{"$f":"IF(ISBLANK(Vrijwilligersregister!C706)=TRUE,\"\",Vrijwilligersregister!C706)","v":""},{"$f":"IF(ISBLANK(Vrijwilligersregister!C706)=TRUE,\"\",SUMIF('Nominatieve lijst'!$D$8:$D$10007,C706,'Nominatieve lijst'!$G$8:$G$10007))","v":""},{"$f":"IF(ISBLANK(Vrijwilligersregister!C706)=TRUE,\"\",SUMIF('Nominatieve lijst'!$D$8:$D$10007,C706,'Nominatieve lijst'!$H$8:$H$10007))","v":""},{"$f":"IF(ISBLANK(Vrijwilligersregister!C706)=TRUE,\"\",SUMIF('Nominatieve lijst'!$D$8:$D$10007,C706,'Nominatieve lijst'!$J$8:$J$10007))","v":""},{"$f":"IF(ISBLANK(Vrijwilligersregister!C706)=TRUE,\"\",D706+F706)","v":""},{"$f":"Vrijwilligersregister!L706","v":0}]
[null,701,{"$f":"IF(ISBLANK(Vrijwilligersregister!C707)=TRUE,\"\",Vrijwilligersregister!C707)","v":""},{"$f":"IF(ISBLANK(Vrijwilligersregister!C707)=TRUE,\"\",SUMIF('Nominatieve lijst'!$D$8:$D$10007,C707,'Nominatieve lijst'!$G$8:$G$10007))","v":""},{"$f":"IF(ISBLANK(Vrijwilligersregister!C707)=TRUE,\"\",SUMIF('Nominatieve lijst'!$D$8:$D$10007,C707,'Nominatieve lijst'!$H$8:$H$10007))","v":""},{"$f":"IF(ISBLANK(Vrijwilligersregister!C707)=TRUE,\"\",SUMIF('Nominatieve lijst'!$D$8:$D$10007,C707,'Nominatieve lijst'!$J$8:$J$10007))","v":""},{"$f":"IF(ISBLANK(Vrijwilligersregister!C707)=TRUE,\"\",D707+F707)","v":""},{"$f":"Vrijwilligersregister!L707","v":0}]
[null,702,{"$f":"IF(ISBLANK(Vrijwilligersregister!C708)=TRUE,\"\",Vrijwilligersregister!C708)","v":""},{"$f":"IF(ISBLANK(Vrijwilligersregister!C708)=TRUE,\"\",SUMIF('Nominatieve lijst'!$D$8:$D$10007,C708,'Nominatieve lijst'!$G$8:$G$10007))","v":""},{"$f":"IF(ISBLANK(Vrijwilligersregister!C708)=TRUE,\"\",SUMIF('Nominatieve lijst'!$D$8:$D$10007,C708,'Nominatieve lijst'!$H$8:$H$10007))","v":""},{"$f":"IF(ISBLANK(Vrijwilligersregister!C708)=TRUE,\"\",SUMIF('Nominatieve lijst'!$D$8:$D$10007,C708,'Nominatieve lijst'!$J$8:$J$10007))","v":""},{"$f":"IF(ISBLANK(Vrijwilligersregister!C708)=TRUE,\"\",D708+F708)","v":""},{"$f":"Vrijwilligersregister!L708","v":0}]
[null,703,{"$f":"IF(ISBLANK(Vrijwilligersregister!C709)=TRUE,\"\",Vrijwilligersregister!C709)","v":""},{"$f":"IF(ISBLANK(Vrijwilligersregister!C709)=TRUE,\"\",SUMIF('Nominatieve lijst'!$D$8:$D$10007,C709,'Nominatieve lijst'!$G$8:$G$10007))","v":""},{"$f":"IF(ISBLANK(Vrijwilligersregister!C709)=TRUE,\"\",SUMIF('Nominatieve lijst'!$D$8:$D$10007,C709,'Nominatieve lijst'!$H$8:$H$10007))","v":""},{"$f":"IF(ISBLANK(Vrijwilligersregister!C709)=TRUE,\"\",SUMIF('Nominatieve lijst'!$D$8:$D$10007,C709,'Nominatieve lijst'!$J$8:$J$10007))","v":""},{"$f":"IF(ISBLANK(Vrijwilligersregister!C709)=TRUE,\"\",D709+F709)","v":""},{"$f":"Vrijwilligersregister!L709","v":0}]
[null,704,{"$f":"IF(ISBLANK(Vrijwilligersregister!C710)=TRUE,\"\",Vrijwilligersregister!C710)","v":""},{"$f":"IF(ISBLANK(Vrijwilligersregister!C710)=TRUE,\"\",SUMIF('Nominatieve lijst'!$D$8:$D$10007,C710,'Nominatieve lijst'!$G$8:$G$10007))","v":""},{"$f":"IF(ISBLANK(Vrijwilligersregister!C710)=TRUE,\"\",SUMIF('Nominatieve lijst'!$D$8:$D$10007,C710,'Nominatieve lijst'!$H$8:$H$10007))","v":""},{"$f":"IF(ISBLANK(Vrijwilligersregister!C710)=TRUE,\"\",SUMIF('Nominatieve lijst'!$D$8:$D$10007,C710,'Nominatieve lijst'!$J$8:$J$10007))","v":""},{"$f":"IF(ISBLANK(Vrijwilligersregister!C710)=TRUE,\"\",D710+F710)","v":""},{"$f":"Vrijwilligersregister!L710","v":0}]
[null,705,{"$f":"IF(ISBLANK(Vrijwilligersregister!C711)=TRUE,\"\",Vrijwilligersregister!C711)","v":""},{"$f":"IF(ISBLANK(Vrijwilligersregister!C711)=TRUE,\"\",SUMIF('Nominatieve lijst'!$D$8:$D$10007,C711,'Nominatieve lijst'!$G$8:$G$10007))","v":""},{"$f":"IF(ISBLANK(Vrijwilligersregister!C711)=TRUE,\"\",SUMIF('Nominatieve lijst'!$D$8:$D$10007,C711,'Nominatieve lijst'!$H$8:$H$10007))","v":""},{"$f":"IF(ISBLANK(Vrijwilligersregister!C711)=TRUE,\"\",SUMIF('Nominatieve lijst'!$D$8:$D$10007,C711,'Nominatieve lijst'!$J$8:$J$10007))","v":""},{"$f":"IF(ISBLANK(Vrijwilligersregister!C711)=TRUE,\"\",D711+F711)","v":""},{"$f":"Vrijwilligersregister!L711","v":0}]
[null,706,{"$f":"IF(ISBLANK(Vrijwilligersregister!C712)=TRUE,\"\",Vrijwilligersregister!C712)","v":""},{"$f":"IF(ISBLANK(Vrijwilligersregister!C712)=TRUE,\"\",SUMIF('Nominatieve lijst'!$D$8:$D$10007,C712,'Nominatieve lijst'!$G$8:$G$10007))","v":""},{"$f":"IF(ISBLANK(Vrijwilligersregister!C712)=TRUE,\"\",SUMIF('Nominatieve lijst'!$D$8:$D$10007,C712,'Nominatieve lijst'!$H$8:$H$10007))","v":""},{"$f":"IF(ISBLANK(Vrijwilligersregister!C712)=TRUE,\"\",SUMIF('Nominatieve lijst'!$D$8:$D$10007,C712,'Nominatieve lijst'!$J$8:$J$10007))","v":""},{"$f":"IF(ISBLANK(Vrijwilligersregister!C712)=TRUE,\"\",D712+F712)","v":""},{"$f":"Vrijwilligersregister!L712","v":0}]
[null,707,{"$f":"IF(ISBLANK(Vrijwilligersregister!C713)=TRUE,\"\",Vrijwilligersregister!C713)","v":""},{"$f":"IF(ISBLANK(Vrijwilligersregister!C713)=TRUE,\"\",SUMIF('Nominatieve lijst'!$D$8:$D$10007,C713,'Nominatieve lijst'!$G$8:$G$10007))","v":""},{"$f":"IF(ISBLANK(Vrijwilligersregister!C713)=TRUE,\"\",SUMIF('Nominatieve lijst'!$D$8:$D$10007,C713,'Nominatieve lijst'!$H$8:$H$10007))","v":""},{"$f":"IF(ISBLANK(Vrijwilligersregister!C713)=TRUE,\"\",SUMIF('Nominatieve lijst'!$D$8:$D$10007,C713,'Nominatieve lijst'!$J$8:$J$10007))","v":""},{"$f":"IF(ISBLANK(Vrijwilligersregister!C713)=TRUE,\"\",D713+F713)","v":""},{"$f":"Vrijwilligersregister!L713","v":0}]
[null,708,{"$f":"IF(ISBLANK(Vrijwilligersregister!C714)=TRUE,\"\",Vrijwilligersregister!C714)","v":""},{"$f":"IF(ISBLANK(Vrijwilligersregister!C714)=TRUE,\"\",SUMIF('Nominatieve lijst'!$D$8:$D$10007,C714,'Nominatieve lijst'!$G$8:$G$10007))","v":""},{"$f":"IF(ISBLANK(Vrijwilligersregister!C714)=TRUE,\"\",SUMIF('Nominatieve lijst'!$D$8:$D$10007,C714,'Nominatieve lijst'!$H$8:$H$10007))","v":""},{"$f":"IF(ISBLANK(Vrijwilligersregister!C714)=TRUE,\"\",SUMIF('Nominatieve lijst'!$D$8:$D$10007,C714,'Nominatieve lijst'!$J$8:$J$10007))","v":""},{"$f":"IF(ISBLANK(Vrijwilligersregister!C714)=TRUE,\"\",D714+F714)","v":""},{"$f":"Vrijwilligersregister!L714","v":0}]
[null,709,{"$f":"IF(ISBLANK(Vrijwilligersregister!C715)=TRUE,\"\",Vrijwilligersregister!C715)","v":""},{"$f":"IF(ISBLANK(Vrijwilligersregister!C715)=TRUE,\"\",SUMIF('Nominatieve lijst'!$D$8:$D$10007,C715,'Nominatieve lijst'!$G$8:$G$10007))","v":""},{"$f":"IF(ISBLANK(Vrijwilligersregister!C715)=TRUE,\"\",SUMIF('Nominatieve lijst'!$D$8:$D$10007,C715,'Nominatieve lijst'!$H$8:$H$10007))","v":""},{"$f":"IF(ISBLANK(Vrijwilligersregister!C715)=TRUE,\"\",SUMIF('Nominatieve lijst'!$D$8:$D$10007,C715,'Nominatieve lijst'!$J$8:$J$10007))","v":""},{"$f":"IF(ISBLANK(Vrijwilligersregister!C715)=TRUE,\"\",D715+F715)","v":""},{"$f":"Vrijwilligersregister!L715","v":0}]
[null,710,{"$f":"IF(ISBLANK(Vrijwilligersregister!C716)=TRUE,\"\",Vrijwilligersregister!C716)","v":""},{"$f":"IF(ISBLANK(Vrijwilligersregister!C716)=TRUE,\"\",SUMIF('Nominatieve lijst'!$D$8:$D$10007,C716,'Nominatieve lijst'!$G$8:$G$10007))","v":""},{"$f":"IF(ISBLANK(Vrijwilligersregister!C716)=TRUE,\"\",SUMIF('Nominatieve lijst'!$D$8:$D$10007,C716,'Nominatieve lijst'!$H$8:$H$10007))","v":""},{"$f":"IF(ISBLANK(Vrijwilligersregister!C716)=TRUE,\"\",SUMIF('Nominatieve lijst'!$D$8:$D$10007,C716,'Nominatieve lijst'!$J$8:$J$10007))","v":""},{"$f":"IF(ISBLANK(Vrijwilligersregister!C716)=TRUE,\"\",D716+F716)","v":""},{"$f":"Vrijwilligersregister!L716","v":0}]
[null,711,{"$f":"IF(ISBLANK(Vrijwilligersregister!C717)=TRUE,\"\",Vrijwilligersregister!C717)","v":""},{"$f":"IF(ISBLANK(Vrijwilligersregister!C717)=TRUE,\"\",SUMIF('Nominatieve lijst'!$D$8:$D$10007,C717,'Nominatieve lijst'!$G$8:$G$10007))","v":""},{"$f":"IF(ISBLANK(Vrijwilligersregister!C717)=TRUE,\"\",SUMIF('Nominatieve lijst'!$D$8:$D$10007,C717,'Nominatieve lijst'!$H$8:$H$10007))","v":""},{"$f":"IF(ISBLANK(Vrijwilligersregister!C717)=TRUE,\"\",SUMIF('Nominatieve lijst'!$D$8:$D$10007,C717,'Nominatieve lijst'!$J$8:$J$10007))","v":""},{"$f":"IF(ISBLANK(Vrijwilligersregister!C717)=TRUE,\"\",D717+F717)","v":""},{"$f":"Vrijwilligersregister!L717","v":0}]
[null,712,{"$f":"IF(ISBLANK(Vrijwilligersregister!C718)=TRUE,\"\",Vrijwilligersregister!C718)","v":""},{"$f":"IF(ISBLANK(Vrijwilligersregister!C718)=TRUE,\"\",SUMIF('Nominatieve lijst'!$D$8:$D$10007,C718,'Nominatieve lijst'!$G$8:$G$10007))","v":""},{"$f":"IF(ISBLANK(Vrijwilligersregister!C718)=TRUE,\"\",SUMIF('Nominatieve lijst'!$D$8:$D$10007,C718,'Nominatieve lijst'!$H$8:$H$10007))","v":""},{"$f":"IF(ISBLANK(Vrijwilligersregister!C718)=TRUE,\"\",SUMIF('Nominatieve lijst'!$D$8:$D$10007,C718,'Nominatieve lijst'!$J$8:$J$10007))","v":""},{"$f":"IF(ISBLANK(Vrijwilligersregister!C718)=TRUE,\"\",D718+F718)","v":""},{"$f":"Vrijwilligersregister!L718","v":0}]
[null,713,{"$f":"IF(ISBLANK(Vrijwilligersregister!C719)=TRUE,\"\",Vrijwilligersregister!C719)","v":""},{"$f":"IF(ISBLANK(Vrijwilligersregister!C719)=TRUE,\"\",SUMIF('Nominatieve lijst'!$D$8:$D$10007,C719,'Nominatieve lijst'!$G$8:$G$10007))","v":""},{"$f":"IF(ISBLANK(Vrijwilligersregister!C719)=TRUE,\"\",SUMIF('Nominatieve lijst'!$D$8:$D$10007,C719,'Nominatieve lijst'!$H$8:$H$10007))","v":""},{"$f":"IF(ISBLANK(Vrijwilligersregister!C719)=TRUE,\"\",SUMIF('Nominatieve lijst'!$D$8:$D$10007,C719,'Nominatieve lijst'!$J$8:$J$10007))","v":""},{"$f":"IF(ISBLANK(Vrijwilligersregister!C719)=TRUE,\"\",D719+F719)","v":""},{"$f":"Vrijwilligersregister!L719","v":0}]
[null,714,{"$f":"IF(ISBLANK(Vrijwilligersregister!C720)=TRUE,\"\",Vrijwilligersregister!C720)","v":""},{"$f":"IF(ISBLANK(Vrijwilligersregister!C720)=TRUE,\"\",SUMIF('Nominatieve lijst'!$D$8:$D$10007,C720,'Nominatieve lijst'!$G$8:$G$10007))","v":""},{"$f":"IF(ISBLANK(Vrijwilligersregister!C720)=TRUE,\"\",SUMIF('Nominatieve lijst'!$D$8:$D$10007,C720,'Nominatieve lijst'!$H$8:$H$10007))","v":""},{"$f":"IF(ISBLANK(Vrijwilligersregister!C720)=TRUE,\"\",SUMIF('Nominatieve lijst'!$D$8:$D$10007,C720,'Nominatieve lijst'!$J$8:$J$10007))","v":""},{"$f":"IF(ISBLANK(Vrijwilligersregister!C720)=TRUE,\"\",D720+F720)","v":""},{"$f":"Vrijwilligersregister!L720","v":0}]
[null,715,{"$f":"IF(ISBLANK(Vrijwilligersregister!C721)=TRUE,\"\",Vrijwilligersregister!C721)","v":""},{"$f":"IF(ISBLANK(Vrijwilligersregister!C721)=TRUE,\"\",SUMIF('Nominatieve lijst'!$D$8:$D$10007,C721,'Nominatieve lijst'!$G$8:$G$10007))","v":""},{"$f":"IF(ISBLANK(Vrijwilligersregister!C721)=TRUE,\"\",SUMIF('Nominatieve lijst'!$D$8:$D$10007,C721,'Nominatieve lijst'!$H$8:$H$10007))","v":""},{"$f":"IF(ISBLANK(Vrijwilligersregister!C721)=TRUE,\"\",SUMIF('Nominatieve lijst'!$D$8:$D$10007,C721,'Nominatieve lijst'!$J$8:$J$10007))","v":""},{"$f":"IF(ISBLANK(Vrijwilligersregister!C721)=TRUE,\"\",D721+F721)","v":""},{"$f":"Vrijwilligersregister!L721","v":0}]
[null,716,{"$f":"IF(ISBLANK(Vrijwilligersregister!C722)=TRUE,\"\",Vrijwilligersregister!C722)","v":""},{"$f":"IF(ISBLANK(Vrijwilligersregister!C722)=TRUE,\"\",SUMIF('Nominatieve lijst'!$D$8:$D$10007,C722,'Nominatieve lijst'!$G$8:$G$10007))","v":""},{"$f":"IF(ISBLANK(Vrijwilligersregister!C722)=TRUE,\"\",SUMIF('Nominatieve lijst'!$D$8:$D$10007,C722,'Nominatieve lijst'!$H$8:$H$10007))","v":""},{"$f":"IF(ISBLANK(Vrijwilligersregister!C722)=TRUE,\"\",SUMIF('Nominatieve lijst'!$D$8:$D$10007,C722,'Nominatieve lijst'!$J$8:$J$10007))","v":""},{"$f":"IF(ISBLANK(Vrijwilligersregister!C722)=TRUE,\"\",D722+F722)","v":""},{"$f":"Vrijwilligersregister!L722","v":0}]
[null,717,{"$f":"IF(ISBLANK(Vrijwilligersregister!C723)=TRUE,\"\",Vrijwilligersregister!C723)","v":""},{"$f":"IF(ISBLANK(Vrijwilligersregister!C723)=TRUE,\"\",SUMIF('Nominatieve lijst'!$D$8:$D$10007,C723,'Nominatieve lijst'!$G$8:$G$10007))","v":""},{"$f":"IF(ISBLANK(Vrijwilligersregister!C723)=TRUE,\"\",SUMIF('Nominatieve lijst'!$D$8:$D$10007,C723,'Nominatieve lijst'!$H$8:$H$10007))","v":""},{"$f":"IF(ISBLANK(Vrijwilligersregister!C723)=TRUE,\"\",SUMIF('Nominatieve lijst'!$D$8:$D$10007,C723,'Nominatieve lijst'!$J$8:$J$10007))","v":""},{"$f":"IF(ISBLANK(Vrijwilligersregister!C723)=TRUE,\"\",D723+F723)","v":""},{"$f":"Vrijwilligersregister!L723","v":0}]
[null,718,{"$f":"IF(ISBLANK(Vrijwilligersregister!C724)=TRUE,\"\",Vrijwilligersregister!C724)","v":""},{"$f":"IF(ISBLANK(Vrijwilligersregister!C724)=TRUE,\"\",SUMIF('Nominatieve lijst'!$D$8:$D$10007,C724,'Nominatieve lijst'!$G$8:$G$10007))","v":""},{"$f":"IF(ISBLANK(Vrijwilligersregister!C724)=TRUE,\"\",SUMIF('Nominatieve lijst'!$D$8:$D$10007,C724,'Nominatieve lijst'!$H$8:$H$10007))","v":""},{"$f":"IF(ISBLANK(Vrijwilligersregister!C724)=TRUE,\"\",SUMIF('Nominatieve lijst'!$D$8:$D$10007,C724,'Nominatieve lijst'!$J$8:$J$10007))","v":""},{"$f":"IF(ISBLANK(Vrijwilligersregister!C724)=TRUE,\"\",D724+F724)","v":""},{"$f":"Vrijwilligersregister!L724","v":0}]
[null,719,{"$f":"IF(ISBLANK(Vrijwilligersregister!C725)=TRUE,\"\",Vrijwilligersregister!C725)","v":""},{"$f":"IF(ISBLANK(Vrijwilligersregister!C725)=TRUE,\"\",SUMIF('Nominatieve lijst'!$D$8:$D$10007,C725,'Nominatieve lijst'!$G$8:$G$10007))","v":""},{"$f":"IF(ISBLANK(Vrijwilligersregister!C725)=TRUE,\"\",SUMIF('Nominatieve lijst'!$D$8:$D$10007,C725,'Nominatieve lijst'!$H$8:$H$10007))","v":""},{"$f":"IF(ISBLANK(Vrijwilligersregister!C725)=TRUE,\"\",SUMIF('Nominatieve lijst'!$D$8:$D$10007,C725,'Nominatieve lijst'!$J$8:$J$10007))","v":""},{"$f":"IF(ISBLANK(Vrijwilligersregister!C725)=TRUE,\"\",D725+F725)","v":""},{"$f":"Vrijwilligersregister!L725","v":0}]
[null,720,{"$f":"IF(ISBLANK(Vrijwilligersregister!C726)=TRUE,\"\",Vrijwilligersregister!C726)","v":""},{"$f":"IF(ISBLANK(Vrijwilligersregister!C726)=TRUE,\"\",SUMIF('Nominatieve lijst'!$D$8:$D$10007,C726,'Nominatieve lijst'!$G$8:$G$10007))","v":""},{"$f":"IF(ISBLANK(Vrijwilligersregister!C726)=TRUE,\"\",SUMIF('Nominatieve lijst'!$D$8:$D$10007,C726,'Nominatieve lijst'!$H$8:$H$10007))","v":""},{"$f":"IF(ISBLANK(Vrijwilligersregister!C726)=TRUE,\"\",SUMIF('Nominatieve lijst'!$D$8:$D$10007,C726,'Nominatieve lijst'!$J$8:$J$10007))","v":""},{"$f":"IF(ISBLANK(Vrijwilligersregister!C726)=TRUE,\"\",D726+F726)","v":""},{"$f":"Vrijwilligersregister!L726","v":0}]
[null,721,{"$f":"IF(ISBLANK(Vrijwilligersregister!C727)=TRUE,\"\",Vrijwilligersregister!C727)","v":""},{"$f":"IF(ISBLANK(Vrijwilligersregister!C727)=TRUE,\"\",SUMIF('Nominatieve lijst'!$D$8:$D$10007,C727,'Nominatieve lijst'!$G$8:$G$10007))","v":""},{"$f":"IF(ISBLANK(Vrijwilligersregister!C727)=TRUE,\"\",SUMIF('Nominatieve lijst'!$D$8:$D$10007,C727,'Nominatieve lijst'!$H$8:$H$10007))","v":""},{"$f":"IF(ISBLANK(Vrijwilligersregister!C727)=TRUE,\"\",SUMIF('Nominatieve lijst'!$D$8:$D$10007,C727,'Nominatieve lijst'!$J$8:$J$10007))","v":""},{"$f":"IF(ISBLANK(Vrijwilligersregister!C727)=TRUE,\"\",D727+F727)","v":""},{"$f":"Vrijwilligersregister!L727","v":0}]
[null,722,{"$f":"IF(ISBLANK(Vrijwilligersregister!C728)=TRUE,\"\",Vrijwilligersregister!C728)","v":""},{"$f":"IF(ISBLANK(Vrijwilligersregister!C728)=TRUE,\"\",SUMIF('Nominatieve lijst'!$D$8:$D$10007,C728,'Nominatieve lijst'!$G$8:$G$10007))","v":""},{"$f":"IF(ISBLANK(Vrijwilligersregister!C728)=TRUE,\"\",SUMIF('Nominatieve lijst'!$D$8:$D$10007,C728,'Nominatieve lijst'!$H$8:$H$10007))","v":""},{"$f":"IF(ISBLANK(Vrijwilligersregister!C728)=TRUE,\"\",SUMIF('Nominatieve lijst'!$D$8:$D$10007,C728,'Nominatieve lijst'!$J$8:$J$10007))","v":""},{"$f":"IF(ISBLANK(Vrijwilligersregister!C728)=TRUE,\"\",D728+F728)","v":""},{"$f":"Vrijwilligersregister!L728","v":0}]
[null,723,{"$f":"IF(ISBLANK(Vrijwilligersregister!C729)=TRUE,\"\",Vrijwilligersregister!C729)","v":""},{"$f":"IF(ISBLANK(Vrijwilligersregister!C729)=TRUE,\"\",SUMIF('Nominatieve lijst'!$D$8:$D$10007,C729,'Nominatieve lijst'!$G$8:$G$10007))","v":""},{"$f":"IF(ISBLANK(Vrijwilligersregister!C729)=TRUE,\"\",SUMIF('Nominatieve lijst'!$D$8:$D$10007,C729,'Nominatieve lijst'!$H$8:$H$10007))","v":""},{"$f":"IF(ISBLANK(Vrijwilligersregister!C729)=TRUE,\"\",SUMIF('Nominatieve lijst'!$D$8:$D$10007,C729,'Nominatieve lijst'!$J$8:$J$10007))","v":""},{"$f":"IF(ISBLANK(Vrijwilligersregister!C729)=TRUE,\"\",D729+F729)","v":""},{"$f":"Vrijwilligersregister!L729","v":0}]
[null,724,{"$f":"IF(ISBLANK(Vrijwilligersregister!C730)=TRUE,\"\",Vrijwilligersregister!C730)","v":""},{"$f":"IF(ISBLANK(Vrijwilligersregister!C730)=TRUE,\"\",SUMIF('Nominatieve lijst'!$D$8:$D$10007,C730,'Nominatieve lijst'!$G$8:$G$10007))","v":""},{"$f":"IF(ISBLANK(Vrijwilligersregister!C730)=TRUE,\"\",SUMIF('Nominatieve lijst'!$D$8:$D$10007,C730,'Nominatieve lijst'!$H$8:$H$10007))","v":""},{"$f":"IF(ISBLANK(Vrijwilligersregister!C730)=TRUE,\"\",SUMIF('Nominatieve lijst'!$D$8:$D$10007,C730,'Nominatieve lijst'!$J$8:$J$10007))","v":""},{"$f":"IF(ISBLANK(Vrijwilligersregister!C730)=TRUE,\"\",D730+F730)","v":""},{"$f":"Vrijwilligersregister!L730","v":0}]
[null,725,{"$f":"IF(ISBLANK(Vrijwilligersregister!C731)=TRUE,\"\",Vrijwilligersregister!C731)","v":""},{"$f":"IF(ISBLANK(Vrijwilligersregister!C731)=TRUE,\"\",SUMIF('Nominatieve lijst'!$D$8:$D$10007,C731,'Nominatieve lijst'!$G$8:$G$10007))","v":""},{"$f":"IF(ISBLANK(Vrijwilligersregister!C731)=TRUE,\"\",SUMIF('Nominatieve lijst'!$D$8:$D$10007,C731,'Nominatieve lijst'!$H$8:$H$10007))","v":""},{"$f":"IF(ISBLANK(Vrijwilligersregister!C731)=TRUE,\"\",SUMIF('Nominatieve lijst'!$D$8:$D$10007,C731,'Nominatieve lijst'!$J$8:$J$10007))","v":""},{"$f":"IF(ISBLANK(Vrijwilligersregister!C731)=TRUE,\"\",D731+F731)","v":""},{"$f":"Vrijwilligersregister!L731","v":0}]
[null,726,{"$f":"IF(ISBLANK(Vrijwilligersregister!C732)=TRUE,\"\",Vrijwilligersregister!C732)","v":""},{"$f":"IF(ISBLANK(Vrijwilligersregister!C732)=TRUE,\"\",SUMIF('Nominatieve lijst'!$D$8:$D$10007,C732,'Nominatieve lijst'!$G$8:$G$10007))","v":""},{"$f":"IF(ISBLANK(Vrijwilligersregister!C732)=TRUE,\"\",SUMIF('Nominatieve lijst'!$D$8:$D$10007,C732,'Nominatieve lijst'!$H$8:$H$10007))","v":""},{"$f":"IF(ISBLANK(Vrijwilligersregister!C732)=TRUE,\"\",SUMIF('Nominatieve lijst'!$D$8:$D$10007,C732,'Nominatieve lijst'!$J$8:$J$10007))","v":""},{"$f":"IF(ISBLANK(Vrijwilligersregister!C732)=TRUE,\"\",D732+F732)","v":""},{"$f":"Vrijwilligersregister!L732","v":0}]
[null,727,{"$f":"IF(ISBLANK(Vrijwilligersregister!C733)=TRUE,\"\",Vrijwilligersregister!C733)","v":""},{"$f":"IF(ISBLANK(Vrijwilligersregister!C733)=TRUE,\"\",SUMIF('Nominatieve lijst'!$D$8:$D$10007,C733,'Nominatieve lijst'!$G$8:$G$10007))","v":""},{"$f":"IF(ISBLANK(Vrijwilligersregister!C733)=TRUE,\"\",SUMIF('Nominatieve lijst'!$D$8:$D$10007,C733,'Nominatieve lijst'!$H$8:$H$10007))","v":""},{"$f":"IF(ISBLANK(Vrijwilligersregister!C733)=TRUE,\"\",SUMIF('Nominatieve lijst'!$D$8:$D$10007,C733,'Nominatieve lijst'!$J$8:$J$10007))","v":""},{"$f":"IF(ISBLANK(Vrijwilligersregister!C733)=TRUE,\"\",D733+F733)","v":""},{"$f":"Vrijwilligersregister!L733","v":0}]
[null,728,{"$f":"IF(ISBLANK(Vrijwilligersregister!C734)=TRUE,\"\",Vrijwilligersregister!C734)","v":""},{"$f":"IF(ISBLANK(Vrijwilligersregister!C734)=TRUE,\"\",SUMIF('Nominatieve lijst'!$D$8:$D$10007,C734,'Nominatieve lijst'!$G$8:$G$10007))","v":""},{"$f":"IF(ISBLANK(Vrijwilligersregister!C734)=TRUE,\"\",SUMIF('Nominatieve lijst'!$D$8:$D$10007,C734,'Nominatieve lijst'!$H$8:$H$10007))","v":""},{"$f":"IF(ISBLANK(Vrijwilligersregister!C734)=TRUE,\"\",SUMIF('Nominatieve lijst'!$D$8:$D$10007,C734,'Nominatieve lijst'!$J$8:$J$10007))","v":""},{"$f":"IF(ISBLANK(Vrijwilligersregister!C734)=TRUE,\"\",D734+F734)","v":""},{"$f":"Vrijwilligersregister!L734","v":0}]
[null,729,{"$f":"IF(ISBLANK(Vrijwilligersregister!C735)=TRUE,\"\",Vrijwilligersregister!C735)","v":""},{"$f":"IF(ISBLANK(Vrijwilligersregister!C735)=TRUE,\"\",SUMIF('Nominatieve lijst'!$D$8:$D$10007,C735,'Nominatieve lijst'!$G$8:$G$10007))","v":""},{"$f":"IF(ISBLANK(Vrijwilligersregister!C735)=TRUE,\"\",SUMIF('Nominatieve lijst'!$D$8:$D$10007,C735,'Nominatieve lijst'!$H$8:$H$10007))","v":""},{"$f":"IF(ISBLANK(Vrijwilligersregister!C735)=TRUE,\"\",SUMIF('Nominatieve lijst'!$D$8:$D$10007,C735,'Nominatieve lijst'!$J$8:$J$10007))","v":""},{"$f":"IF(ISBLANK(Vrijwilligersregister!C735)=TRUE,\"\",D735+F735)","v":""},{"$f":"Vrijwilligersregister!L735","v":0}]
[null,730,{"$f":"IF(ISBLANK(Vrijwilligersregister!C736)=TRUE,\"\",Vrijwilligersregister!C736)","v":""},{"$f":"IF(ISBLANK(Vrijwilligersregister!C736)=TRUE,\"\",SUMIF('Nominatieve lijst'!$D$8:$D$10007,C736,'Nominatieve lijst'!$G$8:$G$10007))","v":""},{"$f":"IF(ISBLANK(Vrijwilligersregister!C736)=TRUE,\"\",SUMIF('Nominatieve lijst'!$D$8:$D$10007,C736,'Nominatieve lijst'!$H$8:$H$10007))","v":""},{"$f":"IF(ISBLANK(Vrijwilligersregister!C736)=TRUE,\"\",SUMIF('Nominatieve lijst'!$D$8:$D$10007,C736,'Nominatieve lijst'!$J$8:$J$10007))","v":""},{"$f":"IF(ISBLANK(Vrijwilligersregister!C736)=TRUE,\"\",D736+F736)","v":""},{"$f":"Vrijwilligersregister!L736","v":0}]
[null,731,{"$f":"IF(ISBLANK(Vrijwilligersregister!C737)=TRUE,\"\",Vrijwilligersregister!C737)","v":""},{"$f":"IF(ISBLANK(Vrijwilligersregister!C737)=TRUE,\"\",SUMIF('Nominatieve lijst'!$D$8:$D$10007,C737,'Nominatieve lijst'!$G$8:$G$10007))","v":""},{"$f":"IF(ISBLANK(Vrijwilligersregister!C737)=TRUE,\"\",SUMIF('Nominatieve lijst'!$D$8:$D$10007,C737,'Nominatieve lijst'!$H$8:$H$10007))","v":""},{"$f":"IF(ISBLANK(Vrijwilligersregister!C737)=TRUE,\"\",SUMIF('Nominatieve lijst'!$D$8:$D$10007,C737,'Nominatieve lijst'!$J$8:$J$10007))","v":""},{"$f":"IF(ISBLANK(Vrijwilligersregister!C737)=TRUE,\"\",D737+F737)","v":""},{"$f":"Vrijwilligersregister!L737","v":0}]
[null,732,{"$f":"IF(ISBLANK(Vrijwilligersregister!C738)=TRUE,\"\",Vrijwilligersregister!C738)","v":""},{"$f":"IF(ISBLANK(Vrijwilligersregister!C738)=TRUE,\"\",SUMIF('Nominatieve lijst'!$D$8:$D$10007,C738,'Nominatieve lijst'!$G$8:$G$10007))","v":""},{"$f":"IF(ISBLANK(Vrijwilligersregister!C738)=TRUE,\"\",SUMIF('Nominatieve lijst'!$D$8:$D$10007,C738,'Nominatieve lijst'!$H$8:$H$10007))","v":""},{"$f":"IF(ISBLANK(Vrijwilligersregister!C738)=TRUE,\"\",SUMIF('Nominatieve lijst'!$D$8:$D$10007,C738,'Nominatieve lijst'!$J$8:$J$10007))","v":""},{"$f":"IF(ISBLANK(Vrijwilligersregister!C738)=TRUE,\"\",D738+F738)","v":""},{"$f":"Vrijwilligersregister!L738","v":0}]
[null,733,{"$f":"IF(ISBLANK(Vrijwilligersregister!C739)=TRUE,\"\",Vrijwilligersregister!C739)","v":""},{"$f":"IF(ISBLANK(Vrijwilligersregister!C739)=TRUE,\"\",SUMIF('Nominatieve lijst'!$D$8:$D$10007,C739,'Nominatieve lijst'!$G$8:$G$10007))","v":""},{"$f":"IF(ISBLANK(Vrijwilligersregister!C739)=TRUE,\"\",SUMIF('Nominatieve lijst'!$D$8:$D$10007,C739,'Nominatieve lijst'!$H$8:$H$10007))","v":""},{"$f":"IF(ISBLANK(Vrijwilligersregister!C739)=TRUE,\"\",SUMIF('Nominatieve lijst'!$D$8:$D$10007,C739,'Nominatieve lijst'!$J$8:$J$10007))","v":""},{"$f":"IF(ISBLANK(Vrijwilligersregister!C739)=TRUE,\"\",D739+F739)","v":""},{"$f":"Vrijwilligersregister!L739","v":0}]
[null,734,{"$f":"IF(ISBLANK(Vrijwilligersregister!C740)=TRUE,\"\",Vrijwilligersregister!C740)","v":""},{"$f":"IF(ISBLANK(Vrijwilligersregister!C740)=TRUE,\"\",SUMIF('Nominatieve lijst'!$D$8:$D$10007,C740,'Nominatieve lijst'!$G$8:$G$10007))","v":""},{"$f":"IF(ISBLANK(Vrijwilligersregister!C740)=TRUE,\"\",SUMIF('Nominatieve lijst'!$D$8:$D$10007,C740,'Nominatieve lijst'!$H$8:$H$10007))","v":""},{"$f":"IF(ISBLANK(Vrijwilligersregister!C740)=TRUE,\"\",SUMIF('Nominatieve lijst'!$D$8:$D$10007,C740,'Nominatieve lijst'!$J$8:$J$10007))","v":""},{"$f":"IF(ISBLANK(Vrijwilligersregister!C740)=TRUE,\"\",D740+F740)","v":""},{"$f":"Vrijwilligersregister!L740","v":0}]
[null,735,{"$f":"IF(ISBLANK(Vrijwilligersregister!C741)=TRUE,\"\",Vrijwilligersregister!C741)","v":""},{"$f":"IF(ISBLANK(Vrijwilligersregister!C741)=TRUE,\"\",SUMIF('Nominatieve lijst'!$D$8:$D$10007,C741,'Nominatieve lijst'!$G$8:$G$10007))","v":""},{"$f":"IF(ISBLANK(Vrijwilligersregister!C741)=TRUE,\"\",SUMIF('Nominatieve lijst'!$D$8:$D$10007,C741,'Nominatieve lijst'!$H$8:$H$10007))","v":""},{"$f":"IF(ISBLANK(Vrijwilligersregister!C741)=TRUE,\"\",SUMIF('Nominatieve lijst'!$D$8:$D$10007,C741,'Nominatieve lijst'!$J$8:$J$10007))","v":""},{"$f":"IF(ISBLANK(Vrijwilligersregister!C741)=TRUE,\"\",D741+F741)","v":""},{"$f":"Vrijwilligersregister!L741","v":0}]
[null,736,{"$f":"IF(ISBLANK(Vrijwilligersregister!C742)=TRUE,\"\",Vrijwilligersregister!C742)","v":""},{"$f":"IF(ISBLANK(Vrijwilligersregister!C742)=TRUE,\"\",SUMIF('Nominatieve lijst'!$D$8:$D$10007,C742,'Nominatieve lijst'!$G$8:$G$10007))","v":""},{"$f":"IF(ISBLANK(Vrijwilligersregister!C742)=TRUE,\"\",SUMIF('Nominatieve lijst'!$D$8:$D$10007,C742,'Nominatieve lijst'!$H$8:$H$10007))","v":""},{"$f":"IF(ISBLANK(Vrijwilligersregister!C742)=TRUE,\"\",SUMIF('Nominatieve lijst'!$D$8:$D$10007,C742,'Nominatieve lijst'!$J$8:$J$10007))","v":""},{"$f":"IF(ISBLANK(Vrijwilligersregister!C742)=TRUE,\"\",D742+F742)","v":""},{"$f":"Vrijwilligersregister!L742","v":0}]
[null,737,{"$f":"IF(ISBLANK(Vrijwilligersregister!C743)=TRUE,\"\",Vrijwilligersregister!C743)","v":""},{"$f":"IF(ISBLANK(Vrijwilligersregister!C743)=TRUE,\"\",SUMIF('Nominatieve lijst'!$D$8:$D$10007,C743,'Nominatieve lijst'!$G$8:$G$10007))","v":""},{"$f":"IF(ISBLANK(Vrijwilligersregister!C743)=TRUE,\"\",SUMIF('Nominatieve lijst'!$D$8:$D$10007,C743,'Nominatieve lijst'!$H$8:$H$10007))","v":""},{"$f":"IF(ISBLANK(Vrijwilligersregister!C743)=TRUE,\"\",SUMIF('Nominatieve lijst'!$D$8:$D$10007,C743,'Nominatieve lijst'!$J$8:$J$10007))","v":""},{"$f":"IF(ISBLANK(Vrijwilligersregister!C743)=TRUE,\"\",D743+F743)","v":""},{"$f":"Vrijwilligersregister!L743","v":0}]
[null,738,{"$f":"IF(ISBLANK(Vrijwilligersregister!C744)=TRUE,\"\",Vrijwilligersregister!C744)","v":""},{"$f":"IF(ISBLANK(Vrijwilligersregister!C744)=TRUE,\"\",SUMIF('Nominatieve lijst'!$D$8:$D$10007,C744,'Nominatieve lijst'!$G$8:$G$10007))","v":""},{"$f":"IF(ISBLANK(Vrijwilligersregister!C744)=TRUE,\"\",SUMIF('Nominatieve lijst'!$D$8:$D$10007,C744,'Nominatieve lijst'!$H$8:$H$10007))","v":""},{"$f":"IF(ISBLANK(Vrijwilligersregister!C744)=TRUE,\"\",SUMIF('Nominatieve lijst'!$D$8:$D$10007,C744,'Nominatieve lijst'!$J$8:$J$10007))","v":""},{"$f":"IF(ISBLANK(Vrijwilligersregister!C744)=TRUE,\"\",D744+F744)","v":""},{"$f":"Vrijwilligersregister!L744","v":0}]
[null,739,{"$f":"IF(ISBLANK(Vrijwilligersregister!C745)=TRUE,\"\",Vrijwilligersregister!C745)","v":""},{"$f":"IF(ISBLANK(Vrijwilligersregister!C745)=TRUE,\"\",SUMIF('Nominatieve lijst'!$D$8:$D$10007,C745,'Nominatieve lijst'!$G$8:$G$10007))","v":""},{"$f":"IF(ISBLANK(Vrijwilligersregister!C745)=TRUE,\"\",SUMIF('Nominatieve lijst'!$D$8:$D$10007,C745,'Nominatieve lijst'!$H$8:$H$10007))","v":""},{"$f":"IF(ISBLANK(Vrijwilligersregister!C745)=TRUE,\"\",SUMIF('Nominatieve lijst'!$D$8:$D$10007,C745,'Nominatieve lijst'!$J$8:$J$10007))","v":""},{"$f":"IF(ISBLANK(Vrijwilligersregister!C745)=TRUE,\"\",D745+F745)","v":""},{"$f":"Vrijwilligersregister!L745","v":0}]
[null,740,{"$f":"IF(ISBLANK(Vrijwilligersregister!C746)=TRUE,\"\",Vrijwilligersregister!C746)","v":""},{"$f":"IF(ISBLANK(Vrijwilligersregister!C746)=TRUE,\"\",SUMIF('Nominatieve lijst'!$D$8:$D$10007,C746,'Nominatieve lijst'!$G$8:$G$10007))","v":""},{"$f":"IF(ISBLANK(Vrijwilligersregister!C746)=TRUE,\"\",SUMIF('Nominatieve lijst'!$D$8:$D$10007,C746,'Nominatieve lijst'!$H$8:$H$10007))","v":""},{"$f":"IF(ISBLANK(Vrijwilligersregister!C746)=TRUE,\"\",SUMIF('Nominatieve lijst'!$D$8:$D$10007,C746,'Nominatieve lijst'!$J$8:$J$10007))","v":""},{"$f":"IF(ISBLANK(Vrijwilligersregister!C746)=TRUE,\"\",D746+F746)","v":""},{"$f":"Vrijwilligersregister!L746","v":0}]
[null,741,{"$f":"IF(ISBLANK(Vrijwilligersregister!C747)=TRUE,\"\",Vrijwilligersregister!C747)","v":""},{"$f":"IF(ISBLANK(Vrijwilligersregister!C747)=TRUE,\"\",SUMIF('Nominatieve lijst'!$D$8:$D$10007,C747,'Nominatieve lijst'!$G$8:$G$10007))","v":""},{"$f":"IF(ISBLANK(Vrijwilligersregister!C747)=TRUE,\"\",SUMIF('Nominatieve lijst'!$D$8:$D$10007,C747,'Nominatieve lijst'!$H$8:$H$10007))","v":""},{"$f":"IF(ISBLANK(Vrijwilligersregister!C747)=TRUE,\"\",SUMIF('Nominatieve lijst'!$D$8:$D$10007,C747,'Nominatieve lijst'!$J$8:$J$10007))","v":""},{"$f":"IF(ISBLANK(Vrijwilligersregister!C747)=TRUE,\"\",D747+F747)","v":""},{"$f":"Vrijwilligersregister!L747","v":0}]
[null,742,{"$f":"IF(ISBLANK(Vrijwilligersregister!C748)=TRUE,\"\",Vrijwilligersregister!C748)","v":""},{"$f":"IF(ISBLANK(Vrijwilligersregister!C748)=TRUE,\"\",SUMIF('Nominatieve lijst'!$D$8:$D$10007,C748,'Nominatieve lijst'!$G$8:$G$10007))","v":""},{"$f":"IF(ISBLANK(Vrijwilligersregister!C748)=TRUE,\"\",SUMIF('Nominatieve lijst'!$D$8:$D$10007,C748,'Nominatieve lijst'!$H$8:$H$10007))","v":""},{"$f":"IF(ISBLANK(Vrijwilligersregister!C748)=TRUE,\"\",SUMIF('Nominatieve lijst'!$D$8:$D$10007,C748,'Nominatieve lijst'!$J$8:$J$10007))","v":""},{"$f":"IF(ISBLANK(Vrijwilligersregister!C748)=TRUE,\"\",D748+F748)","v":""},{"$f":"Vrijwilligersregister!L748","v":0}]
[null,743,{"$f":"IF(ISBLANK(Vrijwilligersregister!C749)=TRUE,\"\",Vrijwilligersregister!C749)","v":""},{"$f":"IF(ISBLANK(Vrijwilligersregister!C749)=TRUE,\"\",SUMIF('Nominatieve lijst'!$D$8:$D$10007,C749,'Nominatieve lijst'!$G$8:$G$10007))","v":""},{"$f":"IF(ISBLANK(Vrijwilligersregister!C749)=TRUE,\"\",SUMIF('Nominatieve lijst'!$D$8:$D$10007,C749,'Nominatieve lijst'!$H$8:$H$10007))","v":""},{"$f":"IF(ISBLANK(Vrijwilligersregister!C749)=TRUE,\"\",SUMIF('Nominatieve lijst'!$D$8:$D$10007,C749,'Nominatieve lijst'!$J$8:$J$10007))","v":""},{"$f":"IF(ISBLANK(Vrijwilligersregister!C749)=TRUE,\"\",D749+F749)","v":""},{"$f":"Vrijwilligersregister!L749","v":0}]
[null,744,{"$f":"IF(ISBLANK(Vrijwilligersregister!C750)=TRUE,\"\",Vrijwilligersregister!C750)","v":""},{"$f":"IF(ISBLANK(Vrijwilligersregister!C750)=TRUE,\"\",SUMIF('Nominatieve lijst'!$D$8:$D$10007,C750,'Nominatieve lijst'!$G$8:$G$10007))","v":""},{"$f":"IF(ISBLANK(Vrijwilligersregister!C750)=TRUE,\"\",SUMIF('Nominatieve lijst'!$D$8:$D$10007,C750,'Nominatieve lijst'!$H$8:$H$10007))","v":""},{"$f":"IF(ISBLANK(Vrijwilligersregister!C750)=TRUE,\"\",SUMIF('Nominatieve lijst'!$D$8:$D$10007,C750,'Nominatieve lijst'!$J$8:$J$10007))","v":""},{"$f":"IF(ISBLANK(Vrijwilligersregister!C750)=TRUE,\"\",D750+F750)","v":""},{"$f":"Vrijwilligersregister!L750","v":0}]
[null,745,{"$f":"IF(ISBLANK(Vrijwilligersregister!C751)=TRUE,\"\",Vrijwilligersregister!C751)","v":""},{"$f":"IF(ISBLANK(Vrijwilligersregister!C751)=TRUE,\"\",SUMIF('Nominatieve lijst'!$D$8:$D$10007,C751,'Nominatieve lijst'!$G$8:$G$10007))","v":""},{"$f":"IF(ISBLANK(Vrijwilligersregister!C751)=TRUE,\"\",SUMIF('Nominatieve lijst'!$D$8:$D$10007,C751,'Nominatieve lijst'!$H$8:$H$10007))","v":""},{"$f":"IF(ISBLANK(Vrijwilligersregister!C751)=TRUE,\"\",SUMIF('Nominatieve lijst'!$D$8:$D$10007,C751,'Nominatieve lijst'!$J$8:$J$10007))","v":""},{"$f":"IF(ISBLANK(Vrijwilligersregister!C751)=TRUE,\"\",D751+F751)","v":""},{"$f":"Vrijwilligersregister!L751","v":0}]
[null,746,{"$f":"IF(ISBLANK(Vrijwilligersregister!C752)=TRUE,\"\",Vrijwilligersregister!C752)","v":""},{"$f":"IF(ISBLANK(Vrijwilligersregister!C752)=TRUE,\"\",SUMIF('Nominatieve lijst'!$D$8:$D$10007,C752,'Nominatieve lijst'!$G$8:$G$10007))","v":""},{"$f":"IF(ISBLANK(Vrijwilligersregister!C752)=TRUE,\"\",SUMIF('Nominatieve lijst'!$D$8:$D$10007,C752,'Nominatieve lijst'!$H$8:$H$10007))","v":""},{"$f":"IF(ISBLANK(Vrijwilligersregister!C752)=TRUE,\"\",SUMIF('Nominatieve lijst'!$D$8:$D$10007,C752,'Nominatieve lijst'!$J$8:$J$10007))","v":""},{"$f":"IF(ISBLANK(Vrijwilligersregister!C752)=TRUE,\"\",D752+F752)","v":""},{"$f":"Vrijwilligersregister!L752","v":0}]
[null,747,{"$f":"IF(ISBLANK(Vrijwilligersregister!C753)=TRUE,\"\",Vrijwilligersregister!C753)","v":""},{"$f":"IF(ISBLANK(Vrijwilligersregister!C753)=TRUE,\"\",SUMIF('Nominatieve lijst'!$D$8:$D$10007,C753,'Nominatieve lijst'!$G$8:$G$10007))","v":""},{"$f":"IF(ISBLANK(Vrijwilligersregister!C753)=TRUE,\"\",SUMIF('Nominatieve lijst'!$D$8:$D$10007,C753,'Nominatieve lijst'!$H$8:$H$10007))","v":""},{"$f":"IF(ISBLANK(Vrijwilligersregister!C753)=TRUE,\"\",SUMIF('Nominatieve lijst'!$D$8:$D$10007,C753,'Nominatieve lijst'!$J$8:$J$10007))","v":""},{"$f":"IF(ISBLANK(Vrijwilligersregister!C753)=TRUE,\"\",D753+F753)","v":""},{"$f":"Vrijwilligersregister!L753","v":0}]
[null,748,{"$f":"IF(ISBLANK(Vrijwilligersregister!C754)=TRUE,\"\",Vrijwilligersregister!C754)","v":""},{"$f":"IF(ISBLANK(Vrijwilligersregister!C754)=TRUE,\"\",SUMIF('Nominatieve lijst'!$D$8:$D$10007,C754,'Nominatieve lijst'!$G$8:$G$10007))","v":""},{"$f":"IF(ISBLANK(Vrijwilligersregister!C754)=TRUE,\"\",SUMIF('Nominatieve lijst'!$D$8:$D$10007,C754,'Nominatieve lijst'!$H$8:$H$10007))","v":""},{"$f":"IF(ISBLANK(Vrijwilligersregister!C754)=TRUE,\"\",SUMIF('Nominatieve lijst'!$D$8:$D$10007,C754,'Nominatieve lijst'!$J$8:$J$10007))","v":""},{"$f":"IF(ISBLANK(Vrijwilligersregister!C754)=TRUE,\"\",D754+F754)","v":""},{"$f":"Vrijwilligersregister!L754","v":0}]
[null,749,{"$f":"IF(ISBLANK(Vrijwilligersregister!C755)=TRUE,\"\",Vrijwilligersregister!C755)","v":""},{"$f":"IF(ISBLANK(Vrijwilligersregister!C755)=TRUE,\"\",SUMIF('Nominatieve lijst'!$D$8:$D$10007,C755,'Nominatieve lijst'!$G$8:$G$10007))","v":""},{"$f":"IF(ISBLANK(Vrijwilligersregister!C755)=TRUE,\"\",SUMIF('Nominatieve lijst'!$D$8:$D$10007,C755,'Nominatieve lijst'!$H$8:$H$10007))","v":""},{"$f":"IF(ISBLANK(Vrijwilligersregister!C755)=TRUE,\"\",SUMIF('Nominatieve lijst'!$D$8:$D$10007,C755,'Nominatieve lijst'!$J$8:$J$10007))","v":""},{"$f":"IF(ISBLANK(Vrijwilligersregister!C755)=TRUE,\"\",D755+F755)","v":""},{"$f":"Vrijwilligersregister!L755","v":0}]
[null,750,{"$f":"IF(ISBLANK(Vrijwilligersregister!C756)=TRUE,\"\",Vrijwilligersregister!C756)","v":""},{"$f":"IF(ISBLANK(Vrijwilligersregister!C756)=TRUE,\"\",SUMIF('Nominatieve lijst'!$D$8:$D$10007,C756,'Nominatieve lijst'!$G$8:$G$10007))","v":""},{"$f":"IF(ISBLANK(Vrijwilligersregister!C756)=TRUE,\"\",SUMIF('Nominatieve lijst'!$D$8:$D$10007,C756,'Nominatieve lijst'!$H$8:$H$10007))","v":""},{"$f":"IF(ISBLANK(Vrijwilligersregister!C756)=TRUE,\"\",SUMIF('Nominatieve lijst'!$D$8:$D$10007,C756,'Nominatieve lijst'!$J$8:$J$10007))","v":""},{"$f":"IF(ISBLANK(Vrijwilligersregister!C756)=TRUE,\"\",D756+F756)","v":""},{"$f":"Vrijwilligersregister!L756","v":0}]
[null,751,{"$f":"IF(ISBLANK(Vrijwilligersregister!C757)=TRUE,\"\",Vrijwilligersregister!C757)","v":""},{"$f":"IF(ISBLANK(Vrijwilligersregister!C757)=TRUE,\"\",SUMIF('Nominatieve lijst'!$D$8:$D$10007,C757,'Nominatieve lijst'!$G$8:$G$10007))","v":""},{"$f":"IF(ISBLANK(Vrijwilligersregister!C757)=TRUE,\"\",SUMIF('Nominatieve lijst'!$D$8:$D$10007,C757,'Nominatieve lijst'!$H$8:$H$10007))","v":""},{"$f":"IF(ISBLANK(Vrijwilligersregister!C757)=TRUE,\"\",SUMIF('Nominatieve lijst'!$D$8:$D$10007,C757,'Nominatieve lijst'!$J$8:$J$10007))","v":""},{"$f":"IF(ISBLANK(Vrijwilligersregister!C757)=TRUE,\"\",D757+F757)","v":""},{"$f":"Vrijwilligersregister!L757","v":0}]
[null,752,{"$f":"IF(ISBLANK(Vrijwilligersregister!C758)=TRUE,\"\",Vrijwilligersregister!C758)","v":""},{"$f":"IF(ISBLANK(Vrijwilligersregister!C758)=TRUE,\"\",SUMIF('Nominatieve lijst'!$D$8:$D$10007,C758,'Nominatieve lijst'!$G$8:$G$10007))","v":""},{"$f":"IF(ISBLANK(Vrijwilligersregister!C758)=TRUE,\"\",SUMIF('Nominatieve lijst'!$D$8:$D$10007,C758,'Nominatieve lijst'!$H$8:$H$10007))","v":""},{"$f":"IF(ISBLANK(Vrijwilligersregister!C758)=TRUE,\"\",SUMIF('Nominatieve lijst'!$D$8:$D$10007,C758,'Nominatieve lijst'!$J$8:$J$10007))","v":""},{"$f":"IF(ISBLANK(Vrijwilligersregister!C758)=TRUE,\"\",D758+F758)","v":""},{"$f":"Vrijwilligersregister!L758","v":0}]
[null,753,{"$f":"IF(ISBLANK(Vrijwilligersregister!C759)=TRUE,\"\",Vrijwilligersregister!C759)","v":""},{"$f":"IF(ISBLANK(Vrijwilligersregister!C759)=TRUE,\"\",SUMIF('Nominatieve lijst'!$D$8:$D$10007,C759,'Nominatieve lijst'!$G$8:$G$10007))","v":""},{"$f":"IF(ISBLANK(Vrijwilligersregister!C759)=TRUE,\"\",SUMIF('Nominatieve lijst'!$D$8:$D$10007,C759,'Nominatieve lijst'!$H$8:$H$10007))","v":""},{"$f":"IF(ISBLANK(Vrijwilligersregister!C759)=TRUE,\"\",SUMIF('Nominatieve lijst'!$D$8:$D$10007,C759,'Nominatieve lijst'!$J$8:$J$10007))","v":""},{"$f":"IF(ISBLANK(Vrijwilligersregister!C759)=TRUE,\"\",D759+F759)","v":""},{"$f":"Vrijwilligersregister!L759","v":0}]
[null,754,{"$f":"IF(ISBLANK(Vrijwilligersregister!C760)=TRUE,\"\",Vrijwilligersregister!C760)","v":""},{"$f":"IF(ISBLANK(Vrijwilligersregister!C760)=TRUE,\"\",SUMIF('Nominatieve lijst'!$D$8:$D$10007,C760,'Nominatieve lijst'!$G$8:$G$10007))","v":""},{"$f":"IF(ISBLANK(Vrijwilligersregister!C760)=TRUE,\"\",SUMIF('Nominatieve lijst'!$D$8:$D$10007,C760,'Nominatieve lijst'!$H$8:$H$10007))","v":""},{"$f":"IF(ISBLANK(Vrijwilligersregister!C760)=TRUE,\"\",SUMIF('Nominatieve lijst'!$D$8:$D$10007,C760,'Nominatieve lijst'!$J$8:$J$10007))","v":""},{"$f":"IF(ISBLANK(Vrijwilligersregister!C760)=TRUE,\"\",D760+F760)","v":""},{"$f":"Vrijwilligersregister!L760","v":0}]
[null,755,{"$f":"IF(ISBLANK(Vrijwilligersregister!C761)=TRUE,\"\",Vrijwilligersregister!C761)","v":""},{"$f":"IF(ISBLANK(Vrijwilligersregister!C761)=TRUE,\"\",SUMIF('Nominatieve lijst'!$D$8:$D$10007,C761,'Nominatieve lijst'!$G$8:$G$10007))","v":""},{"$f":"IF(ISBLANK(Vrijwilligersregister!C761)=TRUE,\"\",SUMIF('Nominatieve lijst'!$D$8:$D$10007,C761,'Nominatieve lijst'!$H$8:$H$10007))","v":""},{"$f":"IF(ISBLANK(Vrijwilligersregister!C761)=TRUE,\"\",SUMIF('Nominatieve lijst'!$D$8:$D$10007,C761,'Nominatieve lijst'!$J$8:$J$10007))","v":""},{"$f":"IF(ISBLANK(Vrijwilligersregister!C761)=TRUE,\"\",D761+F761)","v":""},{"$f":"Vrijwilligersregister!L761","v":0}]
[null,756,{"$f":"IF(ISBLANK(Vrijwilligersregister!C762)=TRUE,\"\",Vrijwilligersregister!C762)","v":""},{"$f":"IF(ISBLANK(Vrijwilligersregister!C762)=TRUE,\"\",SUMIF('Nominatieve lijst'!$D$8:$D$10007,C762,'Nominatieve lijst'!$G$8:$G$10007))","v":""},{"$f":"IF(ISBLANK(Vrijwilligersregister!C762)=TRUE,\"\",SUMIF('Nominatieve lijst'!$D$8:$D$10007,C762,'Nominatieve lijst'!$H$8:$H$10007))","v":""},{"$f":"IF(ISBLANK(Vrijwilligersregister!C762)=TRUE,\"\",SUMIF('Nominatieve lijst'!$D$8:$D$10007,C762,'Nominatieve lijst'!$J$8:$J$10007))","v":""},{"$f":"IF(ISBLANK(Vrijwilligersregister!C762)=TRUE,\"\",D762+F762)","v":""},{"$f":"Vrijwilligersregister!L762","v":0}]
[null,757,{"$f":"IF(ISBLANK(Vrijwilligersregister!C763)=TRUE,\"\",Vrijwilligersregister!C763)","v":""},{"$f":"IF(ISBLANK(Vrijwilligersregister!C763)=TRUE,\"\",SUMIF('Nominatieve lijst'!$D$8:$D$10007,C763,'Nominatieve lijst'!$G$8:$G$10007))","v":""},{"$f":"IF(ISBLANK(Vrijwilligersregister!C763)=TRUE,\"\",SUMIF('Nominatieve lijst'!$D$8:$D$10007,C763,'Nominatieve lijst'!$H$8:$H$10007))","v":""},{"$f":"IF(ISBLANK(Vrijwilligersregister!C763)=TRUE,\"\",SUMIF('Nominatieve lijst'!$D$8:$D$10007,C763,'Nominatieve lijst'!$J$8:$J$10007))","v":""},{"$f":"IF(ISBLANK(Vrijwilligersregister!C763)=TRUE,\"\",D763+F763)","v":""},{"$f":"Vrijwilligersregister!L763","v":0}]
[null,758,{"$f":"IF(ISBLANK(Vrijwilligersregister!C764)=TRUE,\"\",Vrijwilligersregister!C764)","v":""},{"$f":"IF(ISBLANK(Vrijwilligersregister!C764)=TRUE,\"\",SUMIF('Nominatieve lijst'!$D$8:$D$10007,C764,'Nominatieve lijst'!$G$8:$G$10007))","v":""},{"$f":"IF(ISBLANK(Vrijwilligersregister!C764)=TRUE,\"\",SUMIF('Nominatieve lijst'!$D$8:$D$10007,C764,'Nominatieve lijst'!$H$8:$H$10007))","v":""},{"$f":"IF(ISBLANK(Vrijwilligersregister!C764)=TRUE,\"\",SUMIF('Nominatieve lijst'!$D$8:$D$10007,C764,'Nominatieve lijst'!$J$8:$J$10007))","v":""},{"$f":"IF(ISBLANK(Vrijwilligersregister!C764)=TRUE,\"\",D764+F764)","v":""},{"$f":"Vrijwilligersregister!L764","v":0}]
[null,759,{"$f":"IF(ISBLANK(Vrijwilligersregister!C765)=TRUE,\"\",Vrijwilligersregister!C765)","v":""},{"$f":"IF(ISBLANK(Vrijwilligersregister!C765)=TRUE,\"\",SUMIF('Nominatieve lijst'!$D$8:$D$10007,C765,'Nominatieve lijst'!$G$8:$G$10007))","v":""},{"$f":"IF(ISBLANK(Vrijwilligersregister!C765)=TRUE,\"\",SUMIF('Nominatieve lijst'!$D$8:$D$10007,C765,'Nominatieve lijst'!$H$8:$H$10007))","v":""},{"$f":"IF(ISBLANK(Vrijwilligersregister!C765)=TRUE,\"\",SUMIF('Nominatieve lijst'!$D$8:$D$10007,C765,'Nominatieve lijst'!$J$8:$J$10007))","v":""},{"$f":"IF(ISBLANK(Vrijwilligersregister!C765)=TRUE,\"\",D765+F765)","v":""},{"$f":"Vrijwilligersregister!L765","v":0}]
[null,760,{"$f":"IF(ISBLANK(Vrijwilligersregister!C766)=TRUE,\"\",Vrijwilligersregister!C766)","v":""},{"$f":"IF(ISBLANK(Vrijwilligersregister!C766)=TRUE,\"\",SUMIF('Nominatieve lijst'!$D$8:$D$10007,C766,'Nominatieve lijst'!$G$8:$G$10007))","v":""},{"$f":"IF(ISBLANK(Vrijwilligersregister!C766)=TRUE,\"\",SUMIF('Nominatieve lijst'!$D$8:$D$10007,C766,'Nominatieve lijst'!$H$8:$H$10007))","v":""},{"$f":"IF(ISBLANK(Vrijwilligersregister!C766)=TRUE,\"\",SUMIF('Nominatieve lijst'!$D$8:$D$10007,C766,'Nominatieve lijst'!$J$8:$J$10007))","v":""},{"$f":"IF(ISBLANK(Vrijwilligersregister!C766)=TRUE,\"\",D766+F766)","v":""},{"$f":"Vrijwilligersregister!L766","v":0}]
[null,761,{"$f":"IF(ISBLANK(Vrijwilligersregister!C767)=TRUE,\"\",Vrijwilligersregister!C767)","v":""},{"$f":"IF(ISBLANK(Vrijwilligersregister!C767)=TRUE,\"\",SUMIF('Nominatieve lijst'!$D$8:$D$10007,C767,'Nominatieve lijst'!$G$8:$G$10007))","v":""},{"$f":"IF(ISBLANK(Vrijwilligersregister!C767)=TRUE,\"\",SUMIF('Nominatieve lijst'!$D$8:$D$10007,C767,'Nominatieve lijst'!$H$8:$H$10007))","v":""},{"$f":"IF(ISBLANK(Vrijwilligersregister!C767)=TRUE,\"\",SUMIF('Nominatieve lijst'!$D$8:$D$10007,C767,'Nominatieve lijst'!$J$8:$J$10007))","v":""},{"$f":"IF(ISBLANK(Vrijwilligersregister!C767)=TRUE,\"\",D767+F767)","v":""},{"$f":"Vrijwilligersregister!L767","v":0}]
[null,762,{"$f":"IF(ISBLANK(Vrijwilligersregister!C768)=TRUE,\"\",Vrijwilligersregister!C768)","v":""},{"$f":"IF(ISBLANK(Vrijwilligersregister!C768)=TRUE,\"\",SUMIF('Nominatieve lijst'!$D$8:$D$10007,C768,'Nominatieve lijst'!$G$8:$G$10007))","v":""},{"$f":"IF(ISBLANK(Vrijwilligersregister!C768)=TRUE,\"\",SUMIF('Nominatieve lijst'!$D$8:$D$10007,C768,'Nominatieve lijst'!$H$8:$H$10007))","v":""},{"$f":"IF(ISBLANK(Vrijwilligersregister!C768)=TRUE,\"\",SUMIF('Nominatieve lijst'!$D$8:$D$10007,C768,'Nominatieve lijst'!$J$8:$J$10007))","v":""},{"$f":"IF(ISBLANK(Vrijwilligersregister!C768)=TRUE,\"\",D768+F768)","v":""},{"$f":"Vrijwilligersregister!L768","v":0}]
[null,763,{"$f":"IF(ISBLANK(Vrijwilligersregister!C769)=TRUE,\"\",Vrijwilligersregister!C769)","v":""},{"$f":"IF(ISBLANK(Vrijwilligersregister!C769)=TRUE,\"\",SUMIF('Nominatieve lijst'!$D$8:$D$10007,C769,'Nominatieve lijst'!$G$8:$G$10007))","v":""},{"$f":"IF(ISBLANK(Vrijwilligersregister!C769)=TRUE,\"\",SUMIF('Nominatieve lijst'!$D$8:$D$10007,C769,'Nominatieve lijst'!$H$8:$H$10007))","v":""},{"$f":"IF(ISBLANK(Vrijwilligersregister!C769)=TRUE,\"\",SUMIF('Nominatieve lijst'!$D$8:$D$10007,C769,'Nominatieve lijst'!$J$8:$J$10007))","v":""},{"$f":"IF(ISBLANK(Vrijwilligersregister!C769)=TRUE,\"\",D769+F769)","v":""},{"$f":"Vrijwilligersregister!L769","v":0}]
[null,764,{"$f":"IF(ISBLANK(Vrijwilligersregister!C770)=TRUE,\"\",Vrijwilligersregister!C770)","v":""},{"$f":"IF(ISBLANK(Vrijwilligersregister!C770)=TRUE,\"\",SUMIF('Nominatieve lijst'!$D$8:$D$10007,C770,'Nominatieve lijst'!$G$8:$G$10007))","v":""},{"$f":"IF(ISBLANK(Vrijwilligersregister!C770)=TRUE,\"\",SUMIF('Nominatieve lijst'!$D$8:$D$10007,C770,'Nominatieve lijst'!$H$8:$H$10007))","v":""},{"$f":"IF(ISBLANK(Vrijwilligersregister!C770)=TRUE,\"\",SUMIF('Nominatieve lijst'!$D$8:$D$10007,C770,'Nominatieve lijst'!$J$8:$J$10007))","v":""},{"$f":"IF(ISBLANK(Vrijwilligersregister!C770)=TRUE,\"\",D770+F770)","v":""},{"$f":"Vrijwilligersregister!L770","v":0}]
[null,765,{"$f":"IF(ISBLANK(Vrijwilligersregister!C771)=TRUE,\"\",Vrijwilligersregister!C771)","v":""},{"$f":"IF(ISBLANK(Vrijwilligersregister!C771)=TRUE,\"\",SUMIF('Nominatieve lijst'!$D$8:$D$10007,C771,'Nominatieve lijst'!$G$8:$G$10007))","v":""},{"$f":"IF(ISBLANK(Vrijwilligersregister!C771)=TRUE,\"\",SUMIF('Nominatieve lijst'!$D$8:$D$10007,C771,'Nominatieve lijst'!$H$8:$H$10007))","v":""},{"$f":"IF(ISBLANK(Vrijwilligersregister!C771)=TRUE,\"\",SUMIF('Nominatieve lijst'!$D$8:$D$10007,C771,'Nominatieve lijst'!$J$8:$J$10007))","v":""},{"$f":"IF(ISBLANK(Vrijwilligersregister!C771)=TRUE,\"\",D771+F771)","v":""},{"$f":"Vrijwilligersregister!L771","v":0}]
[null,766,{"$f":"IF(ISBLANK(Vrijwilligersregister!C772)=TRUE,\"\",Vrijwilligersregister!C772)","v":""},{"$f":"IF(ISBLANK(Vrijwilligersregister!C772)=TRUE,\"\",SUMIF('Nominatieve lijst'!$D$8:$D$10007,C772,'Nominatieve lijst'!$G$8:$G$10007))","v":""},{"$f":"IF(ISBLANK(Vrijwilligersregister!C772)=TRUE,\"\",SUMIF('Nominatieve lijst'!$D$8:$D$10007,C772,'Nominatieve lijst'!$H$8:$H$10007))","v":""},{"$f":"IF(ISBLANK(Vrijwilligersregister!C772)=TRUE,\"\",SUMIF('Nominatieve lijst'!$D$8:$D$10007,C772,'Nominatieve lijst'!$J$8:$J$10007))","v":""},{"$f":"IF(ISBLANK(Vrijwilligersregister!C772)=TRUE,\"\",D772+F772)","v":""},{"$f":"Vrijwilligersregister!L772","v":0}]
[null,767,{"$f":"IF(ISBLANK(Vrijwilligersregister!C773)=TRUE,\"\",Vrijwilligersregister!C773)","v":""},{"$f":"IF(ISBLANK(Vrijwilligersregister!C773)=TRUE,\"\",SUMIF('Nominatieve lijst'!$D$8:$D$10007,C773,'Nominatieve lijst'!$G$8:$G$10007))","v":""},{"$f":"IF(ISBLANK(Vrijwilligersregister!C773)=TRUE,\"\",SUMIF('Nominatieve lijst'!$D$8:$D$10007,C773,'Nominatieve lijst'!$H$8:$H$10007))","v":""},{"$f":"IF(ISBLANK(Vrijwilligersregister!C773)=TRUE,\"\",SUMIF('Nominatieve lijst'!$D$8:$D$10007,C773,'Nominatieve lijst'!$J$8:$J$10007))","v":""},{"$f":"IF(ISBLANK(Vrijwilligersregister!C773)=TRUE,\"\",D773+F773)","v":""},{"$f":"Vrijwilligersregister!L773","v":0}]
[null,768,{"$f":"IF(ISBLANK(Vrijwilligersregister!C774)=TRUE,\"\",Vrijwilligersregister!C774)","v":""},{"$f":"IF(ISBLANK(Vrijwilligersregister!C774)=TRUE,\"\",SUMIF('Nominatieve lijst'!$D$8:$D$10007,C774,'Nominatieve lijst'!$G$8:$G$10007))","v":""},{"$f":"IF(ISBLANK(Vrijwilligersregister!C774)=TRUE,\"\",SUMIF('Nominatieve lijst'!$D$8:$D$10007,C774,'Nominatieve lijst'!$H$8:$H$10007))","v":""},{"$f":"IF(ISBLANK(Vrijwilligersregister!C774)=TRUE,\"\",SUMIF('Nominatieve lijst'!$D$8:$D$10007,C774,'Nominatieve lijst'!$J$8:$J$10007))","v":""},{"$f":"IF(ISBLANK(Vrijwilligersregister!C774)=TRUE,\"\",D774+F774)","v":""},{"$f":"Vrijwilligersregister!L774","v":0}]
[null,769,{"$f":"IF(ISBLANK(Vrijwilligersregister!C775)=TRUE,\"\",Vrijwilligersregister!C775)","v":""},{"$f":"IF(ISBLANK(Vrijwilligersregister!C775)=TRUE,\"\",SUMIF('Nominatieve lijst'!$D$8:$D$10007,C775,'Nominatieve lijst'!$G$8:$G$10007))","v":""},{"$f":"IF(ISBLANK(Vrijwilligersregister!C775)=TRUE,\"\",SUMIF('Nominatieve lijst'!$D$8:$D$10007,C775,'Nominatieve lijst'!$H$8:$H$10007))","v":""},{"$f":"IF(ISBLANK(Vrijwilligersregister!C775)=TRUE,\"\",SUMIF('Nominatieve lijst'!$D$8:$D$10007,C775,'Nominatieve lijst'!$J$8:$J$10007))","v":""},{"$f":"IF(ISBLANK(Vrijwilligersregister!C775)=TRUE,\"\",D775+F775)","v":""},{"$f":"Vrijwilligersregister!L775","v":0}]
[null,770,{"$f":"IF(ISBLANK(Vrijwilligersregister!C776)=TRUE,\"\",Vrijwilligersregister!C776)","v":""},{"$f":"IF(ISBLANK(Vrijwilligersregister!C776)=TRUE,\"\",SUMIF('Nominatieve lijst'!$D$8:$D$10007,C776,'Nominatieve lijst'!$G$8:$G$10007))","v":""},{"$f":"IF(ISBLANK(Vrijwilligersregister!C776)=TRUE,\"\",SUMIF('Nominatieve lijst'!$D$8:$D$10007,C776,'Nominatieve lijst'!$H$8:$H$10007))","v":""},{"$f":"IF(ISBLANK(Vrijwilligersregister!C776)=TRUE,\"\",SUMIF('Nominatieve lijst'!$D$8:$D$10007,C776,'Nominatieve lijst'!$J$8:$J$10007))","v":""},{"$f":"IF(ISBLANK(Vrijwilligersregister!C776)=TRUE,\"\",D776+F776)","v":""},{"$f":"Vrijwilligersregister!L776","v":0}]
[null,771,{"$f":"IF(ISBLANK(Vrijwilligersregister!C777)=TRUE,\"\",Vrijwilligersregister!C777)","v":""},{"$f":"IF(ISBLANK(Vrijwilligersregister!C777)=TRUE,\"\",SUMIF('Nominatieve lijst'!$D$8:$D$10007,C777,'Nominatieve lijst'!$G$8:$G$10007))","v":""},{"$f":"IF(ISBLANK(Vrijwilligersregister!C777)=TRUE,\"\",SUMIF('Nominatieve lijst'!$D$8:$D$10007,C777,'Nominatieve lijst'!$H$8:$H$10007))","v":""},{"$f":"IF(ISBLANK(Vrijwilligersregister!C777)=TRUE,\"\",SUMIF('Nominatieve lijst'!$D$8:$D$10007,C777,'Nominatieve lijst'!$J$8:$J$10007))","v":""},{"$f":"IF(ISBLANK(Vrijwilligersregister!C777)=TRUE,\"\",D777+F777)","v":""},{"$f":"Vrijwilligersregister!L777","v":0}]
[null,772,{"$f":"IF(ISBLANK(Vrijwilligersregister!C778)=TRUE,\"\",Vrijwilligersregister!C778)","v":""},{"$f":"IF(ISBLANK(Vrijwilligersregister!C778)=TRUE,\"\",SUMIF('Nominatieve lijst'!$D$8:$D$10007,C778,'Nominatieve lijst'!$G$8:$G$10007))","v":""},{"$f":"IF(ISBLANK(Vrijwilligersregister!C778)=TRUE,\"\",SUMIF('Nominatieve lijst'!$D$8:$D$10007,C778,'Nominatieve lijst'!$H$8:$H$10007))","v":""},{"$f":"IF(ISBLANK(Vrijwilligersregister!C778)=TRUE,\"\",SUMIF('Nominatieve lijst'!$D$8:$D$10007,C778,'Nominatieve lijst'!$J$8:$J$10007))","v":""},{"$f":"IF(ISBLANK(Vrijwilligersregister!C778)=TRUE,\"\",D778+F778)","v":""},{"$f":"Vrijwilligersregister!L778","v":0}]
[null,773,{"$f":"IF(ISBLANK(Vrijwilligersregister!C779)=TRUE,\"\",Vrijwilligersregister!C779)","v":""},{"$f":"IF(ISBLANK(Vrijwilligersregister!C779)=TRUE,\"\",SUMIF('Nominatieve lijst'!$D$8:$D$10007,C779,'Nominatieve lijst'!$G$8:$G$10007))","v":""},{"$f":"IF(ISBLANK(Vrijwilligersregister!C779)=TRUE,\"\",SUMIF('Nominatieve lijst'!$D$8:$D$10007,C779,'Nominatieve lijst'!$H$8:$H$10007))","v":""},{"$f":"IF(ISBLANK(Vrijwilligersregister!C779)=TRUE,\"\",SUMIF('Nominatieve lijst'!$D$8:$D$10007,C779,'Nominatieve lijst'!$J$8:$J$10007))","v":""},{"$f":"IF(ISBLANK(Vrijwilligersregister!C779)=TRUE,\"\",D779+F779)","v":""},{"$f":"Vrijwilligersregister!L779","v":0}]
[null,774,{"$f":"IF(ISBLANK(Vrijwilligersregister!C780)=TRUE,\"\",Vrijwilligersregister!C780)","v":""},{"$f":"IF(ISBLANK(Vrijwilligersregister!C780)=TRUE,\"\",SUMIF('Nominatieve lijst'!$D$8:$D$10007,C780,'Nominatieve lijst'!$G$8:$G$10007))","v":""},{"$f":"IF(ISBLANK(Vrijwilligersregister!C780)=TRUE,\"\",SUMIF('Nominatieve lijst'!$D$8:$D$10007,C780,'Nominatieve lijst'!$H$8:$H$10007))","v":""},{"$f":"IF(ISBLANK(Vrijwilligersregister!C780)=TRUE,\"\",SUMIF('Nominatieve lijst'!$D$8:$D$10007,C780,'Nominatieve lijst'!$J$8:$J$10007))","v":""},{"$f":"IF(ISBLANK(Vrijwilligersregister!C780)=TRUE,\"\",D780+F780)","v":""},{"$f":"Vrijwilligersregister!L780","v":0}]
[null,775,{"$f":"IF(ISBLANK(Vrijwilligersregister!C781)=TRUE,\"\",Vrijwilligersregister!C781)","v":""},{"$f":"IF(ISBLANK(Vrijwilligersregister!C781)=TRUE,\"\",SUMIF('Nominatieve lijst'!$D$8:$D$10007,C781,'Nominatieve lijst'!$G$8:$G$10007))","v":""},{"$f":"IF(ISBLANK(Vrijwilligersregister!C781)=TRUE,\"\",SUMIF('Nominatieve lijst'!$D$8:$D$10007,C781,'Nominatieve lijst'!$H$8:$H$10007))","v":""},{"$f":"IF(ISBLANK(Vrijwilligersregister!C781)=TRUE,\"\",SUMIF('Nominatieve lijst'!$D$8:$D$10007,C781,'Nominatieve lijst'!$J$8:$J$10007))","v":""},{"$f":"IF(ISBLANK(Vrijwilligersregister!C781)=TRUE,\"\",D781+F781)","v":""},{"$f":"Vrijwilligersregister!L781","v":0}]
[null,776,{"$f":"IF(ISBLANK(Vrijwilligersregister!C782)=TRUE,\"\",Vrijwilligersregister!C782)","v":""},{"$f":"IF(ISBLANK(Vrijwilligersregister!C782)=TRUE,\"\",SUMIF('Nominatieve lijst'!$D$8:$D$10007,C782,'Nominatieve lijst'!$G$8:$G$10007))","v":""},{"$f":"IF(ISBLANK(Vrijwilligersregister!C782)=TRUE,\"\",SUMIF('Nominatieve lijst'!$D$8:$D$10007,C782,'Nominatieve lijst'!$H$8:$H$10007))","v":""},{"$f":"IF(ISBLANK(Vrijwilligersregister!C782)=TRUE,\"\",SUMIF('Nominatieve lijst'!$D$8:$D$10007,C782,'Nominatieve lijst'!$J$8:$J$10007))","v":""},{"$f":"IF(ISBLANK(Vrijwilligersregister!C782)=TRUE,\"\",D782+F782)","v":""},{"$f":"Vrijwilligersregister!L782","v":0}]
[null,777,{"$f":"IF(ISBLANK(Vrijwilligersregister!C783)=TRUE,\"\",Vrijwilligersregister!C783)","v":""},{"$f":"IF(ISBLANK(Vrijwilligersregister!C783)=TRUE,\"\",SUMIF('Nominatieve lijst'!$D$8:$D$10007,C783,'Nominatieve lijst'!$G$8:$G$10007))","v":""},{"$f":"IF(ISBLANK(Vrijwilligersregister!C783)=TRUE,\"\",SUMIF('Nominatieve lijst'!$D$8:$D$10007,C783,'Nominatieve lijst'!$H$8:$H$10007))","v":""},{"$f":"IF(ISBLANK(Vrijwilligersregister!C783)=TRUE,\"\",SUMIF('Nominatieve lijst'!$D$8:$D$10007,C783,'Nominatieve lijst'!$J$8:$J$10007))","v":""},{"$f":"IF(ISBLANK(Vrijwilligersregister!C783)=TRUE,\"\",D783+F783)","v":""},{"$f":"Vrijwilligersregister!L783","v":0}]
[null,778,{"$f":"IF(ISBLANK(Vrijwilligersregister!C784)=TRUE,\"\",Vrijwilligersregister!C784)","v":""},{"$f":"IF(ISBLANK(Vrijwilligersregister!C784)=TRUE,\"\",SUMIF('Nominatieve lijst'!$D$8:$D$10007,C784,'Nominatieve lijst'!$G$8:$G$10007))","v":""},{"$f":"IF(ISBLANK(Vrijwilligersregister!C784)=TRUE,\"\",SUMIF('Nominatieve lijst'!$D$8:$D$10007,C784,'Nominatieve lijst'!$H$8:$H$10007))","v":""},{"$f":"IF(ISBLANK(Vrijwilligersregister!C784)=TRUE,\"\",SUMIF('Nominatieve lijst'!$D$8:$D$10007,C784,'Nominatieve lijst'!$J$8:$J$10007))","v":""},{"$f":"IF(ISBLANK(Vrijwilligersregister!C784)=TRUE,\"\",D784+F784)","v":""},{"$f":"Vrijwilligersregister!L784","v":0}]
[null,779,{"$f":"IF(ISBLANK(Vrijwilligersregister!C785)=TRUE,\"\",Vrijwilligersregister!C785)","v":""},{"$f":"IF(ISBLANK(Vrijwilligersregister!C785)=TRUE,\"\",SUMIF('Nominatieve lijst'!$D$8:$D$10007,C785,'Nominatieve lijst'!$G$8:$G$10007))","v":""},{"$f":"IF(ISBLANK(Vrijwilligersregister!C785)=TRUE,\"\",SUMIF('Nominatieve lijst'!$D$8:$D$10007,C785,'Nominatieve lijst'!$H$8:$H$10007))","v":""},{"$f":"IF(ISBLANK(Vrijwilligersregister!C785)=TRUE,\"\",SUMIF('Nominatieve lijst'!$D$8:$D$10007,C785,'Nominatieve lijst'!$J$8:$J$10007))","v":""},{"$f":"IF(ISBLANK(Vrijwilligersregister!C785)=TRUE,\"\",D785+F785)","v":""},{"$f":"Vrijwilligersregister!L785","v":0}]
[null,780,{"$f":"IF(ISBLANK(Vrijwilligersregister!C786)=TRUE,\"\",Vrijwilligersregister!C786)","v":""},{"$f":"IF(ISBLANK(Vrijwilligersregister!C786)=TRUE,\"\",SUMIF('Nominatieve lijst'!$D$8:$D$10007,C786,'Nominatieve lijst'!$G$8:$G$10007))","v":""},{"$f":"IF(ISBLANK(Vrijwilligersregister!C786)=TRUE,\"\",SUMIF('Nominatieve lijst'!$D$8:$D$10007,C786,'Nominatieve lijst'!$H$8:$H$10007))","v":""},{"$f":"IF(ISBLANK(Vrijwilligersregister!C786)=TRUE,\"\",SUMIF('Nominatieve lijst'!$D$8:$D$10007,C786,'Nominatieve lijst'!$J$8:$J$10007))","v":""},{"$f":"IF(ISBLANK(Vrijwilligersregister!C786)=TRUE,\"\",D786+F786)","v":""},{"$f":"Vrijwilligersregister!L786","v":0}]
[null,781,{"$f":"IF(ISBLANK(Vrijwilligersregister!C787)=TRUE,\"\",Vrijwilligersregister!C787)","v":""},{"$f":"IF(ISBLANK(Vrijwilligersregister!C787)=TRUE,\"\",SUMIF('Nominatieve lijst'!$D$8:$D$10007,C787,'Nominatieve lijst'!$G$8:$G$10007))","v":""},{"$f":"IF(ISBLANK(Vrijwilligersregister!C787)=TRUE,\"\",SUMIF('Nominatieve lijst'!$D$8:$D$10007,C787,'Nominatieve lijst'!$H$8:$H$10007))","v":""},{"$f":"IF(ISBLANK(Vrijwilligersregister!C787)=TRUE,\"\",SUMIF('Nominatieve lijst'!$D$8:$D$10007,C787,'Nominatieve lijst'!$J$8:$J$10007))","v":""},{"$f":"IF(ISBLANK(Vrijwilligersregister!C787)=TRUE,\"\",D787+F787)","v":""},{"$f":"Vrijwilligersregister!L787","v":0}]
[null,782,{"$f":"IF(ISBLANK(Vrijwilligersregister!C788)=TRUE,\"\",Vrijwilligersregister!C788)","v":""},{"$f":"IF(ISBLANK(Vrijwilligersregister!C788)=TRUE,\"\",SUMIF('Nominatieve lijst'!$D$8:$D$10007,C788,'Nominatieve lijst'!$G$8:$G$10007))","v":""},{"$f":"IF(ISBLANK(Vrijwilligersregister!C788)=TRUE,\"\",SUMIF('Nominatieve lijst'!$D$8:$D$10007,C788,'Nominatieve lijst'!$H$8:$H$10007))","v":""},{"$f":"IF(ISBLANK(Vrijwilligersregister!C788)=TRUE,\"\",SUMIF('Nominatieve lijst'!$D$8:$D$10007,C788,'Nominatieve lijst'!$J$8:$J$10007))","v":""},{"$f":"IF(ISBLANK(Vrijwilligersregister!C788)=TRUE,\"\",D788+F788)","v":""},{"$f":"Vrijwilligersregister!L788","v":0}]
[null,783,{"$f":"IF(ISBLANK(Vrijwilligersregister!C789)=TRUE,\"\",Vrijwilligersregister!C789)","v":""},{"$f":"IF(ISBLANK(Vrijwilligersregister!C789)=TRUE,\"\",SUMIF('Nominatieve lijst'!$D$8:$D$10007,C789,'Nominatieve lijst'!$G$8:$G$10007))","v":""},{"$f":"IF(ISBLANK(Vrijwilligersregister!C789)=TRUE,\"\",SUMIF('Nominatieve lijst'!$D$8:$D$10007,C789,'Nominatieve lijst'!$H$8:$H$10007))","v":""},{"$f":"IF(ISBLANK(Vrijwilligersregister!C789)=TRUE,\"\",SUMIF('Nominatieve lijst'!$D$8:$D$10007,C789,'Nominatieve lijst'!$J$8:$J$10007))","v":""},{"$f":"IF(ISBLANK(Vrijwilligersregister!C789)=TRUE,\"\",D789+F789)","v":""},{"$f":"Vrijwilligersregister!L789","v":0}]
[null,784,{"$f":"IF(ISBLANK(Vrijwilligersregister!C790)=TRUE,\"\",Vrijwilligersregister!C790)","v":""},{"$f":"IF(ISBLANK(Vrijwilligersregister!C790)=TRUE,\"\",SUMIF('Nominatieve lijst'!$D$8:$D$10007,C790,'Nominatieve lijst'!$G$8:$G$10007))","v":""},{"$f":"IF(ISBLANK(Vrijwilligersregister!C790)=TRUE,\"\",SUMIF('Nominatieve lijst'!$D$8:$D$10007,C790,'Nominatieve lijst'!$H$8:$H$10007))","v":""},{"$f":"IF(ISBLANK(Vrijwilligersregister!C790)=TRUE,\"\",SUMIF('Nominatieve lijst'!$D$8:$D$10007,C790,'Nominatieve lijst'!$J$8:$J$10007))","v":""},{"$f":"IF(ISBLANK(Vrijwilligersregister!C790)=TRUE,\"\",D790+F790)","v":""},{"$f":"Vrijwilligersregister!L790","v":0}]
[null,785,{"$f":"IF(ISBLANK(Vrijwilligersregister!C791)=TRUE,\"\",Vrijwilligersregister!C791)","v":""},{"$f":"IF(ISBLANK(Vrijwilligersregister!C791)=TRUE,\"\",SUMIF('Nominatieve lijst'!$D$8:$D$10007,C791,'Nominatieve lijst'!$G$8:$G$10007))","v":""},{"$f":"IF(ISBLANK(Vrijwilligersregister!C791)=TRUE,\"\",SUMIF('Nominatieve lijst'!$D$8:$D$10007,C791,'Nominatieve lijst'!$H$8:$H$10007))","v":""},{"$f":"IF(ISBLANK(Vrijwilligersregister!C791)=TRUE,\"\",SUMIF('Nominatieve lijst'!$D$8:$D$10007,C791,'Nominatieve lijst'!$J$8:$J$10007))","v":""},{"$f":"IF(ISBLANK(Vrijwilligersregister!C791)=TRUE,\"\",D791+F791)","v":""},{"$f":"Vrijwilligersregister!L791","v":0}]
[null,786,{"$f":"IF(ISBLANK(Vrijwilligersregister!C792)=TRUE,\"\",Vrijwilligersregister!C792)","v":""},{"$f":"IF(ISBLANK(Vrijwilligersregister!C792)=TRUE,\"\",SUMIF('Nominatieve lijst'!$D$8:$D$10007,C792,'Nominatieve lijst'!$G$8:$G$10007))","v":""},{"$f":"IF(ISBLANK(Vrijwilligersregister!C792)=TRUE,\"\",SUMIF('Nominatieve lijst'!$D$8:$D$10007,C792,'Nominatieve lijst'!$H$8:$H$10007))","v":""},{"$f":"IF(ISBLANK(Vrijwilligersregister!C792)=TRUE,\"\",SUMIF('Nominatieve lijst'!$D$8:$D$10007,C792,'Nominatieve lijst'!$J$8:$J$10007))","v":""},{"$f":"IF(ISBLANK(Vrijwilligersregister!C792)=TRUE,\"\",D792+F792)","v":""},{"$f":"Vrijwilligersregister!L792","v":0}]
[null,787,{"$f":"IF(ISBLANK(Vrijwilligersregister!C793)=TRUE,\"\",Vrijwilligersregister!C793)","v":""},{"$f":"IF(ISBLANK(Vrijwilligersregister!C793)=TRUE,\"\",SUMIF('Nominatieve lijst'!$D$8:$D$10007,C793,'Nominatieve lijst'!$G$8:$G$10007))","v":""},{"$f":"IF(ISBLANK(Vrijwilligersregister!C793)=TRUE,\"\",SUMIF('Nominatieve lijst'!$D$8:$D$10007,C793,'Nominatieve lijst'!$H$8:$H$10007))","v":""},{"$f":"IF(ISBLANK(Vrijwilligersregister!C793)=TRUE,\"\",SUMIF('Nominatieve lijst'!$D$8:$D$10007,C793,'Nominatieve lijst'!$J$8:$J$10007))","v":""},{"$f":"IF(ISBLANK(Vrijwilligersregister!C793)=TRUE,\"\",D793+F793)","v":""},{"$f":"Vrijwilligersregister!L793","v":0}]
[null,788,{"$f":"IF(ISBLANK(Vrijwilligersregister!C794)=TRUE,\"\",Vrijwilligersregister!C794)","v":""},{"$f":"IF(ISBLANK(Vrijwilligersregister!C794)=TRUE,\"\",SUMIF('Nominatieve lijst'!$D$8:$D$10007,C794,'Nominatieve lijst'!$G$8:$G$10007))","v":""},{"$f":"IF(ISBLANK(Vrijwilligersregister!C794)=TRUE,\"\",SUMIF('Nominatieve lijst'!$D$8:$D$10007,C794,'Nominatieve lijst'!$H$8:$H$10007))","v":""},{"$f":"IF(ISBLANK(Vrijwilligersregister!C794)=TRUE,\"\",SUMIF('Nominatieve lijst'!$D$8:$D$10007,C794,'Nominatieve lijst'!$J$8:$J$10007))","v":""},{"$f":"IF(ISBLANK(Vrijwilligersregister!C794)=TRUE,\"\",D794+F794)","v":""},{"$f":"Vrijwilligersregister!L794","v":0}]
[null,789,{"$f":"IF(ISBLANK(Vrijwilligersregister!C795)=TRUE,\"\",Vrijwilligersregister!C795)","v":""},{"$f":"IF(ISBLANK(Vrijwilligersregister!C795)=TRUE,\"\",SUMIF('Nominatieve lijst'!$D$8:$D$10007,C795,'Nominatieve lijst'!$G$8:$G$10007))","v":""},{"$f":"IF(ISBLANK(Vrijwilligersregister!C795)=TRUE,\"\",SUMIF('Nominatieve lijst'!$D$8:$D$10007,C795,'Nominatieve lijst'!$H$8:$H$10007))","v":""},{"$f":"IF(ISBLANK(Vrijwilligersregister!C795)=TRUE,\"\",SUMIF('Nominatieve lijst'!$D$8:$D$10007,C795,'Nominatieve lijst'!$J$8:$J$10007))","v":""},{"$f":"IF(ISBLANK(Vrijwilligersregister!C795)=TRUE,\"\",D795+F795)","v":""},{"$f":"Vrijwilligersregister!L795","v":0}]
[null,790,{"$f":"IF(ISBLANK(Vrijwilligersregister!C796)=TRUE,\"\",Vrijwilligersregister!C796)","v":""},{"$f":"IF(ISBLANK(Vrijwilligersregister!C796)=TRUE,\"\",SUMIF('Nominatieve lijst'!$D$8:$D$10007,C796,'Nominatieve lijst'!$G$8:$G$10007))","v":""},{"$f":"IF(ISBLANK(Vrijwilligersregister!C796)=TRUE,\"\",SUMIF('Nominatieve lijst'!$D$8:$D$10007,C796,'Nominatieve lijst'!$H$8:$H$10007))","v":""},{"$f":"IF(ISBLANK(Vrijwilligersregister!C796)=TRUE,\"\",SUMIF('Nominatieve lijst'!$D$8:$D$10007,C796,'Nominatieve lijst'!$J$8:$J$10007))","v":""},{"$f":"IF(ISBLANK(Vrijwilligersregister!C796)=TRUE,\"\",D796+F796)","v":""},{"$f":"Vrijwilligersregister!L796","v":0}]
[null,791,{"$f":"IF(ISBLANK(Vrijwilligersregister!C797)=TRUE,\"\",Vrijwilligersregister!C797)","v":""},{"$f":"IF(ISBLANK(Vrijwilligersregister!C797)=TRUE,\"\",SUMIF('Nominatieve lijst'!$D$8:$D$10007,C797,'Nominatieve lijst'!$G$8:$G$10007))","v":""},{"$f":"IF(ISBLANK(Vrijwilligersregister!C797)=TRUE,\"\",SUMIF('Nominatieve lijst'!$D$8:$D$10007,C797,'Nominatieve lijst'!$H$8:$H$10007))","v":""},{"$f":"IF(ISBLANK(Vrijwilligersregister!C797)=TRUE,\"\",SUMIF('Nominatieve lijst'!$D$8:$D$10007,C797,'Nominatieve lijst'!$J$8:$J$10007))","v":""},{"$f":"IF(ISBLANK(Vrijwilligersregister!C797)=TRUE,\"\",D797+F797)","v":""},{"$f":"Vrijwilligersregister!L797","v":0}]
[null,792,{"$f":"IF(ISBLANK(Vrijwilligersregister!C798)=TRUE,\"\",Vrijwilligersregister!C798)","v":""},{"$f":"IF(ISBLANK(Vrijwilligersregister!C798)=TRUE,\"\",SUMIF('Nominatieve lijst'!$D$8:$D$10007,C798,'Nominatieve lijst'!$G$8:$G$10007))","v":""},{"$f":"IF(ISBLANK(Vrijwilligersregister!C798)=TRUE,\"\",SUMIF('Nominatieve lijst'!$D$8:$D$10007,C798,'Nominatieve lijst'!$H$8:$H$10007))","v":""},{"$f":"IF(ISBLANK(Vrijwilligersregister!C798)=TRUE,\"\",SUMIF('Nominatieve lijst'!$D$8:$D$10007,C798,'Nominatieve lijst'!$J$8:$J$10007))","v":""},{"$f":"IF(ISBLANK(Vrijwilligersregister!C798)=TRUE,\"\",D798+F798)","v":""},{"$f":"Vrijwilligersregister!L798","v":0}]
[null,793,{"$f":"IF(ISBLANK(Vrijwilligersregister!C799)=TRUE,\"\",Vrijwilligersregister!C799)","v":""},{"$f":"IF(ISBLANK(Vrijwilligersregister!C799)=TRUE,\"\",SUMIF('Nominatieve lijst'!$D$8:$D$10007,C799,'Nominatieve lijst'!$G$8:$G$10007))","v":""},{"$f":"IF(ISBLANK(Vrijwilligersregister!C799)=TRUE,\"\",SUMIF('Nominatieve lijst'!$D$8:$D$10007,C799,'Nominatieve lijst'!$H$8:$H$10007))","v":""},{"$f":"IF(ISBLANK(Vrijwilligersregister!C799)=TRUE,\"\",SUMIF('Nominatieve lijst'!$D$8:$D$10007,C799,'Nominatieve lijst'!$J$8:$J$10007))","v":""},{"$f":"IF(ISBLANK(Vrijwilligersregister!C799)=TRUE,\"\",D799+F799)","v":""},{"$f":"Vrijwilligersregister!L799","v":0}]
[null,794,{"$f":"IF(ISBLANK(Vrijwilligersregister!C800)=TRUE,\"\",Vrijwilligersregister!C800)","v":""},{"$f":"IF(ISBLANK(Vrijwilligersregister!C800)=TRUE,\"\",SUMIF('Nominatieve lijst'!$D$8:$D$10007,C800,'Nominatieve lijst'!$G$8:$G$10007))","v":""},{"$f":"IF(ISBLANK(Vrijwilligersregister!C800)=TRUE,\"\",SUMIF('Nominatieve lijst'!$D$8:$D$10007,C800,'Nominatieve lijst'!$H$8:$H$10007))","v":""},{"$f":"IF(ISBLANK(Vrijwilligersregister!C800)=TRUE,\"\",SUMIF('Nominatieve lijst'!$D$8:$D$10007,C800,'Nominatieve lijst'!$J$8:$J$10007))","v":""},{"$f":"IF(ISBLANK(Vrijwilligersregister!C800)=TRUE,\"\",D800+F800)","v":""},{"$f":"Vrijwilligersregister!L800","v":0}]
[null,795,{"$f":"IF(ISBLANK(Vrijwilligersregister!C801)=TRUE,\"\",Vrijwilligersregister!C801)","v":""},{"$f":"IF(ISBLANK(Vrijwilligersregister!C801)=TRUE,\"\",SUMIF('Nominatieve lijst'!$D$8:$D$10007,C801,'Nominatieve lijst'!$G$8:$G$10007))","v":""},{"$f":"IF(ISBLANK(Vrijwilligersregister!C801)=TRUE,\"\",SUMIF('Nominatieve lijst'!$D$8:$D$10007,C801,'Nominatieve lijst'!$H$8:$H$10007))","v":""},{"$f":"IF(ISBLANK(Vrijwilligersregister!C801)=TRUE,\"\",SUMIF('Nominatieve lijst'!$D$8:$D$10007,C801,'Nominatieve lijst'!$J$8:$J$10007))","v":""},{"$f":"IF(ISBLANK(Vrijwilligersregister!C801)=TRUE,\"\",D801+F801)","v":""},{"$f":"Vrijwilligersregister!L801","v":0}]
[null,796,{"$f":"IF(ISBLANK(Vrijwilligersregister!C802)=TRUE,\"\",Vrijwilligersregister!C802)","v":""},{"$f":"IF(ISBLANK(Vrijwilligersregister!C802)=TRUE,\"\",SUMIF('Nominatieve lijst'!$D$8:$D$10007,C802,'Nominatieve lijst'!$G$8:$G$10007))","v":""},{"$f":"IF(ISBLANK(Vrijwilligersregister!C802)=TRUE,\"\",SUMIF('Nominatieve lijst'!$D$8:$D$10007,C802,'Nominatieve lijst'!$H$8:$H$10007))","v":""},{"$f":"IF(ISBLANK(Vrijwilligersregister!C802)=TRUE,\"\",SUMIF('Nominatieve lijst'!$D$8:$D$10007,C802,'Nominatieve lijst'!$J$8:$J$10007))","v":""},{"$f":"IF(ISBLANK(Vrijwilligersregister!C802)=TRUE,\"\",D802+F802)","v":""},{"$f":"Vrijwilligersregister!L802","v":0}]
[null,797,{"$f":"IF(ISBLANK(Vrijwilligersregister!C803)=TRUE,\"\",Vrijwilligersregister!C803)","v":""},{"$f":"IF(ISBLANK(Vrijwilligersregister!C803)=TRUE,\"\",SUMIF('Nominatieve lijst'!$D$8:$D$10007,C803,'Nominatieve lijst'!$G$8:$G$10007))","v":""},{"$f":"IF(ISBLANK(Vrijwilligersregister!C803)=TRUE,\"\",SUMIF('Nominatieve lijst'!$D$8:$D$10007,C803,'Nominatieve lijst'!$H$8:$H$10007))","v":""},{"$f":"IF(ISBLANK(Vrijwilligersregister!C803)=TRUE,\"\",SUMIF('Nominatieve lijst'!$D$8:$D$10007,C803,'Nominatieve lijst'!$J$8:$J$10007))","v":""},{"$f":"IF(ISBLANK(Vrijwilligersregister!C803)=TRUE,\"\",D803+F803)","v":""},{"$f":"Vrijwilligersregister!L803","v":0}]
[null,798,{"$f":"IF(ISBLANK(Vrijwilligersregister!C804)=TRUE,\"\",Vrijwilligersregister!C804)","v":""},{"$f":"IF(ISBLANK(Vrijwilligersregister!C804)=TRUE,\"\",SUMIF('Nominatieve lijst'!$D$8:$D$10007,C804,'Nominatieve lijst'!$G$8:$G$10007))","v":""},{"$f":"IF(ISBLANK(Vrijwilligersregister!C804)=TRUE,\"\",SUMIF('Nominatieve lijst'!$D$8:$D$10007,C804,'Nominatieve lijst'!$H$8:$H$10007))","v":""},{"$f":"IF(ISBLANK(Vrijwilligersregister!C804)=TRUE,\"\",SUMIF('Nominatieve lijst'!$D$8:$D$10007,C804,'Nominatieve lijst'!$J$8:$J$10007))","v":""},{"$f":"IF(ISBLANK(Vrijwilligersregister!C804)=TRUE,\"\",D804+F804)","v":""},{"$f":"Vrijwilligersregister!L804","v":0}]
[null,799,{"$f":"IF(ISBLANK(Vrijwilligersregister!C805)=TRUE,\"\",Vrijwilligersregister!C805)","v":""},{"$f":"IF(ISBLANK(Vrijwilligersregister!C805)=TRUE,\"\",SUMIF('Nominatieve lijst'!$D$8:$D$10007,C805,'Nominatieve lijst'!$G$8:$G$10007))","v":""},{"$f":"IF(ISBLANK(Vrijwilligersregister!C805)=TRUE,\"\",SUMIF('Nominatieve lijst'!$D$8:$D$10007,C805,'Nominatieve lijst'!$H$8:$H$10007))","v":""},{"$f":"IF(ISBLANK(Vrijwilligersregister!C805)=TRUE,\"\",SUMIF('Nominatieve lijst'!$D$8:$D$10007,C805,'Nominatieve lijst'!$J$8:$J$10007))","v":""},{"$f":"IF(ISBLANK(Vrijwilligersregister!C805)=TRUE,\"\",D805+F805)","v":""},{"$f":"Vrijwilligersregister!L805","v":0}]
[null,800,{"$f":"IF(ISBLANK(Vrijwilligersregister!C806)=TRUE,\"\",Vrijwilligersregister!C806)","v":""},{"$f":"IF(ISBLANK(Vrijwilligersregister!C806)=TRUE,\"\",SUMIF('Nominatieve lijst'!$D$8:$D$10007,C806,'Nominatieve lijst'!$G$8:$G$10007))","v":""},{"$f":"IF(ISBLANK(Vrijwilligersregister!C806)=TRUE,\"\",SUMIF('Nominatieve lijst'!$D$8:$D$10007,C806,'Nominatieve lijst'!$H$8:$H$10007))","v":""},{"$f":"IF(ISBLANK(Vrijwilligersregister!C806)=TRUE,\"\",SUMIF('Nominatieve lijst'!$D$8:$D$10007,C806,'Nominatieve lijst'!$J$8:$J$10007))","v":""},{"$f":"IF(ISBLANK(Vrijwilligersregister!C806)=TRUE,\"\",D806+F806)","v":""},{"$f":"Vrijwilligersregister!L806","v":0}]
[null,801,{"$f":"IF(ISBLANK(Vrijwilligersregister!C807)=TRUE,\"\",Vrijwilligersregister!C807)","v":""},{"$f":"IF(ISBLANK(Vrijwilligersregister!C807)=TRUE,\"\",SUMIF('Nominatieve lijst'!$D$8:$D$10007,C807,'Nominatieve lijst'!$G$8:$G$10007))","v":""},{"$f":"IF(ISBLANK(Vrijwilligersregister!C807)=TRUE,\"\",SUMIF('Nominatieve lijst'!$D$8:$D$10007,C807,'Nominatieve lijst'!$H$8:$H$10007))","v":""},{"$f":"IF(ISBLANK(Vrijwilligersregister!C807)=TRUE,\"\",SUMIF('Nominatieve lijst'!$D$8:$D$10007,C807,'Nominatieve lijst'!$J$8:$J$10007))","v":""},{"$f":"IF(ISBLANK(Vrijwilligersregister!C807)=TRUE,\"\",D807+F807)","v":""},{"$f":"Vrijwilligersregister!L807","v":0}]
[null,802,{"$f":"IF(ISBLANK(Vrijwilligersregister!C808)=TRUE,\"\",Vrijwilligersregister!C808)","v":""},{"$f":"IF(ISBLANK(Vrijwilligersregister!C808)=TRUE,\"\",SUMIF('Nominatieve lijst'!$D$8:$D$10007,C808,'Nominatieve lijst'!$G$8:$G$10007))","v":""},{"$f":"IF(ISBLANK(Vrijwilligersregister!C808)=TRUE,\"\",SUMIF('Nominatieve lijst'!$D$8:$D$10007,C808,'Nominatieve lijst'!$H$8:$H$10007))","v":""},{"$f":"IF(ISBLANK(Vrijwilligersregister!C808)=TRUE,\"\",SUMIF('Nominatieve lijst'!$D$8:$D$10007,C808,'Nominatieve lijst'!$J$8:$J$10007))","v":""},{"$f":"IF(ISBLANK(Vrijwilligersregister!C808)=TRUE,\"\",D808+F808)","v":""},{"$f":"Vrijwilligersregister!L808","v":0}]
[null,803,{"$f":"IF(ISBLANK(Vrijwilligersregister!C809)=TRUE,\"\",Vrijwilligersregister!C809)","v":""},{"$f":"IF(ISBLANK(Vrijwilligersregister!C809)=TRUE,\"\",SUMIF('Nominatieve lijst'!$D$8:$D$10007,C809,'Nominatieve lijst'!$G$8:$G$10007))","v":""},{"$f":"IF(ISBLANK(Vrijwilligersregister!C809)=TRUE,\"\",SUMIF('Nominatieve lijst'!$D$8:$D$10007,C809,'Nominatieve lijst'!$H$8:$H$10007))","v":""},{"$f":"IF(ISBLANK(Vrijwilligersregister!C809)=TRUE,\"\",SUMIF('Nominatieve lijst'!$D$8:$D$10007,C809,'Nominatieve lijst'!$J$8:$J$10007))","v":""},{"$f":"IF(ISBLANK(Vrijwilligersregister!C809)=TRUE,\"\",D809+F809)","v":""},{"$f":"Vrijwilligersregister!L809","v":0}]
[null,804,{"$f":"IF(ISBLANK(Vrijwilligersregister!C810)=TRUE,\"\",Vrijwilligersregister!C810)","v":""},{"$f":"IF(ISBLANK(Vrijwilligersregister!C810)=TRUE,\"\",SUMIF('Nominatieve lijst'!$D$8:$D$10007,C810,'Nominatieve lijst'!$G$8:$G$10007))","v":""},{"$f":"IF(ISBLANK(Vrijwilligersregister!C810)=TRUE,\"\",SUMIF('Nominatieve lijst'!$D$8:$D$10007,C810,'Nominatieve lijst'!$H$8:$H$10007))","v":""},{"$f":"IF(ISBLANK(Vrijwilligersregister!C810)=TRUE,\"\",SUMIF('Nominatieve lijst'!$D$8:$D$10007,C810,'Nominatieve lijst'!$J$8:$J$10007))","v":""},{"$f":"IF(ISBLANK(Vrijwilligersregister!C810)=TRUE,\"\",D810+F810)","v":""},{"$f":"Vrijwilligersregister!L810","v":0}]
[null,805,{"$f":"IF(ISBLANK(Vrijwilligersregister!C811)=TRUE,\"\",Vrijwilligersregister!C811)","v":""},{"$f":"IF(ISBLANK(Vrijwilligersregister!C811)=TRUE,\"\",SUMIF('Nominatieve lijst'!$D$8:$D$10007,C811,'Nominatieve lijst'!$G$8:$G$10007))","v":""},{"$f":"IF(ISBLANK(Vrijwilligersregister!C811)=TRUE,\"\",SUMIF('Nominatieve lijst'!$D$8:$D$10007,C811,'Nominatieve lijst'!$H$8:$H$10007))","v":""},{"$f":"IF(ISBLANK(Vrijwilligersregister!C811)=TRUE,\"\",SUMIF('Nominatieve lijst'!$D$8:$D$10007,C811,'Nominatieve lijst'!$J$8:$J$10007))","v":""},{"$f":"IF(ISBLANK(Vrijwilligersregister!C811)=TRUE,\"\",D811+F811)","v":""},{"$f":"Vrijwilligersregister!L811","v":0}]
[null,806,{"$f":"IF(ISBLANK(Vrijwilligersregister!C812)=TRUE,\"\",Vrijwilligersregister!C812)","v":""},{"$f":"IF(ISBLANK(Vrijwilligersregister!C812)=TRUE,\"\",SUMIF('Nominatieve lijst'!$D$8:$D$10007,C812,'Nominatieve lijst'!$G$8:$G$10007))","v":""},{"$f":"IF(ISBLANK(Vrijwilligersregister!C812)=TRUE,\"\",SUMIF('Nominatieve lijst'!$D$8:$D$10007,C812,'Nominatieve lijst'!$H$8:$H$10007))","v":""},{"$f":"IF(ISBLANK(Vrijwilligersregister!C812)=TRUE,\"\",SUMIF('Nominatieve lijst'!$D$8:$D$10007,C812,'Nominatieve lijst'!$J$8:$J$10007))","v":""},{"$f":"IF(ISBLANK(Vrijwilligersregister!C812)=TRUE,\"\",D812+F812)","v":""},{"$f":"Vrijwilligersregister!L812","v":0}]
[null,807,{"$f":"IF(ISBLANK(Vrijwilligersregister!C813)=TRUE,\"\",Vrijwilligersregister!C813)","v":""},{"$f":"IF(ISBLANK(Vrijwilligersregister!C813)=TRUE,\"\",SUMIF('Nominatieve lijst'!$D$8:$D$10007,C813,'Nominatieve lijst'!$G$8:$G$10007))","v":""},{"$f":"IF(ISBLANK(Vrijwilligersregister!C813)=TRUE,\"\",SUMIF('Nominatieve lijst'!$D$8:$D$10007,C813,'Nominatieve lijst'!$H$8:$H$10007))","v":""},{"$f":"IF(ISBLANK(Vrijwilligersregister!C813)=TRUE,\"\",SUMIF('Nominatieve lijst'!$D$8:$D$10007,C813,'Nominatieve lijst'!$J$8:$J$10007))","v":""},{"$f":"IF(ISBLANK(Vrijwilligersregister!C813)=TRUE,\"\",D813+F813)","v":""},{"$f":"Vrijwilligersregister!L813","v":0}]
[null,808,{"$f":"IF(ISBLANK(Vrijwilligersregister!C814)=TRUE,\"\",Vrijwilligersregister!C814)","v":""},{"$f":"IF(ISBLANK(Vrijwilligersregister!C814)=TRUE,\"\",SUMIF('Nominatieve lijst'!$D$8:$D$10007,C814,'Nominatieve lijst'!$G$8:$G$10007))","v":""},{"$f":"IF(ISBLANK(Vrijwilligersregister!C814)=TRUE,\"\",SUMIF('Nominatieve lijst'!$D$8:$D$10007,C814,'Nominatieve lijst'!$H$8:$H$10007))","v":""},{"$f":"IF(ISBLANK(Vrijwilligersregister!C814)=TRUE,\"\",SUMIF('Nominatieve lijst'!$D$8:$D$10007,C814,'Nominatieve lijst'!$J$8:$J$10007))","v":""},{"$f":"IF(ISBLANK(Vrijwilligersregister!C814)=TRUE,\"\",D814+F814)","v":""},{"$f":"Vrijwilligersregister!L814","v":0}]
[null,809,{"$f":"IF(ISBLANK(Vrijwilligersregister!C815)=TRUE,\"\",Vrijwilligersregister!C815)","v":""},{"$f":"IF(ISBLANK(Vrijwilligersregister!C815)=TRUE,\"\",SUMIF('Nominatieve lijst'!$D$8:$D$10007,C815,'Nominatieve lijst'!$G$8:$G$10007))","v":""},{"$f":"IF(ISBLANK(Vrijwilligersregister!C815)=TRUE,\"\",SUMIF('Nominatieve lijst'!$D$8:$D$10007,C815,'Nominatieve lijst'!$H$8:$H$10007))","v":""},{"$f":"IF(ISBLANK(Vrijwilligersregister!C815)=TRUE,\"\",SUMIF('Nominatieve lijst'!$D$8:$D$10007,C815,'Nominatieve lijst'!$J$8:$J$10007))","v":""},{"$f":"IF(ISBLANK(Vrijwilligersregister!C815)=TRUE,\"\",D815+F815)","v":""},{"$f":"Vrijwilligersregister!L815","v":0}]
[null,810,{"$f":"IF(ISBLANK(Vrijwilligersregister!C816)=TRUE,\"\",Vrijwilligersregister!C816)","v":""},{"$f":"IF(ISBLANK(Vrijwilligersregister!C816)=TRUE,\"\",SUMIF('Nominatieve lijst'!$D$8:$D$10007,C816,'Nominatieve lijst'!$G$8:$G$10007))","v":""},{"$f":"IF(ISBLANK(Vrijwilligersregister!C816)=TRUE,\"\",SUMIF('Nominatieve lijst'!$D$8:$D$10007,C816,'Nominatieve lijst'!$H$8:$H$10007))","v":""},{"$f":"IF(ISBLANK(Vrijwilligersregister!C816)=TRUE,\"\",SUMIF('Nominatieve lijst'!$D$8:$D$10007,C816,'Nominatieve lijst'!$J$8:$J$10007))","v":""},{"$f":"IF(ISBLANK(Vrijwilligersregister!C816)=TRUE,\"\",D816+F816)","v":""},{"$f":"Vrijwilligersregister!L816","v":0}]
[null,811,{"$f":"IF(ISBLANK(Vrijwilligersregister!C817)=TRUE,\"\",Vrijwilligersregister!C817)","v":""},{"$f":"IF(ISBLANK(Vrijwilligersregister!C817)=TRUE,\"\",SUMIF('Nominatieve lijst'!$D$8:$D$10007,C817,'Nominatieve lijst'!$G$8:$G$10007))","v":""},{"$f":"IF(ISBLANK(Vrijwilligersregister!C817)=TRUE,\"\",SUMIF('Nominatieve lijst'!$D$8:$D$10007,C817,'Nominatieve lijst'!$H$8:$H$10007))","v":""},{"$f":"IF(ISBLANK(Vrijwilligersregister!C817)=TRUE,\"\",SUMIF('Nominatieve lijst'!$D$8:$D$10007,C817,'Nominatieve lijst'!$J$8:$J$10007))","v":""},{"$f":"IF(ISBLANK(Vrijwilligersregister!C817)=TRUE,\"\",D817+F817)","v":""},{"$f":"Vrijwilligersregister!L817","v":0}]
[null,812,{"$f":"IF(ISBLANK(Vrijwilligersregister!C818)=TRUE,\"\",Vrijwilligersregister!C818)","v":""},{"$f":"IF(ISBLANK(Vrijwilligersregister!C818)=TRUE,\"\",SUMIF('Nominatieve lijst'!$D$8:$D$10007,C818,'Nominatieve lijst'!$G$8:$G$10007))","v":""},{"$f":"IF(ISBLANK(Vrijwilligersregister!C818)=TRUE,\"\",SUMIF('Nominatieve lijst'!$D$8:$D$10007,C818,'Nominatieve lijst'!$H$8:$H$10007))","v":""},{"$f":"IF(ISBLANK(Vrijwilligersregister!C818)=TRUE,\"\",SUMIF('Nominatieve lijst'!$D$8:$D$10007,C818,'Nominatieve lijst'!$J$8:$J$10007))","v":""},{"$f":"IF(ISBLANK(Vrijwilligersregister!C818)=TRUE,\"\",D818+F818)","v":""},{"$f":"Vrijwilligersregister!L818","v":0}]
[null,813,{"$f":"IF(ISBLANK(Vrijwilligersregister!C819)=TRUE,\"\",Vrijwilligersregister!C819)","v":""},{"$f":"IF(ISBLANK(Vrijwilligersregister!C819)=TRUE,\"\",SUMIF('Nominatieve lijst'!$D$8:$D$10007,C819,'Nominatieve lijst'!$G$8:$G$10007))","v":""},{"$f":"IF(ISBLANK(Vrijwilligersregister!C819)=TRUE,\"\",SUMIF('Nominatieve lijst'!$D$8:$D$10007,C819,'Nominatieve lijst'!$H$8:$H$10007))","v":""},{"$f":"IF(ISBLANK(Vrijwilligersregister!C819)=TRUE,\"\",SUMIF('Nominatieve lijst'!$D$8:$D$10007,C819,'Nominatieve lijst'!$J$8:$J$10007))","v":""},{"$f":"IF(ISBLANK(Vrijwilligersregister!C819)=TRUE,\"\",D819+F819)","v":""},{"$f":"Vrijwilligersregister!L819","v":0}]
[null,814,{"$f":"IF(ISBLANK(Vrijwilligersregister!C820)=TRUE,\"\",Vrijwilligersregister!C820)","v":""},{"$f":"IF(ISBLANK(Vrijwilligersregister!C820)=TRUE,\"\",SUMIF('Nominatieve lijst'!$D$8:$D$10007,C820,'Nominatieve lijst'!$G$8:$G$10007))","v":""},{"$f":"IF(ISBLANK(Vrijwilligersregister!C820)=TRUE,\"\",SUMIF('Nominatieve lijst'!$D$8:$D$10007,C820,'Nominatieve lijst'!$H$8:$H$10007))","v":""},{"$f":"IF(ISBLANK(Vrijwilligersregister!C820)=TRUE,\"\",SUMIF('Nominatieve lijst'!$D$8:$D$10007,C820,'Nominatieve lijst'!$J$8:$J$10007))","v":""},{"$f":"IF(ISBLANK(Vrijwilligersregister!C820)=TRUE,\"\",D820+F820)","v":""},{"$f":"Vrijwilligersregister!L820","v":0}]
[null,815,{"$f":"IF(ISBLANK(Vrijwilligersregister!C821)=TRUE,\"\",Vrijwilligersregister!C821)","v":""},{"$f":"IF(ISBLANK(Vrijwilligersregister!C821)=TRUE,\"\",SUMIF('Nominatieve lijst'!$D$8:$D$10007,C821,'Nominatieve lijst'!$G$8:$G$10007))","v":""},{"$f":"IF(ISBLANK(Vrijwilligersregister!C821)=TRUE,\"\",SUMIF('Nominatieve lijst'!$D$8:$D$10007,C821,'Nominatieve lijst'!$H$8:$H$10007))","v":""},{"$f":"IF(ISBLANK(Vrijwilligersregister!C821)=TRUE,\"\",SUMIF('Nominatieve lijst'!$D$8:$D$10007,C821,'Nominatieve lijst'!$J$8:$J$10007))","v":""},{"$f":"IF(ISBLANK(Vrijwilligersregister!C821)=TRUE,\"\",D821+F821)","v":""},{"$f":"Vrijwilligersregister!L821","v":0}]
[null,816,{"$f":"IF(ISBLANK(Vrijwilligersregister!C822)=TRUE,\"\",Vrijwilligersregister!C822)","v":""},{"$f":"IF(ISBLANK(Vrijwilligersregister!C822)=TRUE,\"\",SUMIF('Nominatieve lijst'!$D$8:$D$10007,C822,'Nominatieve lijst'!$G$8:$G$10007))","v":""},{"$f":"IF(ISBLANK(Vrijwilligersregister!C822)=TRUE,\"\",SUMIF('Nominatieve lijst'!$D$8:$D$10007,C822,'Nominatieve lijst'!$H$8:$H$10007))","v":""},{"$f":"IF(ISBLANK(Vrijwilligersregister!C822)=TRUE,\"\",SUMIF('Nominatieve lijst'!$D$8:$D$10007,C822,'Nominatieve lijst'!$J$8:$J$10007))","v":""},{"$f":"IF(ISBLANK(Vrijwilligersregister!C822)=TRUE,\"\",D822+F822)","v":""},{"$f":"Vrijwilligersregister!L822","v":0}]
[null,817,{"$f":"IF(ISBLANK(Vrijwilligersregister!C823)=TRUE,\"\",Vrijwilligersregister!C823)","v":""},{"$f":"IF(ISBLANK(Vrijwilligersregister!C823)=TRUE,\"\",SUMIF('Nominatieve lijst'!$D$8:$D$10007,C823,'Nominatieve lijst'!$G$8:$G$10007))","v":""},{"$f":"IF(ISBLANK(Vrijwilligersregister!C823)=TRUE,\"\",SUMIF('Nominatieve lijst'!$D$8:$D$10007,C823,'Nominatieve lijst'!$H$8:$H$10007))","v":""},{"$f":"IF(ISBLANK(Vrijwilligersregister!C823)=TRUE,\"\",SUMIF('Nominatieve lijst'!$D$8:$D$10007,C823,'Nominatieve lijst'!$J$8:$J$10007))","v":""},{"$f":"IF(ISBLANK(Vrijwilligersregister!C823)=TRUE,\"\",D823+F823)","v":""},{"$f":"Vrijwilligersregister!L823","v":0}]
[null,818,{"$f":"IF(ISBLANK(Vrijwilligersregister!C824)=TRUE,\"\",Vrijwilligersregister!C824)","v":""},{"$f":"IF(ISBLANK(Vrijwilligersregister!C824)=TRUE,\"\",SUMIF('Nominatieve lijst'!$D$8:$D$10007,C824,'Nominatieve lijst'!$G$8:$G$10007))","v":""},{"$f":"IF(ISBLANK(Vrijwilligersregister!C824)=TRUE,\"\",SUMIF('Nominatieve lijst'!$D$8:$D$10007,C824,'Nominatieve lijst'!$H$8:$H$10007))","v":""},{"$f":"IF(ISBLANK(Vrijwilligersregister!C824)=TRUE,\"\",SUMIF('Nominatieve lijst'!$D$8:$D$10007,C824,'Nominatieve lijst'!$J$8:$J$10007))","v":""},{"$f":"IF(ISBLANK(Vrijwilligersregister!C824)=TRUE,\"\",D824+F824)","v":""},{"$f":"Vrijwilligersregister!L824","v":0}]
[null,819,{"$f":"IF(ISBLANK(Vrijwilligersregister!C825)=TRUE,\"\",Vrijwilligersregister!C825)","v":""},{"$f":"IF(ISBLANK(Vrijwilligersregister!C825)=TRUE,\"\",SUMIF('Nominatieve lijst'!$D$8:$D$10007,C825,'Nominatieve lijst'!$G$8:$G$10007))","v":""},{"$f":"IF(ISBLANK(Vrijwilligersregister!C825)=TRUE,\"\",SUMIF('Nominatieve lijst'!$D$8:$D$10007,C825,'Nominatieve lijst'!$H$8:$H$10007))","v":""},{"$f":"IF(ISBLANK(Vrijwilligersregister!C825)=TRUE,\"\",SUMIF('Nominatieve lijst'!$D$8:$D$10007,C825,'Nominatieve lijst'!$J$8:$J$10007))","v":""},{"$f":"IF(ISBLANK(Vrijwilligersregister!C825)=TRUE,\"\",D825+F825)","v":""},{"$f":"Vrijwilligersregister!L825","v":0}]
[null,820,{"$f":"IF(ISBLANK(Vrijwilligersregister!C826)=TRUE,\"\",Vrijwilligersregister!C826)","v":""},{"$f":"IF(ISBLANK(Vrijwilligersregister!C826)=TRUE,\"\",SUMIF('Nominatieve lijst'!$D$8:$D$10007,C826,'Nominatieve lijst'!$G$8:$G$10007))","v":""},{"$f":"IF(ISBLANK(Vrijwilligersregister!C826)=TRUE,\"\",SUMIF('Nominatieve lijst'!$D$8:$D$10007,C826,'Nominatieve lijst'!$H$8:$H$10007))","v":""},{"$f":"IF(ISBLANK(Vrijwilligersregister!C826)=TRUE,\"\",SUMIF('Nominatieve lijst'!$D$8:$D$10007,C826,'Nominatieve lijst'!$J$8:$J$10007))","v":""},{"$f":"IF(ISBLANK(Vrijwilligersregister!C826)=TRUE,\"\",D826+F826)","v":""},{"$f":"Vrijwilligersregister!L826","v":0}]
[null,821,{"$f":"IF(ISBLANK(Vrijwilligersregister!C827)=TRUE,\"\",Vrijwilligersregister!C827)","v":""},{"$f":"IF(ISBLANK(Vrijwilligersregister!C827)=TRUE,\"\",SUMIF('Nominatieve lijst'!$D$8:$D$10007,C827,'Nominatieve lijst'!$G$8:$G$10007))","v":""},{"$f":"IF(ISBLANK(Vrijwilligersregister!C827)=TRUE,\"\",SUMIF('Nominatieve lijst'!$D$8:$D$10007,C827,'Nominatieve lijst'!$H$8:$H$10007))","v":""},{"$f":"IF(ISBLANK(Vrijwilligersregister!C827)=TRUE,\"\",SUMIF('Nominatieve lijst'!$D$8:$D$10007,C827,'Nominatieve lijst'!$J$8:$J$10007))","v":""},{"$f":"IF(ISBLANK(Vrijwilligersregister!C827)=TRUE,\"\",D827+F827)","v":""},{"$f":"Vrijwilligersregister!L827","v":0}]
[null,822,{"$f":"IF(ISBLANK(Vrijwilligersregister!C828)=TRUE,\"\",Vrijwilligersregister!C828)","v":""},{"$f":"IF(ISBLANK(Vrijwilligersregister!C828)=TRUE,\"\",SUMIF('Nominatieve lijst'!$D$8:$D$10007,C828,'Nominatieve lijst'!$G$8:$G$10007))","v":""},{"$f":"IF(ISBLANK(Vrijwilligersregister!C828)=TRUE,\"\",SUMIF('Nominatieve lijst'!$D$8:$D$10007,C828,'Nominatieve lijst'!$H$8:$H$10007))","v":""},{"$f":"IF(ISBLANK(Vrijwilligersregister!C828)=TRUE,\"\",SUMIF('Nominatieve lijst'!$D$8:$D$10007,C828,'Nominatieve lijst'!$J$8:$J$10007))","v":""},{"$f":"IF(ISBLANK(Vrijwilligersregister!C828)=TRUE,\"\",D828+F828)","v":""},{"$f":"Vrijwilligersregister!L828","v":0}]
[null,823,{"$f":"IF(ISBLANK(Vrijwilligersregister!C829)=TRUE,\"\",Vrijwilligersregister!C829)","v":""},{"$f":"IF(ISBLANK(Vrijwilligersregister!C829)=TRUE,\"\",SUMIF('Nominatieve lijst'!$D$8:$D$10007,C829,'Nominatieve lijst'!$G$8:$G$10007))","v":""},{"$f":"IF(ISBLANK(Vrijwilligersregister!C829)=TRUE,\"\",SUMIF('Nominatieve lijst'!$D$8:$D$10007,C829,'Nominatieve lijst'!$H$8:$H$10007))","v":""},{"$f":"IF(ISBLANK(Vrijwilligersregister!C829)=TRUE,\"\",SUMIF('Nominatieve lijst'!$D$8:$D$10007,C829,'Nominatieve lijst'!$J$8:$J$10007))","v":""},{"$f":"IF(ISBLANK(Vrijwilligersregister!C829)=TRUE,\"\",D829+F829)","v":""},{"$f":"Vrijwilligersregister!L829","v":0}]
[null,824,{"$f":"IF(ISBLANK(Vrijwilligersregister!C830)=TRUE,\"\",Vrijwilligersregister!C830)","v":""},{"$f":"IF(ISBLANK(Vrijwilligersregister!C830)=TRUE,\"\",SUMIF('Nominatieve lijst'!$D$8:$D$10007,C830,'Nominatieve lijst'!$G$8:$G$10007))","v":""},{"$f":"IF(ISBLANK(Vrijwilligersregister!C830)=TRUE,\"\",SUMIF('Nominatieve lijst'!$D$8:$D$10007,C830,'Nominatieve lijst'!$H$8:$H$10007))","v":""},{"$f":"IF(ISBLANK(Vrijwilligersregister!C830)=TRUE,\"\",SUMIF('Nominatieve lijst'!$D$8:$D$10007,C830,'Nominatieve lijst'!$J$8:$J$10007))","v":""},{"$f":"IF(ISBLANK(Vrijwilligersregister!C830)=TRUE,\"\",D830+F830)","v":""},{"$f":"Vrijwilligersregister!L830","v":0}]
[null,825,{"$f":"IF(ISBLANK(Vrijwilligersregister!C831)=TRUE,\"\",Vrijwilligersregister!C831)","v":""},{"$f":"IF(ISBLANK(Vrijwilligersregister!C831)=TRUE,\"\",SUMIF('Nominatieve lijst'!$D$8:$D$10007,C831,'Nominatieve lijst'!$G$8:$G$10007))","v":""},{"$f":"IF(ISBLANK(Vrijwilligersregister!C831)=TRUE,\"\",SUMIF('Nominatieve lijst'!$D$8:$D$10007,C831,'Nominatieve lijst'!$H$8:$H$10007))","v":""},{"$f":"IF(ISBLANK(Vrijwilligersregister!C831)=TRUE,\"\",SUMIF('Nominatieve lijst'!$D$8:$D$10007,C831,'Nominatieve lijst'!$J$8:$J$10007))","v":""},{"$f":"IF(ISBLANK(Vrijwilligersregister!C831)=TRUE,\"\",D831+F831)","v":""},{"$f":"Vrijwilligersregister!L831","v":0}]
[null,826,{"$f":"IF(ISBLANK(Vrijwilligersregister!C832)=TRUE,\"\",Vrijwilligersregister!C832)","v":""},{"$f":"IF(ISBLANK(Vrijwilligersregister!C832)=TRUE,\"\",SUMIF('Nominatieve lijst'!$D$8:$D$10007,C832,'Nominatieve lijst'!$G$8:$G$10007))","v":""},{"$f":"IF(ISBLANK(Vrijwilligersregister!C832)=TRUE,\"\",SUMIF('Nominatieve lijst'!$D$8:$D$10007,C832,'Nominatieve lijst'!$H$8:$H$10007))","v":""},{"$f":"IF(ISBLANK(Vrijwilligersregister!C832)=TRUE,\"\",SUMIF('Nominatieve lijst'!$D$8:$D$10007,C832,'Nominatieve lijst'!$J$8:$J$10007))","v":""},{"$f":"IF(ISBLANK(Vrijwilligersregister!C832)=TRUE,\"\",D832+F832)","v":""},{"$f":"Vrijwilligersregister!L832","v":0}]
[null,827,{"$f":"IF(ISBLANK(Vrijwilligersregister!C833)=TRUE,\"\",Vrijwilligersregister!C833)","v":""},{"$f":"IF(ISBLANK(Vrijwilligersregister!C833)=TRUE,\"\",SUMIF('Nominatieve lijst'!$D$8:$D$10007,C833,'Nominatieve lijst'!$G$8:$G$10007))","v":""},{"$f":"IF(ISBLANK(Vrijwilligersregister!C833)=TRUE,\"\",SUMIF('Nominatieve lijst'!$D$8:$D$10007,C833,'Nominatieve lijst'!$H$8:$H$10007))","v":""},{"$f":"IF(ISBLANK(Vrijwilligersregister!C833)=TRUE,\"\",SUMIF('Nominatieve lijst'!$D$8:$D$10007,C833,'Nominatieve lijst'!$J$8:$J$10007))","v":""},{"$f":"IF(ISBLANK(Vrijwilligersregister!C833)=TRUE,\"\",D833+F833)","v":""},{"$f":"Vrijwilligersregister!L833","v":0}]
[null,828,{"$f":"IF(ISBLANK(Vrijwilligersregister!C834)=TRUE,\"\",Vrijwilligersregister!C834)","v":""},{"$f":"IF(ISBLANK(Vrijwilligersregister!C834)=TRUE,\"\",SUMIF('Nominatieve lijst'!$D$8:$D$10007,C834,'Nominatieve lijst'!$G$8:$G$10007))","v":""},{"$f":"IF(ISBLANK(Vrijwilligersregister!C834)=TRUE,\"\",SUMIF('Nominatieve lijst'!$D$8:$D$10007,C834,'Nominatieve lijst'!$H$8:$H$10007))","v":""},{"$f":"IF(ISBLANK(Vrijwilligersregister!C834)=TRUE,\"\",SUMIF('Nominatieve lijst'!$D$8:$D$10007,C834,'Nominatieve lijst'!$J$8:$J$10007))","v":""},{"$f":"IF(ISBLANK(Vrijwilligersregister!C834)=TRUE,\"\",D834+F834)","v":""},{"$f":"Vrijwilligersregister!L834","v":0}]
[null,829,{"$f":"IF(ISBLANK(Vrijwilligersregister!C835)=TRUE,\"\",Vrijwilligersregister!C835)","v":""},{"$f":"IF(ISBLANK(Vrijwilligersregister!C835)=TRUE,\"\",SUMIF('Nominatieve lijst'!$D$8:$D$10007,C835,'Nominatieve lijst'!$G$8:$G$10007))","v":""},{"$f":"IF(ISBLANK(Vrijwilligersregister!C835)=TRUE,\"\",SUMIF('Nominatieve lijst'!$D$8:$D$10007,C835,'Nominatieve lijst'!$H$8:$H$10007))","v":""},{"$f":"IF(ISBLANK(Vrijwilligersregister!C835)=TRUE,\"\",SUMIF('Nominatieve lijst'!$D$8:$D$10007,C835,'Nominatieve lijst'!$J$8:$J$10007))","v":""},{"$f":"IF(ISBLANK(Vrijwilligersregister!C835)=TRUE,\"\",D835+F835)","v":""},{"$f":"Vrijwilligersregister!L835","v":0}]
[null,830,{"$f":"IF(ISBLANK(Vrijwilligersregister!C836)=TRUE,\"\",Vrijwilligersregister!C836)","v":""},{"$f":"IF(ISBLANK(Vrijwilligersregister!C836)=TRUE,\"\",SUMIF('Nominatieve lijst'!$D$8:$D$10007,C836,'Nominatieve lijst'!$G$8:$G$10007))","v":""},{"$f":"IF(ISBLANK(Vrijwilligersregister!C836)=TRUE,\"\",SUMIF('Nominatieve lijst'!$D$8:$D$10007,C836,'Nominatieve lijst'!$H$8:$H$10007))","v":""},{"$f":"IF(ISBLANK(Vrijwilligersregister!C836)=TRUE,\"\",SUMIF('Nominatieve lijst'!$D$8:$D$10007,C836,'Nominatieve lijst'!$J$8:$J$10007))","v":""},{"$f":"IF(ISBLANK(Vrijwilligersregister!C836)=TRUE,\"\",D836+F836)","v":""},{"$f":"Vrijwilligersregister!L836","v":0}]
[null,831,{"$f":"IF(ISBLANK(Vrijwilligersregister!C837)=TRUE,\"\",Vrijwilligersregister!C837)","v":""},{"$f":"IF(ISBLANK(Vrijwilligersregister!C837)=TRUE,\"\",SUMIF('Nominatieve lijst'!$D$8:$D$10007,C837,'Nominatieve lijst'!$G$8:$G$10007))","v":""},{"$f":"IF(ISBLANK(Vrijwilligersregister!C837)=TRUE,\"\",SUMIF('Nominatieve lijst'!$D$8:$D$10007,C837,'Nominatieve lijst'!$H$8:$H$10007))","v":""},{"$f":"IF(ISBLANK(Vrijwilligersregister!C837)=TRUE,\"\",SUMIF('Nominatieve lijst'!$D$8:$D$10007,C837,'Nominatieve lijst'!$J$8:$J$10007))","v":""},{"$f":"IF(ISBLANK(Vrijwilligersregister!C837)=TRUE,\"\",D837+F837)","v":""},{"$f":"Vrijwilligersregister!L837","v":0}]
[null,832,{"$f":"IF(ISBLANK(Vrijwilligersregister!C838)=TRUE,\"\",Vrijwilligersregister!C838)","v":""},{"$f":"IF(ISBLANK(Vrijwilligersregister!C838)=TRUE,\"\",SUMIF('Nominatieve lijst'!$D$8:$D$10007,C838,'Nominatieve lijst'!$G$8:$G$10007))","v":""},{"$f":"IF(ISBLANK(Vrijwilligersregister!C838)=TRUE,\"\",SUMIF('Nominatieve lijst'!$D$8:$D$10007,C838,'Nominatieve lijst'!$H$8:$H$10007))","v":""},{"$f":"IF(ISBLANK(Vrijwilligersregister!C838)=TRUE,\"\",SUMIF('Nominatieve lijst'!$D$8:$D$10007,C838,'Nominatieve lijst'!$J$8:$J$10007))","v":""},{"$f":"IF(ISBLANK(Vrijwilligersregister!C838)=TRUE,\"\",D838+F838)","v":""},{"$f":"Vrijwilligersregister!L838","v":0}]
[null,833,{"$f":"IF(ISBLANK(Vrijwilligersregister!C839)=TRUE,\"\",Vrijwilligersregister!C839)","v":""},{"$f":"IF(ISBLANK(Vrijwilligersregister!C839)=TRUE,\"\",SUMIF('Nominatieve lijst'!$D$8:$D$10007,C839,'Nominatieve lijst'!$G$8:$G$10007))","v":""},{"$f":"IF(ISBLANK(Vrijwilligersregister!C839)=TRUE,\"\",SUMIF('Nominatieve lijst'!$D$8:$D$10007,C839,'Nominatieve lijst'!$H$8:$H$10007))","v":""},{"$f":"IF(ISBLANK(Vrijwilligersregister!C839)=TRUE,\"\",SUMIF('Nominatieve lijst'!$D$8:$D$10007,C839,'Nominatieve lijst'!$J$8:$J$10007))","v":""},{"$f":"IF(ISBLANK(Vrijwilligersregister!C839)=TRUE,\"\",D839+F839)","v":""},{"$f":"Vrijwilligersregister!L839","v":0}]
[null,834,{"$f":"IF(ISBLANK(Vrijwilligersregister!C840)=TRUE,\"\",Vrijwilligersregister!C840)","v":""},{"$f":"IF(ISBLANK(Vrijwilligersregister!C840)=TRUE,\"\",SUMIF('Nominatieve lijst'!$D$8:$D$10007,C840,'Nominatieve lijst'!$G$8:$G$10007))","v":""},{"$f":"IF(ISBLANK(Vrijwilligersregister!C840)=TRUE,\"\",SUMIF('Nominatieve lijst'!$D$8:$D$10007,C840,'Nominatieve lijst'!$H$8:$H$10007))","v":""},{"$f":"IF(ISBLANK(Vrijwilligersregister!C840)=TRUE,\"\",SUMIF('Nominatieve lijst'!$D$8:$D$10007,C840,'Nominatieve lijst'!$J$8:$J$10007))","v":""},{"$f":"IF(ISBLANK(Vrijwilligersregister!C840)=TRUE,\"\",D840+F840)","v":""},{"$f":"Vrijwilligersregister!L840","v":0}]
[null,835,{"$f":"IF(ISBLANK(Vrijwilligersregister!C841)=TRUE,\"\",Vrijwilligersregister!C841)","v":""},{"$f":"IF(ISBLANK(Vrijwilligersregister!C841)=TRUE,\"\",SUMIF('Nominatieve lijst'!$D$8:$D$10007,C841,'Nominatieve lijst'!$G$8:$G$10007))","v":""},{"$f":"IF(ISBLANK(Vrijwilligersregister!C841)=TRUE,\"\",SUMIF('Nominatieve lijst'!$D$8:$D$10007,C841,'Nominatieve lijst'!$H$8:$H$10007))","v":""},{"$f":"IF(ISBLANK(Vrijwilligersregister!C841)=TRUE,\"\",SUMIF('Nominatieve lijst'!$D$8:$D$10007,C841,'Nominatieve lijst'!$J$8:$J$10007))","v":""},{"$f":"IF(ISBLANK(Vrijwilligersregister!C841)=TRUE,\"\",D841+F841)","v":""},{"$f":"Vrijwilligersregister!L841","v":0}]
[null,836,{"$f":"IF(ISBLANK(Vrijwilligersregister!C842)=TRUE,\"\",Vrijwilligersregister!C842)","v":""},{"$f":"IF(ISBLANK(Vrijwilligersregister!C842)=TRUE,\"\",SUMIF('Nominatieve lijst'!$D$8:$D$10007,C842,'Nominatieve lijst'!$G$8:$G$10007))","v":""},{"$f":"IF(ISBLANK(Vrijwilligersregister!C842)=TRUE,\"\",SUMIF('Nominatieve lijst'!$D$8:$D$10007,C842,'Nominatieve lijst'!$H$8:$H$10007))","v":""},{"$f":"IF(ISBLANK(Vrijwilligersregister!C842)=TRUE,\"\",SUMIF('Nominatieve lijst'!$D$8:$D$10007,C842,'Nominatieve lijst'!$J$8:$J$10007))","v":""},{"$f":"IF(ISBLANK(Vrijwilligersregister!C842)=TRUE,\"\",D842+F842)","v":""},{"$f":"Vrijwilligersregister!L842","v":0}]
[null,837,{"$f":"IF(ISBLANK(Vrijwilligersregister!C843)=TRUE,\"\",Vrijwilligersregister!C843)","v":""},{"$f":"IF(ISBLANK(Vrijwilligersregister!C843)=TRUE,\"\",SUMIF('Nominatieve lijst'!$D$8:$D$10007,C843,'Nominatieve lijst'!$G$8:$G$10007))","v":""},{"$f":"IF(ISBLANK(Vrijwilligersregister!C843)=TRUE,\"\",SUMIF('Nominatieve lijst'!$D$8:$D$10007,C843,'Nominatieve lijst'!$H$8:$H$10007))","v":""},{"$f":"IF(ISBLANK(Vrijwilligersregister!C843)=TRUE,\"\",SUMIF('Nominatieve lijst'!$D$8:$D$10007,C843,'Nominatieve lijst'!$J$8:$J$10007))","v":""},{"$f":"IF(ISBLANK(Vrijwilligersregister!C843)=TRUE,\"\",D843+F843)","v":""},{"$f":"Vrijwilligersregister!L843","v":0}]
[null,838,{"$f":"IF(ISBLANK(Vrijwilligersregister!C844)=TRUE,\"\",Vrijwilligersregister!C844)","v":""},{"$f":"IF(ISBLANK(Vrijwilligersregister!C844)=TRUE,\"\",SUMIF('Nominatieve lijst'!$D$8:$D$10007,C844,'Nominatieve lijst'!$G$8:$G$10007))","v":""},{"$f":"IF(ISBLANK(Vrijwilligersregister!C844)=TRUE,\"\",SUMIF('Nominatieve lijst'!$D$8:$D$10007,C844,'Nominatieve lijst'!$H$8:$H$10007))","v":""},{"$f":"IF(ISBLANK(Vrijwilligersregister!C844)=TRUE,\"\",SUMIF('Nominatieve lijst'!$D$8:$D$10007,C844,'Nominatieve lijst'!$J$8:$J$10007))","v":""},{"$f":"IF(ISBLANK(Vrijwilligersregister!C844)=TRUE,\"\",D844+F844)","v":""},{"$f":"Vrijwilligersregister!L844","v":0}]
[null,839,{"$f":"IF(ISBLANK(Vrijwilligersregister!C845)=TRUE,\"\",Vrijwilligersregister!C845)","v":""},{"$f":"IF(ISBLANK(Vrijwilligersregister!C845)=TRUE,\"\",SUMIF('Nominatieve lijst'!$D$8:$D$10007,C845,'Nominatieve lijst'!$G$8:$G$10007))","v":""},{"$f":"IF(ISBLANK(Vrijwilligersregister!C845)=TRUE,\"\",SUMIF('Nominatieve lijst'!$D$8:$D$10007,C845,'Nominatieve lijst'!$H$8:$H$10007))","v":""},{"$f":"IF(ISBLANK(Vrijwilligersregister!C845)=TRUE,\"\",SUMIF('Nominatieve lijst'!$D$8:$D$10007,C845,'Nominatieve lijst'!$J$8:$J$10007))","v":""},{"$f":"IF(ISBLANK(Vrijwilligersregister!C845)=TRUE,\"\",D845+F845)","v":""},{"$f":"Vrijwilligersregister!L845","v":0}]
[null,840,{"$f":"IF(ISBLANK(Vrijwilligersregister!C846)=TRUE,\"\",Vrijwilligersregister!C846)","v":""},{"$f":"IF(ISBLANK(Vrijwilligersregister!C846)=TRUE,\"\",SUMIF('Nominatieve lijst'!$D$8:$D$10007,C846,'Nominatieve lijst'!$G$8:$G$10007))","v":""},{"$f":"IF(ISBLANK(Vrijwilligersregister!C846)=TRUE,\"\",SUMIF('Nominatieve lijst'!$D$8:$D$10007,C846,'Nominatieve lijst'!$H$8:$H$10007))","v":""},{"$f":"IF(ISBLANK(Vrijwilligersregister!C846)=TRUE,\"\",SUMIF('Nominatieve lijst'!$D$8:$D$10007,C846,'Nominatieve lijst'!$J$8:$J$10007))","v":""},{"$f":"IF(ISBLANK(Vrijwilligersregister!C846)=TRUE,\"\",D846+F846)","v":""},{"$f":"Vrijwilligersregister!L846","v":0}]
[null,841,{"$f":"IF(ISBLANK(Vrijwilligersregister!C847)=TRUE,\"\",Vrijwilligersregister!C847)","v":""},{"$f":"IF(ISBLANK(Vrijwilligersregister!C847)=TRUE,\"\",SUMIF('Nominatieve lijst'!$D$8:$D$10007,C847,'Nominatieve lijst'!$G$8:$G$10007))","v":""},{"$f":"IF(ISBLANK(Vrijwilligersregister!C847)=TRUE,\"\",SUMIF('Nominatieve lijst'!$D$8:$D$10007,C847,'Nominatieve lijst'!$H$8:$H$10007))","v":""},{"$f":"IF(ISBLANK(Vrijwilligersregister!C847)=TRUE,\"\",SUMIF('Nominatieve lijst'!$D$8:$D$10007,C847,'Nominatieve lijst'!$J$8:$J$10007))","v":""},{"$f":"IF(ISBLANK(Vrijwilligersregister!C847)=TRUE,\"\",D847+F847)","v":""},{"$f":"Vrijwilligersregister!L847","v":0}]
[null,842,{"$f":"IF(ISBLANK(Vrijwilligersregister!C848)=TRUE,\"\",Vrijwilligersregister!C848)","v":""},{"$f":"IF(ISBLANK(Vrijwilligersregister!C848)=TRUE,\"\",SUMIF('Nominatieve lijst'!$D$8:$D$10007,C848,'Nominatieve lijst'!$G$8:$G$10007))","v":""},{"$f":"IF(ISBLANK(Vrijwilligersregister!C848)=TRUE,\"\",SUMIF('Nominatieve lijst'!$D$8:$D$10007,C848,'Nominatieve lijst'!$H$8:$H$10007))","v":""},{"$f":"IF(ISBLANK(Vrijwilligersregister!C848)=TRUE,\"\",SUMIF('Nominatieve lijst'!$D$8:$D$10007,C848,'Nominatieve lijst'!$J$8:$J$10007))","v":""},{"$f":"IF(ISBLANK(Vrijwilligersregister!C848)=TRUE,\"\",D848+F848)","v":""},{"$f":"Vrijwilligersregister!L848","v":0}]
[null,843,{"$f":"IF(ISBLANK(Vrijwilligersregister!C849)=TRUE,\"\",Vrijwilligersregister!C849)","v":""},{"$f":"IF(ISBLANK(Vrijwilligersregister!C849)=TRUE,\"\",SUMIF('Nominatieve lijst'!$D$8:$D$10007,C849,'Nominatieve lijst'!$G$8:$G$10007))","v":""},{"$f":"IF(ISBLANK(Vrijwilligersregister!C849)=TRUE,\"\",SUMIF('Nominatieve lijst'!$D$8:$D$10007,C849,'Nominatieve lijst'!$H$8:$H$10007))","v":""},{"$f":"IF(ISBLANK(Vrijwilligersregister!C849)=TRUE,\"\",SUMIF('Nominatieve lijst'!$D$8:$D$10007,C849,'Nominatieve lijst'!$J$8:$J$10007))","v":""},{"$f":"IF(ISBLANK(Vrijwilligersregister!C849)=TRUE,\"\",D849+F849)","v":""},{"$f":"Vrijwilligersregister!L849","v":0}]
[null,844,{"$f":"IF(ISBLANK(Vrijwilligersregister!C850)=TRUE,\"\",Vrijwilligersregister!C850)","v":""},{"$f":"IF(ISBLANK(Vrijwilligersregister!C850)=TRUE,\"\",SUMIF('Nominatieve lijst'!$D$8:$D$10007,C850,'Nominatieve lijst'!$G$8:$G$10007))","v":""},{"$f":"IF(ISBLANK(Vrijwilligersregister!C850)=TRUE,\"\",SUMIF('Nominatieve lijst'!$D$8:$D$10007,C850,'Nominatieve lijst'!$H$8:$H$10007))","v":""},{"$f":"IF(ISBLANK(Vrijwilligersregister!C850)=TRUE,\"\",SUMIF('Nominatieve lijst'!$D$8:$D$10007,C850,'Nominatieve lijst'!$J$8:$J$10007))","v":""},{"$f":"IF(ISBLANK(Vrijwilligersregister!C850)=TRUE,\"\",D850+F850)","v":""},{"$f":"Vrijwilligersregister!L850","v":0}]
[null,845,{"$f":"IF(ISBLANK(Vrijwilligersregister!C851)=TRUE,\"\",Vrijwilligersregister!C851)","v":""},{"$f":"IF(ISBLANK(Vrijwilligersregister!C851)=TRUE,\"\",SUMIF('Nominatieve lijst'!$D$8:$D$10007,C851,'Nominatieve lijst'!$G$8:$G$10007))","v":""},{"$f":"IF(ISBLANK(Vrijwilligersregister!C851)=TRUE,\"\",SUMIF('Nominatieve lijst'!$D$8:$D$10007,C851,'Nominatieve lijst'!$H$8:$H$10007))","v":""},{"$f":"IF(ISBLANK(Vrijwilligersregister!C851)=TRUE,\"\",SUMIF('Nominatieve lijst'!$D$8:$D$10007,C851,'Nominatieve lijst'!$J$8:$J$10007))","v":""},{"$f":"IF(ISBLANK(Vrijwilligersregister!C851)=TRUE,\"\",D851+F851)","v":""},{"$f":"Vrijwilligersregister!L851","v":0}]
[null,846,{"$f":"IF(ISBLANK(Vrijwilligersregister!C852)=TRUE,\"\",Vrijwilligersregister!C852)","v":""},{"$f":"IF(ISBLANK(Vrijwilligersregister!C852)=TRUE,\"\",SUMIF('Nominatieve lijst'!$D$8:$D$10007,C852,'Nominatieve lijst'!$G$8:$G$10007))","v":""},{"$f":"IF(ISBLANK(Vrijwilligersregister!C852)=TRUE,\"\",SUMIF('Nominatieve lijst'!$D$8:$D$10007,C852,'Nominatieve lijst'!$H$8:$H$10007))","v":""},{"$f":"IF(ISBLANK(Vrijwilligersregister!C852)=TRUE,\"\",SUMIF('Nominatieve lijst'!$D$8:$D$10007,C852,'Nominatieve lijst'!$J$8:$J$10007))","v":""},{"$f":"IF(ISBLANK(Vrijwilligersregister!C852)=TRUE,\"\",D852+F852)","v":""},{"$f":"Vrijwilligersregister!L852","v":0}]
[null,847,{"$f":"IF(ISBLANK(Vrijwilligersregister!C853)=TRUE,\"\",Vrijwilligersregister!C853)","v":""},{"$f":"IF(ISBLANK(Vrijwilligersregister!C853)=TRUE,\"\",SUMIF('Nominatieve lijst'!$D$8:$D$10007,C853,'Nominatieve lijst'!$G$8:$G$10007))","v":""},{"$f":"IF(ISBLANK(Vrijwilligersregister!C853)=TRUE,\"\",SUMIF('Nominatieve lijst'!$D$8:$D$10007,C853,'Nominatieve lijst'!$H$8:$H$10007))","v":""},{"$f":"IF(ISBLANK(Vrijwilligersregister!C853)=TRUE,\"\",SUMIF('Nominatieve lijst'!$D$8:$D$10007,C853,'Nominatieve lijst'!$J$8:$J$10007))","v":""},{"$f":"IF(ISBLANK(Vrijwilligersregister!C853)=TRUE,\"\",D853+F853)","v":""},{"$f":"Vrijwilligersregister!L853","v":0}]
[null,848,{"$f":"IF(ISBLANK(Vrijwilligersregister!C854)=TRUE,\"\",Vrijwilligersregister!C854)","v":""},{"$f":"IF(ISBLANK(Vrijwilligersregister!C854)=TRUE,\"\",SUMIF('Nominatieve lijst'!$D$8:$D$10007,C854,'Nominatieve lijst'!$G$8:$G$10007))","v":""},{"$f":"IF(ISBLANK(Vrijwilligersregister!C854)=TRUE,\"\",SUMIF('Nominatieve lijst'!$D$8:$D$10007,C854,'Nominatieve lijst'!$H$8:$H$10007))","v":""},{"$f":"IF(ISBLANK(Vrijwilligersregister!C854)=TRUE,\"\",SUMIF('Nominatieve lijst'!$D$8:$D$10007,C854,'Nominatieve lijst'!$J$8:$J$10007))","v":""},{"$f":"IF(ISBLANK(Vrijwilligersregister!C854)=TRUE,\"\",D854+F854)","v":""},{"$f":"Vrijwilligersregister!L854","v":0}]
[null,849,{"$f":"IF(ISBLANK(Vrijwilligersregister!C855)=TRUE,\"\",Vrijwilligersregister!C855)","v":""},{"$f":"IF(ISBLANK(Vrijwilligersregister!C855)=TRUE,\"\",SUMIF('Nominatieve lijst'!$D$8:$D$10007,C855,'Nominatieve lijst'!$G$8:$G$10007))","v":""},{"$f":"IF(ISBLANK(Vrijwilligersregister!C855)=TRUE,\"\",SUMIF('Nominatieve lijst'!$D$8:$D$10007,C855,'Nominatieve lijst'!$H$8:$H$10007))","v":""},{"$f":"IF(ISBLANK(Vrijwilligersregister!C855)=TRUE,\"\",SUMIF('Nominatieve lijst'!$D$8:$D$10007,C855,'Nominatieve lijst'!$J$8:$J$10007))","v":""},{"$f":"IF(ISBLANK(Vrijwilligersregister!C855)=TRUE,\"\",D855+F855)","v":""},{"$f":"Vrijwilligersregister!L855","v":0}]
[null,850,{"$f":"IF(ISBLANK(Vrijwilligersregister!C856)=TRUE,\"\",Vrijwilligersregister!C856)","v":""},{"$f":"IF(ISBLANK(Vrijwilligersregister!C856)=TRUE,\"\",SUMIF('Nominatieve lijst'!$D$8:$D$10007,C856,'Nominatieve lijst'!$G$8:$G$10007))","v":""},{"$f":"IF(ISBLANK(Vrijwilligersregister!C856)=TRUE,\"\",SUMIF('Nominatieve lijst'!$D$8:$D$10007,C856,'Nominatieve lijst'!$H$8:$H$10007))","v":""},{"$f":"IF(ISBLANK(Vrijwilligersregister!C856)=TRUE,\"\",SUMIF('Nominatieve lijst'!$D$8:$D$10007,C856,'Nominatieve lijst'!$J$8:$J$10007))","v":""},{"$f":"IF(ISBLANK(Vrijwilligersregister!C856)=TRUE,\"\",D856+F856)","v":""},{"$f":"Vrijwilligersregister!L856","v":0}]
[null,851,{"$f":"IF(ISBLANK(Vrijwilligersregister!C857)=TRUE,\"\",Vrijwilligersregister!C857)","v":""},{"$f":"IF(ISBLANK(Vrijwilligersregister!C857)=TRUE,\"\",SUMIF('Nominatieve lijst'!$D$8:$D$10007,C857,'Nominatieve lijst'!$G$8:$G$10007))","v":""},{"$f":"IF(ISBLANK(Vrijwilligersregister!C857)=TRUE,\"\",SUMIF('Nominatieve lijst'!$D$8:$D$10007,C857,'Nominatieve lijst'!$H$8:$H$10007))","v":""},{"$f":"IF(ISBLANK(Vrijwilligersregister!C857)=TRUE,\"\",SUMIF('Nominatieve lijst'!$D$8:$D$10007,C857,'Nominatieve lijst'!$J$8:$J$10007))","v":""},{"$f":"IF(ISBLANK(Vrijwilligersregister!C857)=TRUE,\"\",D857+F857)","v":""},{"$f":"Vrijwilligersregister!L857","v":0}]
[null,852,{"$f":"IF(ISBLANK(Vrijwilligersregister!C858)=TRUE,\"\",Vrijwilligersregister!C858)","v":""},{"$f":"IF(ISBLANK(Vrijwilligersregister!C858)=TRUE,\"\",SUMIF('Nominatieve lijst'!$D$8:$D$10007,C858,'Nominatieve lijst'!$G$8:$G$10007))","v":""},{"$f":"IF(ISBLANK(Vrijwilligersregister!C858)=TRUE,\"\",SUMIF('Nominatieve lijst'!$D$8:$D$10007,C858,'Nominatieve lijst'!$H$8:$H$10007))","v":""},{"$f":"IF(ISBLANK(Vrijwilligersregister!C858)=TRUE,\"\",SUMIF('Nominatieve lijst'!$D$8:$D$10007,C858,'Nominatieve lijst'!$J$8:$J$10007))","v":""},{"$f":"IF(ISBLANK(Vrijwilligersregister!C858)=TRUE,\"\",D858+F858)","v":""},{"$f":"Vrijwilligersregister!L858","v":0}]
[null,853,{"$f":"IF(ISBLANK(Vrijwilligersregister!C859)=TRUE,\"\",Vrijwilligersregister!C859)","v":""},{"$f":"IF(ISBLANK(Vrijwilligersregister!C859)=TRUE,\"\",SUMIF('Nominatieve lijst'!$D$8:$D$10007,C859,'Nominatieve lijst'!$G$8:$G$10007))","v":""},{"$f":"IF(ISBLANK(Vrijwilligersregister!C859)=TRUE,\"\",SUMIF('Nominatieve lijst'!$D$8:$D$10007,C859,'Nominatieve lijst'!$H$8:$H$10007))","v":""},{"$f":"IF(ISBLANK(Vrijwilligersregister!C859)=TRUE,\"\",SUMIF('Nominatieve lijst'!$D$8:$D$10007,C859,'Nominatieve lijst'!$J$8:$J$10007))","v":""},{"$f":"IF(ISBLANK(Vrijwilligersregister!C859)=TRUE,\"\",D859+F859)","v":""},{"$f":"Vrijwilligersregister!L859","v":0}]
[null,854,{"$f":"IF(ISBLANK(Vrijwilligersregister!C860)=TRUE,\"\",Vrijwilligersregister!C860)","v":""},{"$f":"IF(ISBLANK(Vrijwilligersregister!C860)=TRUE,\"\",SUMIF('Nominatieve lijst'!$D$8:$D$10007,C860,'Nominatieve lijst'!$G$8:$G$10007))","v":""},{"$f":"IF(ISBLANK(Vrijwilligersregister!C860)=TRUE,\"\",SUMIF('Nominatieve lijst'!$D$8:$D$10007,C860,'Nominatieve lijst'!$H$8:$H$10007))","v":""},{"$f":"IF(ISBLANK(Vrijwilligersregister!C860)=TRUE,\"\",SUMIF('Nominatieve lijst'!$D$8:$D$10007,C860,'Nominatieve lijst'!$J$8:$J$10007))","v":""},{"$f":"IF(ISBLANK(Vrijwilligersregister!C860)=TRUE,\"\",D860+F860)","v":""},{"$f":"Vrijwilligersregister!L860","v":0}]
[null,855,{"$f":"IF(ISBLANK(Vrijwilligersregister!C861)=TRUE,\"\",Vrijwilligersregister!C861)","v":""},{"$f":"IF(ISBLANK(Vrijwilligersregister!C861)=TRUE,\"\",SUMIF('Nominatieve lijst'!$D$8:$D$10007,C861,'Nominatieve lijst'!$G$8:$G$10007))","v":""},{"$f":"IF(ISBLANK(Vrijwilligersregister!C861)=TRUE,\"\",SUMIF('Nominatieve lijst'!$D$8:$D$10007,C861,'Nominatieve lijst'!$H$8:$H$10007))","v":""},{"$f":"IF(ISBLANK(Vrijwilligersregister!C861)=TRUE,\"\",SUMIF('Nominatieve lijst'!$D$8:$D$10007,C861,'Nominatieve lijst'!$J$8:$J$10007))","v":""},{"$f":"IF(ISBLANK(Vrijwilligersregister!C861)=TRUE,\"\",D861+F861)","v":""},{"$f":"Vrijwilligersregister!L861","v":0}]
[null,856,{"$f":"IF(ISBLANK(Vrijwilligersregister!C862)=TRUE,\"\",Vrijwilligersregister!C862)","v":""},{"$f":"IF(ISBLANK(Vrijwilligersregister!C862)=TRUE,\"\",SUMIF('Nominatieve lijst'!$D$8:$D$10007,C862,'Nominatieve lijst'!$G$8:$G$10007))","v":""},{"$f":"IF(ISBLANK(Vrijwilligersregister!C862)=TRUE,\"\",SUMIF('Nominatieve lijst'!$D$8:$D$10007,C862,'Nominatieve lijst'!$H$8:$H$10007))","v":""},{"$f":"IF(ISBLANK(Vrijwilligersregister!C862)=TRUE,\"\",SUMIF('Nominatieve lijst'!$D$8:$D$10007,C862,'Nominatieve lijst'!$J$8:$J$10007))","v":""},{"$f":"IF(ISBLANK(Vrijwilligersregister!C862)=TRUE,\"\",D862+F862)","v":""},{"$f":"Vrijwilligersregister!L862","v":0}]
[null,857,{"$f":"IF(ISBLANK(Vrijwilligersregister!C863)=TRUE,\"\",Vrijwilligersregister!C863)","v":""},{"$f":"IF(ISBLANK(Vrijwilligersregister!C863)=TRUE,\"\",SUMIF('Nominatieve lijst'!$D$8:$D$10007,C863,'Nominatieve lijst'!$G$8:$G$10007))","v":""},{"$f":"IF(ISBLANK(Vrijwilligersregister!C863)=TRUE,\"\",SUMIF('Nominatieve lijst'!$D$8:$D$10007,C863,'Nominatieve lijst'!$H$8:$H$10007))","v":""},{"$f":"IF(ISBLANK(Vrijwilligersregister!C863)=TRUE,\"\",SUMIF('Nominatieve lijst'!$D$8:$D$10007,C863,'Nominatieve lijst'!$J$8:$J$10007))","v":""},{"$f":"IF(ISBLANK(Vrijwilligersregister!C863)=TRUE,\"\",D863+F863)","v":""},{"$f":"Vrijwilligersregister!L863","v":0}]
[null,858,{"$f":"IF(ISBLANK(Vrijwilligersregister!C864)=TRUE,\"\",Vrijwilligersregister!C864)","v":""},{"$f":"IF(ISBLANK(Vrijwilligersregister!C864)=TRUE,\"\",SUMIF('Nominatieve lijst'!$D$8:$D$10007,C864,'Nominatieve lijst'!$G$8:$G$10007))","v":""},{"$f":"IF(ISBLANK(Vrijwilligersregister!C864)=TRUE,\"\",SUMIF('Nominatieve lijst'!$D$8:$D$10007,C864,'Nominatieve lijst'!$H$8:$H$10007))","v":""},{"$f":"IF(ISBLANK(Vrijwilligersregister!C864)=TRUE,\"\",SUMIF('Nominatieve lijst'!$D$8:$D$10007,C864,'Nominatieve lijst'!$J$8:$J$10007))","v":""},{"$f":"IF(ISBLANK(Vrijwilligersregister!C864)=TRUE,\"\",D864+F864)","v":""},{"$f":"Vrijwilligersregister!L864","v":0}]
[null,859,{"$f":"IF(ISBLANK(Vrijwilligersregister!C865)=TRUE,\"\",Vrijwilligersregister!C865)","v":""},{"$f":"IF(ISBLANK(Vrijwilligersregister!C865)=TRUE,\"\",SUMIF('Nominatieve lijst'!$D$8:$D$10007,C865,'Nominatieve lijst'!$G$8:$G$10007))","v":""},{"$f":"IF(ISBLANK(Vrijwilligersregister!C865)=TRUE,\"\",SUMIF('Nominatieve lijst'!$D$8:$D$10007,C865,'Nominatieve lijst'!$H$8:$H$10007))","v":""},{"$f":"IF(ISBLANK(Vrijwilligersregister!C865)=TRUE,\"\",SUMIF('Nominatieve lijst'!$D$8:$D$10007,C865,'Nominatieve lijst'!$J$8:$J$10007))","v":""},{"$f":"IF(ISBLANK(Vrijwilligersregister!C865)=TRUE,\"\",D865+F865)","v":""},{"$f":"Vrijwilligersregister!L865","v":0}]
[null,860,{"$f":"IF(ISBLANK(Vrijwilligersregister!C866)=TRUE,\"\",Vrijwilligersregister!C866)","v":""},{"$f":"IF(ISBLANK(Vrijwilligersregister!C866)=TRUE,\"\",SUMIF('Nominatieve lijst'!$D$8:$D$10007,C866,'Nominatieve lijst'!$G$8:$G$10007))","v":""},{"$f":"IF(ISBLANK(Vrijwilligersregister!C866)=TRUE,\"\",SUMIF('Nominatieve lijst'!$D$8:$D$10007,C866,'Nominatieve lijst'!$H$8:$H$10007))","v":""},{"$f":"IF(ISBLANK(Vrijwilligersregister!C866)=TRUE,\"\",SUMIF('Nominatieve lijst'!$D$8:$D$10007,C866,'Nominatieve lijst'!$J$8:$J$10007))","v":""},{"$f":"IF(ISBLANK(Vrijwilligersregister!C866)=TRUE,\"\",D866+F866)","v":""},{"$f":"Vrijwilligersregister!L866","v":0}]
[null,861,{"$f":"IF(ISBLANK(Vrijwilligersregister!C867)=TRUE,\"\",Vrijwilligersregister!C867)","v":""},{"$f":"IF(ISBLANK(Vrijwilligersregister!C867)=TRUE,\"\",SUMIF('Nominatieve lijst'!$D$8:$D$10007,C867,'Nominatieve lijst'!$G$8:$G$10007))","v":""},{"$f":"IF(ISBLANK(Vrijwilligersregister!C867)=TRUE,\"\",SUMIF('Nominatieve lijst'!$D$8:$D$10007,C867,'Nominatieve lijst'!$H$8:$H$10007))","v":""},{"$f":"IF(ISBLANK(Vrijwilligersregister!C867)=TRUE,\"\",SUMIF('Nominatieve lijst'!$D$8:$D$10007,C867,'Nominatieve lijst'!$J$8:$J$10007))","v":""},{"$f":"IF(ISBLANK(Vrijwilligersregister!C867)=TRUE,\"\",D867+F867)","v":""},{"$f":"Vrijwilligersregister!L867","v":0}]
[null,862,{"$f":"IF(ISBLANK(Vrijwilligersregister!C868)=TRUE,\"\",Vrijwilligersregister!C868)","v":""},{"$f":"IF(ISBLANK(Vrijwilligersregister!C868)=TRUE,\"\",SUMIF('Nominatieve lijst'!$D$8:$D$10007,C868,'Nominatieve lijst'!$G$8:$G$10007))","v":""},{"$f":"IF(ISBLANK(Vrijwilligersregister!C868)=TRUE,\"\",SUMIF('Nominatieve lijst'!$D$8:$D$10007,C868,'Nominatieve lijst'!$H$8:$H$10007))","v":""},{"$f":"IF(ISBLANK(Vrijwilligersregister!C868)=TRUE,\"\",SUMIF('Nominatieve lijst'!$D$8:$D$10007,C868,'Nominatieve lijst'!$J$8:$J$10007))","v":""},{"$f":"IF(ISBLANK(Vrijwilligersregister!C868)=TRUE,\"\",D868+F868)","v":""},{"$f":"Vrijwilligersregister!L868","v":0}]
[null,863,{"$f":"IF(ISBLANK(Vrijwilligersregister!C869)=TRUE,\"\",Vrijwilligersregister!C869)","v":""},{"$f":"IF(ISBLANK(Vrijwilligersregister!C869)=TRUE,\"\",SUMIF('Nominatieve lijst'!$D$8:$D$10007,C869,'Nominatieve lijst'!$G$8:$G$10007))","v":""},{"$f":"IF(ISBLANK(Vrijwilligersregister!C869)=TRUE,\"\",SUMIF('Nominatieve lijst'!$D$8:$D$10007,C869,'Nominatieve lijst'!$H$8:$H$10007))","v":""},{"$f":"IF(ISBLANK(Vrijwilligersregister!C869)=TRUE,\"\",SUMIF('Nominatieve lijst'!$D$8:$D$10007,C869,'Nominatieve lijst'!$J$8:$J$10007))","v":""},{"$f":"IF(ISBLANK(Vrijwilligersregister!C869)=TRUE,\"\",D869+F869)","v":""},{"$f":"Vrijwilligersregister!L869","v":0}]
[null,864,{"$f":"IF(ISBLANK(Vrijwilligersregister!C870)=TRUE,\"\",Vrijwilligersregister!C870)","v":""},{"$f":"IF(ISBLANK(Vrijwilligersregister!C870)=TRUE,\"\",SUMIF('Nominatieve lijst'!$D$8:$D$10007,C870,'Nominatieve lijst'!$G$8:$G$10007))","v":""},{"$f":"IF(ISBLANK(Vrijwilligersregister!C870)=TRUE,\"\",SUMIF('Nominatieve lijst'!$D$8:$D$10007,C870,'Nominatieve lijst'!$H$8:$H$10007))","v":""},{"$f":"IF(ISBLANK(Vrijwilligersregister!C870)=TRUE,\"\",SUMIF('Nominatieve lijst'!$D$8:$D$10007,C870,'Nominatieve lijst'!$J$8:$J$10007))","v":""},{"$f":"IF(ISBLANK(Vrijwilligersregister!C870)=TRUE,\"\",D870+F870)","v":""},{"$f":"Vrijwilligersregister!L870","v":0}]
[null,865,{"$f":"IF(ISBLANK(Vrijwilligersregister!C871)=TRUE,\"\",Vrijwilligersregister!C871)","v":""},{"$f":"IF(ISBLANK(Vrijwilligersregister!C871)=TRUE,\"\",SUMIF('Nominatieve lijst'!$D$8:$D$10007,C871,'Nominatieve lijst'!$G$8:$G$10007))","v":""},{"$f":"IF(ISBLANK(Vrijwilligersregister!C871)=TRUE,\"\",SUMIF('Nominatieve lijst'!$D$8:$D$10007,C871,'Nominatieve lijst'!$H$8:$H$10007))","v":""},{"$f":"IF(ISBLANK(Vrijwilligersregister!C871)=TRUE,\"\",SUMIF('Nominatieve lijst'!$D$8:$D$10007,C871,'Nominatieve lijst'!$J$8:$J$10007))","v":""},{"$f":"IF(ISBLANK(Vrijwilligersregister!C871)=TRUE,\"\",D871+F871)","v":""},{"$f":"Vrijwilligersregister!L871","v":0}]
[null,866,{"$f":"IF(ISBLANK(Vrijwilligersregister!C872)=TRUE,\"\",Vrijwilligersregister!C872)","v":""},{"$f":"IF(ISBLANK(Vrijwilligersregister!C872)=TRUE,\"\",SUMIF('Nominatieve lijst'!$D$8:$D$10007,C872,'Nominatieve lijst'!$G$8:$G$10007))","v":""},{"$f":"IF(ISBLANK(Vrijwilligersregister!C872)=TRUE,\"\",SUMIF('Nominatieve lijst'!$D$8:$D$10007,C872,'Nominatieve lijst'!$H$8:$H$10007))","v":""},{"$f":"IF(ISBLANK(Vrijwilligersregister!C872)=TRUE,\"\",SUMIF('Nominatieve lijst'!$D$8:$D$10007,C872,'Nominatieve lijst'!$J$8:$J$10007))","v":""},{"$f":"IF(ISBLANK(Vrijwilligersregister!C872)=TRUE,\"\",D872+F872)","v":""},{"$f":"Vrijwilligersregister!L872","v":0}]
[null,867,{"$f":"IF(ISBLANK(Vrijwilligersregister!C873)=TRUE,\"\",Vrijwilligersregister!C873)","v":""},{"$f":"IF(ISBLANK(Vrijwilligersregister!C873)=TRUE,\"\",SUMIF('Nominatieve lijst'!$D$8:$D$10007,C873,'Nominatieve lijst'!$G$8:$G$10007))","v":""},{"$f":"IF(ISBLANK(Vrijwilligersregister!C873)=TRUE,\"\",SUMIF('Nominatieve lijst'!$D$8:$D$10007,C873,'Nominatieve lijst'!$H$8:$H$10007))","v":""},{"$f":"IF(ISBLANK(Vrijwilligersregister!C873)=TRUE,\"\",SUMIF('Nominatieve lijst'!$D$8:$D$10007,C873,'Nominatieve lijst'!$J$8:$J$10007))","v":""},{"$f":"IF(ISBLANK(Vrijwilligersregister!C873)=TRUE,\"\",D873+F873)","v":""},{"$f":"Vrijwilligersregister!L873","v":0}]
[null,868,{"$f":"IF(ISBLANK(Vrijwilligersregister!C874)=TRUE,\"\",Vrijwilligersregister!C874)","v":""},{"$f":"IF(ISBLANK(Vrijwilligersregister!C874)=TRUE,\"\",SUMIF('Nominatieve lijst'!$D$8:$D$10007,C874,'Nominatieve lijst'!$G$8:$G$10007))","v":""},{"$f":"IF(ISBLANK(Vrijwilligersregister!C874)=TRUE,\"\",SUMIF('Nominatieve lijst'!$D$8:$D$10007,C874,'Nominatieve lijst'!$H$8:$H$10007))","v":""},{"$f":"IF(ISBLANK(Vrijwilligersregister!C874)=TRUE,\"\",SUMIF('Nominatieve lijst'!$D$8:$D$10007,C874,'Nominatieve lijst'!$J$8:$J$10007))","v":""},{"$f":"IF(ISBLANK(Vrijwilligersregister!C874)=TRUE,\"\",D874+F874)","v":""},{"$f":"Vrijwilligersregister!L874","v":0}]
[null,869,{"$f":"IF(ISBLANK(Vrijwilligersregister!C875)=TRUE,\"\",Vrijwilligersregister!C875)","v":""},{"$f":"IF(ISBLANK(Vrijwilligersregister!C875)=TRUE,\"\",SUMIF('Nominatieve lijst'!$D$8:$D$10007,C875,'Nominatieve lijst'!$G$8:$G$10007))","v":""},{"$f":"IF(ISBLANK(Vrijwilligersregister!C875)=TRUE,\"\",SUMIF('Nominatieve lijst'!$D$8:$D$10007,C875,'Nominatieve lijst'!$H$8:$H$10007))","v":""},{"$f":"IF(ISBLANK(Vrijwilligersregister!C875)=TRUE,\"\",SUMIF('Nominatieve lijst'!$D$8:$D$10007,C875,'Nominatieve lijst'!$J$8:$J$10007))","v":""},{"$f":"IF(ISBLANK(Vrijwilligersregister!C875)=TRUE,\"\",D875+F875)","v":""},{"$f":"Vrijwilligersregister!L875","v":0}]
[null,870,{"$f":"IF(ISBLANK(Vrijwilligersregister!C876)=TRUE,\"\",Vrijwilligersregister!C876)","v":""},{"$f":"IF(ISBLANK(Vrijwilligersregister!C876)=TRUE,\"\",SUMIF('Nominatieve lijst'!$D$8:$D$10007,C876,'Nominatieve lijst'!$G$8:$G$10007))","v":""},{"$f":"IF(ISBLANK(Vrijwilligersregister!C876)=TRUE,\"\",SUMIF('Nominatieve lijst'!$D$8:$D$10007,C876,'Nominatieve lijst'!$H$8:$H$10007))","v":""},{"$f":"IF(ISBLANK(Vrijwilligersregister!C876)=TRUE,\"\",SUMIF('Nominatieve lijst'!$D$8:$D$10007,C876,'Nominatieve lijst'!$J$8:$J$10007))","v":""},{"$f":"IF(ISBLANK(Vrijwilligersregister!C876)=TRUE,\"\",D876+F876)","v":""},{"$f":"Vrijwilligersregister!L876","v":0}]
[null,871,{"$f":"IF(ISBLANK(Vrijwilligersregister!C877)=TRUE,\"\",Vrijwilligersregister!C877)","v":""},{"$f":"IF(ISBLANK(Vrijwilligersregister!C877)=TRUE,\"\",SUMIF('Nominatieve lijst'!$D$8:$D$10007,C877,'Nominatieve lijst'!$G$8:$G$10007))","v":""},{"$f":"IF(ISBLANK(Vrijwilligersregister!C877)=TRUE,\"\",SUMIF('Nominatieve lijst'!$D$8:$D$10007,C877,'Nominatieve lijst'!$H$8:$H$10007))","v":""},{"$f":"IF(ISBLANK(Vrijwilligersregister!C877)=TRUE,\"\",SUMIF('Nominatieve lijst'!$D$8:$D$10007,C877,'Nominatieve lijst'!$J$8:$J$10007))","v":""},{"$f":"IF(ISBLANK(Vrijwilligersregister!C877)=TRUE,\"\",D877+F877)","v":""},{"$f":"Vrijwilligersregister!L877","v":0}]
[null,872,{"$f":"IF(ISBLANK(Vrijwilligersregister!C878)=TRUE,\"\",Vrijwilligersregister!C878)","v":""},{"$f":"IF(ISBLANK(Vrijwilligersregister!C878)=TRUE,\"\",SUMIF('Nominatieve lijst'!$D$8:$D$10007,C878,'Nominatieve lijst'!$G$8:$G$10007))","v":""},{"$f":"IF(ISBLANK(Vrijwilligersregister!C878)=TRUE,\"\",SUMIF('Nominatieve lijst'!$D$8:$D$10007,C878,'Nominatieve lijst'!$H$8:$H$10007))","v":""},{"$f":"IF(ISBLANK(Vrijwilligersregister!C878)=TRUE,\"\",SUMIF('Nominatieve lijst'!$D$8:$D$10007,C878,'Nominatieve lijst'!$J$8:$J$10007))","v":""},{"$f":"IF(ISBLANK(Vrijwilligersregister!C878)=TRUE,\"\",D878+F878)","v":""},{"$f":"Vrijwilligersregister!L878","v":0}]
[null,873,{"$f":"IF(ISBLANK(Vrijwilligersregister!C879)=TRUE,\"\",Vrijwilligersregister!C879)","v":""},{"$f":"IF(ISBLANK(Vrijwilligersregister!C879)=TRUE,\"\",SUMIF('Nominatieve lijst'!$D$8:$D$10007,C879,'Nominatieve lijst'!$G$8:$G$10007))","v":""},{"$f":"IF(ISBLANK(Vrijwilligersregister!C879)=TRUE,\"\",SUMIF('Nominatieve lijst'!$D$8:$D$10007,C879,'Nominatieve lijst'!$H$8:$H$10007))","v":""},{"$f":"IF(ISBLANK(Vrijwilligersregister!C879)=TRUE,\"\",SUMIF('Nominatieve lijst'!$D$8:$D$10007,C879,'Nominatieve lijst'!$J$8:$J$10007))","v":""},{"$f":"IF(ISBLANK(Vrijwilligersregister!C879)=TRUE,\"\",D879+F879)","v":""},{"$f":"Vrijwilligersregister!L879","v":0}]
[null,874,{"$f":"IF(ISBLANK(Vrijwilligersregister!C880)=TRUE,\"\",Vrijwilligersregister!C880)","v":""},{"$f":"IF(ISBLANK(Vrijwilligersregister!C880)=TRUE,\"\",SUMIF('Nominatieve lijst'!$D$8:$D$10007,C880,'Nominatieve lijst'!$G$8:$G$10007))","v":""},{"$f":"IF(ISBLANK(Vrijwilligersregister!C880)=TRUE,\"\",SUMIF('Nominatieve lijst'!$D$8:$D$10007,C880,'Nominatieve lijst'!$H$8:$H$10007))","v":""},{"$f":"IF(ISBLANK(Vrijwilligersregister!C880)=TRUE,\"\",SUMIF('Nominatieve lijst'!$D$8:$D$10007,C880,'Nominatieve lijst'!$J$8:$J$10007))","v":""},{"$f":"IF(ISBLANK(Vrijwilligersregister!C880)=TRUE,\"\",D880+F880)","v":""},{"$f":"Vrijwilligersregister!L880","v":0}]
[null,875,{"$f":"IF(ISBLANK(Vrijwilligersregister!C881)=TRUE,\"\",Vrijwilligersregister!C881)","v":""},{"$f":"IF(ISBLANK(Vrijwilligersregister!C881)=TRUE,\"\",SUMIF('Nominatieve lijst'!$D$8:$D$10007,C881,'Nominatieve lijst'!$G$8:$G$10007))","v":""},{"$f":"IF(ISBLANK(Vrijwilligersregister!C881)=TRUE,\"\",SUMIF('Nominatieve lijst'!$D$8:$D$10007,C881,'Nominatieve lijst'!$H$8:$H$10007))","v":""},{"$f":"IF(ISBLANK(Vrijwilligersregister!C881)=TRUE,\"\",SUMIF('Nominatieve lijst'!$D$8:$D$10007,C881,'Nominatieve lijst'!$J$8:$J$10007))","v":""},{"$f":"IF(ISBLANK(Vrijwilligersregister!C881)=TRUE,\"\",D881+F881)","v":""},{"$f":"Vrijwilligersregister!L881","v":0}]
[null,876,{"$f":"IF(ISBLANK(Vrijwilligersregister!C882)=TRUE,\"\",Vrijwilligersregister!C882)","v":""},{"$f":"IF(ISBLANK(Vrijwilligersregister!C882)=TRUE,\"\",SUMIF('Nominatieve lijst'!$D$8:$D$10007,C882,'Nominatieve lijst'!$G$8:$G$10007))","v":""},{"$f":"IF(ISBLANK(Vrijwilligersregister!C882)=TRUE,\"\",SUMIF('Nominatieve lijst'!$D$8:$D$10007,C882,'Nominatieve lijst'!$H$8:$H$10007))","v":""},{"$f":"IF(ISBLANK(Vrijwilligersregister!C882)=TRUE,\"\",SUMIF('Nominatieve lijst'!$D$8:$D$10007,C882,'Nominatieve lijst'!$J$8:$J$10007))","v":""},{"$f":"IF(ISBLANK(Vrijwilligersregister!C882)=TRUE,\"\",D882+F882)","v":""},{"$f":"Vrijwilligersregister!L882","v":0}]
[null,877,{"$f":"IF(ISBLANK(Vrijwilligersregister!C883)=TRUE,\"\",Vrijwilligersregister!C883)","v":""},{"$f":"IF(ISBLANK(Vrijwilligersregister!C883)=TRUE,\"\",SUMIF('Nominatieve lijst'!$D$8:$D$10007,C883,'Nominatieve lijst'!$G$8:$G$10007))","v":""},{"$f":"IF(ISBLANK(Vrijwilligersregister!C883)=TRUE,\"\",SUMIF('Nominatieve lijst'!$D$8:$D$10007,C883,'Nominatieve lijst'!$H$8:$H$10007))","v":""},{"$f":"IF(ISBLANK(Vrijwilligersregister!C883)=TRUE,\"\",SUMIF('Nominatieve lijst'!$D$8:$D$10007,C883,'Nominatieve lijst'!$J$8:$J$10007))","v":""},{"$f":"IF(ISBLANK(Vrijwilligersregister!C883)=TRUE,\"\",D883+F883)","v":""},{"$f":"Vrijwilligersregister!L883","v":0}]
[null,878,{"$f":"IF(ISBLANK(Vrijwilligersregister!C884)=TRUE,\"\",Vrijwilligersregister!C884)","v":""},{"$f":"IF(ISBLANK(Vrijwilligersregister!C884)=TRUE,\"\",SUMIF('Nominatieve lijst'!$D$8:$D$10007,C884,'Nominatieve lijst'!$G$8:$G$10007))","v":""},{"$f":"IF(ISBLANK(Vrijwilligersregister!C884)=TRUE,\"\",SUMIF('Nominatieve lijst'!$D$8:$D$10007,C884,'Nominatieve lijst'!$H$8:$H$10007))","v":""},{"$f":"IF(ISBLANK(Vrijwilligersregister!C884)=TRUE,\"\",SUMIF('Nominatieve lijst'!$D$8:$D$10007,C884,'Nominatieve lijst'!$J$8:$J$10007))","v":""},{"$f":"IF(ISBLANK(Vrijwilligersregister!C884)=TRUE,\"\",D884+F884)","v":""},{"$f":"Vrijwilligersregister!L884","v":0}]
[null,879,{"$f":"IF(ISBLANK(Vrijwilligersregister!C885)=TRUE,\"\",Vrijwilligersregister!C885)","v":""},{"$f":"IF(ISBLANK(Vrijwilligersregister!C885)=TRUE,\"\",SUMIF('Nominatieve lijst'!$D$8:$D$10007,C885,'Nominatieve lijst'!$G$8:$G$10007))","v":""},{"$f":"IF(ISBLANK(Vrijwilligersregister!C885)=TRUE,\"\",SUMIF('Nominatieve lijst'!$D$8:$D$10007,C885,'Nominatieve lijst'!$H$8:$H$10007))","v":""},{"$f":"IF(ISBLANK(Vrijwilligersregister!C885)=TRUE,\"\",SUMIF('Nominatieve lijst'!$D$8:$D$10007,C885,'Nominatieve lijst'!$J$8:$J$10007))","v":""},{"$f":"IF(ISBLANK(Vrijwilligersregister!C885)=TRUE,\"\",D885+F885)","v":""},{"$f":"Vrijwilligersregister!L885","v":0}]
[null,880,{"$f":"IF(ISBLANK(Vrijwilligersregister!C886)=TRUE,\"\",Vrijwilligersregister!C886)","v":""},{"$f":"IF(ISBLANK(Vrijwilligersregister!C886)=TRUE,\"\",SUMIF('Nominatieve lijst'!$D$8:$D$10007,C886,'Nominatieve lijst'!$G$8:$G$10007))","v":""},{"$f":"IF(ISBLANK(Vrijwilligersregister!C886)=TRUE,\"\",SUMIF('Nominatieve lijst'!$D$8:$D$10007,C886,'Nominatieve lijst'!$H$8:$H$10007))","v":""},{"$f":"IF(ISBLANK(Vrijwilligersregister!C886)=TRUE,\"\",SUMIF('Nominatieve lijst'!$D$8:$D$10007,C886,'Nominatieve lijst'!$J$8:$J$10007))","v":""},{"$f":"IF(ISBLANK(Vrijwilligersregister!C886)=TRUE,\"\",D886+F886)","v":""},{"$f":"Vrijwilligersregister!L886","v":0}]
[null,881,{"$f":"IF(ISBLANK(Vrijwilligersregister!C887)=TRUE,\"\",Vrijwilligersregister!C887)","v":""},{"$f":"IF(ISBLANK(Vrijwilligersregister!C887)=TRUE,\"\",SUMIF('Nominatieve lijst'!$D$8:$D$10007,C887,'Nominatieve lijst'!$G$8:$G$10007))","v":""},{"$f":"IF(ISBLANK(Vrijwilligersregister!C887)=TRUE,\"\",SUMIF('Nominatieve lijst'!$D$8:$D$10007,C887,'Nominatieve lijst'!$H$8:$H$10007))","v":""},{"$f":"IF(ISBLANK(Vrijwilligersregister!C887)=TRUE,\"\",SUMIF('Nominatieve lijst'!$D$8:$D$10007,C887,'Nominatieve lijst'!$J$8:$J$10007))","v":""},{"$f":"IF(ISBLANK(Vrijwilligersregister!C887)=TRUE,\"\",D887+F887)","v":""},{"$f":"Vrijwilligersregister!L887","v":0}]
[null,882,{"$f":"IF(ISBLANK(Vrijwilligersregister!C888)=TRUE,\"\",Vrijwilligersregister!C888)","v":""},{"$f":"IF(ISBLANK(Vrijwilligersregister!C888)=TRUE,\"\",SUMIF('Nominatieve lijst'!$D$8:$D$10007,C888,'Nominatieve lijst'!$G$8:$G$10007))","v":""},{"$f":"IF(ISBLANK(Vrijwilligersregister!C888)=TRUE,\"\",SUMIF('Nominatieve lijst'!$D$8:$D$10007,C888,'Nominatieve lijst'!$H$8:$H$10007))","v":""},{"$f":"IF(ISBLANK(Vrijwilligersregister!C888)=TRUE,\"\",SUMIF('Nominatieve lijst'!$D$8:$D$10007,C888,'Nominatieve lijst'!$J$8:$J$10007))","v":""},{"$f":"IF(ISBLANK(Vrijwilligersregister!C888)=TRUE,\"\",D888+F888)","v":""},{"$f":"Vrijwilligersregister!L888","v":0}]
[null,883,{"$f":"IF(ISBLANK(Vrijwilligersregister!C889)=TRUE,\"\",Vrijwilligersregister!C889)","v":""},{"$f":"IF(ISBLANK(Vrijwilligersregister!C889)=TRUE,\"\",SUMIF('Nominatieve lijst'!$D$8:$D$10007,C889,'Nominatieve lijst'!$G$8:$G$10007))","v":""},{"$f":"IF(ISBLANK(Vrijwilligersregister!C889)=TRUE,\"\",SUMIF('Nominatieve lijst'!$D$8:$D$10007,C889,'Nominatieve lijst'!$H$8:$H$10007))","v":""},{"$f":"IF(ISBLANK(Vrijwilligersregister!C889)=TRUE,\"\",SUMIF('Nominatieve lijst'!$D$8:$D$10007,C889,'Nominatieve lijst'!$J$8:$J$10007))","v":""},{"$f":"IF(ISBLANK(Vrijwilligersregister!C889)=TRUE,\"\",D889+F889)","v":""},{"$f":"Vrijwilligersregister!L889","v":0}]
[null,884,{"$f":"IF(ISBLANK(Vrijwilligersregister!C890)=TRUE,\"\",Vrijwilligersregister!C890)","v":""},{"$f":"IF(ISBLANK(Vrijwilligersregister!C890)=TRUE,\"\",SUMIF('Nominatieve lijst'!$D$8:$D$10007,C890,'Nominatieve lijst'!$G$8:$G$10007))","v":""},{"$f":"IF(ISBLANK(Vrijwilligersregister!C890)=TRUE,\"\",SUMIF('Nominatieve lijst'!$D$8:$D$10007,C890,'Nominatieve lijst'!$H$8:$H$10007))","v":""},{"$f":"IF(ISBLANK(Vrijwilligersregister!C890)=TRUE,\"\",SUMIF('Nominatieve lijst'!$D$8:$D$10007,C890,'Nominatieve lijst'!$J$8:$J$10007))","v":""},{"$f":"IF(ISBLANK(Vrijwilligersregister!C890)=TRUE,\"\",D890+F890)","v":""},{"$f":"Vrijwilligersregister!L890","v":0}]
[null,885,{"$f":"IF(ISBLANK(Vrijwilligersregister!C891)=TRUE,\"\",Vrijwilligersregister!C891)","v":""},{"$f":"IF(ISBLANK(Vrijwilligersregister!C891)=TRUE,\"\",SUMIF('Nominatieve lijst'!$D$8:$D$10007,C891,'Nominatieve lijst'!$G$8:$G$10007))","v":""},{"$f":"IF(ISBLANK(Vrijwilligersregister!C891)=TRUE,\"\",SUMIF('Nominatieve lijst'!$D$8:$D$10007,C891,'Nominatieve lijst'!$H$8:$H$10007))","v":""},{"$f":"IF(ISBLANK(Vrijwilligersregister!C891)=TRUE,\"\",SUMIF('Nominatieve lijst'!$D$8:$D$10007,C891,'Nominatieve lijst'!$J$8:$J$10007))","v":""},{"$f":"IF(ISBLANK(Vrijwilligersregister!C891)=TRUE,\"\",D891+F891)","v":""},{"$f":"Vrijwilligersregister!L891","v":0}]
[null,886,{"$f":"IF(ISBLANK(Vrijwilligersregister!C892)=TRUE,\"\",Vrijwilligersregister!C892)","v":""},{"$f":"IF(ISBLANK(Vrijwilligersregister!C892)=TRUE,\"\",SUMIF('Nominatieve lijst'!$D$8:$D$10007,C892,'Nominatieve lijst'!$G$8:$G$10007))","v":""},{"$f":"IF(ISBLANK(Vrijwilligersregister!C892)=TRUE,\"\",SUMIF('Nominatieve lijst'!$D$8:$D$10007,C892,'Nominatieve lijst'!$H$8:$H$10007))","v":""},{"$f":"IF(ISBLANK(Vrijwilligersregister!C892)=TRUE,\"\",SUMIF('Nominatieve lijst'!$D$8:$D$10007,C892,'Nominatieve lijst'!$J$8:$J$10007))","v":""},{"$f":"IF(ISBLANK(Vrijwilligersregister!C892)=TRUE,\"\",D892+F892)","v":""},{"$f":"Vrijwilligersregister!L892","v":0}]
[null,887,{"$f":"IF(ISBLANK(Vrijwilligersregister!C893)=TRUE,\"\",Vrijwilligersregister!C893)","v":""},{"$f":"IF(ISBLANK(Vrijwilligersregister!C893)=TRUE,\"\",SUMIF('Nominatieve lijst'!$D$8:$D$10007,C893,'Nominatieve lijst'!$G$8:$G$10007))","v":""},{"$f":"IF(ISBLANK(Vrijwilligersregister!C893)=TRUE,\"\",SUMIF('Nominatieve lijst'!$D$8:$D$10007,C893,'Nominatieve lijst'!$H$8:$H$10007))","v":""},{"$f":"IF(ISBLANK(Vrijwilligersregister!C893)=TRUE,\"\",SUMIF('Nominatieve lijst'!$D$8:$D$10007,C893,'Nominatieve lijst'!$J$8:$J$10007))","v":""},{"$f":"IF(ISBLANK(Vrijwilligersregister!C893)=TRUE,\"\",D893+F893)","v":""},{"$f":"Vrijwilligersregister!L893","v":0}]
[null,888,{"$f":"IF(ISBLANK(Vrijwilligersregister!C894)=TRUE,\"\",Vrijwilligersregister!C894)","v":""},{"$f":"IF(ISBLANK(Vrijwilligersregister!C894)=TRUE,\"\",SUMIF('Nominatieve lijst'!$D$8:$D$10007,C894,'Nominatieve lijst'!$G$8:$G$10007))","v":""},{"$f":"IF(ISBLANK(Vrijwilligersregister!C894)=TRUE,\"\",SUMIF('Nominatieve lijst'!$D$8:$D$10007,C894,'Nominatieve lijst'!$H$8:$H$10007))","v":""},{"$f":"IF(ISBLANK(Vrijwilligersregister!C894)=TRUE,\"\",SUMIF('Nominatieve lijst'!$D$8:$D$10007,C894,'Nominatieve lijst'!$J$8:$J$10007))","v":""},{"$f":"IF(ISBLANK(Vrijwilligersregister!C894)=TRUE,\"\",D894+F894)","v":""},{"$f":"Vrijwilligersregister!L894","v":0}]
[null,889,{"$f":"IF(ISBLANK(Vrijwilligersregister!C895)=TRUE,\"\",Vrijwilligersregister!C895)","v":""},{"$f":"IF(ISBLANK(Vrijwilligersregister!C895)=TRUE,\"\",SUMIF('Nominatieve lijst'!$D$8:$D$10007,C895,'Nominatieve lijst'!$G$8:$G$10007))","v":""},{"$f":"IF(ISBLANK(Vrijwilligersregister!C895)=TRUE,\"\",SUMIF('Nominatieve lijst'!$D$8:$D$10007,C895,'Nominatieve lijst'!$H$8:$H$10007))","v":""},{"$f":"IF(ISBLANK(Vrijwilligersregister!C895)=TRUE,\"\",SUMIF('Nominatieve lijst'!$D$8:$D$10007,C895,'Nominatieve lijst'!$J$8:$J$10007))","v":""},{"$f":"IF(ISBLANK(Vrijwilligersregister!C895)=TRUE,\"\",D895+F895)","v":""},{"$f":"Vrijwilligersregister!L895","v":0}]
[null,890,{"$f":"IF(ISBLANK(Vrijwilligersregister!C896)=TRUE,\"\",Vrijwilligersregister!C896)","v":""},{"$f":"IF(ISBLANK(Vrijwilligersregister!C896)=TRUE,\"\",SUMIF('Nominatieve lijst'!$D$8:$D$10007,C896,'Nominatieve lijst'!$G$8:$G$10007))","v":""},{"$f":"IF(ISBLANK(Vrijwilligersregister!C896)=TRUE,\"\",SUMIF('Nominatieve lijst'!$D$8:$D$10007,C896,'Nominatieve lijst'!$H$8:$H$10007))","v":""},{"$f":"IF(ISBLANK(Vrijwilligersregister!C896)=TRUE,\"\",SUMIF('Nominatieve lijst'!$D$8:$D$10007,C896,'Nominatieve lijst'!$J$8:$J$10007))","v":""},{"$f":"IF(ISBLANK(Vrijwilligersregister!C896)=TRUE,\"\",D896+F896)","v":""},{"$f":"Vrijwilligersregister!L896","v":0}]
[null,891,{"$f":"IF(ISBLANK(Vrijwilligersregister!C897)=TRUE,\"\",Vrijwilligersregister!C897)","v":""},{"$f":"IF(ISBLANK(Vrijwilligersregister!C897)=TRUE,\"\",SUMIF('Nominatieve lijst'!$D$8:$D$10007,C897,'Nominatieve lijst'!$G$8:$G$10007))","v":""},{"$f":"IF(ISBLANK(Vrijwilligersregister!C897)=TRUE,\"\",SUMIF('Nominatieve lijst'!$D$8:$D$10007,C897,'Nominatieve lijst'!$H$8:$H$10007))","v":""},{"$f":"IF(ISBLANK(Vrijwilligersregister!C897)=TRUE,\"\",SUMIF('Nominatieve lijst'!$D$8:$D$10007,C897,'Nominatieve lijst'!$J$8:$J$10007))","v":""},{"$f":"IF(ISBLANK(Vrijwilligersregister!C897)=TRUE,\"\",D897+F897)","v":""},{"$f":"Vrijwilligersregister!L897","v":0}]
[null,892,{"$f":"IF(ISBLANK(Vrijwilligersregister!C898)=TRUE,\"\",Vrijwilligersregister!C898)","v":""},{"$f":"IF(ISBLANK(Vrijwilligersregister!C898)=TRUE,\"\",SUMIF('Nominatieve lijst'!$D$8:$D$10007,C898,'Nominatieve lijst'!$G$8:$G$10007))","v":""},{"$f":"IF(ISBLANK(Vrijwilligersregister!C898)=TRUE,\"\",SUMIF('Nominatieve lijst'!$D$8:$D$10007,C898,'Nominatieve lijst'!$H$8:$H$10007))","v":""},{"$f":"IF(ISBLANK(Vrijwilligersregister!C898)=TRUE,\"\",SUMIF('Nominatieve lijst'!$D$8:$D$10007,C898,'Nominatieve lijst'!$J$8:$J$10007))","v":""},{"$f":"IF(ISBLANK(Vrijwilligersregister!C898)=TRUE,\"\",D898+F898)","v":""},{"$f":"Vrijwilligersregister!L898","v":0}]
[null,893,{"$f":"IF(ISBLANK(Vrijwilligersregister!C899)=TRUE,\"\",Vrijwilligersregister!C899)","v":""},{"$f":"IF(ISBLANK(Vrijwilligersregister!C899)=TRUE,\"\",SUMIF('Nominatieve lijst'!$D$8:$D$10007,C899,'Nominatieve lijst'!$G$8:$G$10007))","v":""},{"$f":"IF(ISBLANK(Vrijwilligersregister!C899)=TRUE,\"\",SUMIF('Nominatieve lijst'!$D$8:$D$10007,C899,'Nominatieve lijst'!$H$8:$H$10007))","v":""},{"$f":"IF(ISBLANK(Vrijwilligersregister!C899)=TRUE,\"\",SUMIF('Nominatieve lijst'!$D$8:$D$10007,C899,'Nominatieve lijst'!$J$8:$J$10007))","v":""},{"$f":"IF(ISBLANK(Vrijwilligersregister!C899)=TRUE,\"\",D899+F899)","v":""},{"$f":"Vrijwilligersregister!L899","v":0}]
[null,894,{"$f":"IF(ISBLANK(Vrijwilligersregister!C900)=TRUE,\"\",Vrijwilligersregister!C900)","v":""},{"$f":"IF(ISBLANK(Vrijwilligersregister!C900)=TRUE,\"\",SUMIF('Nominatieve lijst'!$D$8:$D$10007,C900,'Nominatieve lijst'!$G$8:$G$10007))","v":""},{"$f":"IF(ISBLANK(Vrijwilligersregister!C900)=TRUE,\"\",SUMIF('Nominatieve lijst'!$D$8:$D$10007,C900,'Nominatieve lijst'!$H$8:$H$10007))","v":""},{"$f":"IF(ISBLANK(Vrijwilligersregister!C900)=TRUE,\"\",SUMIF('Nominatieve lijst'!$D$8:$D$10007,C900,'Nominatieve lijst'!$J$8:$J$10007))","v":""},{"$f":"IF(ISBLANK(Vrijwilligersregister!C900)=TRUE,\"\",D900+F900)","v":""},{"$f":"Vrijwilligersregister!L900","v":0}]
[null,895,{"$f":"IF(ISBLANK(Vrijwilligersregister!C901)=TRUE,\"\",Vrijwilligersregister!C901)","v":""},{"$f":"IF(ISBLANK(Vrijwilligersregister!C901)=TRUE,\"\",SUMIF('Nominatieve lijst'!$D$8:$D$10007,C901,'Nominatieve lijst'!$G$8:$G$10007))","v":""},{"$f":"IF(ISBLANK(Vrijwilligersregister!C901)=TRUE,\"\",SUMIF('Nominatieve lijst'!$D$8:$D$10007,C901,'Nominatieve lijst'!$H$8:$H$10007))","v":""},{"$f":"IF(ISBLANK(Vrijwilligersregister!C901)=TRUE,\"\",SUMIF('Nominatieve lijst'!$D$8:$D$10007,C901,'Nominatieve lijst'!$J$8:$J$10007))","v":""},{"$f":"IF(ISBLANK(Vrijwilligersregister!C901)=TRUE,\"\",D901+F901)","v":""},{"$f":"Vrijwilligersregister!L901","v":0}]
[null,896,{"$f":"IF(ISBLANK(Vrijwilligersregister!C902)=TRUE,\"\",Vrijwilligersregister!C902)","v":""},{"$f":"IF(ISBLANK(Vrijwilligersregister!C902)=TRUE,\"\",SUMIF('Nominatieve lijst'!$D$8:$D$10007,C902,'Nominatieve lijst'!$G$8:$G$10007))","v":""},{"$f":"IF(ISBLANK(Vrijwilligersregister!C902)=TRUE,\"\",SUMIF('Nominatieve lijst'!$D$8:$D$10007,C902,'Nominatieve lijst'!$H$8:$H$10007))","v":""},{"$f":"IF(ISBLANK(Vrijwilligersregister!C902)=TRUE,\"\",SUMIF('Nominatieve lijst'!$D$8:$D$10007,C902,'Nominatieve lijst'!$J$8:$J$10007))","v":""},{"$f":"IF(ISBLANK(Vrijwilligersregister!C902)=TRUE,\"\",D902+F902)","v":""},{"$f":"Vrijwilligersregister!L902","v":0}]
[null,897,{"$f":"IF(ISBLANK(Vrijwilligersregister!C903)=TRUE,\"\",Vrijwilligersregister!C903)","v":""},{"$f":"IF(ISBLANK(Vrijwilligersregister!C903)=TRUE,\"\",SUMIF('Nominatieve lijst'!$D$8:$D$10007,C903,'Nominatieve lijst'!$G$8:$G$10007))","v":""},{"$f":"IF(ISBLANK(Vrijwilligersregister!C903)=TRUE,\"\",SUMIF('Nominatieve lijst'!$D$8:$D$10007,C903,'Nominatieve lijst'!$H$8:$H$10007))","v":""},{"$f":"IF(ISBLANK(Vrijwilligersregister!C903)=TRUE,\"\",SUMIF('Nominatieve lijst'!$D$8:$D$10007,C903,'Nominatieve lijst'!$J$8:$J$10007))","v":""},{"$f":"IF(ISBLANK(Vrijwilligersregister!C903)=TRUE,\"\",D903+F903)","v":""},{"$f":"Vrijwilligersregister!L903","v":0}]
[null,898,{"$f":"IF(ISBLANK(Vrijwilligersregister!C904)=TRUE,\"\",Vrijwilligersregister!C904)","v":""},{"$f":"IF(ISBLANK(Vrijwilligersregister!C904)=TRUE,\"\",SUMIF('Nominatieve lijst'!$D$8:$D$10007,C904,'Nominatieve lijst'!$G$8:$G$10007))","v":""},{"$f":"IF(ISBLANK(Vrijwilligersregister!C904)=TRUE,\"\",SUMIF('Nominatieve lijst'!$D$8:$D$10007,C904,'Nominatieve lijst'!$H$8:$H$10007))","v":""},{"$f":"IF(ISBLANK(Vrijwilligersregister!C904)=TRUE,\"\",SUMIF('Nominatieve lijst'!$D$8:$D$10007,C904,'Nominatieve lijst'!$J$8:$J$10007))","v":""},{"$f":"IF(ISBLANK(Vrijwilligersregister!C904)=TRUE,\"\",D904+F904)","v":""},{"$f":"Vrijwilligersregister!L904","v":0}]
[null,899,{"$f":"IF(ISBLANK(Vrijwilligersregister!C905)=TRUE,\"\",Vrijwilligersregister!C905)","v":""},{"$f":"IF(ISBLANK(Vrijwilligersregister!C905)=TRUE,\"\",SUMIF('Nominatieve lijst'!$D$8:$D$10007,C905,'Nominatieve lijst'!$G$8:$G$10007))","v":""},{"$f":"IF(ISBLANK(Vrijwilligersregister!C905)=TRUE,\"\",SUMIF('Nominatieve lijst'!$D$8:$D$10007,C905,'Nominatieve lijst'!$H$8:$H$10007))","v":""},{"$f":"IF(ISBLANK(Vrijwilligersregister!C905)=TRUE,\"\",SUMIF('Nominatieve lijst'!$D$8:$D$10007,C905,'Nominatieve lijst'!$J$8:$J$10007))","v":""},{"$f":"IF(ISBLANK(Vrijwilligersregister!C905)=TRUE,\"\",D905+F905)","v":""},{"$f":"Vrijwilligersregister!L905","v":0}]
[null,900,{"$f":"IF(ISBLANK(Vrijwilligersregister!C906)=TRUE,\"\",Vrijwilligersregister!C906)","v":""},{"$f":"IF(ISBLANK(Vrijwilligersregister!C906)=TRUE,\"\",SUMIF('Nominatieve lijst'!$D$8:$D$10007,C906,'Nominatieve lijst'!$G$8:$G$10007))","v":""},{"$f":"IF(ISBLANK(Vrijwilligersregister!C906)=TRUE,\"\",SUMIF('Nominatieve lijst'!$D$8:$D$10007,C906,'Nominatieve lijst'!$H$8:$H$10007))","v":""},{"$f":"IF(ISBLANK(Vrijwilligersregister!C906)=TRUE,\"\",SUMIF('Nominatieve lijst'!$D$8:$D$10007,C906,'Nominatieve lijst'!$J$8:$J$10007))","v":""},{"$f":"IF(ISBLANK(Vrijwilligersregister!C906)=TRUE,\"\",D906+F906)","v":""},{"$f":"Vrijwilligersregister!L906","v":0}]
[null,901,{"$f":"IF(ISBLANK(Vrijwilligersregister!C907)=TRUE,\"\",Vrijwilligersregister!C907)","v":""},{"$f":"IF(ISBLANK(Vrijwilligersregister!C907)=TRUE,\"\",SUMIF('Nominatieve lijst'!$D$8:$D$10007,C907,'Nominatieve lijst'!$G$8:$G$10007))","v":""},{"$f":"IF(ISBLANK(Vrijwilligersregister!C907)=TRUE,\"\",SUMIF('Nominatieve lijst'!$D$8:$D$10007,C907,'Nominatieve lijst'!$H$8:$H$10007))","v":""},{"$f":"IF(ISBLANK(Vrijwilligersregister!C907)=TRUE,\"\",SUMIF('Nominatieve lijst'!$D$8:$D$10007,C907,'Nominatieve lijst'!$J$8:$J$10007))","v":""},{"$f":"IF(ISBLANK(Vrijwilligersregister!C907)=TRUE,\"\",D907+F907)","v":""},{"$f":"Vrijwilligersregister!L907","v":0}]
[null,902,{"$f":"IF(ISBLANK(Vrijwilligersregister!C908)=TRUE,\"\",Vrijwilligersregister!C908)","v":""},{"$f":"IF(ISBLANK(Vrijwilligersregister!C908)=TRUE,\"\",SUMIF('Nominatieve lijst'!$D$8:$D$10007,C908,'Nominatieve lijst'!$G$8:$G$10007))","v":""},{"$f":"IF(ISBLANK(Vrijwilligersregister!C908)=TRUE,\"\",SUMIF('Nominatieve lijst'!$D$8:$D$10007,C908,'Nominatieve lijst'!$H$8:$H$10007))","v":""},{"$f":"IF(ISBLANK(Vrijwilligersregister!C908)=TRUE,\"\",SUMIF('Nominatieve lijst'!$D$8:$D$10007,C908,'Nominatieve lijst'!$J$8:$J$10007))","v":""},{"$f":"IF(ISBLANK(Vrijwilligersregister!C908)=TRUE,\"\",D908+F908)","v":""},{"$f":"Vrijwilligersregister!L908","v":0}]
[null,903,{"$f":"IF(ISBLANK(Vrijwilligersregister!C909)=TRUE,\"\",Vrijwilligersregister!C909)","v":""},{"$f":"IF(ISBLANK(Vrijwilligersregister!C909)=TRUE,\"\",SUMIF('Nominatieve lijst'!$D$8:$D$10007,C909,'Nominatieve lijst'!$G$8:$G$10007))","v":""},{"$f":"IF(ISBLANK(Vrijwilligersregister!C909)=TRUE,\"\",SUMIF('Nominatieve lijst'!$D$8:$D$10007,C909,'Nominatieve lijst'!$H$8:$H$10007))","v":""},{"$f":"IF(ISBLANK(Vrijwilligersregister!C909)=TRUE,\"\",SUMIF('Nominatieve lijst'!$D$8:$D$10007,C909,'Nominatieve lijst'!$J$8:$J$10007))","v":""},{"$f":"IF(ISBLANK(Vrijwilligersregister!C909)=TRUE,\"\",D909+F909)","v":""},{"$f":"Vrijwilligersregister!L909","v":0}]
[null,904,{"$f":"IF(ISBLANK(Vrijwilligersregister!C910)=TRUE,\"\",Vrijwilligersregister!C910)","v":""},{"$f":"IF(ISBLANK(Vrijwilligersregister!C910)=TRUE,\"\",SUMIF('Nominatieve lijst'!$D$8:$D$10007,C910,'Nominatieve lijst'!$G$8:$G$10007))","v":""},{"$f":"IF(ISBLANK(Vrijwilligersregister!C910)=TRUE,\"\",SUMIF('Nominatieve lijst'!$D$8:$D$10007,C910,'Nominatieve lijst'!$H$8:$H$10007))","v":""},{"$f":"IF(ISBLANK(Vrijwilligersregister!C910)=TRUE,\"\",SUMIF('Nominatieve lijst'!$D$8:$D$10007,C910,'Nominatieve lijst'!$J$8:$J$10007))","v":""},{"$f":"IF(ISBLANK(Vrijwilligersregister!C910)=TRUE,\"\",D910+F910)","v":""},{"$f":"Vrijwilligersregister!L910","v":0}]
[null,905,{"$f":"IF(ISBLANK(Vrijwilligersregister!C911)=TRUE,\"\",Vrijwilligersregister!C911)","v":""},{"$f":"IF(ISBLANK(Vrijwilligersregister!C911)=TRUE,\"\",SUMIF('Nominatieve lijst'!$D$8:$D$10007,C911,'Nominatieve lijst'!$G$8:$G$10007))","v":""},{"$f":"IF(ISBLANK(Vrijwilligersregister!C911)=TRUE,\"\",SUMIF('Nominatieve lijst'!$D$8:$D$10007,C911,'Nominatieve lijst'!$H$8:$H$10007))","v":""},{"$f":"IF(ISBLANK(Vrijwilligersregister!C911)=TRUE,\"\",SUMIF('Nominatieve lijst'!$D$8:$D$10007,C911,'Nominatieve lijst'!$J$8:$J$10007))","v":""},{"$f":"IF(ISBLANK(Vrijwilligersregister!C911)=TRUE,\"\",D911+F911)","v":""},{"$f":"Vrijwilligersregister!L911","v":0}]
[null,906,{"$f":"IF(ISBLANK(Vrijwilligersregister!C912)=TRUE,\"\",Vrijwilligersregister!C912)","v":""},{"$f":"IF(ISBLANK(Vrijwilligersregister!C912)=TRUE,\"\",SUMIF('Nominatieve lijst'!$D$8:$D$10007,C912,'Nominatieve lijst'!$G$8:$G$10007))","v":""},{"$f":"IF(ISBLANK(Vrijwilligersregister!C912)=TRUE,\"\",SUMIF('Nominatieve lijst'!$D$8:$D$10007,C912,'Nominatieve lijst'!$H$8:$H$10007))","v":""},{"$f":"IF(ISBLANK(Vrijwilligersregister!C912)=TRUE,\"\",SUMIF('Nominatieve lijst'!$D$8:$D$10007,C912,'Nominatieve lijst'!$J$8:$J$10007))","v":""},{"$f":"IF(ISBLANK(Vrijwilligersregister!C912)=TRUE,\"\",D912+F912)","v":""},{"$f":"Vrijwilligersregister!L912","v":0}]
[null,907,{"$f":"IF(ISBLANK(Vrijwilligersregister!C913)=TRUE,\"\",Vrijwilligersregister!C913)","v":""},{"$f":"IF(ISBLANK(Vrijwilligersregister!C913)=TRUE,\"\",SUMIF('Nominatieve lijst'!$D$8:$D$10007,C913,'Nominatieve lijst'!$G$8:$G$10007))","v":""},{"$f":"IF(ISBLANK(Vrijwilligersregister!C913)=TRUE,\"\",SUMIF('Nominatieve lijst'!$D$8:$D$10007,C913,'Nominatieve lijst'!$H$8:$H$10007))","v":""},{"$f":"IF(ISBLANK(Vrijwilligersregister!C913)=TRUE,\"\",SUMIF('Nominatieve lijst'!$D$8:$D$10007,C913,'Nominatieve lijst'!$J$8:$J$10007))","v":""},{"$f":"IF(ISBLANK(Vrijwilligersregister!C913)=TRUE,\"\",D913+F913)","v":""},{"$f":"Vrijwilligersregister!L913","v":0}]
[null,908,{"$f":"IF(ISBLANK(Vrijwilligersregister!C914)=TRUE,\"\",Vrijwilligersregister!C914)","v":""},{"$f":"IF(ISBLANK(Vrijwilligersregister!C914)=TRUE,\"\",SUMIF('Nominatieve lijst'!$D$8:$D$10007,C914,'Nominatieve lijst'!$G$8:$G$10007))","v":""},{"$f":"IF(ISBLANK(Vrijwilligersregister!C914)=TRUE,\"\",SUMIF('Nominatieve lijst'!$D$8:$D$10007,C914,'Nominatieve lijst'!$H$8:$H$10007))","v":""},{"$f":"IF(ISBLANK(Vrijwilligersregister!C914)=TRUE,\"\",SUMIF('Nominatieve lijst'!$D$8:$D$10007,C914,'Nominatieve lijst'!$J$8:$J$10007))","v":""},{"$f":"IF(ISBLANK(Vrijwilligersregister!C914)=TRUE,\"\",D914+F914)","v":""},{"$f":"Vrijwilligersregister!L914","v":0}]
[null,909,{"$f":"IF(ISBLANK(Vrijwilligersregister!C915)=TRUE,\"\",Vrijwilligersregister!C915)","v":""},{"$f":"IF(ISBLANK(Vrijwilligersregister!C915)=TRUE,\"\",SUMIF('Nominatieve lijst'!$D$8:$D$10007,C915,'Nominatieve lijst'!$G$8:$G$10007))","v":""},{"$f":"IF(ISBLANK(Vrijwilligersregister!C915)=TRUE,\"\",SUMIF('Nominatieve lijst'!$D$8:$D$10007,C915,'Nominatieve lijst'!$H$8:$H$10007))","v":""},{"$f":"IF(ISBLANK(Vrijwilligersregister!C915)=TRUE,\"\",SUMIF('Nominatieve lijst'!$D$8:$D$10007,C915,'Nominatieve lijst'!$J$8:$J$10007))","v":""},{"$f":"IF(ISBLANK(Vrijwilligersregister!C915)=TRUE,\"\",D915+F915)","v":""},{"$f":"Vrijwilligersregister!L915","v":0}]
[null,910,{"$f":"IF(ISBLANK(Vrijwilligersregister!C916)=TRUE,\"\",Vrijwilligersregister!C916)","v":""},{"$f":"IF(ISBLANK(Vrijwilligersregister!C916)=TRUE,\"\",SUMIF('Nominatieve lijst'!$D$8:$D$10007,C916,'Nominatieve lijst'!$G$8:$G$10007))","v":""},{"$f":"IF(ISBLANK(Vrijwilligersregister!C916)=TRUE,\"\",SUMIF('Nominatieve lijst'!$D$8:$D$10007,C916,'Nominatieve lijst'!$H$8:$H$10007))","v":""},{"$f":"IF(ISBLANK(Vrijwilligersregister!C916)=TRUE,\"\",SUMIF('Nominatieve lijst'!$D$8:$D$10007,C916,'Nominatieve lijst'!$J$8:$J$10007))","v":""},{"$f":"IF(ISBLANK(Vrijwilligersregister!C916)=TRUE,\"\",D916+F916)","v":""},{"$f":"Vrijwilligersregister!L916","v":0}]
[null,911,{"$f":"IF(ISBLANK(Vrijwilligersregister!C917)=TRUE,\"\",Vrijwilligersregister!C917)","v":""},{"$f":"IF(ISBLANK(Vrijwilligersregister!C917)=TRUE,\"\",SUMIF('Nominatieve lijst'!$D$8:$D$10007,C917,'Nominatieve lijst'!$G$8:$G$10007))","v":""},{"$f":"IF(ISBLANK(Vrijwilligersregister!C917)=TRUE,\"\",SUMIF('Nominatieve lijst'!$D$8:$D$10007,C917,'Nominatieve lijst'!$H$8:$H$10007))","v":""},{"$f":"IF(ISBLANK(Vrijwilligersregister!C917)=TRUE,\"\",SUMIF('Nominatieve lijst'!$D$8:$D$10007,C917,'Nominatieve lijst'!$J$8:$J$10007))","v":""},{"$f":"IF(ISBLANK(Vrijwilligersregister!C917)=TRUE,\"\",D917+F917)","v":""},{"$f":"Vrijwilligersregister!L917","v":0}]
[null,912,{"$f":"IF(ISBLANK(Vrijwilligersregister!C918)=TRUE,\"\",Vrijwilligersregister!C918)","v":""},{"$f":"IF(ISBLANK(Vrijwilligersregister!C918)=TRUE,\"\",SUMIF('Nominatieve lijst'!$D$8:$D$10007,C918,'Nominatieve lijst'!$G$8:$G$10007))","v":""},{"$f":"IF(ISBLANK(Vrijwilligersregister!C918)=TRUE,\"\",SUMIF('Nominatieve lijst'!$D$8:$D$10007,C918,'Nominatieve lijst'!$H$8:$H$10007))","v":""},{"$f":"IF(ISBLANK(Vrijwilligersregister!C918)=TRUE,\"\",SUMIF('Nominatieve lijst'!$D$8:$D$10007,C918,'Nominatieve lijst'!$J$8:$J$10007))","v":""},{"$f":"IF(ISBLANK(Vrijwilligersregister!C918)=TRUE,\"\",D918+F918)","v":""},{"$f":"Vrijwilligersregister!L918","v":0}]
[null,913,{"$f":"IF(ISBLANK(Vrijwilligersregister!C919)=TRUE,\"\",Vrijwilligersregister!C919)","v":""},{"$f":"IF(ISBLANK(Vrijwilligersregister!C919)=TRUE,\"\",SUMIF('Nominatieve lijst'!$D$8:$D$10007,C919,'Nominatieve lijst'!$G$8:$G$10007))","v":""},{"$f":"IF(ISBLANK(Vrijwilligersregister!C919)=TRUE,\"\",SUMIF('Nominatieve lijst'!$D$8:$D$10007,C919,'Nominatieve lijst'!$H$8:$H$10007))","v":""},{"$f":"IF(ISBLANK(Vrijwilligersregister!C919)=TRUE,\"\",SUMIF('Nominatieve lijst'!$D$8:$D$10007,C919,'Nominatieve lijst'!$J$8:$J$10007))","v":""},{"$f":"IF(ISBLANK(Vrijwilligersregister!C919)=TRUE,\"\",D919+F919)","v":""},{"$f":"Vrijwilligersregister!L919","v":0}]
[null,914,{"$f":"IF(ISBLANK(Vrijwilligersregister!C920)=TRUE,\"\",Vrijwilligersregister!C920)","v":""},{"$f":"IF(ISBLANK(Vrijwilligersregister!C920)=TRUE,\"\",SUMIF('Nominatieve lijst'!$D$8:$D$10007,C920,'Nominatieve lijst'!$G$8:$G$10007))","v":""},{"$f":"IF(ISBLANK(Vrijwilligersregister!C920)=TRUE,\"\",SUMIF('Nominatieve lijst'!$D$8:$D$10007,C920,'Nominatieve lijst'!$H$8:$H$10007))","v":""},{"$f":"IF(ISBLANK(Vrijwilligersregister!C920)=TRUE,\"\",SUMIF('Nominatieve lijst'!$D$8:$D$10007,C920,'Nominatieve lijst'!$J$8:$J$10007))","v":""},{"$f":"IF(ISBLANK(Vrijwilligersregister!C920)=TRUE,\"\",D920+F920)","v":""},{"$f":"Vrijwilligersregister!L920","v":0}]
[null,915,{"$f":"IF(ISBLANK(Vrijwilligersregister!C921)=TRUE,\"\",Vrijwilligersregister!C921)","v":""},{"$f":"IF(ISBLANK(Vrijwilligersregister!C921)=TRUE,\"\",SUMIF('Nominatieve lijst'!$D$8:$D$10007,C921,'Nominatieve lijst'!$G$8:$G$10007))","v":""},{"$f":"IF(ISBLANK(Vrijwilligersregister!C921)=TRUE,\"\",SUMIF('Nominatieve lijst'!$D$8:$D$10007,C921,'Nominatieve lijst'!$H$8:$H$10007))","v":""},{"$f":"IF(ISBLANK(Vrijwilligersregister!C921)=TRUE,\"\",SUMIF('Nominatieve lijst'!$D$8:$D$10007,C921,'Nominatieve lijst'!$J$8:$J$10007))","v":""},{"$f":"IF(ISBLANK(Vrijwilligersregister!C921)=TRUE,\"\",D921+F921)","v":""},{"$f":"Vrijwilligersregister!L921","v":0}]
[null,916,{"$f":"IF(ISBLANK(Vrijwilligersregister!C922)=TRUE,\"\",Vrijwilligersregister!C922)","v":""},{"$f":"IF(ISBLANK(Vrijwilligersregister!C922)=TRUE,\"\",SUMIF('Nominatieve lijst'!$D$8:$D$10007,C922,'Nominatieve lijst'!$G$8:$G$10007))","v":""},{"$f":"IF(ISBLANK(Vrijwilligersregister!C922)=TRUE,\"\",SUMIF('Nominatieve lijst'!$D$8:$D$10007,C922,'Nominatieve lijst'!$H$8:$H$10007))","v":""},{"$f":"IF(ISBLANK(Vrijwilligersregister!C922)=TRUE,\"\",SUMIF('Nominatieve lijst'!$D$8:$D$10007,C922,'Nominatieve lijst'!$J$8:$J$10007))","v":""},{"$f":"IF(ISBLANK(Vrijwilligersregister!C922)=TRUE,\"\",D922+F922)","v":""},{"$f":"Vrijwilligersregister!L922","v":0}]
[null,917,{"$f":"IF(ISBLANK(Vrijwilligersregister!C923)=TRUE,\"\",Vrijwilligersregister!C923)","v":""},{"$f":"IF(ISBLANK(Vrijwilligersregister!C923)=TRUE,\"\",SUMIF('Nominatieve lijst'!$D$8:$D$10007,C923,'Nominatieve lijst'!$G$8:$G$10007))","v":""},{"$f":"IF(ISBLANK(Vrijwilligersregister!C923)=TRUE,\"\",SUMIF('Nominatieve lijst'!$D$8:$D$10007,C923,'Nominatieve lijst'!$H$8:$H$10007))","v":""},{"$f":"IF(ISBLANK(Vrijwilligersregister!C923)=TRUE,\"\",SUMIF('Nominatieve lijst'!$D$8:$D$10007,C923,'Nominatieve lijst'!$J$8:$J$10007))","v":""},{"$f":"IF(ISBLANK(Vrijwilligersregister!C923)=TRUE,\"\",D923+F923)","v":""},{"$f":"Vrijwilligersregister!L923","v":0}]
[null,918,{"$f":"IF(ISBLANK(Vrijwilligersregister!C924)=TRUE,\"\",Vrijwilligersregister!C924)","v":""},{"$f":"IF(ISBLANK(Vrijwilligersregister!C924)=TRUE,\"\",SUMIF('Nominatieve lijst'!$D$8:$D$10007,C924,'Nominatieve lijst'!$G$8:$G$10007))","v":""},{"$f":"IF(ISBLANK(Vrijwilligersregister!C924)=TRUE,\"\",SUMIF('Nominatieve lijst'!$D$8:$D$10007,C924,'Nominatieve lijst'!$H$8:$H$10007))","v":""},{"$f":"IF(ISBLANK(Vrijwilligersregister!C924)=TRUE,\"\",SUMIF('Nominatieve lijst'!$D$8:$D$10007,C924,'Nominatieve lijst'!$J$8:$J$10007))","v":""},{"$f":"IF(ISBLANK(Vrijwilligersregister!C924)=TRUE,\"\",D924+F924)","v":""},{"$f":"Vrijwilligersregister!L924","v":0}]
[null,919,{"$f":"IF(ISBLANK(Vrijwilligersregister!C925)=TRUE,\"\",Vrijwilligersregister!C925)","v":""},{"$f":"IF(ISBLANK(Vrijwilligersregister!C925)=TRUE,\"\",SUMIF('Nominatieve lijst'!$D$8:$D$10007,C925,'Nominatieve lijst'!$G$8:$G$10007))","v":""},{"$f":"IF(ISBLANK(Vrijwilligersregister!C925)=TRUE,\"\",SUMIF('Nominatieve lijst'!$D$8:$D$10007,C925,'Nominatieve lijst'!$H$8:$H$10007))","v":""},{"$f":"IF(ISBLANK(Vrijwilligersregister!C925)=TRUE,\"\",SUMIF('Nominatieve lijst'!$D$8:$D$10007,C925,'Nominatieve lijst'!$J$8:$J$10007))","v":""},{"$f":"IF(ISBLANK(Vrijwilligersregister!C925)=TRUE,\"\",D925+F925)","v":""},{"$f":"Vrijwilligersregister!L925","v":0}]
[null,920,{"$f":"IF(ISBLANK(Vrijwilligersregister!C926)=TRUE,\"\",Vrijwilligersregister!C926)","v":""},{"$f":"IF(ISBLANK(Vrijwilligersregister!C926)=TRUE,\"\",SUMIF('Nominatieve lijst'!$D$8:$D$10007,C926,'Nominatieve lijst'!$G$8:$G$10007))","v":""},{"$f":"IF(ISBLANK(Vrijwilligersregister!C926)=TRUE,\"\",SUMIF('Nominatieve lijst'!$D$8:$D$10007,C926,'Nominatieve lijst'!$H$8:$H$10007))","v":""},{"$f":"IF(ISBLANK(Vrijwilligersregister!C926)=TRUE,\"\",SUMIF('Nominatieve lijst'!$D$8:$D$10007,C926,'Nominatieve lijst'!$J$8:$J$10007))","v":""},{"$f":"IF(ISBLANK(Vrijwilligersregister!C926)=TRUE,\"\",D926+F926)","v":""},{"$f":"Vrijwilligersregister!L926","v":0}]
[null,921,{"$f":"IF(ISBLANK(Vrijwilligersregister!C927)=TRUE,\"\",Vrijwilligersregister!C927)","v":""},{"$f":"IF(ISBLANK(Vrijwilligersregister!C927)=TRUE,\"\",SUMIF('Nominatieve lijst'!$D$8:$D$10007,C927,'Nominatieve lijst'!$G$8:$G$10007))","v":""},{"$f":"IF(ISBLANK(Vrijwilligersregister!C927)=TRUE,\"\",SUMIF('Nominatieve lijst'!$D$8:$D$10007,C927,'Nominatieve lijst'!$H$8:$H$10007))","v":""},{"$f":"IF(ISBLANK(Vrijwilligersregister!C927)=TRUE,\"\",SUMIF('Nominatieve lijst'!$D$8:$D$10007,C927,'Nominatieve lijst'!$J$8:$J$10007))","v":""},{"$f":"IF(ISBLANK(Vrijwilligersregister!C927)=TRUE,\"\",D927+F927)","v":""},{"$f":"Vrijwilligersregister!L927","v":0}]
[null,922,{"$f":"IF(ISBLANK(Vrijwilligersregister!C928)=TRUE,\"\",Vrijwilligersregister!C928)","v":""},{"$f":"IF(ISBLANK(Vrijwilligersregister!C928)=TRUE,\"\",SUMIF('Nominatieve lijst'!$D$8:$D$10007,C928,'Nominatieve lijst'!$G$8:$G$10007))","v":""},{"$f":"IF(ISBLANK(Vrijwilligersregister!C928)=TRUE,\"\",SUMIF('Nominatieve lijst'!$D$8:$D$10007,C928,'Nominatieve lijst'!$H$8:$H$10007))","v":""},{"$f":"IF(ISBLANK(Vrijwilligersregister!C928)=TRUE,\"\",SUMIF('Nominatieve lijst'!$D$8:$D$10007,C928,'Nominatieve lijst'!$J$8:$J$10007))","v":""},{"$f":"IF(ISBLANK(Vrijwilligersregister!C928)=TRUE,\"\",D928+F928)","v":""},{"$f":"Vrijwilligersregister!L928","v":0}]
[null,923,{"$f":"IF(ISBLANK(Vrijwilligersregister!C929)=TRUE,\"\",Vrijwilligersregister!C929)","v":""},{"$f":"IF(ISBLANK(Vrijwilligersregister!C929)=TRUE,\"\",SUMIF('Nominatieve lijst'!$D$8:$D$10007,C929,'Nominatieve lijst'!$G$8:$G$10007))","v":""},{"$f":"IF(ISBLANK(Vrijwilligersregister!C929)=TRUE,\"\",SUMIF('Nominatieve lijst'!$D$8:$D$10007,C929,'Nominatieve lijst'!$H$8:$H$10007))","v":""},{"$f":"IF(ISBLANK(Vrijwilligersregister!C929)=TRUE,\"\",SUMIF('Nominatieve lijst'!$D$8:$D$10007,C929,'Nominatieve lijst'!$J$8:$J$10007))","v":""},{"$f":"IF(ISBLANK(Vrijwilligersregister!C929)=TRUE,\"\",D929+F929)","v":""},{"$f":"Vrijwilligersregister!L929","v":0}]
[null,924,{"$f":"IF(ISBLANK(Vrijwilligersregister!C930)=TRUE,\"\",Vrijwilligersregister!C930)","v":""},{"$f":"IF(ISBLANK(Vrijwilligersregister!C930)=TRUE,\"\",SUMIF('Nominatieve lijst'!$D$8:$D$10007,C930,'Nominatieve lijst'!$G$8:$G$10007))","v":""},{"$f":"IF(ISBLANK(Vrijwilligersregister!C930)=TRUE,\"\",SUMIF('Nominatieve lijst'!$D$8:$D$10007,C930,'Nominatieve lijst'!$H$8:$H$10007))","v":""},{"$f":"IF(ISBLANK(Vrijwilligersregister!C930)=TRUE,\"\",SUMIF('Nominatieve lijst'!$D$8:$D$10007,C930,'Nominatieve lijst'!$J$8:$J$10007))","v":""},{"$f":"IF(ISBLANK(Vrijwilligersregister!C930)=TRUE,\"\",D930+F930)","v":""},{"$f":"Vrijwilligersregister!L930","v":0}]
[null,925,{"$f":"IF(ISBLANK(Vrijwilligersregister!C931)=TRUE,\"\",Vrijwilligersregister!C931)","v":""},{"$f":"IF(ISBLANK(Vrijwilligersregister!C931)=TRUE,\"\",SUMIF('Nominatieve lijst'!$D$8:$D$10007,C931,'Nominatieve lijst'!$G$8:$G$10007))","v":""},{"$f":"IF(ISBLANK(Vrijwilligersregister!C931)=TRUE,\"\",SUMIF('Nominatieve lijst'!$D$8:$D$10007,C931,'Nominatieve lijst'!$H$8:$H$10007))","v":""},{"$f":"IF(ISBLANK(Vrijwilligersregister!C931)=TRUE,\"\",SUMIF('Nominatieve lijst'!$D$8:$D$10007,C931,'Nominatieve lijst'!$J$8:$J$10007))","v":""},{"$f":"IF(ISBLANK(Vrijwilligersregister!C931)=TRUE,\"\",D931+F931)","v":""},{"$f":"Vrijwilligersregister!L931","v":0}]
[null,926,{"$f":"IF(ISBLANK(Vrijwilligersregister!C932)=TRUE,\"\",Vrijwilligersregister!C932)","v":""},{"$f":"IF(ISBLANK(Vrijwilligersregister!C932)=TRUE,\"\",SUMIF('Nominatieve lijst'!$D$8:$D$10007,C932,'Nominatieve lijst'!$G$8:$G$10007))","v":""},{"$f":"IF(ISBLANK(Vrijwilligersregister!C932)=TRUE,\"\",SUMIF('Nominatieve lijst'!$D$8:$D$10007,C932,'Nominatieve lijst'!$H$8:$H$10007))","v":""},{"$f":"IF(ISBLANK(Vrijwilligersregister!C932)=TRUE,\"\",SUMIF('Nominatieve lijst'!$D$8:$D$10007,C932,'Nominatieve lijst'!$J$8:$J$10007))","v":""},{"$f":"IF(ISBLANK(Vrijwilligersregister!C932)=TRUE,\"\",D932+F932)","v":""},{"$f":"Vrijwilligersregister!L932","v":0}]
[null,927,{"$f":"IF(ISBLANK(Vrijwilligersregister!C933)=TRUE,\"\",Vrijwilligersregister!C933)","v":""},{"$f":"IF(ISBLANK(Vrijwilligersregister!C933)=TRUE,\"\",SUMIF('Nominatieve lijst'!$D$8:$D$10007,C933,'Nominatieve lijst'!$G$8:$G$10007))","v":""},{"$f":"IF(ISBLANK(Vrijwilligersregister!C933)=TRUE,\"\",SUMIF('Nominatieve lijst'!$D$8:$D$10007,C933,'Nominatieve lijst'!$H$8:$H$10007))","v":""},{"$f":"IF(ISBLANK(Vrijwilligersregister!C933)=TRUE,\"\",SUMIF('Nominatieve lijst'!$D$8:$D$10007,C933,'Nominatieve lijst'!$J$8:$J$10007))","v":""},{"$f":"IF(ISBLANK(Vrijwilligersregister!C933)=TRUE,\"\",D933+F933)","v":""},{"$f":"Vrijwilligersregister!L933","v":0}]
[null,928,{"$f":"IF(ISBLANK(Vrijwilligersregister!C934)=TRUE,\"\",Vrijwilligersregister!C934)","v":""},{"$f":"IF(ISBLANK(Vrijwilligersregister!C934)=TRUE,\"\",SUMIF('Nominatieve lijst'!$D$8:$D$10007,C934,'Nominatieve lijst'!$G$8:$G$10007))","v":""},{"$f":"IF(ISBLANK(Vrijwilligersregister!C934)=TRUE,\"\",SUMIF('Nominatieve lijst'!$D$8:$D$10007,C934,'Nominatieve lijst'!$H$8:$H$10007))","v":""},{"$f":"IF(ISBLANK(Vrijwilligersregister!C934)=TRUE,\"\",SUMIF('Nominatieve lijst'!$D$8:$D$10007,C934,'Nominatieve lijst'!$J$8:$J$10007))","v":""},{"$f":"IF(ISBLANK(Vrijwilligersregister!C934)=TRUE,\"\",D934+F934)","v":""},{"$f":"Vrijwilligersregister!L934","v":0}]
[null,929,{"$f":"IF(ISBLANK(Vrijwilligersregister!C935)=TRUE,\"\",Vrijwilligersregister!C935)","v":""},{"$f":"IF(ISBLANK(Vrijwilligersregister!C935)=TRUE,\"\",SUMIF('Nominatieve lijst'!$D$8:$D$10007,C935,'Nominatieve lijst'!$G$8:$G$10007))","v":""},{"$f":"IF(ISBLANK(Vrijwilligersregister!C935)=TRUE,\"\",SUMIF('Nominatieve lijst'!$D$8:$D$10007,C935,'Nominatieve lijst'!$H$8:$H$10007))","v":""},{"$f":"IF(ISBLANK(Vrijwilligersregister!C935)=TRUE,\"\",SUMIF('Nominatieve lijst'!$D$8:$D$10007,C935,'Nominatieve lijst'!$J$8:$J$10007))","v":""},{"$f":"IF(ISBLANK(Vrijwilligersregister!C935)=TRUE,\"\",D935+F935)","v":""},{"$f":"Vrijwilligersregister!L935","v":0}]
[null,930,{"$f":"IF(ISBLANK(Vrijwilligersregister!C936)=TRUE,\"\",Vrijwilligersregister!C936)","v":""},{"$f":"IF(ISBLANK(Vrijwilligersregister!C936)=TRUE,\"\",SUMIF('Nominatieve lijst'!$D$8:$D$10007,C936,'Nominatieve lijst'!$G$8:$G$10007))","v":""},{"$f":"IF(ISBLANK(Vrijwilligersregister!C936)=TRUE,\"\",SUMIF('Nominatieve lijst'!$D$8:$D$10007,C936,'Nominatieve lijst'!$H$8:$H$10007))","v":""},{"$f":"IF(ISBLANK(Vrijwilligersregister!C936)=TRUE,\"\",SUMIF('Nominatieve lijst'!$D$8:$D$10007,C936,'Nominatieve lijst'!$J$8:$J$10007))","v":""},{"$f":"IF(ISBLANK(Vrijwilligersregister!C936)=TRUE,\"\",D936+F936)","v":""},{"$f":"Vrijwilligersregister!L936","v":0}]
[null,931,{"$f":"IF(ISBLANK(Vrijwilligersregister!C937)=TRUE,\"\",Vrijwilligersregister!C937)","v":""},{"$f":"IF(ISBLANK(Vrijwilligersregister!C937)=TRUE,\"\",SUMIF('Nominatieve lijst'!$D$8:$D$10007,C937,'Nominatieve lijst'!$G$8:$G$10007))","v":""},{"$f":"IF(ISBLANK(Vrijwilligersregister!C937)=TRUE,\"\",SUMIF('Nominatieve lijst'!$D$8:$D$10007,C937,'Nominatieve lijst'!$H$8:$H$10007))","v":""},{"$f":"IF(ISBLANK(Vrijwilligersregister!C937)=TRUE,\"\",SUMIF('Nominatieve lijst'!$D$8:$D$10007,C937,'Nominatieve lijst'!$J$8:$J$10007))","v":""},{"$f":"IF(ISBLANK(Vrijwilligersregister!C937)=TRUE,\"\",D937+F937)","v":""},{"$f":"Vrijwilligersregister!L937","v":0}]
[null,932,{"$f":"IF(ISBLANK(Vrijwilligersregister!C938)=TRUE,\"\",Vrijwilligersregister!C938)","v":""},{"$f":"IF(ISBLANK(Vrijwilligersregister!C938)=TRUE,\"\",SUMIF('Nominatieve lijst'!$D$8:$D$10007,C938,'Nominatieve lijst'!$G$8:$G$10007))","v":""},{"$f":"IF(ISBLANK(Vrijwilligersregister!C938)=TRUE,\"\",SUMIF('Nominatieve lijst'!$D$8:$D$10007,C938,'Nominatieve lijst'!$H$8:$H$10007))","v":""},{"$f":"IF(ISBLANK(Vrijwilligersregister!C938)=TRUE,\"\",SUMIF('Nominatieve lijst'!$D$8:$D$10007,C938,'Nominatieve lijst'!$J$8:$J$10007))","v":""},{"$f":"IF(ISBLANK(Vrijwilligersregister!C938)=TRUE,\"\",D938+F938)","v":""},{"$f":"Vrijwilligersregister!L938","v":0}]
[null,933,{"$f":"IF(ISBLANK(Vrijwilligersregister!C939)=TRUE,\"\",Vrijwilligersregister!C939)","v":""},{"$f":"IF(ISBLANK(Vrijwilligersregister!C939)=TRUE,\"\",SUMIF('Nominatieve lijst'!$D$8:$D$10007,C939,'Nominatieve lijst'!$G$8:$G$10007))","v":""},{"$f":"IF(ISBLANK(Vrijwilligersregister!C939)=TRUE,\"\",SUMIF('Nominatieve lijst'!$D$8:$D$10007,C939,'Nominatieve lijst'!$H$8:$H$10007))","v":""},{"$f":"IF(ISBLANK(Vrijwilligersregister!C939)=TRUE,\"\",SUMIF('Nominatieve lijst'!$D$8:$D$10007,C939,'Nominatieve lijst'!$J$8:$J$10007))","v":""},{"$f":"IF(ISBLANK(Vrijwilligersregister!C939)=TRUE,\"\",D939+F939)","v":""},{"$f":"Vrijwilligersregister!L939","v":0}]
[null,934,{"$f":"IF(ISBLANK(Vrijwilligersregister!C940)=TRUE,\"\",Vrijwilligersregister!C940)","v":""},{"$f":"IF(ISBLANK(Vrijwilligersregister!C940)=TRUE,\"\",SUMIF('Nominatieve lijst'!$D$8:$D$10007,C940,'Nominatieve lijst'!$G$8:$G$10007))","v":""},{"$f":"IF(ISBLANK(Vrijwilligersregister!C940)=TRUE,\"\",SUMIF('Nominatieve lijst'!$D$8:$D$10007,C940,'Nominatieve lijst'!$H$8:$H$10007))","v":""},{"$f":"IF(ISBLANK(Vrijwilligersregister!C940)=TRUE,\"\",SUMIF('Nominatieve lijst'!$D$8:$D$10007,C940,'Nominatieve lijst'!$J$8:$J$10007))","v":""},{"$f":"IF(ISBLANK(Vrijwilligersregister!C940)=TRUE,\"\",D940+F940)","v":""},{"$f":"Vrijwilligersregister!L940","v":0}]
[null,935,{"$f":"IF(ISBLANK(Vrijwilligersregister!C941)=TRUE,\"\",Vrijwilligersregister!C941)","v":""},{"$f":"IF(ISBLANK(Vrijwilligersregister!C941)=TRUE,\"\",SUMIF('Nominatieve lijst'!$D$8:$D$10007,C941,'Nominatieve lijst'!$G$8:$G$10007))","v":""},{"$f":"IF(ISBLANK(Vrijwilligersregister!C941)=TRUE,\"\",SUMIF('Nominatieve lijst'!$D$8:$D$10007,C941,'Nominatieve lijst'!$H$8:$H$10007))","v":""},{"$f":"IF(ISBLANK(Vrijwilligersregister!C941)=TRUE,\"\",SUMIF('Nominatieve lijst'!$D$8:$D$10007,C941,'Nominatieve lijst'!$J$8:$J$10007))","v":""},{"$f":"IF(ISBLANK(Vrijwilligersregister!C941)=TRUE,\"\",D941+F941)","v":""},{"$f":"Vrijwilligersregister!L941","v":0}]
[null,936,{"$f":"IF(ISBLANK(Vrijwilligersregister!C942)=TRUE,\"\",Vrijwilligersregister!C942)","v":""},{"$f":"IF(ISBLANK(Vrijwilligersregister!C942)=TRUE,\"\",SUMIF('Nominatieve lijst'!$D$8:$D$10007,C942,'Nominatieve lijst'!$G$8:$G$10007))","v":""},{"$f":"IF(ISBLANK(Vrijwilligersregister!C942)=TRUE,\"\",SUMIF('Nominatieve lijst'!$D$8:$D$10007,C942,'Nominatieve lijst'!$H$8:$H$10007))","v":""},{"$f":"IF(ISBLANK(Vrijwilligersregister!C942)=TRUE,\"\",SUMIF('Nominatieve lijst'!$D$8:$D$10007,C942,'Nominatieve lijst'!$J$8:$J$10007))","v":""},{"$f":"IF(ISBLANK(Vrijwilligersregister!C942)=TRUE,\"\",D942+F942)","v":""},{"$f":"Vrijwilligersregister!L942","v":0}]
[null,937,{"$f":"IF(ISBLANK(Vrijwilligersregister!C943)=TRUE,\"\",Vrijwilligersregister!C943)","v":""},{"$f":"IF(ISBLANK(Vrijwilligersregister!C943)=TRUE,\"\",SUMIF('Nominatieve lijst'!$D$8:$D$10007,C943,'Nominatieve lijst'!$G$8:$G$10007))","v":""},{"$f":"IF(ISBLANK(Vrijwilligersregister!C943)=TRUE,\"\",SUMIF('Nominatieve lijst'!$D$8:$D$10007,C943,'Nominatieve lijst'!$H$8:$H$10007))","v":""},{"$f":"IF(ISBLANK(Vrijwilligersregister!C943)=TRUE,\"\",SUMIF('Nominatieve lijst'!$D$8:$D$10007,C943,'Nominatieve lijst'!$J$8:$J$10007))","v":""},{"$f":"IF(ISBLANK(Vrijwilligersregister!C943)=TRUE,\"\",D943+F943)","v":""},{"$f":"Vrijwilligersregister!L943","v":0}]
[null,938,{"$f":"IF(ISBLANK(Vrijwilligersregister!C944)=TRUE,\"\",Vrijwilligersregister!C944)","v":""},{"$f":"IF(ISBLANK(Vrijwilligersregister!C944)=TRUE,\"\",SUMIF('Nominatieve lijst'!$D$8:$D$10007,C944,'Nominatieve lijst'!$G$8:$G$10007))","v":""},{"$f":"IF(ISBLANK(Vrijwilligersregister!C944)=TRUE,\"\",SUMIF('Nominatieve lijst'!$D$8:$D$10007,C944,'Nominatieve lijst'!$H$8:$H$10007))","v":""},{"$f":"IF(ISBLANK(Vrijwilligersregister!C944)=TRUE,\"\",SUMIF('Nominatieve lijst'!$D$8:$D$10007,C944,'Nominatieve lijst'!$J$8:$J$10007))","v":""},{"$f":"IF(ISBLANK(Vrijwilligersregister!C944)=TRUE,\"\",D944+F944)","v":""},{"$f":"Vrijwilligersregister!L944","v":0}]
[null,939,{"$f":"IF(ISBLANK(Vrijwilligersregister!C945)=TRUE,\"\",Vrijwilligersregister!C945)","v":""},{"$f":"IF(ISBLANK(Vrijwilligersregister!C945)=TRUE,\"\",SUMIF('Nominatieve lijst'!$D$8:$D$10007,C945,'Nominatieve lijst'!$G$8:$G$10007))","v":""},{"$f":"IF(ISBLANK(Vrijwilligersregister!C945)=TRUE,\"\",SUMIF('Nominatieve lijst'!$D$8:$D$10007,C945,'Nominatieve lijst'!$H$8:$H$10007))","v":""},{"$f":"IF(ISBLANK(Vrijwilligersregister!C945)=TRUE,\"\",SUMIF('Nominatieve lijst'!$D$8:$D$10007,C945,'Nominatieve lijst'!$J$8:$J$10007))","v":""},{"$f":"IF(ISBLANK(Vrijwilligersregister!C945)=TRUE,\"\",D945+F945)","v":""},{"$f":"Vrijwilligersregister!L945","v":0}]
[null,940,{"$f":"IF(ISBLANK(Vrijwilligersregister!C946)=TRUE,\"\",Vrijwilligersregister!C946)","v":""},{"$f":"IF(ISBLANK(Vrijwilligersregister!C946)=TRUE,\"\",SUMIF('Nominatieve lijst'!$D$8:$D$10007,C946,'Nominatieve lijst'!$G$8:$G$10007))","v":""},{"$f":"IF(ISBLANK(Vrijwilligersregister!C946)=TRUE,\"\",SUMIF('Nominatieve lijst'!$D$8:$D$10007,C946,'Nominatieve lijst'!$H$8:$H$10007))","v":""},{"$f":"IF(ISBLANK(Vrijwilligersregister!C946)=TRUE,\"\",SUMIF('Nominatieve lijst'!$D$8:$D$10007,C946,'Nominatieve lijst'!$J$8:$J$10007))","v":""},{"$f":"IF(ISBLANK(Vrijwilligersregister!C946)=TRUE,\"\",D946+F946)","v":""},{"$f":"Vrijwilligersregister!L946","v":0}]
[null,941,{"$f":"IF(ISBLANK(Vrijwilligersregister!C947)=TRUE,\"\",Vrijwilligersregister!C947)","v":""},{"$f":"IF(ISBLANK(Vrijwilligersregister!C947)=TRUE,\"\",SUMIF('Nominatieve lijst'!$D$8:$D$10007,C947,'Nominatieve lijst'!$G$8:$G$10007))","v":""},{"$f":"IF(ISBLANK(Vrijwilligersregister!C947)=TRUE,\"\",SUMIF('Nominatieve lijst'!$D$8:$D$10007,C947,'Nominatieve lijst'!$H$8:$H$10007))","v":""},{"$f":"IF(ISBLANK(Vrijwilligersregister!C947)=TRUE,\"\",SUMIF('Nominatieve lijst'!$D$8:$D$10007,C947,'Nominatieve lijst'!$J$8:$J$10007))","v":""},{"$f":"IF(ISBLANK(Vrijwilligersregister!C947)=TRUE,\"\",D947+F947)","v":""},{"$f":"Vrijwilligersregister!L947","v":0}]
[null,942,{"$f":"IF(ISBLANK(Vrijwilligersregister!C948)=TRUE,\"\",Vrijwilligersregister!C948)","v":""},{"$f":"IF(ISBLANK(Vrijwilligersregister!C948)=TRUE,\"\",SUMIF('Nominatieve lijst'!$D$8:$D$10007,C948,'Nominatieve lijst'!$G$8:$G$10007))","v":""},{"$f":"IF(ISBLANK(Vrijwilligersregister!C948)=TRUE,\"\",SUMIF('Nominatieve lijst'!$D$8:$D$10007,C948,'Nominatieve lijst'!$H$8:$H$10007))","v":""},{"$f":"IF(ISBLANK(Vrijwilligersregister!C948)=TRUE,\"\",SUMIF('Nominatieve lijst'!$D$8:$D$10007,C948,'Nominatieve lijst'!$J$8:$J$10007))","v":""},{"$f":"IF(ISBLANK(Vrijwilligersregister!C948)=TRUE,\"\",D948+F948)","v":""},{"$f":"Vrijwilligersregister!L948","v":0}]
[null,943,{"$f":"IF(ISBLANK(Vrijwilligersregister!C949)=TRUE,\"\",Vrijwilligersregister!C949)","v":""},{"$f":"IF(ISBLANK(Vrijwilligersregister!C949)=TRUE,\"\",SUMIF('Nominatieve lijst'!$D$8:$D$10007,C949,'Nominatieve lijst'!$G$8:$G$10007))","v":""},{"$f":"IF(ISBLANK(Vrijwilligersregister!C949)=TRUE,\"\",SUMIF('Nominatieve lijst'!$D$8:$D$10007,C949,'Nominatieve lijst'!$H$8:$H$10007))","v":""},{"$f":"IF(ISBLANK(Vrijwilligersregister!C949)=TRUE,\"\",SUMIF('Nominatieve lijst'!$D$8:$D$10007,C949,'Nominatieve lijst'!$J$8:$J$10007))","v":""},{"$f":"IF(ISBLANK(Vrijwilligersregister!C949)=TRUE,\"\",D949+F949)","v":""},{"$f":"Vrijwilligersregister!L949","v":0}]
[null,944,{"$f":"IF(ISBLANK(Vrijwilligersregister!C950)=TRUE,\"\",Vrijwilligersregister!C950)","v":""},{"$f":"IF(ISBLANK(Vrijwilligersregister!C950)=TRUE,\"\",SUMIF('Nominatieve lijst'!$D$8:$D$10007,C950,'Nominatieve lijst'!$G$8:$G$10007))","v":""},{"$f":"IF(ISBLANK(Vrijwilligersregister!C950)=TRUE,\"\",SUMIF('Nominatieve lijst'!$D$8:$D$10007,C950,'Nominatieve lijst'!$H$8:$H$10007))","v":""},{"$f":"IF(ISBLANK(Vrijwilligersregister!C950)=TRUE,\"\",SUMIF('Nominatieve lijst'!$D$8:$D$10007,C950,'Nominatieve lijst'!$J$8:$J$10007))","v":""},{"$f":"IF(ISBLANK(Vrijwilligersregister!C950)=TRUE,\"\",D950+F950)","v":""},{"$f":"Vrijwilligersregister!L950","v":0}]
[null,945,{"$f":"IF(ISBLANK(Vrijwilligersregister!C951)=TRUE,\"\",Vrijwilligersregister!C951)","v":""},{"$f":"IF(ISBLANK(Vrijwilligersregister!C951)=TRUE,\"\",SUMIF('Nominatieve lijst'!$D$8:$D$10007,C951,'Nominatieve lijst'!$G$8:$G$10007))","v":""},{"$f":"IF(ISBLANK(Vrijwilligersregister!C951)=TRUE,\"\",SUMIF('Nominatieve lijst'!$D$8:$D$10007,C951,'Nominatieve lijst'!$H$8:$H$10007))","v":""},{"$f":"IF(ISBLANK(Vrijwilligersregister!C951)=TRUE,\"\",SUMIF('Nominatieve lijst'!$D$8:$D$10007,C951,'Nominatieve lijst'!$J$8:$J$10007))","v":""},{"$f":"IF(ISBLANK(Vrijwilligersregister!C951)=TRUE,\"\",D951+F951)","v":""},{"$f":"Vrijwilligersregister!L951","v":0}]
[null,946,{"$f":"IF(ISBLANK(Vrijwilligersregister!C952)=TRUE,\"\",Vrijwilligersregister!C952)","v":""},{"$f":"IF(ISBLANK(Vrijwilligersregister!C952)=TRUE,\"\",SUMIF('Nominatieve lijst'!$D$8:$D$10007,C952,'Nominatieve lijst'!$G$8:$G$10007))","v":""},{"$f":"IF(ISBLANK(Vrijwilligersregister!C952)=TRUE,\"\",SUMIF('Nominatieve lijst'!$D$8:$D$10007,C952,'Nominatieve lijst'!$H$8:$H$10007))","v":""},{"$f":"IF(ISBLANK(Vrijwilligersregister!C952)=TRUE,\"\",SUMIF('Nominatieve lijst'!$D$8:$D$10007,C952,'Nominatieve lijst'!$J$8:$J$10007))","v":""},{"$f":"IF(ISBLANK(Vrijwilligersregister!C952)=TRUE,\"\",D952+F952)","v":""},{"$f":"Vrijwilligersregister!L952","v":0}]
[null,947,{"$f":"IF(ISBLANK(Vrijwilligersregister!C953)=TRUE,\"\",Vrijwilligersregister!C953)","v":""},{"$f":"IF(ISBLANK(Vrijwilligersregister!C953)=TRUE,\"\",SUMIF('Nominatieve lijst'!$D$8:$D$10007,C953,'Nominatieve lijst'!$G$8:$G$10007))","v":""},{"$f":"IF(ISBLANK(Vrijwilligersregister!C953)=TRUE,\"\",SUMIF('Nominatieve lijst'!$D$8:$D$10007,C953,'Nominatieve lijst'!$H$8:$H$10007))","v":""},{"$f":"IF(ISBLANK(Vrijwilligersregister!C953)=TRUE,\"\",SUMIF('Nominatieve lijst'!$D$8:$D$10007,C953,'Nominatieve lijst'!$J$8:$J$10007))","v":""},{"$f":"IF(ISBLANK(Vrijwilligersregister!C953)=TRUE,\"\",D953+F953)","v":""},{"$f":"Vrijwilligersregister!L953","v":0}]
[null,948,{"$f":"IF(ISBLANK(Vrijwilligersregister!C954)=TRUE,\"\",Vrijwilligersregister!C954)","v":""},{"$f":"IF(ISBLANK(Vrijwilligersregister!C954)=TRUE,\"\",SUMIF('Nominatieve lijst'!$D$8:$D$10007,C954,'Nominatieve lijst'!$G$8:$G$10007))","v":""},{"$f":"IF(ISBLANK(Vrijwilligersregister!C954)=TRUE,\"\",SUMIF('Nominatieve lijst'!$D$8:$D$10007,C954,'Nominatieve lijst'!$H$8:$H$10007))","v":""},{"$f":"IF(ISBLANK(Vrijwilligersregister!C954)=TRUE,\"\",SUMIF('Nominatieve lijst'!$D$8:$D$10007,C954,'Nominatieve lijst'!$J$8:$J$10007))","v":""},{"$f":"IF(ISBLANK(Vrijwilligersregister!C954)=TRUE,\"\",D954+F954)","v":""},{"$f":"Vrijwilligersregister!L954","v":0}]
[null,949,{"$f":"IF(ISBLANK(Vrijwilligersregister!C955)=TRUE,\"\",Vrijwilligersregister!C955)","v":""},{"$f":"IF(ISBLANK(Vrijwilligersregister!C955)=TRUE,\"\",SUMIF('Nominatieve lijst'!$D$8:$D$10007,C955,'Nominatieve lijst'!$G$8:$G$10007))","v":""},{"$f":"IF(ISBLANK(Vrijwilligersregister!C955)=TRUE,\"\",SUMIF('Nominatieve lijst'!$D$8:$D$10007,C955,'Nominatieve lijst'!$H$8:$H$10007))","v":""},{"$f":"IF(ISBLANK(Vrijwilligersregister!C955)=TRUE,\"\",SUMIF('Nominatieve lijst'!$D$8:$D$10007,C955,'Nominatieve lijst'!$J$8:$J$10007))","v":""},{"$f":"IF(ISBLANK(Vrijwilligersregister!C955)=TRUE,\"\",D955+F955)","v":""},{"$f":"Vrijwilligersregister!L955","v":0}]
[null,950,{"$f":"IF(ISBLANK(Vrijwilligersregister!C956)=TRUE,\"\",Vrijwilligersregister!C956)","v":""},{"$f":"IF(ISBLANK(Vrijwilligersregister!C956)=TRUE,\"\",SUMIF('Nominatieve lijst'!$D$8:$D$10007,C956,'Nominatieve lijst'!$G$8:$G$10007))","v":""},{"$f":"IF(ISBLANK(Vrijwilligersregister!C956)=TRUE,\"\",SUMIF('Nominatieve lijst'!$D$8:$D$10007,C956,'Nominatieve lijst'!$H$8:$H$10007))","v":""},{"$f":"IF(ISBLANK(Vrijwilligersregister!C956)=TRUE,\"\",SUMIF('Nominatieve lijst'!$D$8:$D$10007,C956,'Nominatieve lijst'!$J$8:$J$10007))","v":""},{"$f":"IF(ISBLANK(Vrijwilligersregister!C956)=TRUE,\"\",D956+F956)","v":""},{"$f":"Vrijwilligersregister!L956","v":0}]
[null,951,{"$f":"IF(ISBLANK(Vrijwilligersregister!C957)=TRUE,\"\",Vrijwilligersregister!C957)","v":""},{"$f":"IF(ISBLANK(Vrijwilligersregister!C957)=TRUE,\"\",SUMIF('Nominatieve lijst'!$D$8:$D$10007,C957,'Nominatieve lijst'!$G$8:$G$10007))","v":""},{"$f":"IF(ISBLANK(Vrijwilligersregister!C957)=TRUE,\"\",SUMIF('Nominatieve lijst'!$D$8:$D$10007,C957,'Nominatieve lijst'!$H$8:$H$10007))","v":""},{"$f":"IF(ISBLANK(Vrijwilligersregister!C957)=TRUE,\"\",SUMIF('Nominatieve lijst'!$D$8:$D$10007,C957,'Nominatieve lijst'!$J$8:$J$10007))","v":""},{"$f":"IF(ISBLANK(Vrijwilligersregister!C957)=TRUE,\"\",D957+F957)","v":""},{"$f":"Vrijwilligersregister!L957","v":0}]
[null,952,{"$f":"IF(ISBLANK(Vrijwilligersregister!C958)=TRUE,\"\",Vrijwilligersregister!C958)","v":""},{"$f":"IF(ISBLANK(Vrijwilligersregister!C958)=TRUE,\"\",SUMIF('Nominatieve lijst'!$D$8:$D$10007,C958,'Nominatieve lijst'!$G$8:$G$10007))","v":""},{"$f":"IF(ISBLANK(Vrijwilligersregister!C958)=TRUE,\"\",SUMIF('Nominatieve lijst'!$D$8:$D$10007,C958,'Nominatieve lijst'!$H$8:$H$10007))","v":""},{"$f":"IF(ISBLANK(Vrijwilligersregister!C958)=TRUE,\"\",SUMIF('Nominatieve lijst'!$D$8:$D$10007,C958,'Nominatieve lijst'!$J$8:$J$10007))","v":""},{"$f":"IF(ISBLANK(Vrijwilligersregister!C958)=TRUE,\"\",D958+F958)","v":""},{"$f":"Vrijwilligersregister!L958","v":0}]
[null,953,{"$f":"IF(ISBLANK(Vrijwilligersregister!C959)=TRUE,\"\",Vrijwilligersregister!C959)","v":""},{"$f":"IF(ISBLANK(Vrijwilligersregister!C959)=TRUE,\"\",SUMIF('Nominatieve lijst'!$D$8:$D$10007,C959,'Nominatieve lijst'!$G$8:$G$10007))","v":""},{"$f":"IF(ISBLANK(Vrijwilligersregister!C959)=TRUE,\"\",SUMIF('Nominatieve lijst'!$D$8:$D$10007,C959,'Nominatieve lijst'!$H$8:$H$10007))","v":""},{"$f":"IF(ISBLANK(Vrijwilligersregister!C959)=TRUE,\"\",SUMIF('Nominatieve lijst'!$D$8:$D$10007,C959,'Nominatieve lijst'!$J$8:$J$10007))","v":""},{"$f":"IF(ISBLANK(Vrijwilligersregister!C959)=TRUE,\"\",D959+F959)","v":""},{"$f":"Vrijwilligersregister!L959","v":0}]
[null,954,{"$f":"IF(ISBLANK(Vrijwilligersregister!C960)=TRUE,\"\",Vrijwilligersregister!C960)","v":""},{"$f":"IF(ISBLANK(Vrijwilligersregister!C960)=TRUE,\"\",SUMIF('Nominatieve lijst'!$D$8:$D$10007,C960,'Nominatieve lijst'!$G$8:$G$10007))","v":""},{"$f":"IF(ISBLANK(Vrijwilligersregister!C960)=TRUE,\"\",SUMIF('Nominatieve lijst'!$D$8:$D$10007,C960,'Nominatieve lijst'!$H$8:$H$10007))","v":""},{"$f":"IF(ISBLANK(Vrijwilligersregister!C960)=TRUE,\"\",SUMIF('Nominatieve lijst'!$D$8:$D$10007,C960,'Nominatieve lijst'!$J$8:$J$10007))","v":""},{"$f":"IF(ISBLANK(Vrijwilligersregister!C960)=TRUE,\"\",D960+F960)","v":""},{"$f":"Vrijwilligersregister!L960","v":0}]
[null,955,{"$f":"IF(ISBLANK(Vrijwilligersregister!C961)=TRUE,\"\",Vrijwilligersregister!C961)","v":""},{"$f":"IF(ISBLANK(Vrijwilligersregister!C961)=TRUE,\"\",SUMIF('Nominatieve lijst'!$D$8:$D$10007,C961,'Nominatieve lijst'!$G$8:$G$10007))","v":""},{"$f":"IF(ISBLANK(Vrijwilligersregister!C961)=TRUE,\"\",SUMIF('Nominatieve lijst'!$D$8:$D$10007,C961,'Nominatieve lijst'!$H$8:$H$10007))","v":""},{"$f":"IF(ISBLANK(Vrijwilligersregister!C961)=TRUE,\"\",SUMIF('Nominatieve lijst'!$D$8:$D$10007,C961,'Nominatieve lijst'!$J$8:$J$10007))","v":""},{"$f":"IF(ISBLANK(Vrijwilligersregister!C961)=TRUE,\"\",D961+F961)","v":""},{"$f":"Vrijwilligersregister!L961","v":0}]
[null,956,{"$f":"IF(ISBLANK(Vrijwilligersregister!C962)=TRUE,\"\",Vrijwilligersregister!C962)","v":""},{"$f":"IF(ISBLANK(Vrijwilligersregister!C962)=TRUE,\"\",SUMIF('Nominatieve lijst'!$D$8:$D$10007,C962,'Nominatieve lijst'!$G$8:$G$10007))","v":""},{"$f":"IF(ISBLANK(Vrijwilligersregister!C962)=TRUE,\"\",SUMIF('Nominatieve lijst'!$D$8:$D$10007,C962,'Nominatieve lijst'!$H$8:$H$10007))","v":""},{"$f":"IF(ISBLANK(Vrijwilligersregister!C962)=TRUE,\"\",SUMIF('Nominatieve lijst'!$D$8:$D$10007,C962,'Nominatieve lijst'!$J$8:$J$10007))","v":""},{"$f":"IF(ISBLANK(Vrijwilligersregister!C962)=TRUE,\"\",D962+F962)","v":""},{"$f":"Vrijwilligersregister!L962","v":0}]
[null,957,{"$f":"IF(ISBLANK(Vrijwilligersregister!C963)=TRUE,\"\",Vrijwilligersregister!C963)","v":""},{"$f":"IF(ISBLANK(Vrijwilligersregister!C963)=TRUE,\"\",SUMIF('Nominatieve lijst'!$D$8:$D$10007,C963,'Nominatieve lijst'!$G$8:$G$10007))","v":""},{"$f":"IF(ISBLANK(Vrijwilligersregister!C963)=TRUE,\"\",SUMIF('Nominatieve lijst'!$D$8:$D$10007,C963,'Nominatieve lijst'!$H$8:$H$10007))","v":""},{"$f":"IF(ISBLANK(Vrijwilligersregister!C963)=TRUE,\"\",SUMIF('Nominatieve lijst'!$D$8:$D$10007,C963,'Nominatieve lijst'!$J$8:$J$10007))","v":""},{"$f":"IF(ISBLANK(Vrijwilligersregister!C963)=TRUE,\"\",D963+F963)","v":""},{"$f":"Vrijwilligersregister!L963","v":0}]
[null,958,{"$f":"IF(ISBLANK(Vrijwilligersregister!C964)=TRUE,\"\",Vrijwilligersregister!C964)","v":""},{"$f":"IF(ISBLANK(Vrijwilligersregister!C964)=TRUE,\"\",SUMIF('Nominatieve lijst'!$D$8:$D$10007,C964,'Nominatieve lijst'!$G$8:$G$10007))","v":""},{"$f":"IF(ISBLANK(Vrijwilligersregister!C964)=TRUE,\"\",SUMIF('Nominatieve lijst'!$D$8:$D$10007,C964,'Nominatieve lijst'!$H$8:$H$10007))","v":""},{"$f":"IF(ISBLANK(Vrijwilligersregister!C964)=TRUE,\"\",SUMIF('Nominatieve lijst'!$D$8:$D$10007,C964,'Nominatieve lijst'!$J$8:$J$10007))","v":""},{"$f":"IF(ISBLANK(Vrijwilligersregister!C964)=TRUE,\"\",D964+F964)","v":""},{"$f":"Vrijwilligersregister!L964","v":0}]
[null,959,{"$f":"IF(ISBLANK(Vrijwilligersregister!C965)=TRUE,\"\",Vrijwilligersregister!C965)","v":""},{"$f":"IF(ISBLANK(Vrijwilligersregister!C965)=TRUE,\"\",SUMIF('Nominatieve lijst'!$D$8:$D$10007,C965,'Nominatieve lijst'!$G$8:$G$10007))","v":""},{"$f":"IF(ISBLANK(Vrijwilligersregister!C965)=TRUE,\"\",SUMIF('Nominatieve lijst'!$D$8:$D$10007,C965,'Nominatieve lijst'!$H$8:$H$10007))","v":""},{"$f":"IF(ISBLANK(Vrijwilligersregister!C965)=TRUE,\"\",SUMIF('Nominatieve lijst'!$D$8:$D$10007,C965,'Nominatieve lijst'!$J$8:$J$10007))","v":""},{"$f":"IF(ISBLANK(Vrijwilligersregister!C965)=TRUE,\"\",D965+F965)","v":""},{"$f":"Vrijwilligersregister!L965","v":0}]
[null,960,{"$f":"IF(ISBLANK(Vrijwilligersregister!C966)=TRUE,\"\",Vrijwilligersregister!C966)","v":""},{"$f":"IF(ISBLANK(Vrijwilligersregister!C966)=TRUE,\"\",SUMIF('Nominatieve lijst'!$D$8:$D$10007,C966,'Nominatieve lijst'!$G$8:$G$10007))","v":""},{"$f":"IF(ISBLANK(Vrijwilligersregister!C966)=TRUE,\"\",SUMIF('Nominatieve lijst'!$D$8:$D$10007,C966,'Nominatieve lijst'!$H$8:$H$10007))","v":""},{"$f":"IF(ISBLANK(Vrijwilligersregister!C966)=TRUE,\"\",SUMIF('Nominatieve lijst'!$D$8:$D$10007,C966,'Nominatieve lijst'!$J$8:$J$10007))","v":""},{"$f":"IF(ISBLANK(Vrijwilligersregister!C966)=TRUE,\"\",D966+F966)","v":""},{"$f":"Vrijwilligersregister!L966","v":0}]
[null,961,{"$f":"IF(ISBLANK(Vrijwilligersregister!C967)=TRUE,\"\",Vrijwilligersregister!C967)","v":""},{"$f":"IF(ISBLANK(Vrijwilligersregister!C967)=TRUE,\"\",SUMIF('Nominatieve lijst'!$D$8:$D$10007,C967,'Nominatieve lijst'!$G$8:$G$10007))","v":""},{"$f":"IF(ISBLANK(Vrijwilligersregister!C967)=TRUE,\"\",SUMIF('Nominatieve lijst'!$D$8:$D$10007,C967,'Nominatieve lijst'!$H$8:$H$10007))","v":""},{"$f":"IF(ISBLANK(Vrijwilligersregister!C967)=TRUE,\"\",SUMIF('Nominatieve lijst'!$D$8:$D$10007,C967,'Nominatieve lijst'!$J$8:$J$10007))","v":""},{"$f":"IF(ISBLANK(Vrijwilligersregister!C967)=TRUE,\"\",D967+F967)","v":""},{"$f":"Vrijwilligersregister!L967","v":0}]
[null,962,{"$f":"IF(ISBLANK(Vrijwilligersregister!C968)=TRUE,\"\",Vrijwilligersregister!C968)","v":""},{"$f":"IF(ISBLANK(Vrijwilligersregister!C968)=TRUE,\"\",SUMIF('Nominatieve lijst'!$D$8:$D$10007,C968,'Nominatieve lijst'!$G$8:$G$10007))","v":""},{"$f":"IF(ISBLANK(Vrijwilligersregister!C968)=TRUE,\"\",SUMIF('Nominatieve lijst'!$D$8:$D$10007,C968,'Nominatieve lijst'!$H$8:$H$10007))","v":""},{"$f":"IF(ISBLANK(Vrijwilligersregister!C968)=TRUE,\"\",SUMIF('Nominatieve lijst'!$D$8:$D$10007,C968,'Nominatieve lijst'!$J$8:$J$10007))","v":""},{"$f":"IF(ISBLANK(Vrijwilligersregister!C968)=TRUE,\"\",D968+F968)","v":""},{"$f":"Vrijwilligersregister!L968","v":0}]
[null,963,{"$f":"IF(ISBLANK(Vrijwilligersregister!C969)=TRUE,\"\",Vrijwilligersregister!C969)","v":""},{"$f":"IF(ISBLANK(Vrijwilligersregister!C969)=TRUE,\"\",SUMIF('Nominatieve lijst'!$D$8:$D$10007,C969,'Nominatieve lijst'!$G$8:$G$10007))","v":""},{"$f":"IF(ISBLANK(Vrijwilligersregister!C969)=TRUE,\"\",SUMIF('Nominatieve lijst'!$D$8:$D$10007,C969,'Nominatieve lijst'!$H$8:$H$10007))","v":""},{"$f":"IF(ISBLANK(Vrijwilligersregister!C969)=TRUE,\"\",SUMIF('Nominatieve lijst'!$D$8:$D$10007,C969,'Nominatieve lijst'!$J$8:$J$10007))","v":""},{"$f":"IF(ISBLANK(Vrijwilligersregister!C969)=TRUE,\"\",D969+F969)","v":""},{"$f":"Vrijwilligersregister!L969","v":0}]
[null,964,{"$f":"IF(ISBLANK(Vrijwilligersregister!C970)=TRUE,\"\",Vrijwilligersregister!C970)","v":""},{"$f":"IF(ISBLANK(Vrijwilligersregister!C970)=TRUE,\"\",SUMIF('Nominatieve lijst'!$D$8:$D$10007,C970,'Nominatieve lijst'!$G$8:$G$10007))","v":""},{"$f":"IF(ISBLANK(Vrijwilligersregister!C970)=TRUE,\"\",SUMIF('Nominatieve lijst'!$D$8:$D$10007,C970,'Nominatieve lijst'!$H$8:$H$10007))","v":""},{"$f":"IF(ISBLANK(Vrijwilligersregister!C970)=TRUE,\"\",SUMIF('Nominatieve lijst'!$D$8:$D$10007,C970,'Nominatieve lijst'!$J$8:$J$10007))","v":""},{"$f":"IF(ISBLANK(Vrijwilligersregister!C970)=TRUE,\"\",D970+F970)","v":""},{"$f":"Vrijwilligersregister!L970","v":0}]
[null,965,{"$f":"IF(ISBLANK(Vrijwilligersregister!C971)=TRUE,\"\",Vrijwilligersregister!C971)","v":""},{"$f":"IF(ISBLANK(Vrijwilligersregister!C971)=TRUE,\"\",SUMIF('Nominatieve lijst'!$D$8:$D$10007,C971,'Nominatieve lijst'!$G$8:$G$10007))","v":""},{"$f":"IF(ISBLANK(Vrijwilligersregister!C971)=TRUE,\"\",SUMIF('Nominatieve lijst'!$D$8:$D$10007,C971,'Nominatieve lijst'!$H$8:$H$10007))","v":""},{"$f":"IF(ISBLANK(Vrijwilligersregister!C971)=TRUE,\"\",SUMIF('Nominatieve lijst'!$D$8:$D$10007,C971,'Nominatieve lijst'!$J$8:$J$10007))","v":""},{"$f":"IF(ISBLANK(Vrijwilligersregister!C971)=TRUE,\"\",D971+F971)","v":""},{"$f":"Vrijwilligersregister!L971","v":0}]
[null,966,{"$f":"IF(ISBLANK(Vrijwilligersregister!C972)=TRUE,\"\",Vrijwilligersregister!C972)","v":""},{"$f":"IF(ISBLANK(Vrijwilligersregister!C972)=TRUE,\"\",SUMIF('Nominatieve lijst'!$D$8:$D$10007,C972,'Nominatieve lijst'!$G$8:$G$10007))","v":""},{"$f":"IF(ISBLANK(Vrijwilligersregister!C972)=TRUE,\"\",SUMIF('Nominatieve lijst'!$D$8:$D$10007,C972,'Nominatieve lijst'!$H$8:$H$10007))","v":""},{"$f":"IF(ISBLANK(Vrijwilligersregister!C972)=TRUE,\"\",SUMIF('Nominatieve lijst'!$D$8:$D$10007,C972,'Nominatieve lijst'!$J$8:$J$10007))","v":""},{"$f":"IF(ISBLANK(Vrijwilligersregister!C972)=TRUE,\"\",D972+F972)","v":""},{"$f":"Vrijwilligersregister!L972","v":0}]
[null,967,{"$f":"IF(ISBLANK(Vrijwilligersregister!C973)=TRUE,\"\",Vrijwilligersregister!C973)","v":""},{"$f":"IF(ISBLANK(Vrijwilligersregister!C973)=TRUE,\"\",SUMIF('Nominatieve lijst'!$D$8:$D$10007,C973,'Nominatieve lijst'!$G$8:$G$10007))","v":""},{"$f":"IF(ISBLANK(Vrijwilligersregister!C973)=TRUE,\"\",SUMIF('Nominatieve lijst'!$D$8:$D$10007,C973,'Nominatieve lijst'!$H$8:$H$10007))","v":""},{"$f":"IF(ISBLANK(Vrijwilligersregister!C973)=TRUE,\"\",SUMIF('Nominatieve lijst'!$D$8:$D$10007,C973,'Nominatieve lijst'!$J$8:$J$10007))","v":""},{"$f":"IF(ISBLANK(Vrijwilligersregister!C973)=TRUE,\"\",D973+F973)","v":""},{"$f":"Vrijwilligersregister!L973","v":0}]
[null,968,{"$f":"IF(ISBLANK(Vrijwilligersregister!C974)=TRUE,\"\",Vrijwilligersregister!C974)","v":""},{"$f":"IF(ISBLANK(Vrijwilligersregister!C974)=TRUE,\"\",SUMIF('Nominatieve lijst'!$D$8:$D$10007,C974,'Nominatieve lijst'!$G$8:$G$10007))","v":""},{"$f":"IF(ISBLANK(Vrijwilligersregister!C974)=TRUE,\"\",SUMIF('Nominatieve lijst'!$D$8:$D$10007,C974,'Nominatieve lijst'!$H$8:$H$10007))","v":""},{"$f":"IF(ISBLANK(Vrijwilligersregister!C974)=TRUE,\"\",SUMIF('Nominatieve lijst'!$D$8:$D$10007,C974,'Nominatieve lijst'!$J$8:$J$10007))","v":""},{"$f":"IF(ISBLANK(Vrijwilligersregister!C974)=TRUE,\"\",D974+F974)","v":""},{"$f":"Vrijwilligersregister!L974","v":0}]
[null,969,{"$f":"IF(ISBLANK(Vrijwilligersregister!C975)=TRUE,\"\",Vrijwilligersregister!C975)","v":""},{"$f":"IF(ISBLANK(Vrijwilligersregister!C975)=TRUE,\"\",SUMIF('Nominatieve lijst'!$D$8:$D$10007,C975,'Nominatieve lijst'!$G$8:$G$10007))","v":""},{"$f":"IF(ISBLANK(Vrijwilligersregister!C975)=TRUE,\"\",SUMIF('Nominatieve lijst'!$D$8:$D$10007,C975,'Nominatieve lijst'!$H$8:$H$10007))","v":""},{"$f":"IF(ISBLANK(Vrijwilligersregister!C975)=TRUE,\"\",SUMIF('Nominatieve lijst'!$D$8:$D$10007,C975,'Nominatieve lijst'!$J$8:$J$10007))","v":""},{"$f":"IF(ISBLANK(Vrijwilligersregister!C975)=TRUE,\"\",D975+F975)","v":""},{"$f":"Vrijwilligersregister!L975","v":0}]
[null,970,{"$f":"IF(ISBLANK(Vrijwilligersregister!C976)=TRUE,\"\",Vrijwilligersregister!C976)","v":""},{"$f":"IF(ISBLANK(Vrijwilligersregister!C976)=TRUE,\"\",SUMIF('Nominatieve lijst'!$D$8:$D$10007,C976,'Nominatieve lijst'!$G$8:$G$10007))","v":""},{"$f":"IF(ISBLANK(Vrijwilligersregister!C976)=TRUE,\"\",SUMIF('Nominatieve lijst'!$D$8:$D$10007,C976,'Nominatieve lijst'!$H$8:$H$10007))","v":""},{"$f":"IF(ISBLANK(Vrijwilligersregister!C976)=TRUE,\"\",SUMIF('Nominatieve lijst'!$D$8:$D$10007,C976,'Nominatieve lijst'!$J$8:$J$10007))","v":""},{"$f":"IF(ISBLANK(Vrijwilligersregister!C976)=TRUE,\"\",D976+F976)","v":""},{"$f":"Vrijwilligersregister!L976","v":0}]
[null,971,{"$f":"IF(ISBLANK(Vrijwilligersregister!C977)=TRUE,\"\",Vrijwilligersregister!C977)","v":""},{"$f":"IF(ISBLANK(Vrijwilligersregister!C977)=TRUE,\"\",SUMIF('Nominatieve lijst'!$D$8:$D$10007,C977,'Nominatieve lijst'!$G$8:$G$10007))","v":""},{"$f":"IF(ISBLANK(Vrijwilligersregister!C977)=TRUE,\"\",SUMIF('Nominatieve lijst'!$D$8:$D$10007,C977,'Nominatieve lijst'!$H$8:$H$10007))","v":""},{"$f":"IF(ISBLANK(Vrijwilligersregister!C977)=TRUE,\"\",SUMIF('Nominatieve lijst'!$D$8:$D$10007,C977,'Nominatieve lijst'!$J$8:$J$10007))","v":""},{"$f":"IF(ISBLANK(Vrijwilligersregister!C977)=TRUE,\"\",D977+F977)","v":""},{"$f":"Vrijwilligersregister!L977","v":0}]
[null,972,{"$f":"IF(ISBLANK(Vrijwilligersregister!C978)=TRUE,\"\",Vrijwilligersregister!C978)","v":""},{"$f":"IF(ISBLANK(Vrijwilligersregister!C978)=TRUE,\"\",SUMIF('Nominatieve lijst'!$D$8:$D$10007,C978,'Nominatieve lijst'!$G$8:$G$10007))","v":""},{"$f":"IF(ISBLANK(Vrijwilligersregister!C978)=TRUE,\"\",SUMIF('Nominatieve lijst'!$D$8:$D$10007,C978,'Nominatieve lijst'!$H$8:$H$10007))","v":""},{"$f":"IF(ISBLANK(Vrijwilligersregister!C978)=TRUE,\"\",SUMIF('Nominatieve lijst'!$D$8:$D$10007,C978,'Nominatieve lijst'!$J$8:$J$10007))","v":""},{"$f":"IF(ISBLANK(Vrijwilligersregister!C978)=TRUE,\"\",D978+F978)","v":""},{"$f":"Vrijwilligersregister!L978","v":0}]
[null,973,{"$f":"IF(ISBLANK(Vrijwilligersregister!C979)=TRUE,\"\",Vrijwilligersregister!C979)","v":""},{"$f":"IF(ISBLANK(Vrijwilligersregister!C979)=TRUE,\"\",SUMIF('Nominatieve lijst'!$D$8:$D$10007,C979,'Nominatieve lijst'!$G$8:$G$10007))","v":""},{"$f":"IF(ISBLANK(Vrijwilligersregister!C979)=TRUE,\"\",SUMIF('Nominatieve lijst'!$D$8:$D$10007,C979,'Nominatieve lijst'!$H$8:$H$10007))","v":""},{"$f":"IF(ISBLANK(Vrijwilligersregister!C979)=TRUE,\"\",SUMIF('Nominatieve lijst'!$D$8:$D$10007,C979,'Nominatieve lijst'!$J$8:$J$10007))","v":""},{"$f":"IF(ISBLANK(Vrijwilligersregister!C979)=TRUE,\"\",D979+F979)","v":""},{"$f":"Vrijwilligersregister!L979","v":0}]
[null,974,{"$f":"IF(ISBLANK(Vrijwilligersregister!C980)=TRUE,\"\",Vrijwilligersregister!C980)","v":""},{"$f":"IF(ISBLANK(Vrijwilligersregister!C980)=TRUE,\"\",SUMIF('Nominatieve lijst'!$D$8:$D$10007,C980,'Nominatieve lijst'!$G$8:$G$10007))","v":""},{"$f":"IF(ISBLANK(Vrijwilligersregister!C980)=TRUE,\"\",SUMIF('Nominatieve lijst'!$D$8:$D$10007,C980,'Nominatieve lijst'!$H$8:$H$10007))","v":""},{"$f":"IF(ISBLANK(Vrijwilligersregister!C980)=TRUE,\"\",SUMIF('Nominatieve lijst'!$D$8:$D$10007,C980,'Nominatieve lijst'!$J$8:$J$10007))","v":""},{"$f":"IF(ISBLANK(Vrijwilligersregister!C980)=TRUE,\"\",D980+F980)","v":""},{"$f":"Vrijwilligersregister!L980","v":0}]
[null,975,{"$f":"IF(ISBLANK(Vrijwilligersregister!C981)=TRUE,\"\",Vrijwilligersregister!C981)","v":""},{"$f":"IF(ISBLANK(Vrijwilligersregister!C981)=TRUE,\"\",SUMIF('Nominatieve lijst'!$D$8:$D$10007,C981,'Nominatieve lijst'!$G$8:$G$10007))","v":""},{"$f":"IF(ISBLANK(Vrijwilligersregister!C981)=TRUE,\"\",SUMIF('Nominatieve lijst'!$D$8:$D$10007,C981,'Nominatieve lijst'!$H$8:$H$10007))","v":""},{"$f":"IF(ISBLANK(Vrijwilligersregister!C981)=TRUE,\"\",SUMIF('Nominatieve lijst'!$D$8:$D$10007,C981,'Nominatieve lijst'!$J$8:$J$10007))","v":""},{"$f":"IF(ISBLANK(Vrijwilligersregister!C981)=TRUE,\"\",D981+F981)","v":""},{"$f":"Vrijwilligersregister!L981","v":0}]
[null,976,{"$f":"IF(ISBLANK(Vrijwilligersregister!C982)=TRUE,\"\",Vrijwilligersregister!C982)","v":""},{"$f":"IF(ISBLANK(Vrijwilligersregister!C982)=TRUE,\"\",SUMIF('Nominatieve lijst'!$D$8:$D$10007,C982,'Nominatieve lijst'!$G$8:$G$10007))","v":""},{"$f":"IF(ISBLANK(Vrijwilligersregister!C982)=TRUE,\"\",SUMIF('Nominatieve lijst'!$D$8:$D$10007,C982,'Nominatieve lijst'!$H$8:$H$10007))","v":""},{"$f":"IF(ISBLANK(Vrijwilligersregister!C982)=TRUE,\"\",SUMIF('Nominatieve lijst'!$D$8:$D$10007,C982,'Nominatieve lijst'!$J$8:$J$10007))","v":""},{"$f":"IF(ISBLANK(Vrijwilligersregister!C982)=TRUE,\"\",D982+F982)","v":""},{"$f":"Vrijwilligersregister!L982","v":0}]
[null,977,{"$f":"IF(ISBLANK(Vrijwilligersregister!C983)=TRUE,\"\",Vrijwilligersregister!C983)","v":""},{"$f":"IF(ISBLANK(Vrijwilligersregister!C983)=TRUE,\"\",SUMIF('Nominatieve lijst'!$D$8:$D$10007,C983,'Nominatieve lijst'!$G$8:$G$10007))","v":""},{"$f":"IF(ISBLANK(Vrijwilligersregister!C983)=TRUE,\"\",SUMIF('Nominatieve lijst'!$D$8:$D$10007,C983,'Nominatieve lijst'!$H$8:$H$10007))","v":""},{"$f":"IF(ISBLANK(Vrijwilligersregister!C983)=TRUE,\"\",SUMIF('Nominatieve lijst'!$D$8:$D$10007,C983,'Nominatieve lijst'!$J$8:$J$10007))","v":""},{"$f":"IF(ISBLANK(Vrijwilligersregister!C983)=TRUE,\"\",D983+F983)","v":""},{"$f":"Vrijwilligersregister!L983","v":0}]
[null,978,{"$f":"IF(ISBLANK(Vrijwilligersregister!C984)=TRUE,\"\",Vrijwilligersregister!C984)","v":""},{"$f":"IF(ISBLANK(Vrijwilligersregister!C984)=TRUE,\"\",SUMIF('Nominatieve lijst'!$D$8:$D$10007,C984,'Nominatieve lijst'!$G$8:$G$10007))","v":""},{"$f":"IF(ISBLANK(Vrijwilligersregister!C984)=TRUE,\"\",SUMIF('Nominatieve lijst'!$D$8:$D$10007,C984,'Nominatieve lijst'!$H$8:$H$10007))","v":""},{"$f":"IF(ISBLANK(Vrijwilligersregister!C984)=TRUE,\"\",SUMIF('Nominatieve lijst'!$D$8:$D$10007,C984,'Nominatieve lijst'!$J$8:$J$10007))","v":""},{"$f":"IF(ISBLANK(Vrijwilligersregister!C984)=TRUE,\"\",D984+F984)","v":""},{"$f":"Vrijwilligersregister!L984","v":0}]
[null,979,{"$f":"IF(ISBLANK(Vrijwilligersregister!C985)=TRUE,\"\",Vrijwilligersregister!C985)","v":""},{"$f":"IF(ISBLANK(Vrijwilligersregister!C985)=TRUE,\"\",SUMIF('Nominatieve lijst'!$D$8:$D$10007,C985,'Nominatieve lijst'!$G$8:$G$10007))","v":""},{"$f":"IF(ISBLANK(Vrijwilligersregister!C985)=TRUE,\"\",SUMIF('Nominatieve lijst'!$D$8:$D$10007,C985,'Nominatieve lijst'!$H$8:$H$10007))","v":""},{"$f":"IF(ISBLANK(Vrijwilligersregister!C985)=TRUE,\"\",SUMIF('Nominatieve lijst'!$D$8:$D$10007,C985,'Nominatieve lijst'!$J$8:$J$10007))","v":""},{"$f":"IF(ISBLANK(Vrijwilligersregister!C985)=TRUE,\"\",D985+F985)","v":""},{"$f":"Vrijwilligersregister!L985","v":0}]
[null,980,{"$f":"IF(ISBLANK(Vrijwilligersregister!C986)=TRUE,\"\",Vrijwilligersregister!C986)","v":""},{"$f":"IF(ISBLANK(Vrijwilligersregister!C986)=TRUE,\"\",SUMIF('Nominatieve lijst'!$D$8:$D$10007,C986,'Nominatieve lijst'!$G$8:$G$10007))","v":""},{"$f":"IF(ISBLANK(Vrijwilligersregister!C986)=TRUE,\"\",SUMIF('Nominatieve lijst'!$D$8:$D$10007,C986,'Nominatieve lijst'!$H$8:$H$10007))","v":""},{"$f":"IF(ISBLANK(Vrijwilligersregister!C986)=TRUE,\"\",SUMIF('Nominatieve lijst'!$D$8:$D$10007,C986,'Nominatieve lijst'!$J$8:$J$10007))","v":""},{"$f":"IF(ISBLANK(Vrijwilligersregister!C986)=TRUE,\"\",D986+F986)","v":""},{"$f":"Vrijwilligersregister!L986","v":0}]
[null,981,{"$f":"IF(ISBLANK(Vrijwilligersregister!C987)=TRUE,\"\",Vrijwilligersregister!C987)","v":""},{"$f":"IF(ISBLANK(Vrijwilligersregister!C987)=TRUE,\"\",SUMIF('Nominatieve lijst'!$D$8:$D$10007,C987,'Nominatieve lijst'!$G$8:$G$10007))","v":""},{"$f":"IF(ISBLANK(Vrijwilligersregister!C987)=TRUE,\"\",SUMIF('Nominatieve lijst'!$D$8:$D$10007,C987,'Nominatieve lijst'!$H$8:$H$10007))","v":""},{"$f":"IF(ISBLANK(Vrijwilligersregister!C987)=TRUE,\"\",SUMIF('Nominatieve lijst'!$D$8:$D$10007,C987,'Nominatieve lijst'!$J$8:$J$10007))","v":""},{"$f":"IF(ISBLANK(Vrijwilligersregister!C987)=TRUE,\"\",D987+F987)","v":""},{"$f":"Vrijwilligersregister!L987","v":0}]
[null,982,{"$f":"IF(ISBLANK(Vrijwilligersregister!C988)=TRUE,\"\",Vrijwilligersregister!C988)","v":""},{"$f":"IF(ISBLANK(Vrijwilligersregister!C988)=TRUE,\"\",SUMIF('Nominatieve lijst'!$D$8:$D$10007,C988,'Nominatieve lijst'!$G$8:$G$10007))","v":""},{"$f":"IF(ISBLANK(Vrijwilligersregister!C988)=TRUE,\"\",SUMIF('Nominatieve lijst'!$D$8:$D$10007,C988,'Nominatieve lijst'!$H$8:$H$10007))","v":""},{"$f":"IF(ISBLANK(Vrijwilligersregister!C988)=TRUE,\"\",SUMIF('Nominatieve lijst'!$D$8:$D$10007,C988,'Nominatieve lijst'!$J$8:$J$10007))","v":""},{"$f":"IF(ISBLANK(Vrijwilligersregister!C988)=TRUE,\"\",D988+F988)","v":""},{"$f":"Vrijwilligersregister!L988","v":0}]
[null,983,{"$f":"IF(ISBLANK(Vrijwilligersregister!C989)=TRUE,\"\",Vrijwilligersregister!C989)","v":""},{"$f":"IF(ISBLANK(Vrijwilligersregister!C989)=TRUE,\"\",SUMIF('Nominatieve lijst'!$D$8:$D$10007,C989,'Nominatieve lijst'!$G$8:$G$10007))","v":""},{"$f":"IF(ISBLANK(Vrijwilligersregister!C989)=TRUE,\"\",SUMIF('Nominatieve lijst'!$D$8:$D$10007,C989,'Nominatieve lijst'!$H$8:$H$10007))","v":""},{"$f":"IF(ISBLANK(Vrijwilligersregister!C989)=TRUE,\"\",SUMIF('Nominatieve lijst'!$D$8:$D$10007,C989,'Nominatieve lijst'!$J$8:$J$10007))","v":""},{"$f":"IF(ISBLANK(Vrijwilligersregister!C989)=TRUE,\"\",D989+F989)","v":""},{"$f":"Vrijwilligersregister!L989","v":0}]
[null,984,{"$f":"IF(ISBLANK(Vrijwilligersregister!C990)=TRUE,\"\",Vrijwilligersregister!C990)","v":""},{"$f":"IF(ISBLANK(Vrijwilligersregister!C990)=TRUE,\"\",SUMIF('Nominatieve lijst'!$D$8:$D$10007,C990,'Nominatieve lijst'!$G$8:$G$10007))","v":""},{"$f":"IF(ISBLANK(Vrijwilligersregister!C990)=TRUE,\"\",SUMIF('Nominatieve lijst'!$D$8:$D$10007,C990,'Nominatieve lijst'!$H$8:$H$10007))","v":""},{"$f":"IF(ISBLANK(Vrijwilligersregister!C990)=TRUE,\"\",SUMIF('Nominatieve lijst'!$D$8:$D$10007,C990,'Nominatieve lijst'!$J$8:$J$10007))","v":""},{"$f":"IF(ISBLANK(Vrijwilligersregister!C990)=TRUE,\"\",D990+F990)","v":""},{"$f":"Vrijwilligersregister!L990","v":0}]
[null,985,{"$f":"IF(ISBLANK(Vrijwilligersregister!C991)=TRUE,\"\",Vrijwilligersregister!C991)","v":""},{"$f":"IF(ISBLANK(Vrijwilligersregister!C991)=TRUE,\"\",SUMIF('Nominatieve lijst'!$D$8:$D$10007,C991,'Nominatieve lijst'!$G$8:$G$10007))","v":""},{"$f":"IF(ISBLANK(Vrijwilligersregister!C991)=TRUE,\"\",SUMIF('Nominatieve lijst'!$D$8:$D$10007,C991,'Nominatieve lijst'!$H$8:$H$10007))","v":""},{"$f":"IF(ISBLANK(Vrijwilligersregister!C991)=TRUE,\"\",SUMIF('Nominatieve lijst'!$D$8:$D$10007,C991,'Nominatieve lijst'!$J$8:$J$10007))","v":""},{"$f":"IF(ISBLANK(Vrijwilligersregister!C991)=TRUE,\"\",D991+F991)","v":""},{"$f":"Vrijwilligersregister!L991","v":0}]
[null,986,{"$f":"IF(ISBLANK(Vrijwilligersregister!C992)=TRUE,\"\",Vrijwilligersregister!C992)","v":""},{"$f":"IF(ISBLANK(Vrijwilligersregister!C992)=TRUE,\"\",SUMIF('Nominatieve lijst'!$D$8:$D$10007,C992,'Nominatieve lijst'!$G$8:$G$10007))","v":""},{"$f":"IF(ISBLANK(Vrijwilligersregister!C992)=TRUE,\"\",SUMIF('Nominatieve lijst'!$D$8:$D$10007,C992,'Nominatieve lijst'!$H$8:$H$10007))","v":""},{"$f":"IF(ISBLANK(Vrijwilligersregister!C992)=TRUE,\"\",SUMIF('Nominatieve lijst'!$D$8:$D$10007,C992,'Nominatieve lijst'!$J$8:$J$10007))","v":""},{"$f":"IF(ISBLANK(Vrijwilligersregister!C992)=TRUE,\"\",D992+F992)","v":""},{"$f":"Vrijwilligersregister!L992","v":0}]
[null,987,{"$f":"IF(ISBLANK(Vrijwilligersregister!C993)=TRUE,\"\",Vrijwilligersregister!C993)","v":""},{"$f":"IF(ISBLANK(Vrijwilligersregister!C993)=TRUE,\"\",SUMIF('Nominatieve lijst'!$D$8:$D$10007,C993,'Nominatieve lijst'!$G$8:$G$10007))","v":""},{"$f":"IF(ISBLANK(Vrijwilligersregister!C993)=TRUE,\"\",SUMIF('Nominatieve lijst'!$D$8:$D$10007,C993,'Nominatieve lijst'!$H$8:$H$10007))","v":""},{"$f":"IF(ISBLANK(Vrijwilligersregister!C993)=TRUE,\"\",SUMIF('Nominatieve lijst'!$D$8:$D$10007,C993,'Nominatieve lijst'!$J$8:$J$10007))","v":""},{"$f":"IF(ISBLANK(Vrijwilligersregister!C993)=TRUE,\"\",D993+F993)","v":""},{"$f":"Vrijwilligersregister!L993","v":0}]
[null,988,{"$f":"IF(ISBLANK(Vrijwilligersregister!C994)=TRUE,\"\",Vrijwilligersregister!C994)","v":""},{"$f":"IF(ISBLANK(Vrijwilligersregister!C994)=TRUE,\"\",SUMIF('Nominatieve lijst'!$D$8:$D$10007,C994,'Nominatieve lijst'!$G$8:$G$10007))","v":""},{"$f":"IF(ISBLANK(Vrijwilligersregister!C994)=TRUE,\"\",SUMIF('Nominatieve lijst'!$D$8:$D$10007,C994,'Nominatieve lijst'!$H$8:$H$10007))","v":""},{"$f":"IF(ISBLANK(Vrijwilligersregister!C994)=TRUE,\"\",SUMIF('Nominatieve lijst'!$D$8:$D$10007,C994,'Nominatieve lijst'!$J$8:$J$10007))","v":""},{"$f":"IF(ISBLANK(Vrijwilligersregister!C994)=TRUE,\"\",D994+F994)","v":""},{"$f":"Vrijwilligersregister!L994","v":0}]
[null,989,{"$f":"IF(ISBLANK(Vrijwilligersregister!C995)=TRUE,\"\",Vrijwilligersregister!C995)","v":""},{"$f":"IF(ISBLANK(Vrijwilligersregister!C995)=TRUE,\"\",SUMIF('Nominatieve lijst'!$D$8:$D$10007,C995,'Nominatieve lijst'!$G$8:$G$10007))","v":""},{"$f":"IF(ISBLANK(Vrijwilligersregister!C995)=TRUE,\"\",SUMIF('Nominatieve lijst'!$D$8:$D$10007,C995,'Nominatieve lijst'!$H$8:$H$10007))","v":""},{"$f":"IF(ISBLANK(Vrijwilligersregister!C995)=TRUE,\"\",SUMIF('Nominatieve lijst'!$D$8:$D$10007,C995,'Nominatieve lijst'!$J$8:$J$10007))","v":""},{"$f":"IF(ISBLANK(Vrijwilligersregister!C995)=TRUE,\"\",D995+F995)","v":""},{"$f":"Vrijwilligersregister!L995","v":0}]
[null,990,{"$f":"IF(ISBLANK(Vrijwilligersregister!C996)=TRUE,\"\",Vrijwilligersregister!C996)","v":""},{"$f":"IF(ISBLANK(Vrijwilligersregister!C996)=TRUE,\"\",SUMIF('Nominatieve lijst'!$D$8:$D$10007,C996,'Nominatieve lijst'!$G$8:$G$10007))","v":""},{"$f":"IF(ISBLANK(Vrijwilligersregister!C996)=TRUE,\"\",SUMIF('Nominatieve lijst'!$D$8:$D$10007,C996,'Nominatieve lijst'!$H$8:$H$10007))","v":""},{"$f":"IF(ISBLANK(Vrijwilligersregister!C996)=TRUE,\"\",SUMIF('Nominatieve lijst'!$D$8:$D$10007,C996,'Nominatieve lijst'!$J$8:$J$10007))","v":""},{"$f":"IF(ISBLANK(Vrijwilligersregister!C996)=TRUE,\"\",D996+F996)","v":""},{"$f":"Vrijwilligersregister!L996","v":0}]
[null,991,{"$f":"IF(ISBLANK(Vrijwilligersregister!C997)=TRUE,\"\",Vrijwilligersregister!C997)","v":""},{"$f":"IF(ISBLANK(Vrijwilligersregister!C997)=TRUE,\"\",SUMIF('Nominatieve lijst'!$D$8:$D$10007,C997,'Nominatieve lijst'!$G$8:$G$10007))","v":""},{"$f":"IF(ISBLANK(Vrijwilligersregister!C997)=TRUE,\"\",SUMIF('Nominatieve lijst'!$D$8:$D$10007,C997,'Nominatieve lijst'!$H$8:$H$10007))","v":""},{"$f":"IF(ISBLANK(Vrijwilligersregister!C997)=TRUE,\"\",SUMIF('Nominatieve lijst'!$D$8:$D$10007,C997,'Nominatieve lijst'!$J$8:$J$10007))","v":""},{"$f":"IF(ISBLANK(Vrijwilligersregister!C997)=TRUE,\"\",D997+F997)","v":""},{"$f":"Vrijwilligersregister!L997","v":0}]
[null,992,{"$f":"IF(ISBLANK(Vrijwilligersregister!C998)=TRUE,\"\",Vrijwilligersregister!C998)","v":""},{"$f":"IF(ISBLANK(Vrijwilligersregister!C998)=TRUE,\"\",SUMIF('Nominatieve lijst'!$D$8:$D$10007,C998,'Nominatieve lijst'!$G$8:$G$10007))","v":""},{"$f":"IF(ISBLANK(Vrijwilligersregister!C998)=TRUE,\"\",SUMIF('Nominatieve lijst'!$D$8:$D$10007,C998,'Nominatieve lijst'!$H$8:$H$10007))","v":""},{"$f":"IF(ISBLANK(Vrijwilligersregister!C998)=TRUE,\"\",SUMIF('Nominatieve lijst'!$D$8:$D$10007,C998,'Nominatieve lijst'!$J$8:$J$10007))","v":""},{"$f":"IF(ISBLANK(Vrijwilligersregister!C998)=TRUE,\"\",D998+F998)","v":""},{"$f":"Vrijwilligersregister!L998","v":0}]
[null,993,{"$f":"IF(ISBLANK(Vrijwilligersregister!C999)=TRUE,\"\",Vrijwilligersregister!C999)","v":""},{"$f":"IF(ISBLANK(Vrijwilligersregister!C999)=TRUE,\"\",SUMIF('Nominatieve lijst'!$D$8:$D$10007,C999,'Nominatieve lijst'!$G$8:$G$10007))","v":""},{"$f":"IF(ISBLANK(Vrijwilligersregister!C999)=TRUE,\"\",SUMIF('Nominatieve lijst'!$D$8:$D$10007,C999,'Nominatieve lijst'!$H$8:$H$10007))","v":""},{"$f":"IF(ISBLANK(Vrijwilligersregister!C999)=TRUE,\"\",SUMIF('Nominatieve lijst'!$D$8:$D$10007,C999,'Nominatieve lijst'!$J$8:$J$10007))","v":""},{"$f":"IF(ISBLANK(Vrijwilligersregister!C999)=TRUE,\"\",D999+F999)","v":""},{"$f":"Vrijwilligersregister!L999","v":0}]
[null,994,{"$f":"IF(ISBLANK(Vrijwilligersregister!C1000)=TRUE,\"\",Vrijwilligersregister!C1000)","v":""},{"$f":"IF(ISBLANK(Vrijwilligersregister!C1000)=TRUE,\"\",SUMIF('Nominatieve lijst'!$D$8:$D$10007,C1000,'Nominatieve lijst'!$G$8:$G$10007))","v":""},{"$f":"IF(ISBLANK(Vrijwilligersregister!C1000)=TRUE,\"\",SUMIF('Nominatieve lijst'!$D$8:$D$10007,C1000,'Nominatieve lijst'!$H$8:$H$10007))","v":""},{"$f":"IF(ISBLANK(Vrijwilligersregister!C1000)=TRUE,\"\",SUMIF('Nominatieve lijst'!$D$8:$D$10007,C1000,'Nominatieve lijst'!$J$8:$J$10007))","v":""},{"$f":"IF(ISBLANK(Vrijwilligersregister!C1000)=TRUE,\"\",D1000+F1000)","v":""},{"$f":"Vrijwilligersregister!L1000","v":0}]
[null,995,{"$f":"IF(ISBLANK(Vrijwilligersregister!C1001)=TRUE,\"\",Vrijwilligersregister!C1001)","v":""},{"$f":"IF(ISBLANK(Vrijwilligersregister!C1001)=TRUE,\"\",SUMIF('Nominatieve lijst'!$D$8:$D$10007,C1001,'Nominatieve lijst'!$G$8:$G$10007))","v":""},{"$f":"IF(ISBLANK(Vrijwilligersregister!C1001)=TRUE,\"\",SUMIF('Nominatieve lijst'!$D$8:$D$10007,C1001,'Nominatieve lijst'!$H$8:$H$10007))","v":""},{"$f":"IF(ISBLANK(Vrijwilligersregister!C1001)=TRUE,\"\",SUMIF('Nominatieve lijst'!$D$8:$D$10007,C1001,'Nominatieve lijst'!$J$8:$J$10007))","v":""},{"$f":"IF(ISBLANK(Vrijwilligersregister!C1001)=TRUE,\"\",D1001+F1001)","v":""},{"$f":"Vrijwilligersregister!L1001","v":0}]
[null,996,{"$f":"IF(ISBLANK(Vrijwilligersregister!C1002)=TRUE,\"\",Vrijwilligersregister!C1002)","v":""},{"$f":"IF(ISBLANK(Vrijwilligersregister!C1002)=TRUE,\"\",SUMIF('Nominatieve lijst'!$D$8:$D$10007,C1002,'Nominatieve lijst'!$G$8:$G$10007))","v":""},{"$f":"IF(ISBLANK(Vrijwilligersregister!C1002)=TRUE,\"\",SUMIF('Nominatieve lijst'!$D$8:$D$10007,C1002,'Nominatieve lijst'!$H$8:$H$10007))","v":""},{"$f":"IF(ISBLANK(Vrijwilligersregister!C1002)=TRUE,\"\",SUMIF('Nominatieve lijst'!$D$8:$D$10007,C1002,'Nominatieve lijst'!$J$8:$J$10007))","v":""},{"$f":"IF(ISBLANK(Vrijwilligersregister!C1002)=TRUE,\"\",D1002+F1002)","v":""},{"$f":"Vrijwilligersregister!L1002","v":0}]
[null,997,{"$f":"IF(ISBLANK(Vrijwilligersregister!C1003)=TRUE,\"\",Vrijwilligersregister!C1003)","v":""},{"$f":"IF(ISBLANK(Vrijwilligersregister!C1003)=TRUE,\"\",SUMIF('Nominatieve lijst'!$D$8:$D$10007,C1003,'Nominatieve lijst'!$G$8:$G$10007))","v":""},{"$f":"IF(ISBLANK(Vrijwilligersregister!C1003)=TRUE,\"\",SUMIF('Nominatieve lijst'!$D$8:$D$10007,C1003,'Nominatieve lijst'!$H$8:$H$10007))","v":""},{"$f":"IF(ISBLANK(Vrijwilligersregister!C1003)=TRUE,\"\",SUMIF('Nominatieve lijst'!$D$8:$D$10007,C1003,'Nominatieve lijst'!$J$8:$J$10007))","v":""},{"$f":"IF(ISBLANK(Vrijwilligersregister!C1003)=TRUE,\"\",D1003+F1003)","v":""},{"$f":"Vrijwilligersregister!L1003","v":0}]
[null,998,{"$f":"IF(ISBLANK(Vrijwilligersregister!C1004)=TRUE,\"\",Vrijwilligersregister!C1004)","v":""},{"$f":"IF(ISBLANK(Vrijwilligersregister!C1004)=TRUE,\"\",SUMIF('Nominatieve lijst'!$D$8:$D$10007,C1004,'Nominatieve lijst'!$G$8:$G$10007))","v":""},{"$f":"IF(ISBLANK(Vrijwilligersregister!C1004)=TRUE,\"\",SUMIF('Nominatieve lijst'!$D$8:$D$10007,C1004,'Nominatieve lijst'!$H$8:$H$10007))","v":""},{"$f":"IF(ISBLANK(Vrijwilligersregister!C1004)=TRUE,\"\",SUMIF('Nominatieve lijst'!$D$8:$D$10007,C1004,'Nominatieve lijst'!$J$8:$J$10007))","v":""},{"$f":"IF(ISBLANK(Vrijwilligersregister!C1004)=TRUE,\"\",D1004+F1004)","v":""},{"$f":"Vrijwilligersregister!L1004","v":0}]
[null,999,{"$f":"IF(ISBLANK(Vrijwilligersregister!C1005)=TRUE,\"\",Vrijwilligersregister!C1005)","v":""},{"$f":"IF(ISBLANK(Vrijwilligersregister!C1005)=TRUE,\"\",SUMIF('Nominatieve lijst'!$D$8:$D$10007,C1005,'Nominatieve lijst'!$G$8:$G$10007))","v":""},{"$f":"IF(ISBLANK(Vrijwilligersregister!C1005)=TRUE,\"\",SUMIF('Nominatieve lijst'!$D$8:$D$10007,C1005,'Nominatieve lijst'!$H$8:$H$10007))","v":""},{"$f":"IF(ISBLANK(Vrijwilligersregister!C1005)=TRUE,\"\",SUMIF('Nominatieve lijst'!$D$8:$D$10007,C1005,'Nominatieve lijst'!$J$8:$J$10007))","v":""},{"$f":"IF(ISBLANK(Vrijwilligersregister!C1005)=TRUE,\"\",D1005+F1005)","v":""},{"$f":"Vrijwilligersregister!L1005","v":0}]
[null,1000,{"$f":"IF(ISBLANK(Vrijwilligersregister!C1006)=TRUE,\"\",Vrijwilligersregister!C1006)","v":""},{"$f":"IF(ISBLANK(Vrijwilligersregister!C1006)=TRUE,\"\",SUMIF('Nominatieve lijst'!$D$8:$D$10007,C1006,'Nominatieve lijst'!$G$8:$G$10007))","v":""},{"$f":"IF(ISBLANK(Vrijwilligersregister!C1006)=TRUE,\"\",SUMIF('Nominatieve lijst'!$D$8:$D$10007,C1006,'Nominatieve lijst'!$H$8:$H$10007))","v":""},{"$f":"IF(ISBLANK(Vrijwilligersregister!C1006)=TRUE,\"\",SUMIF('Nominatieve lijst'!$D$8:$D$10007,C1006,'Nominatieve lijst'!$J$8:$J$10007))","v":""},{"$f":"IF(ISBLANK(Vrijwilligersregister!C1006)=TRUE,\"\",D1006+F1006)","v":""},{"$f":"Vrijwilligersregister!L1006","v":0}]